{"text_format":"1","workbook":"xlsx","n_sheets":77,"sheets":["COVER DEPAN","TUJUAN PEMBELAJARAN","TP 1","TP 2","TP 3","TP 4","TP 5","TP 6","TP 7","TP 8","TP 9","TP 10","TP 11","TP 12","TP 13","TP 14","TP 15","LINGKUP MATERI","LM 1","LM 2","LM 3","LM 4","LM 5","LM 6","LM 7","LM 8","LM 9","LM 10","LM 11","LM 12","LM 13","LM 14","LM 15","FORMATIF","F1","F2","F3","F4","F5","F6","F7","F8","F9","F10","F11","F12","F13","F14","F15","SUMATIF","S1","S2","S3","S4","S5","S6","S7","S8","S9","S10","S11","S12","S13","S14","S15","NA","NEKS","INTRAKURIKULER","DATA SEKOLAH","DATA SISWA","SAMPUL","RAPOR","PROFIL PENGEMBANG","MUATAN LOKAL","EKSTRAKURIKULER","MUTASI","INDUK"],"not_rendered":{"charts":0,"images":10,"macros":1,"external_links":3,"defined_names":29,"comments":1,"pivot_tables":0},"unopened":[],"bounds":{"document_bytes":16777216,"sheet_cells":100000,"rows_first":2000,"rows_last":500,"rows_between":2000,"halvings":0,"cell_chars":16384,"cell_head_chars":4096},"cells_cut":0,"cells_raw":0,"read":"whole","date_system":"1900"}

{"sheet":"COVER DEPAN","index":0,"n_rows":20,"n_cols":7,"rows_kept":20,"cut":false,"hidden":false,"merged":[[2,2,2,22],[3,2,3,22]]}
[]
[]
[null,null,"PENILAIAN HASIL BELAJAR INTRAKURIKULER"]
[null,null,"KURIKULUM MERDEKA"]
[]
[]
[]
[]
[]
[]
[]
[]
[]
[]
[]
[null,null,"Petunjuk"]
[null,null,"Mulailah secara berurutan dari kiri ke kanan. "]
[null,null,"Isilah terlebih dahulu menu Informasi Umum"]
[]
[null,null,null,null,null,null,"Dibuat oleh : Ayu Chandra Astari - 088805566108 (WA only)"]

{"sheet":"TUJUAN PEMBELAJARAN","index":1,"n_rows":19,"n_cols":11,"rows_kept":19,"cut":false,"hidden":false,"merged":[[18,10,19,12],[2,1,2,14],[6,2,7,4],[9,2,10,4],[12,2,13,4],[15,2,16,4],[6,10,7,12],[9,10,10,12],[12,10,13,12],[15,10,16,12],[18,2,19,4],[6,6,7,8],[9,6,10,8],[12,6,13,8],[15,6,16,8],[18,6,19,8]]}
[]
[]
[null,"TUJUAN PEMBELAJARAN MAPEL INTRAKURIKULER"]
[]
[null,null,"Silahkan Input Tujuan Pembelajaran Tiap Mata Pelajaran anda untuk 1 semester ini. Tuliskan hanya pada bagian yang berwarna putih. "]
[]
[null,null,{"$f":"INTRAKURIKULER!$D$9","v":0},null,null,null,{"$f":"INTRAKURIKULER!D14","v":0},null,null,null,{"$f":"INTRAKURIKULER!D19","v":0}]
[]
[]
[null,null,{"$f":"INTRAKURIKULER!$D$10","v":0},null,null,null,{"$f":"INTRAKURIKULER!D15","v":0},null,null,null,{"$f":"INTRAKURIKULER!D20","v":0}]
[]
[]
[null,null,{"$f":"INTRAKURIKULER!$D$11","v":0},null,null,null,{"$f":"INTRAKURIKULER!D16","v":0},null,null,null,{"$f":"INTRAKURIKULER!D21","v":0}]
[]
[]
[null,null,{"$f":"INTRAKURIKULER!$D$12","v":0},null,null,null,{"$f":"INTRAKURIKULER!D17","v":0},null,null,null,{"$f":"INTRAKURIKULER!D22","v":0}]
[]
[]
[null,null,{"$f":"INTRAKURIKULER!$D$13","v":0},null,null,null,{"$f":"INTRAKURIKULER!D18","v":0},null,null,null,{"$f":"INTRAKURIKULER!D23","v":0}]

{"sheet":"TP 1","index":2,"n_rows":32,"n_cols":8,"rows_kept":32,"cut":false,"hidden":false,"merged":[[2,1,2,14],[6,3,6,13],[7,3,7,13],[8,3,8,13],[9,3,9,13],[21,3,21,13],[10,3,10,13],[11,3,11,13],[12,3,12,13],[13,3,13,13],[14,3,14,13],[15,3,15,13],[28,3,28,13],[29,3,29,13],[30,3,30,13],[31,3,31,13],[4,7,4,10],[22,3,22,13],[23,3,23,13],[24,3,24,13],[25,3,25,13],[26,3,26,13],[27,3,27,13],[16,3,16,13],[17,3,17,13],[18,3,18,13],[19,3,19,13],[20,3,20,13]]}
[]
[]
[null,"TUJUAN PEMBELAJARAN"]
[]
[null,null,null,null,null,"Mata Pelajaran",null,{"$f":"INTRAKURIKULER!D9","v":0}]
[]
[null,null,"No","Tujuan Pembelajaran"]
[null,null,1,1]
[null,null,2,2]
[null,null,3,3]
[null,null,4,4]
[null,null,5,5]
[null,null,6,6]
[null,null,7,7]
[null,null,8,8]
[null,null,9,9]
[null,null,10,10]
[null,null,11,11]
[null,null,12,12]
[null,null,13,13]
[null,null,14,14]
[null,null,15,15]
[null,null,16,16]
[null,null,17,17]
[null,null,18,18]
[null,null,19,19]
[null,null,20,20]
[null,null,21,21]
[null,null,22,22]
[null,null,23,23]
[null,null,24,24]
[null,null,25,25]

{"sheet":"TP 2","index":3,"n_rows":32,"n_cols":8,"rows_kept":32,"cut":false,"hidden":false,"merged":[[9,3,9,13],[2,1,2,14],[4,7,4,10],[6,3,6,13],[7,3,7,13],[8,3,8,13],[21,3,21,13],[10,3,10,13],[11,3,11,13],[12,3,12,13],[13,3,13,13],[14,3,14,13],[15,3,15,13],[16,3,16,13],[17,3,17,13],[18,3,18,13],[19,3,19,13],[20,3,20,13],[28,3,28,13],[29,3,29,13],[30,3,30,13],[31,3,31,13],[22,3,22,13],[23,3,23,13],[24,3,24,13],[25,3,25,13],[26,3,26,13],[27,3,27,13]]}
[]
[]
[null,"TUJUAN PEMBELAJARAN"]
[]
[null,null,null,null,null,"Mata Pelajaran",null,{"$f":"INTRAKURIKULER!D10","v":0}]
[]
[null,null,"No","Tujuan Pembelajaran"]
[null,null,1,1]
[null,null,2,2]
[null,null,3,3]
[null,null,4,4]
[null,null,5,5]
[null,null,6,6]
[null,null,7,7]
[null,null,8,8]
[null,null,9,9]
[null,null,10,10]
[null,null,11,11]
[null,null,12,12]
[null,null,13,13]
[null,null,14,14]
[null,null,15,15]
[null,null,16,16]
[null,null,17,17]
[null,null,18,18]
[null,null,19,19]
[null,null,20,20]
[null,null,21,21]
[null,null,22,22]
[null,null,23,23]
[null,null,24,24]
[null,null,25,25]

{"sheet":"TP 3","index":4,"n_rows":32,"n_cols":8,"rows_kept":32,"cut":false,"hidden":false,"merged":[[9,3,9,13],[2,1,2,14],[4,7,4,10],[6,3,6,13],[7,3,7,13],[8,3,8,13],[21,3,21,13],[10,3,10,13],[11,3,11,13],[12,3,12,13],[13,3,13,13],[14,3,14,13],[15,3,15,13],[16,3,16,13],[17,3,17,13],[18,3,18,13],[19,3,19,13],[20,3,20,13],[28,3,28,13],[29,3,29,13],[30,3,30,13],[31,3,31,13],[22,3,22,13],[23,3,23,13],[24,3,24,13],[25,3,25,13],[26,3,26,13],[27,3,27,13]]}
[]
[]
[null,"TUJUAN PEMBELAJARAN"]
[]
[null,null,null,null,null,"Mata Pelajaran",null,{"$f":"INTRAKURIKULER!D11","v":0}]
[]
[null,null,"No","Tujuan Pembelajaran"]
[null,null,1,1]
[null,null,2,2]
[null,null,3,3]
[null,null,4,4]
[null,null,5,5]
[null,null,6,6]
[null,null,7,7]
[null,null,8,8]
[null,null,9,9]
[null,null,10,10]
[null,null,11,11]
[null,null,12,12]
[null,null,13,13]
[null,null,14,14]
[null,null,15,15]
[null,null,16,16]
[null,null,17,17]
[null,null,18,18]
[null,null,19,19]
[null,null,20,20]
[null,null,21,21]
[null,null,22,22]
[null,null,23,23]
[null,null,24,24]
[null,null,25,25]

{"sheet":"TP 4","index":5,"n_rows":32,"n_cols":8,"rows_kept":32,"cut":false,"hidden":false,"merged":[[9,3,9,13],[2,1,2,14],[4,7,4,10],[6,3,6,13],[7,3,7,13],[8,3,8,13],[21,3,21,13],[10,3,10,13],[11,3,11,13],[12,3,12,13],[13,3,13,13],[14,3,14,13],[15,3,15,13],[16,3,16,13],[17,3,17,13],[18,3,18,13],[19,3,19,13],[20,3,20,13],[28,3,28,13],[29,3,29,13],[30,3,30,13],[31,3,31,13],[22,3,22,13],[23,3,23,13],[24,3,24,13],[25,3,25,13],[26,3,26,13],[27,3,27,13]]}
[]
[]
[null,"TUJUAN PEMBELAJARAN"]
[]
[null,null,null,null,null,"Mata Pelajaran",null,{"$f":"INTRAKURIKULER!D12","v":0}]
[]
[null,null,"No","Tujuan Pembelajaran"]
[null,null,1,1]
[null,null,2,2]
[null,null,3,3]
[null,null,4,4]
[null,null,5,5]
[null,null,6,6]
[null,null,7,7]
[null,null,8,8]
[null,null,9,9]
[null,null,10,10]
[null,null,11,11]
[null,null,12,12]
[null,null,13,13]
[null,null,14,14]
[null,null,15,15]
[null,null,16,16]
[null,null,17,17]
[null,null,18,18]
[null,null,19,19]
[null,null,20,20]
[null,null,21,21]
[null,null,22,22]
[null,null,23,23]
[null,null,24,24]
[null,null,25,25]

{"sheet":"TP 5","index":6,"n_rows":32,"n_cols":8,"rows_kept":32,"cut":false,"hidden":false,"merged":[[9,3,9,13],[2,1,2,14],[4,7,4,10],[6,3,6,13],[7,3,7,13],[8,3,8,13],[21,3,21,13],[10,3,10,13],[11,3,11,13],[12,3,12,13],[13,3,13,13],[14,3,14,13],[15,3,15,13],[16,3,16,13],[17,3,17,13],[18,3,18,13],[19,3,19,13],[20,3,20,13],[28,3,28,13],[29,3,29,13],[30,3,30,13],[31,3,31,13],[22,3,22,13],[23,3,23,13],[24,3,24,13],[25,3,25,13],[26,3,26,13],[27,3,27,13]]}
[]
[]
[null,"TUJUAN PEMBELAJARAN"]
[]
[null,null,null,null,null,"Mata Pelajaran",null,{"$f":"INTRAKURIKULER!D13","v":0}]
[]
[null,null,"No","Tujuan Pembelajaran"]
[null,null,1,1]
[null,null,2,2]
[null,null,3,3]
[null,null,4,4]
[null,null,5,5]
[null,null,6,6]
[null,null,7,7]
[null,null,8,8]
[null,null,9,9]
[null,null,10,10]
[null,null,11,11]
[null,null,12,12]
[null,null,13,13]
[null,null,14,14]
[null,null,15,15]
[null,null,16,16]
[null,null,17,17]
[null,null,18,18]
[null,null,19,19]
[null,null,20,20]
[null,null,21,21]
[null,null,22,22]
[null,null,23,23]
[null,null,24,24]
[null,null,25,25]

{"sheet":"TP 6","index":7,"n_rows":32,"n_cols":8,"rows_kept":32,"cut":false,"hidden":false,"merged":[[9,3,9,13],[2,1,2,14],[4,7,4,10],[6,3,6,13],[7,3,7,13],[8,3,8,13],[21,3,21,13],[10,3,10,13],[11,3,11,13],[12,3,12,13],[13,3,13,13],[14,3,14,13],[15,3,15,13],[16,3,16,13],[17,3,17,13],[18,3,18,13],[19,3,19,13],[20,3,20,13],[28,3,28,13],[29,3,29,13],[30,3,30,13],[31,3,31,13],[22,3,22,13],[23,3,23,13],[24,3,24,13],[25,3,25,13],[26,3,26,13],[27,3,27,13]]}
[]
[]
[null,"TUJUAN PEMBELAJARAN"]
[]
[null,null,null,null,null,"Mata Pelajaran",null,{"$f":"INTRAKURIKULER!D14","v":0}]
[]
[null,null,"No","Tujuan Pembelajaran"]
[null,null,1,1]
[null,null,2,2]
[null,null,3,3]
[null,null,4,4]
[null,null,5,5]
[null,null,6,6]
[null,null,7,7]
[null,null,8,8]
[null,null,9,9]
[null,null,10,10]
[null,null,11,11]
[null,null,12,12]
[null,null,13,13]
[null,null,14,14]
[null,null,15,15]
[null,null,16,16]
[null,null,17,17]
[null,null,18,18]
[null,null,19,19]
[null,null,20,20]
[null,null,21,21]
[null,null,22,22]
[null,null,23,23]
[null,null,24,24]
[null,null,25,25]

{"sheet":"TP 7","index":8,"n_rows":32,"n_cols":8,"rows_kept":32,"cut":false,"hidden":false,"merged":[[9,3,9,13],[2,1,2,14],[4,7,4,10],[6,3,6,13],[7,3,7,13],[8,3,8,13],[21,3,21,13],[10,3,10,13],[11,3,11,13],[12,3,12,13],[13,3,13,13],[14,3,14,13],[15,3,15,13],[16,3,16,13],[17,3,17,13],[18,3,18,13],[19,3,19,13],[20,3,20,13],[28,3,28,13],[29,3,29,13],[30,3,30,13],[31,3,31,13],[22,3,22,13],[23,3,23,13],[24,3,24,13],[25,3,25,13],[26,3,26,13],[27,3,27,13]]}
[]
[]
[null,"TUJUAN PEMBELAJARAN"]
[]
[null,null,null,null,null,"Mata Pelajaran",null,{"$f":"INTRAKURIKULER!D15","v":0}]
[]
[null,null,"No","Tujuan Pembelajaran"]
[null,null,1,1]
[null,null,2,2]
[null,null,3,3]
[null,null,4,4]
[null,null,5,5]
[null,null,6,6]
[null,null,7,7]
[null,null,8,8]
[null,null,9,9]
[null,null,10,10]
[null,null,11,11]
[null,null,12,12]
[null,null,13,13]
[null,null,14,14]
[null,null,15,15]
[null,null,16,16]
[null,null,17,17]
[null,null,18,18]
[null,null,19,19]
[null,null,20,20]
[null,null,21,21]
[null,null,22,22]
[null,null,23,23]
[null,null,24,24]
[null,null,25,25]

{"sheet":"TP 8","index":9,"n_rows":32,"n_cols":8,"rows_kept":32,"cut":false,"hidden":false,"merged":[[9,3,9,13],[2,1,2,14],[4,7,4,10],[6,3,6,13],[7,3,7,13],[8,3,8,13],[21,3,21,13],[10,3,10,13],[11,3,11,13],[12,3,12,13],[13,3,13,13],[14,3,14,13],[15,3,15,13],[16,3,16,13],[17,3,17,13],[18,3,18,13],[19,3,19,13],[20,3,20,13],[28,3,28,13],[29,3,29,13],[30,3,30,13],[31,3,31,13],[22,3,22,13],[23,3,23,13],[24,3,24,13],[25,3,25,13],[26,3,26,13],[27,3,27,13]]}
[]
[]
[null,"TUJUAN PEMBELAJARAN"]
[]
[null,null,null,null,null,"Mata Pelajaran",null,{"$f":"INTRAKURIKULER!D16","v":0}]
[]
[null,null,"No","Tujuan Pembelajaran"]
[null,null,1,1]
[null,null,2,2]
[null,null,3,3]
[null,null,4,4]
[null,null,5,5]
[null,null,6,6]
[null,null,7,7]
[null,null,8,8]
[null,null,9,9]
[null,null,10,10]
[null,null,11,11]
[null,null,12,12]
[null,null,13,13]
[null,null,14,14]
[null,null,15,15]
[null,null,16,16]
[null,null,17,17]
[null,null,18,18]
[null,null,19,19]
[null,null,20,20]
[null,null,21,21]
[null,null,22,22]
[null,null,23,23]
[null,null,24,24]
[null,null,25,25]

{"sheet":"TP 9","index":10,"n_rows":32,"n_cols":8,"rows_kept":32,"cut":false,"hidden":false,"merged":[[9,3,9,13],[2,1,2,14],[4,7,4,10],[6,3,6,13],[7,3,7,13],[8,3,8,13],[21,3,21,13],[10,3,10,13],[11,3,11,13],[12,3,12,13],[13,3,13,13],[14,3,14,13],[15,3,15,13],[16,3,16,13],[17,3,17,13],[18,3,18,13],[19,3,19,13],[20,3,20,13],[28,3,28,13],[29,3,29,13],[30,3,30,13],[31,3,31,13],[22,3,22,13],[23,3,23,13],[24,3,24,13],[25,3,25,13],[26,3,26,13],[27,3,27,13]]}
[]
[]
[null,"TUJUAN PEMBELAJARAN"]
[]
[null,null,null,null,null,"Mata Pelajaran",null,{"$f":"INTRAKURIKULER!D17","v":0}]
[]
[null,null,"No","Tujuan Pembelajaran"]
[null,null,1,1]
[null,null,2,2]
[null,null,3,3]
[null,null,4,4]
[null,null,5,5]
[null,null,6,6]
[null,null,7,7]
[null,null,8,8]
[null,null,9,9]
[null,null,10,10]
[null,null,11,11]
[null,null,12,12]
[null,null,13,13]
[null,null,14,14]
[null,null,15,15]
[null,null,16,16]
[null,null,17,17]
[null,null,18,18]
[null,null,19,19]
[null,null,20,20]
[null,null,21,21]
[null,null,22,22]
[null,null,23,23]
[null,null,24,24]
[null,null,25,25]

{"sheet":"TP 10","index":11,"n_rows":32,"n_cols":8,"rows_kept":32,"cut":false,"hidden":false,"merged":[[9,3,9,13],[2,1,2,14],[4,7,4,10],[6,3,6,13],[7,3,7,13],[8,3,8,13],[21,3,21,13],[10,3,10,13],[11,3,11,13],[12,3,12,13],[13,3,13,13],[14,3,14,13],[15,3,15,13],[16,3,16,13],[17,3,17,13],[18,3,18,13],[19,3,19,13],[20,3,20,13],[28,3,28,13],[29,3,29,13],[30,3,30,13],[31,3,31,13],[22,3,22,13],[23,3,23,13],[24,3,24,13],[25,3,25,13],[26,3,26,13],[27,3,27,13]]}
[]
[]
[null,"TUJUAN PEMBELAJARAN"]
[]
[null,null,null,null,null,"Mata Pelajaran",null,{"$f":"INTRAKURIKULER!D18","v":0}]
[]
[null,null,"No","Tujuan Pembelajaran"]
[null,null,1,1]
[null,null,2,2]
[null,null,3,3]
[null,null,4,4]
[null,null,5,5]
[null,null,6,6]
[null,null,7,7]
[null,null,8,8]
[null,null,9,9]
[null,null,10,10]
[null,null,11,11]
[null,null,12,12]
[null,null,13,13]
[null,null,14,14]
[null,null,15,15]
[null,null,16,16]
[null,null,17,17]
[null,null,18,18]
[null,null,19,19]
[null,null,20,20]
[null,null,21,21]
[null,null,22,22]
[null,null,23,23]
[null,null,24,24]
[null,null,25,25]

{"sheet":"TP 11","index":12,"n_rows":32,"n_cols":8,"rows_kept":32,"cut":false,"hidden":false,"merged":[[9,3,9,13],[2,1,2,14],[4,7,4,10],[6,3,6,13],[7,3,7,13],[8,3,8,13],[21,3,21,13],[10,3,10,13],[11,3,11,13],[12,3,12,13],[13,3,13,13],[14,3,14,13],[15,3,15,13],[16,3,16,13],[17,3,17,13],[18,3,18,13],[19,3,19,13],[20,3,20,13],[28,3,28,13],[29,3,29,13],[30,3,30,13],[31,3,31,13],[22,3,22,13],[23,3,23,13],[24,3,24,13],[25,3,25,13],[26,3,26,13],[27,3,27,13]]}
[]
[]
[null,"TUJUAN PEMBELAJARAN"]
[]
[null,null,null,null,null,"Mata Pelajaran",null,{"$f":"INTRAKURIKULER!D19","v":0}]
[]
[null,null,"No","Tujuan Pembelajaran"]
[null,null,1,1]
[null,null,2,2]
[null,null,3,3]
[null,null,4,4]
[null,null,5,5]
[null,null,6,6]
[null,null,7,7]
[null,null,8,8]
[null,null,9,9]
[null,null,10,10]
[null,null,11,11]
[null,null,12,12]
[null,null,13,13]
[null,null,14,14]
[null,null,15,15]
[null,null,16,16]
[null,null,17,17]
[null,null,18,18]
[null,null,19,19]
[null,null,20,20]
[null,null,21,21]
[null,null,22,22]
[null,null,23,23]
[null,null,24,24]
[null,null,25,25]

{"sheet":"TP 12","index":13,"n_rows":32,"n_cols":8,"rows_kept":32,"cut":false,"hidden":false,"merged":[[9,3,9,13],[2,1,2,14],[4,7,4,10],[6,3,6,13],[7,3,7,13],[8,3,8,13],[21,3,21,13],[10,3,10,13],[11,3,11,13],[12,3,12,13],[13,3,13,13],[14,3,14,13],[15,3,15,13],[16,3,16,13],[17,3,17,13],[18,3,18,13],[19,3,19,13],[20,3,20,13],[28,3,28,13],[29,3,29,13],[30,3,30,13],[31,3,31,13],[22,3,22,13],[23,3,23,13],[24,3,24,13],[25,3,25,13],[26,3,26,13],[27,3,27,13]]}
[]
[]
[null,"TUJUAN PEMBELAJARAN"]
[]
[null,null,null,null,null,"Mata Pelajaran",null,{"$f":"INTRAKURIKULER!D20","v":0}]
[]
[null,null,"No","Tujuan Pembelajaran"]
[null,null,1,1]
[null,null,2,2]
[null,null,3,3]
[null,null,4,4]
[null,null,5,5]
[null,null,6,6]
[null,null,7,7]
[null,null,8,8]
[null,null,9,9]
[null,null,10,10]
[null,null,11,11]
[null,null,12,12]
[null,null,13,13]
[null,null,14,14]
[null,null,15,15]
[null,null,16,16]
[null,null,17,17]
[null,null,18,18]
[null,null,19,19]
[null,null,20,20]
[null,null,21,21]
[null,null,22,22]
[null,null,23,23]
[null,null,24,24]
[null,null,25,25]

{"sheet":"TP 13","index":14,"n_rows":32,"n_cols":8,"rows_kept":32,"cut":false,"hidden":false,"merged":[[9,3,9,13],[2,1,2,14],[4,7,4,10],[6,3,6,13],[7,3,7,13],[8,3,8,13],[21,3,21,13],[10,3,10,13],[11,3,11,13],[12,3,12,13],[13,3,13,13],[14,3,14,13],[15,3,15,13],[16,3,16,13],[17,3,17,13],[18,3,18,13],[19,3,19,13],[20,3,20,13],[28,3,28,13],[29,3,29,13],[30,3,30,13],[31,3,31,13],[22,3,22,13],[23,3,23,13],[24,3,24,13],[25,3,25,13],[26,3,26,13],[27,3,27,13]]}
[]
[]
[null,"TUJUAN PEMBELAJARAN"]
[]
[null,null,null,null,null,"Mata Pelajaran",null,{"$f":"INTRAKURIKULER!D21","v":0}]
[]
[null,null,"No","Tujuan Pembelajaran"]
[null,null,1,1]
[null,null,2,2]
[null,null,3,3]
[null,null,4,4]
[null,null,5,5]
[null,null,6,6]
[null,null,7,7]
[null,null,8,8]
[null,null,9,9]
[null,null,10,10]
[null,null,11,11]
[null,null,12,12]
[null,null,13,13]
[null,null,14,14]
[null,null,15,15]
[null,null,16,16]
[null,null,17,17]
[null,null,18,18]
[null,null,19,19]
[null,null,20,20]
[null,null,21,21]
[null,null,22,22]
[null,null,23,23]
[null,null,24,24]
[null,null,25,25]

{"sheet":"TP 14","index":15,"n_rows":32,"n_cols":8,"rows_kept":32,"cut":false,"hidden":false,"merged":[[9,3,9,13],[2,1,2,14],[4,7,4,10],[6,3,6,13],[7,3,7,13],[8,3,8,13],[21,3,21,13],[10,3,10,13],[11,3,11,13],[12,3,12,13],[13,3,13,13],[14,3,14,13],[15,3,15,13],[16,3,16,13],[17,3,17,13],[18,3,18,13],[19,3,19,13],[20,3,20,13],[28,3,28,13],[29,3,29,13],[30,3,30,13],[31,3,31,13],[22,3,22,13],[23,3,23,13],[24,3,24,13],[25,3,25,13],[26,3,26,13],[27,3,27,13]]}
[]
[]
[null,"TUJUAN PEMBELAJARAN"]
[]
[null,null,null,null,null,"Mata Pelajaran",null,{"$f":"INTRAKURIKULER!D22","v":0}]
[]
[null,null,"No","Tujuan Pembelajaran"]
[null,null,1,1]
[null,null,2,2]
[null,null,3,3]
[null,null,4,4]
[null,null,5,5]
[null,null,6,6]
[null,null,7,7]
[null,null,8,8]
[null,null,9,9]
[null,null,10,10]
[null,null,11,11]
[null,null,12,12]
[null,null,13,13]
[null,null,14,14]
[null,null,15,15]
[null,null,16,16]
[null,null,17,17]
[null,null,18,18]
[null,null,19,19]
[null,null,20,20]
[null,null,21,21]
[null,null,22,22]
[null,null,23,23]
[null,null,24,24]
[null,null,25,25]

{"sheet":"TP 15","index":16,"n_rows":32,"n_cols":8,"rows_kept":32,"cut":false,"hidden":false,"merged":[[9,3,9,13],[2,1,2,14],[4,7,4,10],[6,3,6,13],[7,3,7,13],[8,3,8,13],[21,3,21,13],[10,3,10,13],[11,3,11,13],[12,3,12,13],[13,3,13,13],[14,3,14,13],[15,3,15,13],[16,3,16,13],[17,3,17,13],[18,3,18,13],[19,3,19,13],[20,3,20,13],[28,3,28,13],[29,3,29,13],[30,3,30,13],[31,3,31,13],[22,3,22,13],[23,3,23,13],[24,3,24,13],[25,3,25,13],[26,3,26,13],[27,3,27,13]]}
[]
[]
[null,"TUJUAN PEMBELAJARAN"]
[]
[null,null,null,null,null,"Mata Pelajaran",null,{"$f":"INTRAKURIKULER!D23","v":0}]
[]
[null,null,"No","Tujuan Pembelajaran"]
[null,null,1,1]
[null,null,2,2]
[null,null,3,3]
[null,null,4,4]
[null,null,5,5]
[null,null,6,6]
[null,null,7,7]
[null,null,8,8]
[null,null,9,9]
[null,null,10,10]
[null,null,11,11]
[null,null,12,12]
[null,null,13,13]
[null,null,14,14]
[null,null,15,15]
[null,null,16,16]
[null,null,17,17]
[null,null,18,18]
[null,null,19,19]
[null,null,20,20]
[null,null,21,21]
[null,null,22,22]
[null,null,23,23]
[null,null,24,24]
[null,null,25,25]

{"sheet":"LINGKUP MATERI","index":17,"n_rows":19,"n_cols":11,"rows_kept":19,"cut":false,"hidden":false,"merged":[[2,1,2,14],[6,2,7,4],[6,6,7,8],[6,10,7,12],[9,2,10,4],[9,6,10,8],[9,10,10,12],[18,2,19,4],[18,6,19,8],[18,10,19,12],[12,2,13,4],[12,6,13,8],[12,10,13,12],[15,2,16,4],[15,6,16,8],[15,10,16,12]]}
[]
[]
[null,"LINGKUP MATERI"]
[]
[null,null,"Silahkan Input Tujuan Pembelajaran Tiap Mata Pelajaran anda untuk 1 semester ini. Tuliskan hanya pada bagian yang berwarna putih. "]
[]
[null,null,{"$f":"INTRAKURIKULER!$D$9","v":0},null,null,null,{"$f":"INTRAKURIKULER!D14","v":0},null,null,null,{"$f":"INTRAKURIKULER!D19","v":0}]
[]
[]
[null,null,{"$f":"INTRAKURIKULER!$D$10","v":0},null,null,null,{"$f":"INTRAKURIKULER!D15","v":0},null,null,null,{"$f":"INTRAKURIKULER!D20","v":0}]
[]
[]
[null,null,{"$f":"INTRAKURIKULER!$D$11","v":0},null,null,null,{"$f":"INTRAKURIKULER!D16","v":0},null,null,null,{"$f":"INTRAKURIKULER!D21","v":0}]
[]
[]
[null,null,{"$f":"INTRAKURIKULER!$D$12","v":0},null,null,null,{"$f":"INTRAKURIKULER!D17","v":0},null,null,null,{"$f":"INTRAKURIKULER!D22","v":0}]
[]
[]
[null,null,{"$f":"INTRAKURIKULER!$D$13","v":0},null,null,null,{"$f":"INTRAKURIKULER!D18","v":0},null,null,null,{"$f":"INTRAKURIKULER!D23","v":0}]

{"sheet":"LM 1","index":18,"n_rows":17,"n_cols":8,"rows_kept":17,"cut":false,"hidden":false,"merged":[[9,3,9,13],[2,1,2,14],[4,7,4,10],[6,3,6,13],[7,3,7,13],[8,3,8,13],[16,3,16,13],[10,3,10,13],[11,3,11,13],[12,3,12,13],[13,3,13,13],[14,3,14,13],[15,3,15,13]]}
[]
[]
[null,"LINGKUP MATERI"]
[]
[null,null,null,null,null,"Mata Pelajaran",null,{"$f":"INTRAKURIKULER!D9","v":0}]
[]
[null,null,"No","LINGKUP MATERI"]
[null,null,1,"A"]
[null,null,2,"B"]
[null,null,3,"C"]
[null,null,4,"D"]
[null,null,5,"E"]
[null,null,6,"F"]
[null,null,7,"G"]
[null,null,8,"H"]
[null,null,9,"I"]
[null,null,10,"J"]

{"sheet":"LM 2","index":19,"n_rows":17,"n_cols":8,"rows_kept":17,"cut":false,"hidden":false,"merged":[[9,3,9,13],[2,1,2,14],[4,7,4,10],[6,3,6,13],[7,3,7,13],[8,3,8,13],[16,3,16,13],[10,3,10,13],[11,3,11,13],[12,3,12,13],[13,3,13,13],[14,3,14,13],[15,3,15,13]]}
[]
[]
[null,"LINGKUP MATERI"]
[]
[null,null,null,null,null,"Mata Pelajaran",null,{"$f":"INTRAKURIKULER!D10","v":0}]
[]
[null,null,"No","LINGKUP MATERI"]
[null,null,1,"A"]
[null,null,2,"B"]
[null,null,3,"C"]
[null,null,4,"D"]
[null,null,5,"E"]
[null,null,6,"F"]
[null,null,7,"G"]
[null,null,8,"H"]
[null,null,9,"I"]
[null,null,10,"J"]

{"sheet":"LM 3","index":20,"n_rows":17,"n_cols":8,"rows_kept":17,"cut":false,"hidden":false,"merged":[[9,3,9,13],[2,1,2,14],[4,7,4,10],[6,3,6,13],[7,3,7,13],[8,3,8,13],[16,3,16,13],[10,3,10,13],[11,3,11,13],[12,3,12,13],[13,3,13,13],[14,3,14,13],[15,3,15,13]]}
[]
[]
[null,"LINGKUP MATERI"]
[]
[null,null,null,null,null,"Mata Pelajaran",null,{"$f":"INTRAKURIKULER!D11","v":0}]
[]
[null,null,"No","LINGKUP MATERI"]
[null,null,1,"A"]
[null,null,2,"B"]
[null,null,3,"C"]
[null,null,4,"D"]
[null,null,5,"E"]
[null,null,6,"F"]
[null,null,7,"G"]
[null,null,8,"H"]
[null,null,9,"I"]
[null,null,10,"J"]

{"sheet":"LM 4","index":21,"n_rows":17,"n_cols":8,"rows_kept":17,"cut":false,"hidden":false,"merged":[[9,3,9,13],[2,1,2,14],[4,7,4,10],[6,3,6,13],[7,3,7,13],[8,3,8,13],[16,3,16,13],[10,3,10,13],[11,3,11,13],[12,3,12,13],[13,3,13,13],[14,3,14,13],[15,3,15,13]]}
[]
[]
[null,"LINGKUP MATERI"]
[]
[null,null,null,null,null,"Mata Pelajaran",null,{"$f":"INTRAKURIKULER!D12","v":0}]
[]
[null,null,"No","LINGKUP MATERI"]
[null,null,1,"A"]
[null,null,2,"B"]
[null,null,3,"C"]
[null,null,4,"D"]
[null,null,5,"E"]
[null,null,6,"F"]
[null,null,7,"G"]
[null,null,8,"H"]
[null,null,9,"I"]
[null,null,10,"J"]

{"sheet":"LM 5","index":22,"n_rows":17,"n_cols":8,"rows_kept":17,"cut":false,"hidden":false,"merged":[[9,3,9,13],[2,1,2,14],[4,7,4,10],[6,3,6,13],[7,3,7,13],[8,3,8,13],[16,3,16,13],[10,3,10,13],[11,3,11,13],[12,3,12,13],[13,3,13,13],[14,3,14,13],[15,3,15,13]]}
[]
[]
[null,"LINGKUP MATERI"]
[]
[null,null,null,null,null,"Mata Pelajaran",null,{"$f":"INTRAKURIKULER!D13","v":0}]
[]
[null,null,"No","LINGKUP MATERI"]
[null,null,1,"A"]
[null,null,2,"B"]
[null,null,3,"C"]
[null,null,4,"D"]
[null,null,5,"E"]
[null,null,6,"F"]
[null,null,7,"G"]
[null,null,8,"H"]
[null,null,9,"I"]
[null,null,10,"J"]

{"sheet":"LM 6","index":23,"n_rows":17,"n_cols":8,"rows_kept":17,"cut":false,"hidden":false,"merged":[[9,3,9,13],[2,1,2,14],[4,7,4,10],[6,3,6,13],[7,3,7,13],[8,3,8,13],[16,3,16,13],[10,3,10,13],[11,3,11,13],[12,3,12,13],[13,3,13,13],[14,3,14,13],[15,3,15,13]]}
[]
[]
[null,"LINGKUP MATERI"]
[]
[null,null,null,null,null,"Mata Pelajaran",null,{"$f":"INTRAKURIKULER!D14","v":0}]
[]
[null,null,"No","LINGKUP MATERI"]
[null,null,1,"A"]
[null,null,2,"B"]
[null,null,3,"C"]
[null,null,4,"D"]
[null,null,5,"E"]
[null,null,6,"F"]
[null,null,7,"G"]
[null,null,8,"H"]
[null,null,9,"I"]
[null,null,10,"J"]

{"sheet":"LM 7","index":24,"n_rows":17,"n_cols":8,"rows_kept":17,"cut":false,"hidden":false,"merged":[[9,3,9,13],[2,1,2,14],[4,7,4,10],[6,3,6,13],[7,3,7,13],[8,3,8,13],[16,3,16,13],[10,3,10,13],[11,3,11,13],[12,3,12,13],[13,3,13,13],[14,3,14,13],[15,3,15,13]]}
[]
[]
[null,"LINGKUP MATERI"]
[]
[null,null,null,null,null,"Mata Pelajaran",null,{"$f":"INTRAKURIKULER!D15","v":0}]
[]
[null,null,"No","LINGKUP MATERI"]
[null,null,1,"A"]
[null,null,2,"B"]
[null,null,3,"C"]
[null,null,4,"D"]
[null,null,5,"E"]
[null,null,6,"F"]
[null,null,7,"G"]
[null,null,8,"H"]
[null,null,9,"I"]
[null,null,10,"J"]

{"sheet":"LM 8","index":25,"n_rows":17,"n_cols":8,"rows_kept":17,"cut":false,"hidden":false,"merged":[[9,3,9,13],[2,1,2,14],[4,7,4,10],[6,3,6,13],[7,3,7,13],[8,3,8,13],[16,3,16,13],[10,3,10,13],[11,3,11,13],[12,3,12,13],[13,3,13,13],[14,3,14,13],[15,3,15,13]]}
[]
[]
[null,"LINGKUP MATERI"]
[]
[null,null,null,null,null,"Mata Pelajaran",null,{"$f":"INTRAKURIKULER!D16","v":0}]
[]
[null,null,"No","LINGKUP MATERI"]
[null,null,1,"A"]
[null,null,2,"B"]
[null,null,3,"C"]
[null,null,4,"D"]
[null,null,5,"E"]
[null,null,6,"F"]
[null,null,7,"G"]
[null,null,8,"H"]
[null,null,9,"I"]
[null,null,10,"J"]

{"sheet":"LM 9","index":26,"n_rows":17,"n_cols":8,"rows_kept":17,"cut":false,"hidden":false,"merged":[[9,3,9,13],[2,1,2,14],[4,7,4,10],[6,3,6,13],[7,3,7,13],[8,3,8,13],[16,3,16,13],[10,3,10,13],[11,3,11,13],[12,3,12,13],[13,3,13,13],[14,3,14,13],[15,3,15,13]]}
[]
[]
[null,"LINGKUP MATERI"]
[]
[null,null,null,null,null,"Mata Pelajaran",null,{"$f":"INTRAKURIKULER!D17","v":0}]
[]
[null,null,"No","LINGKUP MATERI"]
[null,null,1,"A"]
[null,null,2,"B"]
[null,null,3,"C"]
[null,null,4,"D"]
[null,null,5,"E"]
[null,null,6,"F"]
[null,null,7,"G"]
[null,null,8,"H"]
[null,null,9,"I"]
[null,null,10,"J"]

{"sheet":"LM 10","index":27,"n_rows":17,"n_cols":8,"rows_kept":17,"cut":false,"hidden":false,"merged":[[9,3,9,13],[2,1,2,14],[4,7,4,10],[6,3,6,13],[7,3,7,13],[8,3,8,13],[16,3,16,13],[10,3,10,13],[11,3,11,13],[12,3,12,13],[13,3,13,13],[14,3,14,13],[15,3,15,13]]}
[]
[]
[null,"LINGKUP MATERI"]
[]
[null,null,null,null,null,"Mata Pelajaran",null,{"$f":"INTRAKURIKULER!D18","v":0}]
[]
[null,null,"No","LINGKUP MATERI"]
[null,null,1,"A"]
[null,null,2,"B"]
[null,null,3,"C"]
[null,null,4,"D"]
[null,null,5,"E"]
[null,null,6,"F"]
[null,null,7,"G"]
[null,null,8,"H"]
[null,null,9,"I"]
[null,null,10,"J"]

{"sheet":"LM 11","index":28,"n_rows":17,"n_cols":8,"rows_kept":17,"cut":false,"hidden":false,"merged":[[9,3,9,13],[2,1,2,14],[4,7,4,10],[6,3,6,13],[7,3,7,13],[8,3,8,13],[16,3,16,13],[10,3,10,13],[11,3,11,13],[12,3,12,13],[13,3,13,13],[14,3,14,13],[15,3,15,13]]}
[]
[]
[null,"LINGKUP MATERI"]
[]
[null,null,null,null,null,"Mata Pelajaran",null,{"$f":"INTRAKURIKULER!D19","v":0}]
[]
[null,null,"No","LINGKUP MATERI"]
[null,null,1,"A"]
[null,null,2,"B"]
[null,null,3,"C"]
[null,null,4,"D"]
[null,null,5,"E"]
[null,null,6,"F"]
[null,null,7,"G"]
[null,null,8,"H"]
[null,null,9,"I"]
[null,null,10,"J"]

{"sheet":"LM 12","index":29,"n_rows":17,"n_cols":8,"rows_kept":17,"cut":false,"hidden":false,"merged":[[9,3,9,13],[2,1,2,14],[4,7,4,10],[6,3,6,13],[7,3,7,13],[8,3,8,13],[16,3,16,13],[10,3,10,13],[11,3,11,13],[12,3,12,13],[13,3,13,13],[14,3,14,13],[15,3,15,13]]}
[]
[]
[null,"LINGKUP MATERI"]
[]
[null,null,null,null,null,"Mata Pelajaran",null,{"$f":"INTRAKURIKULER!D20","v":0}]
[]
[null,null,"No","LINGKUP MATERI"]
[null,null,1,"A"]
[null,null,2,"B"]
[null,null,3,"C"]
[null,null,4,"D"]
[null,null,5,"E"]
[null,null,6,"F"]
[null,null,7,"G"]
[null,null,8,"H"]
[null,null,9,"I"]
[null,null,10,"J"]

{"sheet":"LM 13","index":30,"n_rows":17,"n_cols":8,"rows_kept":17,"cut":false,"hidden":false,"merged":[[9,3,9,13],[2,1,2,14],[4,7,4,10],[6,3,6,13],[7,3,7,13],[8,3,8,13],[16,3,16,13],[10,3,10,13],[11,3,11,13],[12,3,12,13],[13,3,13,13],[14,3,14,13],[15,3,15,13]]}
[]
[]
[null,"LINGKUP MATERI"]
[]
[null,null,null,null,null,"Mata Pelajaran",null,{"$f":"INTRAKURIKULER!D21","v":0}]
[]
[null,null,"No","LINGKUP MATERI"]
[null,null,1,"A"]
[null,null,2,"B"]
[null,null,3,"C"]
[null,null,4,"D"]
[null,null,5,"E"]
[null,null,6,"F"]
[null,null,7,"G"]
[null,null,8,"H"]
[null,null,9,"I"]
[null,null,10,"J"]

{"sheet":"LM 14","index":31,"n_rows":17,"n_cols":8,"rows_kept":17,"cut":false,"hidden":false,"merged":[[9,3,9,13],[2,1,2,14],[4,7,4,10],[6,3,6,13],[7,3,7,13],[8,3,8,13],[16,3,16,13],[10,3,10,13],[11,3,11,13],[12,3,12,13],[13,3,13,13],[14,3,14,13],[15,3,15,13]]}
[]
[]
[null,"LINGKUP MATERI"]
[]
[null,null,null,null,null,"Mata Pelajaran",null,{"$f":"INTRAKURIKULER!D22","v":0}]
[]
[null,null,"No","LINGKUP MATERI"]
[null,null,1,"A"]
[null,null,2,"B"]
[null,null,3,"C"]
[null,null,4,"D"]
[null,null,5,"E"]
[null,null,6,"F"]
[null,null,7,"G"]
[null,null,8,"H"]
[null,null,9,"I"]
[null,null,10,"J"]

{"sheet":"LM 15","index":32,"n_rows":17,"n_cols":8,"rows_kept":17,"cut":false,"hidden":false,"merged":[[9,3,9,13],[2,1,2,14],[4,7,4,10],[6,3,6,13],[7,3,7,13],[8,3,8,13],[16,3,16,13],[10,3,10,13],[11,3,11,13],[12,3,12,13],[13,3,13,13],[14,3,14,13],[15,3,15,13]]}
[]
[]
[null,"LINGKUP MATERI"]
[]
[null,null,null,null,null,"Mata Pelajaran",null,{"$f":"INTRAKURIKULER!D23","v":0}]
[]
[null,null,"No","LINGKUP MATERI"]
[null,null,1,"A"]
[null,null,2,"B"]
[null,null,3,"C"]
[null,null,4,"D"]
[null,null,5,"E"]
[null,null,6,"F"]
[null,null,7,"G"]
[null,null,8,"H"]
[null,null,9,"I"]
[null,null,10,"J"]

{"sheet":"FORMATIF","index":33,"n_rows":20,"n_cols":11,"rows_kept":20,"cut":false,"hidden":false,"merged":[[2,1,2,14],[7,2,8,4],[7,6,8,8],[7,10,8,12],[10,2,11,4],[10,6,11,8],[10,10,11,12],[19,2,20,4],[19,6,20,8],[19,10,20,12],[13,2,14,4],[13,6,14,8],[13,10,14,12],[16,2,17,4],[16,6,17,8],[16,10,17,12]]}
[]
[]
[null,"ASESMEN FORMATIF"]
[]
[null,"Asesmen Formatif bertujuan untuk memperbaiki proses pembelajaran baik bagi guru maupun siswa. Hasil asesmen formatif tidak"]
[null,"digunakan dalam pengolahan rapor namun sebagai bahan pertimbangan untuk membuat deskripsi pada laporan hasil belajar siswa. "]
[]
[null,null,{"$f":"INTRAKURIKULER!$D$9","v":0},null,null,null,{"$f":"INTRAKURIKULER!D14","v":0},null,null,null,{"$f":"INTRAKURIKULER!D19","v":0}]
[]
[]
[null,null,{"$f":"INTRAKURIKULER!$D$10","v":0},null,null,null,{"$f":"INTRAKURIKULER!D15","v":0},null,null,null,{"$f":"INTRAKURIKULER!D20","v":0}]
[]
[]
[null,null,{"$f":"INTRAKURIKULER!$D$11","v":0},null,null,null,{"$f":"INTRAKURIKULER!D16","v":0},null,null,null,{"$f":"INTRAKURIKULER!D21","v":0}]
[]
[]
[null,null,{"$f":"INTRAKURIKULER!$D$12","v":0},null,null,null,{"$f":"INTRAKURIKULER!D17","v":0},null,null,null,{"$f":"INTRAKURIKULER!D22","v":0}]
[]
[]
[null,null,{"$f":"INTRAKURIKULER!$D$13","v":0},null,null,null,{"$f":"INTRAKURIKULER!D18","v":0},null,null,null,{"$f":"INTRAKURIKULER!D23","v":0}]

{"sheet":"F1","index":34,"n_rows":56,"n_cols":169,"rows_kept":56,"cut":false,"hidden":false,"merged":[[14,14,14,15],[2,1,2,54],[14,4,14,5],[14,6,14,7],[14,8,14,9],[14,10,14,11],[14,12,14,13],[14,38,14,39],[14,16,14,17],[14,18,14,19],[14,20,14,21],[14,22,14,23],[14,24,14,25],[14,26,14,27],[14,28,14,29],[14,30,14,31],[14,32,14,33],[14,34,14,35],[14,36,14,37],[14,52,14,53],[12,4,12,53],[13,10,13,11],[13,12,13,13],[13,14,13,15],[14,40,14,41],[14,42,14,43],[14,44,14,45],[14,46,14,47],[14,48,14,49],[14,50,14,51],[13,38,13,39],[13,16,13,17],[12,2,15,2],[12,3,15,3],[13,4,13,5],[13,6,13,7],[13,8,13,9],[13,18,13,19],[13,20,13,21],[13,22,13,23],[13,24,13,25],[13,26,13,27],[13,158,13,159],[13,144,13,145],[13,146,13,147],[13,148,13,149],[13,52,13,53],[12,54,15,54],[12,55,15,55],[4,1,4,54],[13,150,13,151],[13,152,13,153],[13,154,13,155],[13,156,13,157],[13,40,13,41],[13,42,13,43],[13,44,13,45],[13,46,13,47],[13,48,13,49],[13,50,13,51],[13,28,13,29],[13,30,13,31],[13,32,13,33],[13,34,13,35],[13,36,13,37]]}
[]
[]
[null,"INPUT ASESMEN FORMATIF"]
[]
[null,{"$f":"\"MATA PELAJARAN : \"&INTRAKURIKULER!D9","v":"MATA PELAJARAN : "}]
[null,"Petunjuk Pengisian :"]
[null,null,1,"Rapor ini berasumsi bahwa guru telah melakukan penilaian formatif dan direkap dalam lembar tersendiri"]
[null,null,2,"Pada Kolom KKTP, pilih '0' jika siswa tidak memenuhi KKTP, Pilih '1' jika siswa memenuhi KKTP. Bisa juga diketikkan langsung angka 1 atau 0"]
[null,null,3,"Pada Kolom Tampil/Tidak, pilih '0' jika tidak ingin menampilkan TP tersebut di deskripsi rapor, pilih '1' jika ingin menampilkan TP di deskripsi rapor. Bisa juga diketikkan langsung angka 1 atau 0",null,null,null,null,null,null,null,null,null,null,null,null,null,null,null,null,null,null,null,null,null,null,null,null,null,null,null,null,null,null,null,null,null,null,null,null,null,null,null,null,null,null,null,null,null,null,null,null,null,null,null,null,null,null,0]
[null,"Contoh :",null,"Pada TP 1, siswa mencapai KKTP tapi tidak ingin ditampilkan dalam rapor. Pilih KKTP = 1, dan Tampil/Tidak = 0.",null,null,null,null,null,null,null,null,null,null,null,null,null,null,null,null,null,null,null,null,null,null,null,null,null,null,null,null,null,null,null,null,null,null,null,null,null,null,null,null,null,null,null,null,null,null,null,null,null,null,null,null,null,null,1]
[null,null,null,"Pada TP 2, siswa tidak mencapai KKTP tapi ingin ditampilkan dalam rapor. Pilih KKTP = 0, dan Tampil/Tidak = 1."]
[null,null,1,2,3,4,5,6,7,8,9,10,11,12,13,14,15,16,17,18,19,20,21,22,23,24,25,26,27,28,29,30,31,32,33,34,35,36,37,38,39,40,41,42,43,44,45,46,47,48,49,50,51,52,53,54,null,null,1]
[null,null,"No","Nama Siswa","Tujuan Pembelajaran",null,null,null,null,null,null,null,null,null,null,null,null,null,null,null,null,null,null,null,null,null,null,null,null,null,null,null,null,null,null,null,null,null,null,null,null,null,null,null,null,null,null,null,null,null,null,null,null,null,"Deskripsi Capaian Tertinggi dalam Rapor","Deskripsi Capaian Terendah dalam Rapor"]
[null,null,null,null,"TP 1",null,"TP 2",null,"TP 3",null,"TP 4",null,"TP 5",null,"TP 6",null,"TP 7",null,"TP 8",null,"TP 9",null,"TP 10",null,"TP 11",null,"TP 12",null,"TP 13",null,"TP 14",null,"TP 15",null,"TP 16",null,"TP 17",null,"TP 18",null,"TP 19",null,"TP 20",null,"TP 21",null,"TP 22",null,"TP 23",null,"TP 24",null,"TP 25",null,null,null,null,null,null,null,null,null,null,null,null,null,null,null,null,null,null,null,null,null,null,null,null,null,null,null,null,null,null,null,null,null,null,null,null,null,null,null,null,null,null,null,null,null,null,null,null,null,null,null,null,null,null,null,null,null,"mencapai",null,null,null,null,null,null,null,null,null,null,null,null,null,null,null,null,null,null,null,null,null,null,null,null,null,"tidak mencapai"]
[null,null,null,null,{"$f":"'TP 1'!D8","v":1},null,{"$f":"'TP 1'!D9","v":2},null,{"$f":"'TP 1'!D10","v":3},null,{"$f":"'TP 1'!D11","v":4},null,{"$f":"'TP 1'!D12","v":5},null,{"$f":"'TP 1'!D13","v":6},null,{"$f":"'TP 1'!D14","v":7},null,{"$f":"'TP 1'!D15","v":8},null,{"$f":"'TP 1'!D16","v":9},null,{"$f":"'TP 1'!D17","v":10},null,{"$f":"'TP 1'!D18","v":11},null,{"$f":"'TP 1'!D19","v":12},null,{"$f":"'TP 1'!D20","v":13},null,{"$f":"'TP 1'!D21","v":14},null,{"$f":"'TP 1'!D22","v":15},null,{"$f":"'TP 1'!D23","v":16},null,{"$f":"'TP 1'!D24","v":17},null,{"$f":"'TP 1'!D25","v":18},null,{"$f":"'TP 1'!D26","v":19},null,{"$f":"'TP 1'!D27","v":20},null,{"$f":"'TP 1'!D28","v":21},null,{"$f":"'TP 1'!D29","v":22},null,{"$f":"'TP 1'!D30","v":23},null,{"$f":"'TP 1'!D31","v":24},null,{"$f":"'TP 1'!D32","v":25},null,null,null,null,null,1,2,3,4,5,6,7,8,9,10,11,12,13,14,15,16,17,18,19,20,21,22,23,24,25,null,1,2,3,4,5,6,7,8,9,10,11,12,13,14,15,16,17,18,19,20,21,22,23,24,25,null,{"$f":"E15","v":1},{"$f":"G15","v":2},{"$f":"I15","v":3},{"$f":"K15","v":4},{"$f":"M15","v":5},{"$f":"O15","v":6},{"$f":"Q15","v":7},{"$f":"S15","v":8},{"$f":"U15","v":9},{"$f":"W15","v":10},{"$f":"Y15","v":11},{"$f":"AA15","v":12},{"$f":"AC15","v":13},{"$f":"AE15","v":14},{"$f":"AG15","v":15},{"$f":"AI15","v":16},{"$f":"AK15","v":17},{"$f":"AM15","v":18},{"$f":"AO15","v":19},{"$f":"AQ15","v":20},{"$f":"AS15","v":21},{"$f":"AU15","v":22},{"$f":"AW15","v":23},{"$f":"AY15","v":24},{"$f":"BA15","v":25},null,{"$f":"DG15","v":1},{"$f":"DH15","v":2},3,4,5,6,7,8,9,10,11,12,13,14,15,16,17,18,19,20,21,22,23,24,25,null,"mencapai",null,null,"tidak mencapai"]
[null,null,null,null,"KKTP","Tampil/Tidak","KKTP","Tampil/Tidak","KKTP","Tampil/Tidak","KKTP","Tampil/Tidak","KKTP","Tampil/Tidak","KKTP","Tampil/Tidak","KKTP","Tampil/Tidak","KKTP","Tampil/Tidak","KKTP","Tampil/Tidak","KKTP","Tampil/Tidak","KKTP","Tampil/Tidak","KKTP","Tampil/Tidak","KKTP","Tampil/Tidak","KKTP","Tampil/Tidak","KKTP","Tampil/Tidak","KKTP","Tampil/Tidak","KKTP","Tampil/Tidak","KKTP","Tampil/Tidak","KKTP","Tampil/Tidak","KKTP","Tampil/Tidak","KKTP","Tampil/Tidak","KKTP","Tampil/Tidak","KKTP","Tampil/Tidak","KKTP","Tampil/Tidak","KKTP","Tampil/Tidak",null,null,null,null,null,null,null,null,null,null,null,null,null,null,null,null,null,null,null,null,null,null,null,null,null,null,null,null,null,null,"kktp",null,null,null,null,null,null,null,null,null,null,null,null,null,null,null,null,null,null,null,null,null,null,null,null,null,1,2,3,4,5,6,7,8,9,10,11,12,13,14,15,16,17,18,19,20,21,22,23,24,25,null,1,2,3,4,5,6,7,8,9,10,11,12,13,14,15,16,17,18,19,20,21,22,23,24,25,null,1,2,3,4,5,6,7]
[null,null,1,{"$f":"'DATA SISWA'!F10","v":0},null,null,null,null,null,null,null,null,null,null,null,null,null,null,null,null,null,null,null,null,null,null,null,null,null,null,null,null,null,null,null,null,null,null,null,null,null,null,null,null,null,null,null,null,null,null,null,null,null,null,{"$f":"FG17","v":"0 menunjukkan pemahaman dalam "},{"$f":"FJ17","v":"0 membutuhkan bimbingan dalam "},null,null,{"$f":"F17","v":0},{"$f":"H17","v":0},{"$f":"J17","v":0},{"$f":"L17","v":0},{"$f":"N17","v":0},{"$f":"P17","v":0},{"$f":"R17","v":0},{"$f":"T17","v":0},{"$f":"V17","v":0},{"$f":"X17","v":0},{"$f":"Z17","v":0},{"$f":"AB17","v":0},{"$f":"AD17","v":0},{"$f":"AF17","v":0},{"$f":"AH17","v":0},{"$f":"AJ17","v":0},{"$f":"AL17","v":0},{"$f":"AN17","v":0},{"$f":"AP17","v":0},{"$f":"AR17","v":0},{"$f":"AT17","v":0},{"$f":"AV17","v":0},{"$f":"AX17","v":0},{"$f":"AZ17","v":0},{"$f":"BB17","v":0},null,{"$f":"E17","v":0},{"$f":"G17","v":0},{"$f":"I17","v":0},{"$f":"K17","v":0},{"$f":"M17","v":0},{"$f":"O17","v":0},{"$f":"Q17","v":0},{"$f":"S17","v":0},{"$f":"U17","v":0},{"$f":"W17","v":0},{"$f":"Y17","v":0},{"$f":"AA17","v":0},{"$f":"AC17","v":0},{"$f":"AE17","v":0},{"$f":"AG17","v":0},{"$f":"AI17","v":0},{"$f":"AK17","v":0},{"$f":"AM17","v":0},{"$f":"AO17","v":0},{"$f":"AQ17","v":0},{"$f":"AS17","v":0},{"$f":"AU17","v":0},{"$f":"AW17","v":0},{"$f":"AY17","v":0},{"$f":"BA17","v":0},null,{"$f":"IF(AND(BG17=1,CG17=1),DG$15&\", \",\"\")","v":""},{"$f":"IF(AND(BH17=1,CH17=1),DH$15&\", \",\"\")","v":""},"","","","","","","","","","","","","","","","","","","","","","","",null,{"$f":"IF(AND(BG17=1,CG17=0),EG$15&\", \",\"\")","v":""},{"$f":"IF(AND(BH17=1,CH17=0),EH$15&\", \",\"\")","v":""},"","","","","","","","","","","","","","","","","","","","","","","",null,{"$f":"PROPER(D17)&\" menunjukkan pemahaman dalam \"&DG17&DH17&DI17&DJ17&DK17&DL17&DM17&DN17&DO17&DP17&DQ17&DR17&DS17&DT17&DU17&DV17&DW17&DX17&DY17&DZ17&EA17&EB17&EC17&ED17&EE17","v":"0 menunjukkan pemahaman dalam "},null,null,{"$f":"PROPER(D17)&\" membutuhkan bimbingan dalam \"&EG17&EH17&EI17&EJ17&EK17&EL17&EM17&EN17&EO17&EP17&EQ17&ER17&ES17&ET17&EU17&EV17&EW17&EX17&EY17&EZ17&FA17&FB17&FC17&FD17&FE17","v":"0 membutuhkan bimbingan dalam "}]
[null,null,2,{"$f":"'DATA SISWA'!F11","v":0},null,null,null,null,null,null,null,null,null,null,null,null,null,null,null,null,null,null,null,null,null,null,null,null,null,null,null,null,null,null,null,null,null,null,null,null,null,null,null,null,null,null,null,null,null,null,null,null,null,null,{"$f":"FG18","v":"0 menunjukkan pemahaman dalam "},{"$f":"FJ18","v":"0 membutuhkan bimbingan dalam "},null,null,{"$f":"F18","v":0},{"$f":"H18","v":0},{"$f":"J18","v":0},{"$f":"L18","v":0},{"$f":"N18","v":0},{"$f":"P18","v":0},{"$f":"R18","v":0},{"$f":"T18","v":0},{"$f":"V18","v":0},{"$f":"X18","v":0},{"$f":"Z18","v":0},{"$f":"AB18","v":0},{"$f":"AD18","v":0},{"$f":"AF18","v":0},{"$f":"AH18","v":0},{"$f":"AJ18","v":0},{"$f":"AL18","v":0},{"$f":"AN18","v":0},{"$f":"AP18","v":0},{"$f":"AR18","v":0},{"$f":"AT18","v":0},{"$f":"AV18","v":0},{"$f":"AX18","v":0},{"$f":"AZ18","v":0},{"$f":"BB18","v":0},null,{"$f":"E18","v":0},{"$f":"G18","v":0},{"$f":"I18","v":0},{"$f":"K18","v":0},{"$f":"M18","v":0},{"$f":"O18","v":0},{"$f":"Q18","v":0},{"$f":"S18","v":0},{"$f":"U18","v":0},{"$f":"W18","v":0},{"$f":"Y18","v":0},{"$f":"AA18","v":0},{"$f":"AC18","v":0},{"$f":"AE18","v":0},{"$f":"AG18","v":0},{"$f":"AI18","v":0},{"$f":"AK18","v":0},{"$f":"AM18","v":0},{"$f":"AO18","v":0},{"$f":"AQ18","v":0},{"$f":"AS18","v":0},{"$f":"AU18","v":0},{"$f":"AW18","v":0},{"$f":"AY18","v":0},{"$f":"BA18","v":0},null,{"$f":"IF(AND(BG18=1,CG18=1),DG$15&\", \",\"\")","v":""},{"$f":"IF(AND(BH18=1,CH18=1),DH$15&\", \",\"\")","v":""},{"$f":"IF(AND(BI18=1,CI18=1),DI$15&\", \",\"\")","v":""},{"$f":"IF(AND(BJ18=1,CJ18=1),DJ$15&\", \",\"\")","v":""},{"$f":"IF(AND(BK18=1,CK18=1),DK$15&\", \",\"\")","v":""},{"$f":"IF(AND(BL18=1,CL18=1),DL$15&\", \",\"\")","v":""},{"$f":"IF(AND(BM18=1,CM18=1),DM$15&\", \",\"\")","v":""},{"$f":"IF(AND(BN18=1,CN18=1),DN$15&\", \",\"\")","v":""},{"$f":"IF(AND(BO18=1,CO18=1),DO$15&\", \",\"\")","v":""},{"$f":"IF(AND(BP18=1,CP18=1),DP$15&\", \",\"\")","v":""},{"$f":"IF(AND(BQ18=1,CQ18=1),DQ$15&\", \",\"\")","v":""},{"$f":"IF(AND(BR18=1,CR18=1),DR$15&\", \",\"\")","v":""},{"$f":"IF(AND(BS18=1,CS18=1),DS$15&\", \",\"\")","v":""},{"$f":"IF(AND(BT18=1,CT18=1),DT$15&\", \",\"\")","v":""},{"$f":"IF(AND(BU18=1,CU18=1),DU$15&\", \",\"\")","v":""},{"$f":"IF(AND(BV18=1,CV18=1),DV$15&\", \",\"\")","v":""},{"$f":"IF(AND(BW18=1,CW18=1),DW$15&\", \",\"\")","v":""},{"$f":"IF(AND(BX18=1,CX18=1),DX$15&\", \",\"\")","v":""},{"$f":"IF(AND(BY18=1,CY18=1),DY$15&\", \",\"\")","v":""},{"$f":"IF(AND(BZ18=1,CZ18=1),DZ$15&\", \",\"\")","v":""},{"$f":"IF(AND(CA18=1,DA18=1),EA$15&\", \",\"\")","v":""},{"$f":"IF(AND(CB18=1,DB18=1),EB$15&\", \",\"\")","v":""},{"$f":"IF(AND(CC18=1,DC18=1),EC$15&\", \",\"\")","v":""},{"$f":"IF(AND(CD18=1,DD18=1),ED$15&\", \",\"\")","v":""},{"$f":"IF(AND(CE18=1,DE18=1),EE$15&\", \",\"\")","v":""},null,{"$f":"IF(AND(BG18=1,CG18=0),EG$15&\", \",\"\")","v":""},{"$f":"IF(AND(BH18=1,CH18=0),EH$15&\", \",\"\")","v":""},{"$f":"IF(AND(BI18=1,CI18=0),EI$15&\", \",\"\")","v":""},{"$f":"IF(AND(BJ18=1,CJ18=0),EJ$15&\", \",\"\")","v":""},{"$f":"IF(AND(BK18=1,CK18=0),EK$15&\", \",\"\")","v":""},{"$f":"IF(AND(BL18=1,CL18=0),EL$15&\", \",\"\")","v":""},{"$f":"IF(AND(BM18=1,CM18=0),EM$15&\", \",\"\")","v":""},{"$f":"IF(AND(BN18=1,CN18=0),EN$15&\", \",\"\")","v":""},{"$f":"IF(AND(BO18=1,CO18=0),EO$15&\", \",\"\")","v":""},{"$f":"IF(AND(BP18=1,CP18=0),EP$15&\", \",\"\")","v":""},{"$f":"IF(AND(BQ18=1,CQ18=0),EQ$15&\", \",\"\")","v":""},{"$f":"IF(AND(BR18=1,CR18=0),ER$15&\", \",\"\")","v":""},{"$f":"IF(AND(BS18=1,CS18=0),ES$15&\", \",\"\")","v":""},{"$f":"IF(AND(BT18=1,CT18=0),ET$15&\", \",\"\")","v":""},{"$f":"IF(AND(BU18=1,CU18=0),EU$15&\", \",\"\")","v":""},{"$f":"IF(AND(BV18=1,CV18=0),EV$15&\", \",\"\")","v":""},{"$f":"IF(AND(BW18=1,CW18=0),EW$15&\", \",\"\")","v":""},{"$f":"IF(AND(BX18=1,CX18=0),EX$15&\", \",\"\")","v":""},{"$f":"IF(AND(BY18=1,CY18=0),EY$15&\", \",\"\")","v":""},{"$f":"IF(AND(BZ18=1,CZ18=0),EZ$15&\", \",\"\")","v":""},{"$f":"IF(AND(CA18=1,DA18=0),FA$15&\", \",\"\")","v":""},{"$f":"IF(AND(CB18=1,DB18=0),FB$15&\", \",\"\")","v":""},{"$f":"IF(AND(CC18=1,DC18=0),FC$15&\", \",\"\")","v":""},{"$f":"IF(AND(CD18=1,DD18=0),FD$15&\", \",\"\")","v":""},{"$f":"IF(AND(CE18=1,DE18=0),FE$15&\", \",\"\")","v":""},null,{"$f":"PROPER(D18)&\" menunjukkan pemahaman dalam \"&DG18&DH18&DI18&DJ18&DK18&DL18&DM18&DN18&DO18&DP18&DQ18&DR18&DS18&DT18&DU18&DV18&DW18&DX18&DY18&DZ18&EA18&EB18&EC18&ED18&EE18","v":"0 menunjukkan pemahaman dalam "},null,null,{"$f":"PROPER(D18)&\" membutuhkan bimbingan dalam \"&EG18&EH18&EI18&EJ18&EK18&EL18&EM18&EN18&EO18&EP18&EQ18&ER18&ES18&ET18&EU18&EV18&EW18&EX18&EY18&EZ18&FA18&FB18&FC18&FD18&FE18","v":"0 membutuhkan bimbingan dalam "}]
[null,null,3,{"$f":"'DATA SISWA'!F12","v":0},null,null,null,null,null,null,null,null,null,null,null,null,null,null,null,null,null,null,null,null,null,null,null,null,null,null,null,null,null,null,null,null,null,null,null,null,null,null,null,null,null,null,null,null,null,null,null,null,null,null,"0 menunjukkan pemahaman dalam ","0 membutuhkan bimbingan dalam ",null,null,0,0,0,0,0,0,0,0,0,0,0,0,0,0,0,0,0,0,0,0,0,0,0,0,0,null,0,0,0,0,0,0,0,0,0,0,0,0,0,0,0,0,0,0,0,0,0,0,0,0,0,null,"","","","","","","","","","","","","","","","","","","","","","","","","",null,"","","","","","","","","","","","","","","","","","","","","","","","","",null,"0 menunjukkan pemahaman dalam ",null,null,"0 membutuhkan bimbingan dalam "]
[null,null,4,{"$f":"'DATA SISWA'!F13","v":0},null,null,null,null,null,null,null,null,null,null,null,null,null,null,null,null,null,null,null,null,null,null,null,null,null,null,null,null,null,null,null,null,null,null,null,null,null,null,null,null,null,null,null,null,null,null,null,null,null,null,"0 menunjukkan pemahaman dalam ","0 membutuhkan bimbingan dalam ",null,null,0,0,0,0,0,0,0,0,0,0,0,0,0,0,0,0,0,0,0,0,0,0,0,0,0,null,0,0,0,0,0,0,0,0,0,0,0,0,0,0,0,0,0,0,0,0,0,0,0,0,0,null,"","","","","","","","","","","","","","","","","","","","","","","","","",null,"","","","","","","","","","","","","","","","","","","","","","","","","",null,"0 menunjukkan pemahaman dalam ",null,null,"0 membutuhkan bimbingan dalam "]
[null,null,5,{"$f":"'DATA SISWA'!F14","v":0},null,null,null,null,null,null,null,null,null,null,null,null,null,null,null,null,null,null,null,null,null,null,null,null,null,null,null,null,null,null,null,null,null,null,null,null,null,null,null,null,null,null,null,null,null,null,null,null,null,null,"0 menunjukkan pemahaman dalam ","0 membutuhkan bimbingan dalam ",null,null,0,0,0,0,0,0,0,0,0,0,0,0,0,0,0,0,0,0,0,0,0,0,0,0,0,null,0,0,0,0,0,0,0,0,0,0,0,0,0,0,0,0,0,0,0,0,0,0,0,0,0,null,"","","","","","","","","","","","","","","","","","","","","","","","","",null,"","","","","","","","","","","","","","","","","","","","","","","","","",null,"0 menunjukkan pemahaman dalam ",null,null,"0 membutuhkan bimbingan dalam "]
[null,null,6,{"$f":"'DATA SISWA'!F15","v":0},null,null,null,null,null,null,null,null,null,null,null,null,null,null,null,null,null,null,null,null,null,null,null,null,null,null,null,null,null,null,null,null,null,null,null,null,null,null,null,null,null,null,null,null,null,null,null,null,null,null,"0 menunjukkan pemahaman dalam ","0 membutuhkan bimbingan dalam ",null,null,0,0,0,0,0,0,0,0,0,0,0,0,0,0,0,0,0,0,0,0,0,0,0,0,0,null,0,0,0,0,0,0,0,0,0,0,0,0,0,0,0,0,0,0,0,0,0,0,0,0,0,null,"","","","","","","","","","","","","","","","","","","","","","","","","",null,"","","","","","","","","","","","","","","","","","","","","","","","","",null,"0 menunjukkan pemahaman dalam ",null,null,"0 membutuhkan bimbingan dalam "]
[null,null,7,{"$f":"'DATA SISWA'!F16","v":0},null,null,null,null,null,null,null,null,null,null,null,null,null,null,null,null,null,null,null,null,null,null,null,null,null,null,null,null,null,null,null,null,null,null,null,null,null,null,null,null,null,null,null,null,null,null,null,null,null,null,"0 menunjukkan pemahaman dalam ","0 membutuhkan bimbingan dalam ",null,null,0,0,0,0,0,0,0,0,0,0,0,0,0,0,0,0,0,0,0,0,0,0,0,0,0,null,0,0,0,0,0,0,0,0,0,0,0,0,0,0,0,0,0,0,0,0,0,0,0,0,0,null,"","","","","","","","","","","","","","","","","","","","","","","","","",null,"","","","","","","","","","","","","","","","","","","","","","","","","",null,"0 menunjukkan pemahaman dalam ",null,null,"0 membutuhkan bimbingan dalam "]
[null,null,8,{"$f":"'DATA SISWA'!F17","v":0},null,null,null,null,null,null,null,null,null,null,null,null,null,null,null,null,null,null,null,null,null,null,null,null,null,null,null,null,null,null,null,null,null,null,null,null,null,null,null,null,null,null,null,null,null,null,null,null,null,null,"0 menunjukkan pemahaman dalam ","0 membutuhkan bimbingan dalam ",null,null,0,0,0,0,0,0,0,0,0,0,0,0,0,0,0,0,0,0,0,0,0,0,0,0,0,null,0,0,0,0,0,0,0,0,0,0,0,0,0,0,0,0,0,0,0,0,0,0,0,0,0,null,"","","","","","","","","","","","","","","","","","","","","","","","","",null,"","","","","","","","","","","","","","","","","","","","","","","","","",null,"0 menunjukkan pemahaman dalam ",null,null,"0 membutuhkan bimbingan dalam "]
[null,null,9,{"$f":"'DATA SISWA'!F18","v":0},null,null,null,null,null,null,null,null,null,null,null,null,null,null,null,null,null,null,null,null,null,null,null,null,null,null,null,null,null,null,null,null,null,null,null,null,null,null,null,null,null,null,null,null,null,null,null,null,null,null,"0 menunjukkan pemahaman dalam ","0 membutuhkan bimbingan dalam ",null,null,0,0,0,0,0,0,0,0,0,0,0,0,0,0,0,0,0,0,0,0,0,0,0,0,0,null,0,0,0,0,0,0,0,0,0,0,0,0,0,0,0,0,0,0,0,0,0,0,0,0,0,null,"","","","","","","","","","","","","","","","","","","","","","","","","",null,"","","","","","","","","","","","","","","","","","","","","","","","","",null,"0 menunjukkan pemahaman dalam ",null,null,"0 membutuhkan bimbingan dalam "]
[null,null,10,{"$f":"'DATA SISWA'!F19","v":0},null,null,null,null,null,null,null,null,null,null,null,null,null,null,null,null,null,null,null,null,null,null,null,null,null,null,null,null,null,null,null,null,null,null,null,null,null,null,null,null,null,null,null,null,null,null,null,null,null,null,"0 menunjukkan pemahaman dalam ","0 membutuhkan bimbingan dalam ",null,null,0,0,0,0,0,0,0,0,0,0,0,0,0,0,0,0,0,0,0,0,0,0,0,0,0,null,0,0,0,0,0,0,0,0,0,0,0,0,0,0,0,0,0,0,0,0,0,0,0,0,0,null,"","","","","","","","","","","","","","","","","","","","","","","","","",null,"","","","","","","","","","","","","","","","","","","","","","","","","",null,"0 menunjukkan pemahaman dalam ",null,null,"0 membutuhkan bimbingan dalam "]
[null,null,11,{"$f":"'DATA SISWA'!F20","v":0},null,null,null,null,null,null,null,null,null,null,null,null,null,null,null,null,null,null,null,null,null,null,null,null,null,null,null,null,null,null,null,null,null,null,null,null,null,null,null,null,null,null,null,null,null,null,null,null,null,null,"0 menunjukkan pemahaman dalam ","0 membutuhkan bimbingan dalam ",null,null,0,0,0,0,0,0,0,0,0,0,0,0,0,0,0,0,0,0,0,0,0,0,0,0,0,null,0,0,0,0,0,0,0,0,0,0,0,0,0,0,0,0,0,0,0,0,0,0,0,0,0,null,"","","","","","","","","","","","","","","","","","","","","","","","","",null,"","","","","","","","","","","","","","","","","","","","","","","","","",null,"0 menunjukkan pemahaman dalam ",null,null,"0 membutuhkan bimbingan dalam "]
[null,null,12,{"$f":"'DATA SISWA'!F21","v":0},null,null,null,null,null,null,null,null,null,null,null,null,null,null,null,null,null,null,null,null,null,null,null,null,null,null,null,null,null,null,null,null,null,null,null,null,null,null,null,null,null,null,null,null,null,null,null,null,null,null,"0 menunjukkan pemahaman dalam ","0 membutuhkan bimbingan dalam ",null,null,0,0,0,0,0,0,0,0,0,0,0,0,0,0,0,0,0,0,0,0,0,0,0,0,0,null,0,0,0,0,0,0,0,0,0,0,0,0,0,0,0,0,0,0,0,0,0,0,0,0,0,null,"","","","","","","","","","","","","","","","","","","","","","","","","",null,"","","","","","","","","","","","","","","","","","","","","","","","","",null,"0 menunjukkan pemahaman dalam ",null,null,"0 membutuhkan bimbingan dalam "]
[null,null,13,{"$f":"'DATA SISWA'!F22","v":0},null,null,null,null,null,null,null,null,null,null,null,null,null,null,null,null,null,null,null,null,null,null,null,null,null,null,null,null,null,null,null,null,null,null,null,null,null,null,null,null,null,null,null,null,null,null,null,null,null,null,"0 menunjukkan pemahaman dalam ","0 membutuhkan bimbingan dalam ",null,null,0,0,0,0,0,0,0,0,0,0,0,0,0,0,0,0,0,0,0,0,0,0,0,0,0,null,0,0,0,0,0,0,0,0,0,0,0,0,0,0,0,0,0,0,0,0,0,0,0,0,0,null,"","","","","","","","","","","","","","","","","","","","","","","","","",null,"","","","","","","","","","","","","","","","","","","","","","","","","",null,"0 menunjukkan pemahaman dalam ",null,null,"0 membutuhkan bimbingan dalam "]
[null,null,14,{"$f":"'DATA SISWA'!F23","v":0},null,null,null,null,null,null,null,null,null,null,null,null,null,null,null,null,null,null,null,null,null,null,null,null,null,null,null,null,null,null,null,null,null,null,null,null,null,null,null,null,null,null,null,null,null,null,null,null,null,null,"0 menunjukkan pemahaman dalam ","0 membutuhkan bimbingan dalam ",null,null,0,0,0,0,0,0,0,0,0,0,0,0,0,0,0,0,0,0,0,0,0,0,0,0,0,null,0,0,0,0,0,0,0,0,0,0,0,0,0,0,0,0,0,0,0,0,0,0,0,0,0,null,"","","","","","","","","","","","","","","","","","","","","","","","","",null,"","","","","","","","","","","","","","","","","","","","","","","","","",null,"0 menunjukkan pemahaman dalam ",null,null,"0 membutuhkan bimbingan dalam "]
[null,null,15,{"$f":"'DATA SISWA'!F24","v":0},null,null,null,null,null,null,null,null,null,null,null,null,null,null,null,null,null,null,null,null,null,null,null,null,null,null,null,null,null,null,null,null,null,null,null,null,null,null,null,null,null,null,null,null,null,null,null,null,null,null,"0 menunjukkan pemahaman dalam ","0 membutuhkan bimbingan dalam ",null,null,0,0,0,0,0,0,0,0,0,0,0,0,0,0,0,0,0,0,0,0,0,0,0,0,0,null,0,0,0,0,0,0,0,0,0,0,0,0,0,0,0,0,0,0,0,0,0,0,0,0,0,null,"","","","","","","","","","","","","","","","","","","","","","","","","",null,"","","","","","","","","","","","","","","","","","","","","","","","","",null,"0 menunjukkan pemahaman dalam ",null,null,"0 membutuhkan bimbingan dalam "]
[null,null,16,{"$f":"'DATA SISWA'!F25","v":0},null,null,null,null,null,null,null,null,null,null,null,null,null,null,null,null,null,null,null,null,null,null,null,null,null,null,null,null,null,null,null,null,null,null,null,null,null,null,null,null,null,null,null,null,null,null,null,null,null,null,"0 menunjukkan pemahaman dalam ","0 membutuhkan bimbingan dalam ",null,null,0,0,0,0,0,0,0,0,0,0,0,0,0,0,0,0,0,0,0,0,0,0,0,0,0,null,0,0,0,0,0,0,0,0,0,0,0,0,0,0,0,0,0,0,0,0,0,0,0,0,0,null,"","","","","","","","","","","","","","","","","","","","","","","","","",null,"","","","","","","","","","","","","","","","","","","","","","","","","",null,"0 menunjukkan pemahaman dalam ",null,null,"0 membutuhkan bimbingan dalam "]
[null,null,17,{"$f":"'DATA SISWA'!F26","v":0},null,null,null,null,null,null,null,null,null,null,null,null,null,null,null,null,null,null,null,null,null,null,null,null,null,null,null,null,null,null,null,null,null,null,null,null,null,null,null,null,null,null,null,null,null,null,null,null,null,null,"0 menunjukkan pemahaman dalam ","0 membutuhkan bimbingan dalam ",null,null,0,0,0,0,0,0,0,0,0,0,0,0,0,0,0,0,0,0,0,0,0,0,0,0,0,null,0,0,0,0,0,0,0,0,0,0,0,0,0,0,0,0,0,0,0,0,0,0,0,0,0,null,"","","","","","","","","","","","","","","","","","","","","","","","","",null,"","","","","","","","","","","","","","","","","","","","","","","","","",null,"0 menunjukkan pemahaman dalam ",null,null,"0 membutuhkan bimbingan dalam "]
[null,null,18,{"$f":"'DATA SISWA'!F27","v":0},null,null,null,null,null,null,null,null,null,null,null,null,null,null,null,null,null,null,null,null,null,null,null,null,null,null,null,null,null,null,null,null,null,null,null,null,null,null,null,null,null,null,null,null,null,null,null,null,null,null,"0 menunjukkan pemahaman dalam ","0 membutuhkan bimbingan dalam ",null,null,0,0,0,0,0,0,0,0,0,0,0,0,0,0,0,0,0,0,0,0,0,0,0,0,0,null,0,0,0,0,0,0,0,0,0,0,0,0,0,0,0,0,0,0,0,0,0,0,0,0,0,null,"","","","","","","","","","","","","","","","","","","","","","","","","",null,"","","","","","","","","","","","","","","","","","","","","","","","","",null,"0 menunjukkan pemahaman dalam ",null,null,"0 membutuhkan bimbingan dalam "]
[null,null,19,{"$f":"'DATA SISWA'!F28","v":0},null,null,null,null,null,null,null,null,null,null,null,null,null,null,null,null,null,null,null,null,null,null,null,null,null,null,null,null,null,null,null,null,null,null,null,null,null,null,null,null,null,null,null,null,null,null,null,null,null,null,"0 menunjukkan pemahaman dalam ","0 membutuhkan bimbingan dalam ",null,null,0,0,0,0,0,0,0,0,0,0,0,0,0,0,0,0,0,0,0,0,0,0,0,0,0,null,0,0,0,0,0,0,0,0,0,0,0,0,0,0,0,0,0,0,0,0,0,0,0,0,0,null,"","","","","","","","","","","","","","","","","","","","","","","","","",null,"","","","","","","","","","","","","","","","","","","","","","","","","",null,"0 menunjukkan pemahaman dalam ",null,null,"0 membutuhkan bimbingan dalam "]
[null,null,20,{"$f":"'DATA SISWA'!F29","v":0},null,null,null,null,null,null,null,null,null,null,null,null,null,null,null,null,null,null,null,null,null,null,null,null,null,null,null,null,null,null,null,null,null,null,null,null,null,null,null,null,null,null,null,null,null,null,null,null,null,null,"0 menunjukkan pemahaman dalam ","0 membutuhkan bimbingan dalam ",null,null,0,0,0,0,0,0,0,0,0,0,0,0,0,0,0,0,0,0,0,0,0,0,0,0,0,null,0,0,0,0,0,0,0,0,0,0,0,0,0,0,0,0,0,0,0,0,0,0,0,0,0,null,"","","","","","","","","","","","","","","","","","","","","","","","","",null,"","","","","","","","","","","","","","","","","","","","","","","","","",null,"0 menunjukkan pemahaman dalam ",null,null,"0 membutuhkan bimbingan dalam "]
[null,null,21,{"$f":"'DATA SISWA'!F30","v":0},null,null,null,null,null,null,null,null,null,null,null,null,null,null,null,null,null,null,null,null,null,null,null,null,null,null,null,null,null,null,null,null,null,null,null,null,null,null,null,null,null,null,null,null,null,null,null,null,null,null,"0 menunjukkan pemahaman dalam ","0 membutuhkan bimbingan dalam ",null,null,0,0,0,0,0,0,0,0,0,0,0,0,0,0,0,0,0,0,0,0,0,0,0,0,0,null,0,0,0,0,0,0,0,0,0,0,0,0,0,0,0,0,0,0,0,0,0,0,0,0,0,null,"","","","","","","","","","","","","","","","","","","","","","","","","",null,"","","","","","","","","","","","","","","","","","","","","","","","","",null,"0 menunjukkan pemahaman dalam ",null,null,"0 membutuhkan bimbingan dalam "]
[null,null,22,{"$f":"'DATA SISWA'!F31","v":0},null,null,null,null,null,null,null,null,null,null,null,null,null,null,null,null,null,null,null,null,null,null,null,null,null,null,null,null,null,null,null,null,null,null,null,null,null,null,null,null,null,null,null,null,null,null,null,null,null,null,"0 menunjukkan pemahaman dalam ","0 membutuhkan bimbingan dalam ",null,null,0,0,0,0,0,0,0,0,0,0,0,0,0,0,0,0,0,0,0,0,0,0,0,0,0,null,0,0,0,0,0,0,0,0,0,0,0,0,0,0,0,0,0,0,0,0,0,0,0,0,0,null,"","","","","","","","","","","","","","","","","","","","","","","","","",null,"","","","","","","","","","","","","","","","","","","","","","","","","",null,"0 menunjukkan pemahaman dalam ",null,null,"0 membutuhkan bimbingan dalam "]
[null,null,23,{"$f":"'DATA SISWA'!F32","v":0},null,null,null,null,null,null,null,null,null,null,null,null,null,null,null,null,null,null,null,null,null,null,null,null,null,null,null,null,null,null,null,null,null,null,null,null,null,null,null,null,null,null,null,null,null,null,null,null,null,null,"0 menunjukkan pemahaman dalam ","0 membutuhkan bimbingan dalam ",null,null,0,0,0,0,0,0,0,0,0,0,0,0,0,0,0,0,0,0,0,0,0,0,0,0,0,null,0,0,0,0,0,0,0,0,0,0,0,0,0,0,0,0,0,0,0,0,0,0,0,0,0,null,"","","","","","","","","","","","","","","","","","","","","","","","","",null,"","","","","","","","","","","","","","","","","","","","","","","","","",null,"0 menunjukkan pemahaman dalam ",null,null,"0 membutuhkan bimbingan dalam "]
[null,null,24,{"$f":"'DATA SISWA'!F33","v":0},null,null,null,null,null,null,null,null,null,null,null,null,null,null,null,null,null,null,null,null,null,null,null,null,null,null,null,null,null,null,null,null,null,null,null,null,null,null,null,null,null,null,null,null,null,null,null,null,null,null,"0 menunjukkan pemahaman dalam ","0 membutuhkan bimbingan dalam ",null,null,0,0,0,0,0,0,0,0,0,0,0,0,0,0,0,0,0,0,0,0,0,0,0,0,0,null,0,0,0,0,0,0,0,0,0,0,0,0,0,0,0,0,0,0,0,0,0,0,0,0,0,null,"","","","","","","","","","","","","","","","","","","","","","","","","",null,"","","","","","","","","","","","","","","","","","","","","","","","","",null,"0 menunjukkan pemahaman dalam ",null,null,"0 membutuhkan bimbingan dalam "]
[null,null,25,{"$f":"'DATA SISWA'!F34","v":0},null,null,null,null,null,null,null,null,null,null,null,null,null,null,null,null,null,null,null,null,null,null,null,null,null,null,null,null,null,null,null,null,null,null,null,null,null,null,null,null,null,null,null,null,null,null,null,null,null,null,"0 menunjukkan pemahaman dalam ","0 membutuhkan bimbingan dalam ",null,null,0,0,0,0,0,0,0,0,0,0,0,0,0,0,0,0,0,0,0,0,0,0,0,0,0,null,0,0,0,0,0,0,0,0,0,0,0,0,0,0,0,0,0,0,0,0,0,0,0,0,0,null,"","","","","","","","","","","","","","","","","","","","","","","","","",null,"","","","","","","","","","","","","","","","","","","","","","","","","",null,"0 menunjukkan pemahaman dalam ",null,null,"0 membutuhkan bimbingan dalam "]
[null,null,26,{"$f":"'DATA SISWA'!F35","v":0},null,null,null,null,null,null,null,null,null,null,null,null,null,null,null,null,null,null,null,null,null,null,null,null,null,null,null,null,null,null,null,null,null,null,null,null,null,null,null,null,null,null,null,null,null,null,null,null,null,null,"0 menunjukkan pemahaman dalam ","0 membutuhkan bimbingan dalam ",null,null,0,0,0,0,0,0,0,0,0,0,0,0,0,0,0,0,0,0,0,0,0,0,0,0,0,null,0,0,0,0,0,0,0,0,0,0,0,0,0,0,0,0,0,0,0,0,0,0,0,0,0,null,"","","","","","","","","","","","","","","","","","","","","","","","","",null,"","","","","","","","","","","","","","","","","","","","","","","","","",null,"0 menunjukkan pemahaman dalam ",null,null,"0 membutuhkan bimbingan dalam "]
[null,null,27,{"$f":"'DATA SISWA'!F36","v":0},null,null,null,null,null,null,null,null,null,null,null,null,null,null,null,null,null,null,null,null,null,null,null,null,null,null,null,null,null,null,null,null,null,null,null,null,null,null,null,null,null,null,null,null,null,null,null,null,null,null,"0 menunjukkan pemahaman dalam ","0 membutuhkan bimbingan dalam ",null,null,0,0,0,0,0,0,0,0,0,0,0,0,0,0,0,0,0,0,0,0,0,0,0,0,0,null,0,0,0,0,0,0,0,0,0,0,0,0,0,0,0,0,0,0,0,0,0,0,0,0,0,null,"","","","","","","","","","","","","","","","","","","","","","","","","",null,"","","","","","","","","","","","","","","","","","","","","","","","","",null,"0 menunjukkan pemahaman dalam ",null,null,"0 membutuhkan bimbingan dalam "]
[null,null,28,{"$f":"'DATA SISWA'!F37","v":0},null,null,null,null,null,null,null,null,null,null,null,null,null,null,null,null,null,null,null,null,null,null,null,null,null,null,null,null,null,null,null,null,null,null,null,null,null,null,null,null,null,null,null,null,null,null,null,null,null,null,"0 menunjukkan pemahaman dalam ","0 membutuhkan bimbingan dalam ",null,null,0,0,0,0,0,0,0,0,0,0,0,0,0,0,0,0,0,0,0,0,0,0,0,0,0,null,0,0,0,0,0,0,0,0,0,0,0,0,0,0,0,0,0,0,0,0,0,0,0,0,0,null,"","","","","","","","","","","","","","","","","","","","","","","","","",null,"","","","","","","","","","","","","","","","","","","","","","","","","",null,"0 menunjukkan pemahaman dalam ",null,null,"0 membutuhkan bimbingan dalam "]
[null,null,29,{"$f":"'DATA SISWA'!F38","v":0},null,null,null,null,null,null,null,null,null,null,null,null,null,null,null,null,null,null,null,null,null,null,null,null,null,null,null,null,null,null,null,null,null,null,null,null,null,null,null,null,null,null,null,null,null,null,null,null,null,null,"0 menunjukkan pemahaman dalam ","0 membutuhkan bimbingan dalam ",null,null,0,0,0,0,0,0,0,0,0,0,0,0,0,0,0,0,0,0,0,0,0,0,0,0,0,null,0,0,0,0,0,0,0,0,0,0,0,0,0,0,0,0,0,0,0,0,0,0,0,0,0,null,"","","","","","","","","","","","","","","","","","","","","","","","","",null,"","","","","","","","","","","","","","","","","","","","","","","","","",null,"0 menunjukkan pemahaman dalam ",null,null,"0 membutuhkan bimbingan dalam "]
[null,null,30,{"$f":"'DATA SISWA'!F39","v":0},null,null,null,null,null,null,null,null,null,null,null,null,null,null,null,null,null,null,null,null,null,null,null,null,null,null,null,null,null,null,null,null,null,null,null,null,null,null,null,null,null,null,null,null,null,null,null,null,null,null,"0 menunjukkan pemahaman dalam ","0 membutuhkan bimbingan dalam ",null,null,0,0,0,0,0,0,0,0,0,0,0,0,0,0,0,0,0,0,0,0,0,0,0,0,0,null,0,0,0,0,0,0,0,0,0,0,0,0,0,0,0,0,0,0,0,0,0,0,0,0,0,null,"","","","","","","","","","","","","","","","","","","","","","","","","",null,"","","","","","","","","","","","","","","","","","","","","","","","","",null,"0 menunjukkan pemahaman dalam ",null,null,"0 membutuhkan bimbingan dalam "]
[null,null,31,{"$f":"'DATA SISWA'!F40","v":0},null,null,null,null,null,null,null,null,null,null,null,null,null,null,null,null,null,null,null,null,null,null,null,null,null,null,null,null,null,null,null,null,null,null,null,null,null,null,null,null,null,null,null,null,null,null,null,null,null,null,"0 menunjukkan pemahaman dalam ","0 membutuhkan bimbingan dalam ",null,null,0,0,0,0,0,0,0,0,0,0,0,0,0,0,0,0,0,0,0,0,0,0,0,0,0,null,0,0,0,0,0,0,0,0,0,0,0,0,0,0,0,0,0,0,0,0,0,0,0,0,0,null,"","","","","","","","","","","","","","","","","","","","","","","","","",null,"","","","","","","","","","","","","","","","","","","","","","","","","",null,"0 menunjukkan pemahaman dalam ",null,null,"0 membutuhkan bimbingan dalam "]
[null,null,32,{"$f":"'DATA SISWA'!F41","v":0},null,null,null,null,null,null,null,null,null,null,null,null,null,null,null,null,null,null,null,null,null,null,null,null,null,null,null,null,null,null,null,null,null,null,null,null,null,null,null,null,null,null,null,null,null,null,null,null,null,null,"0 menunjukkan pemahaman dalam ","0 membutuhkan bimbingan dalam ",null,null,0,0,0,0,0,0,0,0,0,0,0,0,0,0,0,0,0,0,0,0,0,0,0,0,0,null,0,0,0,0,0,0,0,0,0,0,0,0,0,0,0,0,0,0,0,0,0,0,0,0,0,null,"","","","","","","","","","","","","","","","","","","","","","","","","",null,"","","","","","","","","","","","","","","","","","","","","","","","","",null,"0 menunjukkan pemahaman dalam ",null,null,"0 membutuhkan bimbingan dalam "]
[null,null,33,{"$f":"'DATA SISWA'!F42","v":0},null,null,null,null,null,null,null,null,null,null,null,null,null,null,null,null,null,null,null,null,null,null,null,null,null,null,null,null,null,null,null,null,null,null,null,null,null,null,null,null,null,null,null,null,null,null,null,null,null,null,"0 menunjukkan pemahaman dalam ","0 membutuhkan bimbingan dalam ",null,null,0,0,0,0,0,0,0,0,0,0,0,0,0,0,0,0,0,0,0,0,0,0,0,0,0,null,0,0,0,0,0,0,0,0,0,0,0,0,0,0,0,0,0,0,0,0,0,0,0,0,0,null,"","","","","","","","","","","","","","","","","","","","","","","","","",null,"","","","","","","","","","","","","","","","","","","","","","","","","",null,"0 menunjukkan pemahaman dalam ",null,null,"0 membutuhkan bimbingan dalam "]
[null,null,34,{"$f":"'DATA SISWA'!F43","v":0},null,null,null,null,null,null,null,null,null,null,null,null,null,null,null,null,null,null,null,null,null,null,null,null,null,null,null,null,null,null,null,null,null,null,null,null,null,null,null,null,null,null,null,null,null,null,null,null,null,null,"0 menunjukkan pemahaman dalam ","0 membutuhkan bimbingan dalam ",null,null,0,0,0,0,0,0,0,0,0,0,0,0,0,0,0,0,0,0,0,0,0,0,0,0,0,null,0,0,0,0,0,0,0,0,0,0,0,0,0,0,0,0,0,0,0,0,0,0,0,0,0,null,"","","","","","","","","","","","","","","","","","","","","","","","","",null,"","","","","","","","","","","","","","","","","","","","","","","","","",null,"0 menunjukkan pemahaman dalam ",null,null,"0 membutuhkan bimbingan dalam "]
[null,null,35,{"$f":"'DATA SISWA'!F44","v":0},null,null,null,null,null,null,null,null,null,null,null,null,null,null,null,null,null,null,null,null,null,null,null,null,null,null,null,null,null,null,null,null,null,null,null,null,null,null,null,null,null,null,null,null,null,null,null,null,null,null,"0 menunjukkan pemahaman dalam ","0 membutuhkan bimbingan dalam ",null,null,0,0,0,0,0,0,0,0,0,0,0,0,0,0,0,0,0,0,0,0,0,0,0,0,0,null,0,0,0,0,0,0,0,0,0,0,0,0,0,0,0,0,0,0,0,0,0,0,0,0,0,null,"","","","","","","","","","","","","","","","","","","","","","","","","",null,"","","","","","","","","","","","","","","","","","","","","","","","","",null,"0 menunjukkan pemahaman dalam ",null,null,"0 membutuhkan bimbingan dalam "]
[null,null,36,{"$f":"'DATA SISWA'!F45","v":0},null,null,null,null,null,null,null,null,null,null,null,null,null,null,null,null,null,null,null,null,null,null,null,null,null,null,null,null,null,null,null,null,null,null,null,null,null,null,null,null,null,null,null,null,null,null,null,null,null,null,"0 menunjukkan pemahaman dalam ","0 membutuhkan bimbingan dalam ",null,null,0,0,0,0,0,0,0,0,0,0,0,0,0,0,0,0,0,0,0,0,0,0,0,0,0,null,0,0,0,0,0,0,0,0,0,0,0,0,0,0,0,0,0,0,0,0,0,0,0,0,0,null,"","","","","","","","","","","","","","","","","","","","","","","","","",null,"","","","","","","","","","","","","","","","","","","","","","","","","",null,"0 menunjukkan pemahaman dalam ",null,null,"0 membutuhkan bimbingan dalam "]
[null,null,37,{"$f":"'DATA SISWA'!F46","v":0},null,null,null,null,null,null,null,null,null,null,null,null,null,null,null,null,null,null,null,null,null,null,null,null,null,null,null,null,null,null,null,null,null,null,null,null,null,null,null,null,null,null,null,null,null,null,null,null,null,null,"0 menunjukkan pemahaman dalam ","0 membutuhkan bimbingan dalam ",null,null,0,0,0,0,0,0,0,0,0,0,0,0,0,0,0,0,0,0,0,0,0,0,0,0,0,null,0,0,0,0,0,0,0,0,0,0,0,0,0,0,0,0,0,0,0,0,0,0,0,0,0,null,"","","","","","","","","","","","","","","","","","","","","","","","","",null,"","","","","","","","","","","","","","","","","","","","","","","","","",null,"0 menunjukkan pemahaman dalam ",null,null,"0 membutuhkan bimbingan dalam "]
[null,null,38,{"$f":"'DATA SISWA'!F47","v":0},null,null,null,null,null,null,null,null,null,null,null,null,null,null,null,null,null,null,null,null,null,null,null,null,null,null,null,null,null,null,null,null,null,null,null,null,null,null,null,null,null,null,null,null,null,null,null,null,null,null,"0 menunjukkan pemahaman dalam ","0 membutuhkan bimbingan dalam ",null,null,0,0,0,0,0,0,0,0,0,0,0,0,0,0,0,0,0,0,0,0,0,0,0,0,0,null,0,0,0,0,0,0,0,0,0,0,0,0,0,0,0,0,0,0,0,0,0,0,0,0,0,null,"","","","","","","","","","","","","","","","","","","","","","","","","",null,"","","","","","","","","","","","","","","","","","","","","","","","","",null,"0 menunjukkan pemahaman dalam ",null,null,"0 membutuhkan bimbingan dalam "]
[null,null,39,{"$f":"'DATA SISWA'!F48","v":0},null,null,null,null,null,null,null,null,null,null,null,null,null,null,null,null,null,null,null,null,null,null,null,null,null,null,null,null,null,null,null,null,null,null,null,null,null,null,null,null,null,null,null,null,null,null,null,null,null,null,"0 menunjukkan pemahaman dalam ","0 membutuhkan bimbingan dalam ",null,null,0,0,0,0,0,0,0,0,0,0,0,0,0,0,0,0,0,0,0,0,0,0,0,0,0,null,0,0,0,0,0,0,0,0,0,0,0,0,0,0,0,0,0,0,0,0,0,0,0,0,0,null,"","","","","","","","","","","","","","","","","","","","","","","","","",null,"","","","","","","","","","","","","","","","","","","","","","","","","",null,"0 menunjukkan pemahaman dalam ",null,null,"0 membutuhkan bimbingan dalam "]
[null,null,40,{"$f":"'DATA SISWA'!F49","v":0},null,null,null,null,null,null,null,null,null,null,null,null,null,null,null,null,null,null,null,null,null,null,null,null,null,null,null,null,null,null,null,null,null,null,null,null,null,null,null,null,null,null,null,null,null,null,null,null,null,null,"0 menunjukkan pemahaman dalam ","0 membutuhkan bimbingan dalam ",null,null,0,0,0,0,0,0,0,0,0,0,0,0,0,0,0,0,0,0,0,0,0,0,0,0,0,null,0,0,0,0,0,0,0,0,0,0,0,0,0,0,0,0,0,0,0,0,0,0,0,0,0,null,"","","","","","","","","","","","","","","","","","","","","","","","","",null,"","","","","","","","","","","","","","","","","","","","","","","","","",null,"0 menunjukkan pemahaman dalam ",null,null,"0 membutuhkan bimbingan dalam "]

{"sheet":"F2","index":35,"n_rows":56,"n_cols":166,"rows_kept":56,"cut":false,"hidden":false,"merged":[[13,24,13,25],[2,1,2,54],[4,1,4,54],[12,2,15,2],[12,3,15,3],[12,4,12,53],[13,4,13,5],[13,6,13,7],[13,8,13,9],[13,10,13,11],[13,12,13,13],[13,14,13,15],[13,16,13,17],[13,18,13,19],[13,20,13,21],[13,22,13,23],[13,36,13,37],[13,38,13,39],[13,40,13,41],[13,42,13,43],[13,44,13,45],[13,26,13,27],[13,28,13,29],[13,30,13,31],[13,32,13,33],[13,34,13,35],[13,152,13,153],[13,154,13,155],[13,156,13,157],[13,158,13,159],[14,4,14,5],[14,6,14,7],[14,8,14,9],[14,10,14,11],[14,12,14,13],[14,14,14,15],[13,50,13,51],[13,52,13,53],[13,144,13,145],[13,146,13,147],[13,148,13,149],[13,150,13,151],[14,38,14,39],[14,16,14,17],[14,18,14,19],[14,20,14,21],[14,22,14,23],[14,24,14,25],[14,26,14,27],[14,28,14,29],[14,30,14,31],[14,32,14,33],[14,34,14,35],[14,36,14,37],[12,54,15,54],[12,55,15,55],[14,52,14,53],[14,40,14,41],[14,42,14,43],[14,44,14,45],[14,46,14,47],[14,48,14,49],[14,50,14,51],[13,48,13,49],[13,46,13,47]]}
[]
[]
[null,"INPUT ASESMEN FORMATIF"]
[]
[null,{"$f":"\"MATA PELAJARAN : \"&INTRAKURIKULER!D10","v":"MATA PELAJARAN : "}]
[null,"Petunjuk Pengisian :"]
[null,null,1,"Rapor ini berasumsi bahwa guru telah melakukan penilaian formatif dan direkap dalam lembar tersendiri"]
[null,null,2,"Pada Kolom KKTP, pilih '0' jika siswa tidak memenuhi KKTP, Pilih '1' jika siswa memenuhi KKTP. Bisa juga diketikkan langsung angka 1 atau 0"]
[null,null,3,"Pada Kolom Tampil/Tidak, pilih '0' jika tidak ingin menampilkan TP tersebut di deskripsi rapor, pilih '1' jika ingin menampilkan TP di deskripsi rapor. Bisa juga diketikkan langsung angka 1 atau 0",null,null,null,null,null,null,null,null,null,null,null,null,null,null,null,null,null,null,null,null,null,null,null,null,null,null,null,null,null,null,null,null,null,null,null,null,null,null,null,null,null,null,null,null,null,null,null,null,null,null,null,null,null,null,0]
[null,"Contoh :",null,"Pada TP 1, siswa mencapai KKTP tapi tidak ingin ditampilkan dalam rapor. Pilih KKTP = 1, dan Tampil/Tidak = 0.",null,null,null,null,null,null,null,null,null,null,null,null,null,null,null,null,null,null,null,null,null,null,null,null,null,null,null,null,null,null,null,null,null,null,null,null,null,null,null,null,null,null,null,null,null,null,null,null,null,null,null,null,null,null,1]
[null,null,null,"Pada TP 2, siswa tidak mencapai KKTP tapi ingin ditampilkan dalam rapor. Pilih KKTP = 0, dan Tampil/Tidak = 1."]
[]
[null,null,"No","Nama Siswa","Tujuan Pembelajaran",null,null,null,null,null,null,null,null,null,null,null,null,null,null,null,null,null,null,null,null,null,null,null,null,null,null,null,null,null,null,null,null,null,null,null,null,null,null,null,null,null,null,null,null,null,null,null,null,null,"Deskripsi Capaian Tertinggi dalam Rapor","Deskripsi Capaian Terendah dalam Rapor"]
[null,null,null,null,"TP 1",null,"TP 2",null,"TP 3",null,"TP 4",null,"TP 5",null,"TP 6",null,"TP 7",null,"TP 8",null,"TP 9",null,"TP 10",null,"TP 11",null,"TP 12",null,"TP 13",null,"TP 14",null,"TP 15",null,"TP 16",null,"TP 17",null,"TP 18",null,"TP 19",null,"TP 20",null,"TP 21",null,"TP 22",null,"TP 23",null,"TP 24",null,"TP 25",null,null,null,null,null,null,null,null,null,null,null,null,null,null,null,null,null,null,null,null,null,null,null,null,null,null,null,null,null,null,null,null,null,null,null,null,null,null,null,null,null,null,null,null,null,null,null,null,null,null,null,null,null,null,null,null,null,"mencapai",null,null,null,null,null,null,null,null,null,null,null,null,null,null,null,null,null,null,null,null,null,null,null,null,null,"tidak mencapai"]
[null,null,null,null,{"$f":"'TP 2'!D8","v":1},null,{"$f":"'TP 2'!D9","v":2},null,{"$f":"'TP 2'!D10","v":3},null,{"$f":"'TP 2'!D11","v":4},null,{"$f":"'TP 2'!D12","v":5},null,{"$f":"'TP 2'!D13","v":6},null,{"$f":"'TP 2'!D14","v":7},null,{"$f":"'TP 2'!D15","v":8},null,{"$f":"'TP 2'!D16","v":9},null,{"$f":"'TP 2'!D17","v":10},null,{"$f":"'TP 2'!D18","v":11},null,{"$f":"'TP 2'!D19","v":12},null,{"$f":"'TP 2'!D20","v":13},null,{"$f":"'TP 2'!D21","v":14},null,{"$f":"'TP 2'!D22","v":15},null,{"$f":"'TP 2'!D23","v":16},null,{"$f":"'TP 2'!D24","v":17},null,{"$f":"'TP 2'!D25","v":18},null,{"$f":"'TP 2'!D26","v":19},null,{"$f":"'TP 2'!D27","v":20},null,{"$f":"'TP 2'!D28","v":21},null,{"$f":"'TP 2'!D29","v":22},null,{"$f":"'TP 2'!D30","v":23},null,{"$f":"'TP 2'!D31","v":24},null,{"$f":"'TP 2'!D32","v":25},null,null,null,null,null,1,2,3,4,5,6,7,8,9,10,11,12,13,14,15,16,17,18,19,20,21,22,23,24,25,null,1,2,3,4,5,6,7,8,9,10,11,12,13,14,15,16,17,18,19,20,21,22,23,24,25,null,{"$f":"E15","v":1},{"$f":"G15","v":2},{"$f":"I15","v":3},{"$f":"K15","v":4},{"$f":"M15","v":5},{"$f":"O15","v":6},{"$f":"Q15","v":7},{"$f":"S15","v":8},{"$f":"U15","v":9},{"$f":"W15","v":10},{"$f":"Y15","v":11},{"$f":"AA15","v":12},{"$f":"AC15","v":13},{"$f":"AE15","v":14},{"$f":"AG15","v":15},{"$f":"AI15","v":16},{"$f":"AK15","v":17},{"$f":"AM15","v":18},{"$f":"AO15","v":19},{"$f":"AQ15","v":20},{"$f":"AS15","v":21},{"$f":"AU15","v":22},{"$f":"AW15","v":23},{"$f":"AY15","v":24},{"$f":"BA15","v":25},null,{"$f":"DG15","v":1},{"$f":"DH15","v":2},3,4,5,6,7,8,9,10,11,12,13,14,15,16,17,18,19,20,21,22,23,24,25,null,"mencapai",null,null,"tidak mencapai"]
[null,null,null,null,"KKTP","Tampil/Tidak","KKTP","Tampil/Tidak","KKTP","Tampil/Tidak","KKTP","Tampil/Tidak","KKTP","Tampil/Tidak","KKTP","Tampil/Tidak","KKTP","Tampil/Tidak","KKTP","Tampil/Tidak","KKTP","Tampil/Tidak","KKTP","Tampil/Tidak","KKTP","Tampil/Tidak","KKTP","Tampil/Tidak","KKTP","Tampil/Tidak","KKTP","Tampil/Tidak","KKTP","Tampil/Tidak","KKTP","Tampil/Tidak","KKTP","Tampil/Tidak","KKTP","Tampil/Tidak","KKTP","Tampil/Tidak","KKTP","Tampil/Tidak","KKTP","Tampil/Tidak","KKTP","Tampil/Tidak","KKTP","Tampil/Tidak","KKTP","Tampil/Tidak","KKTP","Tampil/Tidak",null,null,null,null,null,null,null,null,null,null,null,null,null,null,null,null,null,null,null,null,null,null,null,null,null,null,null,null,null,null,"kktp",null,null,null,null,null,null,null,null,null,null,null,null,null,null,null,null,null,null,null,null,null,null,null,null,null,1,2,3,4,5,6,7,8,9,10,11,12,13,14,15,16,17,18,19,20,21,22,23,24,25,null,1,2,3,4,5,6,7,8,9,10,11,12,13,14,15,16,17,18,19,20,21,22,23,24,25]
[null,null,1,{"$f":"'DATA SISWA'!F10","v":0},null,null,null,null,null,null,null,null,null,null,null,null,null,null,null,null,null,null,null,null,null,null,null,null,null,null,null,null,null,null,null,null,null,null,null,null,null,null,null,null,null,null,null,null,null,null,null,null,null,null,{"$f":"FG17","v":"0 menunjukkan pemahaman dalam "},{"$f":"FJ17","v":"0 membutuhkan bimbingan dalam "},null,null,{"$f":"F17","v":0},{"$f":"H17","v":0},{"$f":"J17","v":0},{"$f":"L17","v":0},{"$f":"N17","v":0},{"$f":"P17","v":0},{"$f":"R17","v":0},{"$f":"T17","v":0},{"$f":"V17","v":0},{"$f":"X17","v":0},{"$f":"Z17","v":0},{"$f":"AB17","v":0},{"$f":"AD17","v":0},{"$f":"AF17","v":0},{"$f":"AH17","v":0},{"$f":"AJ17","v":0},{"$f":"AL17","v":0},{"$f":"AN17","v":0},{"$f":"AP17","v":0},{"$f":"AR17","v":0},{"$f":"AT17","v":0},{"$f":"AV17","v":0},{"$f":"AX17","v":0},{"$f":"AZ17","v":0},{"$f":"BB17","v":0},null,{"$f":"E17","v":0},{"$f":"G17","v":0},{"$f":"I17","v":0},{"$f":"K17","v":0},{"$f":"M17","v":0},{"$f":"O17","v":0},{"$f":"Q17","v":0},{"$f":"S17","v":0},{"$f":"U17","v":0},{"$f":"W17","v":0},{"$f":"Y17","v":0},{"$f":"AA17","v":0},{"$f":"AC17","v":0},{"$f":"AE17","v":0},{"$f":"AG17","v":0},{"$f":"AI17","v":0},{"$f":"AK17","v":0},{"$f":"AM17","v":0},{"$f":"AO17","v":0},{"$f":"AQ17","v":0},{"$f":"AS17","v":0},{"$f":"AU17","v":0},{"$f":"AW17","v":0},{"$f":"AY17","v":0},{"$f":"BA17","v":0},null,{"$f":"IF(AND(BG17=1,CG17=1),DG$15&\", \",\"\")","v":""},{"$f":"IF(AND(BH17=1,CH17=1),DH$15&\", \",\"\")","v":""},"","","","","","","","","","","","","","","","","","","","","","","",null,{"$f":"IF(AND(BG17=1,CG17=0),EG$15&\", \",\"\")","v":""},{"$f":"IF(AND(BH17=1,CH17=0),EH$15&\", \",\"\")","v":""},"","","","","","","","","","","","","","","","","","","","","","","",null,{"$f":"PROPER(D17)&\" menunjukkan pemahaman dalam \"&DG17&DH17&DI17&DJ17&DK17&DL17&DM17&DN17&DO17&DP17&DQ17&DR17&DS17&DT17&DU17&DV17&DW17&DX17&DY17&DZ17&EA17&EB17&EC17&ED17&EE17","v":"0 menunjukkan pemahaman dalam "},null,null,{"$f":"PROPER(D17)&\" membutuhkan bimbingan dalam \"&EG17&EH17&EI17&EJ17&EK17&EL17&EM17&EN17&EO17&EP17&EQ17&ER17&ES17&ET17&EU17&EV17&EW17&EX17&EY17&EZ17&FA17&FB17&FC17&FD17&FE17","v":"0 membutuhkan bimbingan dalam "}]
[null,null,2,{"$f":"'DATA SISWA'!F11","v":0},null,null,null,null,null,null,null,null,null,null,null,null,null,null,null,null,null,null,null,null,null,null,null,null,null,null,null,null,null,null,null,null,null,null,null,null,null,null,null,null,null,null,null,null,null,null,null,null,null,null,{"$f":"FG18","v":"0 menunjukkan pemahaman dalam "},{"$f":"FJ18","v":"0 membutuhkan bimbingan dalam "},null,null,{"$f":"F18","v":0},{"$f":"H18","v":0},{"$f":"J18","v":0},{"$f":"L18","v":0},{"$f":"N18","v":0},{"$f":"P18","v":0},{"$f":"R18","v":0},{"$f":"T18","v":0},{"$f":"V18","v":0},{"$f":"X18","v":0},{"$f":"Z18","v":0},{"$f":"AB18","v":0},{"$f":"AD18","v":0},{"$f":"AF18","v":0},{"$f":"AH18","v":0},{"$f":"AJ18","v":0},{"$f":"AL18","v":0},{"$f":"AN18","v":0},{"$f":"AP18","v":0},{"$f":"AR18","v":0},{"$f":"AT18","v":0},{"$f":"AV18","v":0},{"$f":"AX18","v":0},{"$f":"AZ18","v":0},{"$f":"BB18","v":0},null,{"$f":"E18","v":0},{"$f":"G18","v":0},{"$f":"I18","v":0},{"$f":"K18","v":0},{"$f":"M18","v":0},{"$f":"O18","v":0},{"$f":"Q18","v":0},{"$f":"S18","v":0},{"$f":"U18","v":0},{"$f":"W18","v":0},{"$f":"Y18","v":0},{"$f":"AA18","v":0},{"$f":"AC18","v":0},{"$f":"AE18","v":0},{"$f":"AG18","v":0},{"$f":"AI18","v":0},{"$f":"AK18","v":0},{"$f":"AM18","v":0},{"$f":"AO18","v":0},{"$f":"AQ18","v":0},{"$f":"AS18","v":0},{"$f":"AU18","v":0},{"$f":"AW18","v":0},{"$f":"AY18","v":0},{"$f":"BA18","v":0},null,{"$f":"IF(AND(BG18=1,CG18=1),DG$15&\", \",\"\")","v":""},"","","","","","","","","","","","","","","","","","","","","","","","",null,{"$f":"IF(AND(BG18=1,CG18=0),EG$15&\", \",\"\")","v":""},"","","","","","","","","","","","","","","","","","","","","","","","",null,{"$f":"PROPER(D18)&\" menunjukkan pemahaman dalam \"&DG18&DH18&DI18&DJ18&DK18&DL18&DM18&DN18&DO18&DP18&DQ18&DR18&DS18&DT18&DU18&DV18&DW18&DX18&DY18&DZ18&EA18&EB18&EC18&ED18&EE18","v":"0 menunjukkan pemahaman dalam "},null,null,{"$f":"PROPER(D18)&\" membutuhkan bimbingan dalam \"&EG18&EH18&EI18&EJ18&EK18&EL18&EM18&EN18&EO18&EP18&EQ18&ER18&ES18&ET18&EU18&EV18&EW18&EX18&EY18&EZ18&FA18&FB18&FC18&FD18&FE18","v":"0 membutuhkan bimbingan dalam "}]
[null,null,3,{"$f":"'DATA SISWA'!F12","v":0},null,null,null,null,null,null,null,null,null,null,null,null,null,null,null,null,null,null,null,null,null,null,null,null,null,null,null,null,null,null,null,null,null,null,null,null,null,null,null,null,null,null,null,null,null,null,null,null,null,null,"0 menunjukkan pemahaman dalam ","0 membutuhkan bimbingan dalam ",null,null,0,0,0,0,0,0,0,0,0,0,0,0,0,0,0,0,0,0,0,0,0,0,0,0,0,null,0,0,0,0,0,0,0,0,0,0,0,0,0,0,0,0,0,0,0,0,0,0,0,0,0,null,"","","","","","","","","","","","","","","","","","","","","","","","","",null,"","","","","","","","","","","","","","","","","","","","","","","","","",null,"0 menunjukkan pemahaman dalam ",null,null,"0 membutuhkan bimbingan dalam "]
[null,null,4,{"$f":"'DATA SISWA'!F13","v":0},null,null,null,null,null,null,null,null,null,null,null,null,null,null,null,null,null,null,null,null,null,null,null,null,null,null,null,null,null,null,null,null,null,null,null,null,null,null,null,null,null,null,null,null,null,null,null,null,null,null,"0 menunjukkan pemahaman dalam ","0 membutuhkan bimbingan dalam ",null,null,0,0,0,0,0,0,0,0,0,0,0,0,0,0,0,0,0,0,0,0,0,0,0,0,0,null,0,0,0,0,0,0,0,0,0,0,0,0,0,0,0,0,0,0,0,0,0,0,0,0,0,null,"","","","","","","","","","","","","","","","","","","","","","","","","",null,"","","","","","","","","","","","","","","","","","","","","","","","","",null,"0 menunjukkan pemahaman dalam ",null,null,"0 membutuhkan bimbingan dalam "]
[null,null,5,{"$f":"'DATA SISWA'!F14","v":0},null,null,null,null,null,null,null,null,null,null,null,null,null,null,null,null,null,null,null,null,null,null,null,null,null,null,null,null,null,null,null,null,null,null,null,null,null,null,null,null,null,null,null,null,null,null,null,null,null,null,"0 menunjukkan pemahaman dalam ","0 membutuhkan bimbingan dalam ",null,null,0,0,0,0,0,0,0,0,0,0,0,0,0,0,0,0,0,0,0,0,0,0,0,0,0,null,0,0,0,0,0,0,0,0,0,0,0,0,0,0,0,0,0,0,0,0,0,0,0,0,0,null,"","","","","","","","","","","","","","","","","","","","","","","","","",null,"","","","","","","","","","","","","","","","","","","","","","","","","",null,"0 menunjukkan pemahaman dalam ",null,null,"0 membutuhkan bimbingan dalam "]
[null,null,6,{"$f":"'DATA SISWA'!F15","v":0},null,null,null,null,null,null,null,null,null,null,null,null,null,null,null,null,null,null,null,null,null,null,null,null,null,null,null,null,null,null,null,null,null,null,null,null,null,null,null,null,null,null,null,null,null,null,null,null,null,null,"0 menunjukkan pemahaman dalam ","0 membutuhkan bimbingan dalam ",null,null,0,0,0,0,0,0,0,0,0,0,0,0,0,0,0,0,0,0,0,0,0,0,0,0,0,null,0,0,0,0,0,0,0,0,0,0,0,0,0,0,0,0,0,0,0,0,0,0,0,0,0,null,"","","","","","","","","","","","","","","","","","","","","","","","","",null,"","","","","","","","","","","","","","","","","","","","","","","","","",null,"0 menunjukkan pemahaman dalam ",null,null,"0 membutuhkan bimbingan dalam "]
[null,null,7,{"$f":"'DATA SISWA'!F16","v":0},null,null,null,null,null,null,null,null,null,null,null,null,null,null,null,null,null,null,null,null,null,null,null,null,null,null,null,null,null,null,null,null,null,null,null,null,null,null,null,null,null,null,null,null,null,null,null,null,null,null,"0 menunjukkan pemahaman dalam ","0 membutuhkan bimbingan dalam ",null,null,0,0,0,0,0,0,0,0,0,0,0,0,0,0,0,0,0,0,0,0,0,0,0,0,0,null,0,0,0,0,0,0,0,0,0,0,0,0,0,0,0,0,0,0,0,0,0,0,0,0,0,null,"","","","","","","","","","","","","","","","","","","","","","","","","",null,"","","","","","","","","","","","","","","","","","","","","","","","","",null,"0 menunjukkan pemahaman dalam ",null,null,"0 membutuhkan bimbingan dalam "]
[null,null,8,{"$f":"'DATA SISWA'!F17","v":0},null,null,null,null,null,null,null,null,null,null,null,null,null,null,null,null,null,null,null,null,null,null,null,null,null,null,null,null,null,null,null,null,null,null,null,null,null,null,null,null,null,null,null,null,null,null,null,null,null,null,"0 menunjukkan pemahaman dalam ","0 membutuhkan bimbingan dalam ",null,null,0,0,0,0,0,0,0,0,0,0,0,0,0,0,0,0,0,0,0,0,0,0,0,0,0,null,0,0,0,0,0,0,0,0,0,0,0,0,0,0,0,0,0,0,0,0,0,0,0,0,0,null,"","","","","","","","","","","","","","","","","","","","","","","","","",null,"","","","","","","","","","","","","","","","","","","","","","","","","",null,"0 menunjukkan pemahaman dalam ",null,null,"0 membutuhkan bimbingan dalam "]
[null,null,9,{"$f":"'DATA SISWA'!F18","v":0},null,null,null,null,null,null,null,null,null,null,null,null,null,null,null,null,null,null,null,null,null,null,null,null,null,null,null,null,null,null,null,null,null,null,null,null,null,null,null,null,null,null,null,null,null,null,null,null,null,null,"0 menunjukkan pemahaman dalam ","0 membutuhkan bimbingan dalam ",null,null,0,0,0,0,0,0,0,0,0,0,0,0,0,0,0,0,0,0,0,0,0,0,0,0,0,null,0,0,0,0,0,0,0,0,0,0,0,0,0,0,0,0,0,0,0,0,0,0,0,0,0,null,"","","","","","","","","","","","","","","","","","","","","","","","","",null,"","","","","","","","","","","","","","","","","","","","","","","","","",null,"0 menunjukkan pemahaman dalam ",null,null,"0 membutuhkan bimbingan dalam "]
[null,null,10,{"$f":"'DATA SISWA'!F19","v":0},null,null,null,null,null,null,null,null,null,null,null,null,null,null,null,null,null,null,null,null,null,null,null,null,null,null,null,null,null,null,null,null,null,null,null,null,null,null,null,null,null,null,null,null,null,null,null,null,null,null,"0 menunjukkan pemahaman dalam ","0 membutuhkan bimbingan dalam ",null,null,0,0,0,0,0,0,0,0,0,0,0,0,0,0,0,0,0,0,0,0,0,0,0,0,0,null,0,0,0,0,0,0,0,0,0,0,0,0,0,0,0,0,0,0,0,0,0,0,0,0,0,null,"","","","","","","","","","","","","","","","","","","","","","","","","",null,"","","","","","","","","","","","","","","","","","","","","","","","","",null,"0 menunjukkan pemahaman dalam ",null,null,"0 membutuhkan bimbingan dalam "]
[null,null,11,{"$f":"'DATA SISWA'!F20","v":0},null,null,null,null,null,null,null,null,null,null,null,null,null,null,null,null,null,null,null,null,null,null,null,null,null,null,null,null,null,null,null,null,null,null,null,null,null,null,null,null,null,null,null,null,null,null,null,null,null,null,"0 menunjukkan pemahaman dalam ","0 membutuhkan bimbingan dalam ",null,null,0,0,0,0,0,0,0,0,0,0,0,0,0,0,0,0,0,0,0,0,0,0,0,0,0,null,0,0,0,0,0,0,0,0,0,0,0,0,0,0,0,0,0,0,0,0,0,0,0,0,0,null,"","","","","","","","","","","","","","","","",{"$f":"IF(AND(BW27=1,CW27=1),DW$15&\", \",\"\")","v":""},"","","","","","","","",null,"","","","","","","","","","","","","","","","",{"$f":"IF(AND(BW27=1,CW27=0),EW$15&\", \",\"\")","v":""},"","","","","","","","",null,"0 menunjukkan pemahaman dalam ",null,null,"0 membutuhkan bimbingan dalam "]
[null,null,12,{"$f":"'DATA SISWA'!F21","v":0},null,null,null,null,null,null,null,null,null,null,null,null,null,null,null,null,null,null,null,null,null,null,null,null,null,null,null,null,null,null,null,null,null,null,null,null,null,null,null,null,null,null,null,null,null,null,null,null,null,null,"0 menunjukkan pemahaman dalam ","0 membutuhkan bimbingan dalam ",null,null,0,0,0,0,0,0,0,0,0,0,0,0,0,0,0,0,0,0,0,0,0,0,0,0,0,null,0,0,0,0,0,0,0,0,0,0,0,0,0,0,0,0,0,0,0,0,0,0,0,0,0,null,"","","","","","","","","","","","","","","","","","","","","","","","","",null,"","","","","","","","","","","","","","","","","","","","","","","","","",null,"0 menunjukkan pemahaman dalam ",null,null,"0 membutuhkan bimbingan dalam "]
[null,null,13,{"$f":"'DATA SISWA'!F22","v":0},null,null,null,null,null,null,null,null,null,null,null,null,null,null,null,null,null,null,null,null,null,null,null,null,null,null,null,null,null,null,null,null,null,null,null,null,null,null,null,null,null,null,null,null,null,null,null,null,null,null,"0 menunjukkan pemahaman dalam ","0 membutuhkan bimbingan dalam ",null,null,0,0,0,0,0,0,0,0,0,0,0,0,0,0,0,0,0,0,0,0,0,0,0,0,0,null,0,0,0,0,0,0,0,0,0,0,0,0,0,0,0,0,0,0,0,0,0,0,0,0,0,null,"","","","","","","","","","","","","","","","","","","","","","","","","",null,"","","","","","","","","","","","","","","","","","","","","","","","","",null,"0 menunjukkan pemahaman dalam ",null,null,"0 membutuhkan bimbingan dalam "]
[null,null,14,{"$f":"'DATA SISWA'!F23","v":0},null,null,null,null,null,null,null,null,null,null,null,null,null,null,null,null,null,null,null,null,null,null,null,null,null,null,null,null,null,null,null,null,null,null,null,null,null,null,null,null,null,null,null,null,null,null,null,null,null,null,"0 menunjukkan pemahaman dalam ","0 membutuhkan bimbingan dalam ",null,null,0,0,0,0,0,0,0,0,0,0,0,0,0,0,0,0,0,0,0,0,0,0,0,0,0,null,0,0,0,0,0,0,0,0,0,0,0,0,0,0,0,0,0,0,0,0,0,0,0,0,0,null,"","","","","","","","","","","","","","","","","","","","","","","","","",null,"","","","","","","","","","","","","","","","","","","","","","","","","",null,"0 menunjukkan pemahaman dalam ",null,null,"0 membutuhkan bimbingan dalam "]
[null,null,15,{"$f":"'DATA SISWA'!F24","v":0},null,null,null,null,null,null,null,null,null,null,null,null,null,null,null,null,null,null,null,null,null,null,null,null,null,null,null,null,null,null,null,null,null,null,null,null,null,null,null,null,null,null,null,null,null,null,null,null,null,null,"0 menunjukkan pemahaman dalam ","0 membutuhkan bimbingan dalam ",null,null,0,0,0,0,0,0,0,0,0,0,0,0,0,0,0,0,0,0,0,0,0,0,0,0,0,null,0,0,0,0,0,0,0,0,0,0,0,0,0,0,0,0,0,0,0,0,0,0,0,0,0,null,"","","","","","","","","","","","","","","","","","","","","","","","","",null,"","","","","","","","","","","","","","","","","","","","","","","","","",null,"0 menunjukkan pemahaman dalam ",null,null,"0 membutuhkan bimbingan dalam "]
[null,null,16,{"$f":"'DATA SISWA'!F25","v":0},null,null,null,null,null,null,null,null,null,null,null,null,null,null,null,null,null,null,null,null,null,null,null,null,null,null,null,null,null,null,null,null,null,null,null,null,null,null,null,null,null,null,null,null,null,null,null,null,null,null,"0 menunjukkan pemahaman dalam ","0 membutuhkan bimbingan dalam ",null,null,0,0,0,0,0,0,0,0,0,0,0,0,0,0,0,0,0,0,0,0,0,0,0,0,0,null,0,0,0,0,0,0,0,0,0,0,0,0,0,0,0,0,0,0,0,0,0,0,0,0,0,null,"","","","","","","","","","","","","","","","","","","","","","","","","",null,"","","","","","","","","","","","","","","","","","","","","","","","","",null,"0 menunjukkan pemahaman dalam ",null,null,"0 membutuhkan bimbingan dalam "]
[null,null,17,{"$f":"'DATA SISWA'!F26","v":0},null,null,null,null,null,null,null,null,null,null,null,null,null,null,null,null,null,null,null,null,null,null,null,null,null,null,null,null,null,null,null,null,null,null,null,null,null,null,null,null,null,null,null,null,null,null,null,null,null,null,"0 menunjukkan pemahaman dalam ","0 membutuhkan bimbingan dalam ",null,null,0,0,0,0,0,0,0,0,0,0,0,0,0,0,0,0,0,0,0,0,0,0,0,0,0,null,0,0,0,0,0,0,0,0,0,0,0,0,0,0,0,0,0,0,0,0,0,0,0,0,0,null,"","","","","","","","","","","","","","","","","","","","","","","","","",null,"","","","","","","","","","","","","","","","","","","","","","","","","",null,"0 menunjukkan pemahaman dalam ",null,null,"0 membutuhkan bimbingan dalam "]
[null,null,18,{"$f":"'DATA SISWA'!F27","v":0},null,null,null,null,null,null,null,null,null,null,null,null,null,null,null,null,null,null,null,null,null,null,null,null,null,null,null,null,null,null,null,null,null,null,null,null,null,null,null,null,null,null,null,null,null,null,null,null,null,null,"0 menunjukkan pemahaman dalam ","0 membutuhkan bimbingan dalam ",null,null,0,0,0,0,0,0,0,0,0,0,0,0,0,0,0,0,0,0,0,0,0,0,0,0,0,null,0,0,0,0,0,0,0,0,0,0,0,0,0,0,0,0,0,0,0,0,0,0,0,0,0,null,"","","","","","","","","","","","","","","","","","","","","","","","","",null,"","","","","","","","","","","","","","","","","","","","","","","","","",null,"0 menunjukkan pemahaman dalam ",null,null,"0 membutuhkan bimbingan dalam "]
[null,null,19,{"$f":"'DATA SISWA'!F28","v":0},null,null,null,null,null,null,null,null,null,null,null,null,null,null,null,null,null,null,null,null,null,null,null,null,null,null,null,null,null,null,null,null,null,null,null,null,null,null,null,null,null,null,null,null,null,null,null,null,null,null,"0 menunjukkan pemahaman dalam ","0 membutuhkan bimbingan dalam ",null,null,0,0,0,0,0,0,0,0,0,0,0,0,0,0,0,0,0,0,0,0,0,0,0,0,0,null,0,0,0,0,0,0,0,0,0,0,0,0,0,0,0,0,0,0,0,0,0,0,0,0,0,null,"","","","","","","","","","","","","","","","","","","","","","","","","",null,"","","","","","","","","","","","","","","","","","","","","","","","","",null,"0 menunjukkan pemahaman dalam ",null,null,"0 membutuhkan bimbingan dalam "]
[null,null,20,{"$f":"'DATA SISWA'!F29","v":0},null,null,null,null,null,null,null,null,null,null,null,null,null,null,null,null,null,null,null,null,null,null,null,null,null,null,null,null,null,null,null,null,null,null,null,null,null,null,null,null,null,null,null,null,null,null,null,null,null,null,"0 menunjukkan pemahaman dalam ","0 membutuhkan bimbingan dalam ",null,null,0,0,0,0,0,0,0,0,0,0,0,0,0,0,0,0,0,0,0,0,0,0,0,0,0,null,0,0,0,0,0,0,0,0,0,0,0,0,0,0,0,0,0,0,0,0,0,0,0,0,0,null,"","","","","","","","","","","","","","","","","","","","","","","","","",null,"","","","","","","","","","","","","","","","","","","","","","","","","",null,"0 menunjukkan pemahaman dalam ",null,null,"0 membutuhkan bimbingan dalam "]
[null,null,21,{"$f":"'DATA SISWA'!F30","v":0},null,null,null,null,null,null,null,null,null,null,null,null,null,null,null,null,null,null,null,null,null,null,null,null,null,null,null,null,null,null,null,null,null,null,null,null,null,null,null,null,null,null,null,null,null,null,null,null,null,null,"0 menunjukkan pemahaman dalam ","0 membutuhkan bimbingan dalam ",null,null,0,0,0,0,0,0,0,0,0,0,0,0,0,0,0,0,0,0,0,0,0,0,0,0,0,null,0,0,0,0,0,0,0,0,0,0,0,0,0,0,0,0,0,0,0,0,0,0,0,0,0,null,"","","","","","","","","","","","","","","","","","","","","","","","","",null,"","","","","","","","","","","","","","","","","","","","","","","","","",null,"0 menunjukkan pemahaman dalam ",null,null,"0 membutuhkan bimbingan dalam "]
[null,null,22,{"$f":"'DATA SISWA'!F31","v":0},null,null,null,null,null,null,null,null,null,null,null,null,null,null,null,null,null,null,null,null,null,null,null,null,null,null,null,null,null,null,null,null,null,null,null,null,null,null,null,null,null,null,null,null,null,null,null,null,null,null,"0 menunjukkan pemahaman dalam ","0 membutuhkan bimbingan dalam ",null,null,0,0,0,0,0,0,0,0,0,0,0,0,0,0,0,0,0,0,0,0,0,0,0,0,0,null,0,0,0,0,0,0,0,0,0,0,0,0,0,0,0,0,0,0,0,0,0,0,0,0,0,null,"","","","","","","","","","","","","","","","","","","","","","","","","",null,"","","","","","","","","","","","","","","","","","","","","","","","","",null,"0 menunjukkan pemahaman dalam ",null,null,"0 membutuhkan bimbingan dalam "]
[null,null,23,{"$f":"'DATA SISWA'!F32","v":0},null,null,null,null,null,null,null,null,null,null,null,null,null,null,null,null,null,null,null,null,null,null,null,null,null,null,null,null,null,null,null,null,null,null,null,null,null,null,null,null,null,null,null,null,null,null,null,null,null,null,"0 menunjukkan pemahaman dalam ","0 membutuhkan bimbingan dalam ",null,null,0,0,0,0,0,0,0,0,0,0,0,0,0,0,0,0,0,0,0,0,0,0,0,0,0,null,0,0,0,0,0,0,0,0,0,0,0,0,0,0,0,0,0,0,0,0,0,0,0,0,0,null,"","","","","","","","","","","","","","","","","","","","","","","","","",null,"","","","","","","","","","","","","","","","","","","","","","","","","",null,"0 menunjukkan pemahaman dalam ",null,null,"0 membutuhkan bimbingan dalam "]
[null,null,24,{"$f":"'DATA SISWA'!F33","v":0},null,null,null,null,null,null,null,null,null,null,null,null,null,null,null,null,null,null,null,null,null,null,null,null,null,null,null,null,null,null,null,null,null,null,null,null,null,null,null,null,null,null,null,null,null,null,null,null,null,null,"0 menunjukkan pemahaman dalam ","0 membutuhkan bimbingan dalam ",null,null,0,0,0,0,0,0,0,0,0,0,0,0,0,0,0,0,0,0,0,0,0,0,0,0,0,null,0,0,0,0,0,0,0,0,0,0,0,0,0,0,0,0,0,0,0,0,0,0,0,0,0,null,"","","","","","","","","","","","","","","","","","","","","","","","","",null,"","","","","","","","","","","","","","","","","","","","","","","","","",null,"0 menunjukkan pemahaman dalam ",null,null,"0 membutuhkan bimbingan dalam "]
[null,null,25,{"$f":"'DATA SISWA'!F34","v":0},null,null,null,null,null,null,null,null,null,null,null,null,null,null,null,null,null,null,null,null,null,null,null,null,null,null,null,null,null,null,null,null,null,null,null,null,null,null,null,null,null,null,null,null,null,null,null,null,null,null,"0 menunjukkan pemahaman dalam ","0 membutuhkan bimbingan dalam ",null,null,0,0,0,0,0,0,0,0,0,0,0,0,0,0,0,0,0,0,0,0,0,0,0,0,0,null,0,0,0,0,0,0,0,0,0,0,0,0,0,0,0,0,0,0,0,0,0,0,0,0,0,null,"","","","","","","","","","","","","","","","","","","","","","","","","",null,"","","","","","","","","","","","","","","","","","","","","","","","","",null,"0 menunjukkan pemahaman dalam ",null,null,"0 membutuhkan bimbingan dalam "]
[null,null,26,{"$f":"'DATA SISWA'!F35","v":0},null,null,null,null,null,null,null,null,null,null,null,null,null,null,null,null,null,null,null,null,null,null,null,null,null,null,null,null,null,null,null,null,null,null,null,null,null,null,null,null,null,null,null,null,null,null,null,null,null,null,"0 menunjukkan pemahaman dalam ","0 membutuhkan bimbingan dalam ",null,null,0,0,0,0,0,0,0,0,0,0,0,0,0,0,0,0,0,0,0,0,0,0,0,0,0,null,0,0,0,0,0,0,0,0,0,0,0,0,0,0,0,0,0,0,0,0,0,0,0,0,0,null,"","","","","","","","","","","","","","","","","","","","","","","","","",null,"","","","","","","","","","","","","","","","","","","","","","","","","",null,"0 menunjukkan pemahaman dalam ",null,null,"0 membutuhkan bimbingan dalam "]
[null,null,27,{"$f":"'DATA SISWA'!F36","v":0},null,null,null,null,null,null,null,null,null,null,null,null,null,null,null,null,null,null,null,null,null,null,null,null,null,null,null,null,null,null,null,null,null,null,null,null,null,null,null,null,null,null,null,null,null,null,null,null,null,null,"0 menunjukkan pemahaman dalam ","0 membutuhkan bimbingan dalam ",null,null,0,0,0,0,0,0,0,0,0,0,0,0,0,0,0,0,0,0,0,0,0,0,0,0,0,null,0,0,0,0,0,0,0,0,0,0,0,0,0,0,0,0,0,0,0,0,0,0,0,0,0,null,"","","","","",{"$f":"IF(AND(BL43=1,CL43=1),DL$15&\", \",\"\")","v":""},"","","","","","","","","","","","","","","","","","","",null,"","","","","",{"$f":"IF(AND(BL43=1,CL43=0),EL$15&\", \",\"\")","v":""},"","","","","","","","","","","","","","","","","","","",null,"0 menunjukkan pemahaman dalam ",null,null,"0 membutuhkan bimbingan dalam "]
[null,null,28,{"$f":"'DATA SISWA'!F37","v":0},null,null,null,null,null,null,null,null,null,null,null,null,null,null,null,null,null,null,null,null,null,null,null,null,null,null,null,null,null,null,null,null,null,null,null,null,null,null,null,null,null,null,null,null,null,null,null,null,null,null,"0 menunjukkan pemahaman dalam ","0 membutuhkan bimbingan dalam ",null,null,0,0,0,0,0,0,0,0,0,0,0,0,0,0,0,0,0,0,0,0,0,0,0,0,0,null,0,0,0,0,0,0,0,0,0,0,0,0,0,0,0,0,0,0,0,0,0,0,0,0,0,null,{"$f":"IF(AND(BG44=1,CG44=1),DG$15&\", \",\"\")","v":""},"","","","","","","","","","","","","","","","","","","","","","","","",null,{"$f":"IF(AND(BG44=1,CG44=0),EG$15&\", \",\"\")","v":""},"","","","","","","","","","","","","","","","","","","","","","","","",null,"0 menunjukkan pemahaman dalam ",null,null,"0 membutuhkan bimbingan dalam "]
[null,null,29,{"$f":"'DATA SISWA'!F38","v":0},null,null,null,null,null,null,null,null,null,null,null,null,null,null,null,null,null,null,null,null,null,null,null,null,null,null,null,null,null,null,null,null,null,null,null,null,null,null,null,null,null,null,null,null,null,null,null,null,null,null,"0 menunjukkan pemahaman dalam ","0 membutuhkan bimbingan dalam ",null,null,0,0,0,0,0,0,0,0,0,0,0,0,0,0,0,0,0,0,0,0,0,0,0,0,0,null,0,0,0,0,0,0,0,0,0,0,0,0,0,0,0,0,0,0,0,0,0,0,0,0,0,null,"","","","","","","","","","","","","","","","","","","","","","","","","",null,"","","","","","","","","","","","","","","","","","","","","","","","","",null,"0 menunjukkan pemahaman dalam ",null,null,"0 membutuhkan bimbingan dalam "]
[null,null,30,{"$f":"'DATA SISWA'!F39","v":0},null,null,null,null,null,null,null,null,null,null,null,null,null,null,null,null,null,null,null,null,null,null,null,null,null,null,null,null,null,null,null,null,null,null,null,null,null,null,null,null,null,null,null,null,null,null,null,null,null,null,"0 menunjukkan pemahaman dalam ","0 membutuhkan bimbingan dalam ",null,null,0,0,0,0,0,0,0,0,0,0,0,0,0,0,0,0,0,0,0,0,0,0,0,0,0,null,0,0,0,0,0,0,0,0,0,0,0,0,0,0,0,0,0,0,0,0,0,0,0,0,0,null,"","","","","","","","","","","","","","","","","","","","","","","","","",null,"","","","","","","","","","","","","","","","","","","","","","","","","",null,"0 menunjukkan pemahaman dalam ",null,null,"0 membutuhkan bimbingan dalam "]
[null,null,31,{"$f":"'DATA SISWA'!F40","v":0},null,null,null,null,null,null,null,null,null,null,null,null,null,null,null,null,null,null,null,null,null,null,null,null,null,null,null,null,null,null,null,null,null,null,null,null,null,null,null,null,null,null,null,null,null,null,null,null,null,null,"0 menunjukkan pemahaman dalam ","0 membutuhkan bimbingan dalam ",null,null,0,0,0,0,0,0,0,0,0,0,0,0,0,0,0,0,0,0,0,0,0,0,0,0,0,null,0,0,0,0,0,0,0,0,0,0,0,0,0,0,0,0,0,0,0,0,0,0,0,0,0,null,"","","","","","","","","","","","","","","","","","","","","","","","","",null,"","","","","","","","","","","","","","","","","","","","","","","","","",null,"0 menunjukkan pemahaman dalam ",null,null,"0 membutuhkan bimbingan dalam "]
[null,null,32,{"$f":"'DATA SISWA'!F41","v":0},null,null,null,null,null,null,null,null,null,null,null,null,null,null,null,null,null,null,null,null,null,null,null,null,null,null,null,null,null,null,null,null,null,null,null,null,null,null,null,null,null,null,null,null,null,null,null,null,null,null,"0 menunjukkan pemahaman dalam ","0 membutuhkan bimbingan dalam ",null,null,0,0,0,0,0,0,0,0,0,0,0,0,0,0,0,0,0,0,0,0,0,0,0,0,0,null,0,0,0,0,0,0,0,0,0,0,0,0,0,0,0,0,0,0,0,0,0,0,0,0,0,null,"","","","","","","","","","","","","","","","","","","","","","","","","",null,"","","","","","","","","","","","","","","","","","","","","","","","","",null,"0 menunjukkan pemahaman dalam ",null,null,"0 membutuhkan bimbingan dalam "]
[null,null,33,{"$f":"'DATA SISWA'!F42","v":0},null,null,null,null,null,null,null,null,null,null,null,null,null,null,null,null,null,null,null,null,null,null,null,null,null,null,null,null,null,null,null,null,null,null,null,null,null,null,null,null,null,null,null,null,null,null,null,null,null,null,"0 menunjukkan pemahaman dalam ","0 membutuhkan bimbingan dalam ",null,null,0,0,0,0,0,0,0,0,0,0,0,0,0,0,0,0,0,0,0,0,0,0,0,0,0,null,0,0,0,0,0,0,0,0,0,0,0,0,0,0,0,0,0,0,0,0,0,0,0,0,0,null,"","","","","","","","","","","","","","","","","","","","","","","","","",null,"","","","","","","","","","","","","","","","","","","","","","","","","",null,"0 menunjukkan pemahaman dalam ",null,null,"0 membutuhkan bimbingan dalam "]
[null,null,34,{"$f":"'DATA SISWA'!F43","v":0},null,null,null,null,null,null,null,null,null,null,null,null,null,null,null,null,null,null,null,null,null,null,null,null,null,null,null,null,null,null,null,null,null,null,null,null,null,null,null,null,null,null,null,null,null,null,null,null,null,null,"0 menunjukkan pemahaman dalam ","0 membutuhkan bimbingan dalam ",null,null,0,0,0,0,0,0,0,0,0,0,0,0,0,0,0,0,0,0,0,0,0,0,0,0,0,null,0,0,0,0,0,0,0,0,0,0,0,0,0,0,0,0,0,0,0,0,0,0,0,0,0,null,"","","","","","","","","","","","","","","","","","","","","","","","","",null,"","","","","","","","","","","","","","","","","","","","","","","","","",null,"0 menunjukkan pemahaman dalam ",null,null,"0 membutuhkan bimbingan dalam "]
[null,null,35,{"$f":"'DATA SISWA'!F44","v":0},null,null,null,null,null,null,null,null,null,null,null,null,null,null,null,null,null,null,null,null,null,null,null,null,null,null,null,null,null,null,null,null,null,null,null,null,null,null,null,null,null,null,null,null,null,null,null,null,null,null,"0 menunjukkan pemahaman dalam ","0 membutuhkan bimbingan dalam ",null,null,0,0,0,0,0,0,0,0,0,0,0,0,0,0,0,0,0,0,0,0,0,0,0,0,0,null,0,0,0,0,0,0,0,0,0,0,0,0,0,0,0,0,0,0,0,0,0,0,0,0,0,null,"","","","","","","","","","","","","","","","","","","","","","","","","",null,"","","","","","","","","","","","","","","","","","","","","","","","","",null,"0 menunjukkan pemahaman dalam ",null,null,"0 membutuhkan bimbingan dalam "]
[null,null,36,{"$f":"'DATA SISWA'!F45","v":0},null,null,null,null,null,null,null,null,null,null,null,null,null,null,null,null,null,null,null,null,null,null,null,null,null,null,null,null,null,null,null,null,null,null,null,null,null,null,null,null,null,null,null,null,null,null,null,null,null,null,"0 menunjukkan pemahaman dalam ","0 membutuhkan bimbingan dalam ",null,null,0,0,0,0,0,0,0,0,0,0,0,0,0,0,0,0,0,0,0,0,0,0,0,0,0,null,0,0,0,0,0,0,0,0,0,0,0,0,0,0,0,0,0,0,0,0,0,0,0,0,0,null,"","","","","","","","","","","","","","","","","","","","","","","","","",null,"","","","","","","","","","","","","","","","","","","","","","","","","",null,"0 menunjukkan pemahaman dalam ",null,null,"0 membutuhkan bimbingan dalam "]
[null,null,37,{"$f":"'DATA SISWA'!F46","v":0},null,null,null,null,null,null,null,null,null,null,null,null,null,null,null,null,null,null,null,null,null,null,null,null,null,null,null,null,null,null,null,null,null,null,null,null,null,null,null,null,null,null,null,null,null,null,null,null,null,null,"0 menunjukkan pemahaman dalam ","0 membutuhkan bimbingan dalam ",null,null,0,0,0,0,0,0,0,0,0,0,0,0,0,0,0,0,0,0,0,0,0,0,0,0,0,null,0,0,0,0,0,0,0,0,0,0,0,0,0,0,0,0,0,0,0,0,0,0,0,0,0,null,"","","","","","","","","","","","","","","","","","","","","","","","","",null,"","","","","","","","","","","","","","","","","","","","","","","","","",null,"0 menunjukkan pemahaman dalam ",null,null,"0 membutuhkan bimbingan dalam "]
[null,null,38,{"$f":"'DATA SISWA'!F47","v":0},null,null,null,null,null,null,null,null,null,null,null,null,null,null,null,null,null,null,null,null,null,null,null,null,null,null,null,null,null,null,null,null,null,null,null,null,null,null,null,null,null,null,null,null,null,null,null,null,null,null,"0 menunjukkan pemahaman dalam ","0 membutuhkan bimbingan dalam ",null,null,0,0,0,0,0,0,0,0,0,0,0,0,0,0,0,0,0,0,0,0,0,0,0,0,0,null,0,0,0,0,0,0,0,0,0,0,0,0,0,0,0,0,0,0,0,0,0,0,0,0,0,null,"","","","","","","","","","","","","","","","","","","","","","","","","",null,"","","","","","","","","","","","","","","","","","","","","","","","","",null,"0 menunjukkan pemahaman dalam ",null,null,"0 membutuhkan bimbingan dalam "]
[null,null,39,{"$f":"'DATA SISWA'!F48","v":0},null,null,null,null,null,null,null,null,null,null,null,null,null,null,null,null,null,null,null,null,null,null,null,null,null,null,null,null,null,null,null,null,null,null,null,null,null,null,null,null,null,null,null,null,null,null,null,null,null,null,"0 menunjukkan pemahaman dalam ","0 membutuhkan bimbingan dalam ",null,null,0,0,0,0,0,0,0,0,0,0,0,0,0,0,0,0,0,0,0,0,0,0,0,0,0,null,0,0,0,0,0,0,0,0,0,0,0,0,0,0,0,0,0,0,0,0,0,0,0,0,0,null,"","","","","","","","","","","","","","","","","","","",{"$f":"IF(AND(BZ55=1,CZ55=1),DZ$15&\", \",\"\")","v":""},"","","","","",null,"","","","","","","","","","","","","","","","","","","",{"$f":"IF(AND(BZ55=1,CZ55=0),EZ$15&\", \",\"\")","v":""},"","","","","",null,"0 menunjukkan pemahaman dalam ",null,null,"0 membutuhkan bimbingan dalam "]
[null,null,40,{"$f":"'DATA SISWA'!F49","v":0},null,null,null,null,null,null,null,null,null,null,null,null,null,null,null,null,null,null,null,null,null,null,null,null,null,null,null,null,null,null,null,null,null,null,null,null,null,null,null,null,null,null,null,null,null,null,null,null,null,null,"0 menunjukkan pemahaman dalam ","0 membutuhkan bimbingan dalam ",null,null,0,0,0,0,0,0,0,0,0,0,0,0,0,0,0,0,0,0,0,0,0,0,0,0,0,null,0,0,0,0,0,0,0,0,0,0,0,0,0,0,0,0,0,0,0,0,0,0,0,0,0,null,"","","","","","","","","","","","","","","","","","","","","","","","","",null,"","","","","","","","","","","","","","","","","","","","","","","","","",null,"0 menunjukkan pemahaman dalam ",null,null,"0 membutuhkan bimbingan dalam "]

{"sheet":"F3","index":36,"n_rows":56,"n_cols":166,"rows_kept":56,"cut":false,"hidden":false,"merged":[[13,24,13,25],[2,1,2,54],[4,1,4,54],[12,2,15,2],[12,3,15,3],[12,4,12,53],[13,4,13,5],[13,6,13,7],[13,8,13,9],[13,10,13,11],[13,12,13,13],[13,14,13,15],[13,16,13,17],[13,18,13,19],[13,20,13,21],[13,22,13,23],[13,36,13,37],[13,38,13,39],[13,40,13,41],[13,42,13,43],[13,44,13,45],[13,26,13,27],[13,28,13,29],[13,30,13,31],[13,32,13,33],[13,34,13,35],[13,152,13,153],[13,154,13,155],[13,156,13,157],[13,158,13,159],[14,4,14,5],[14,6,14,7],[14,8,14,9],[14,10,14,11],[14,12,14,13],[14,14,14,15],[13,50,13,51],[13,52,13,53],[13,144,13,145],[13,146,13,147],[13,148,13,149],[13,150,13,151],[14,38,14,39],[14,16,14,17],[14,18,14,19],[14,20,14,21],[14,22,14,23],[14,24,14,25],[14,26,14,27],[14,28,14,29],[14,30,14,31],[14,32,14,33],[14,34,14,35],[14,36,14,37],[12,54,15,54],[12,55,15,55],[14,52,14,53],[14,40,14,41],[14,42,14,43],[14,44,14,45],[14,46,14,47],[14,48,14,49],[14,50,14,51],[13,48,13,49],[13,46,13,47]]}
[]
[]
[null,"INPUT ASESMEN FORMATIF"]
[]
[null,{"$f":"\"MATA PELAJARAN : \"&INTRAKURIKULER!D11","v":"MATA PELAJARAN : "}]
[null,"Petunjuk Pengisian :"]
[null,null,1,"Rapor ini berasumsi bahwa guru telah melakukan penilaian formatif dan direkap dalam lembar tersendiri"]
[null,null,2,"Pada Kolom KKTP, pilih '0' jika siswa tidak memenuhi KKTP, Pilih '1' jika siswa memenuhi KKTP. Bisa juga diketikkan langsung angka 1 atau 0"]
[null,null,3,"Pada Kolom Tampil/Tidak, pilih '0' jika tidak ingin menampilkan TP tersebut di deskripsi rapor, pilih '1' jika ingin menampilkan TP di deskripsi rapor. Bisa juga diketikkan langsung angka 1 atau 0",null,null,null,null,null,null,null,null,null,null,null,null,null,null,null,null,null,null,null,null,null,null,null,null,null,null,null,null,null,null,null,null,null,null,null,null,null,null,null,null,null,null,null,null,null,null,null,null,null,null,null,null,null,null,0]
[null,"Contoh :",null,"Pada TP 1, siswa mencapai KKTP tapi tidak ingin ditampilkan dalam rapor. Pilih KKTP = 1, dan Tampil/Tidak = 0.",null,null,null,null,null,null,null,null,null,null,null,null,null,null,null,"Isilah hanya pada TP yang diinginkan",null,null,null,null,null,null,null,null,null,null,null,null,null,null,null,null,null,null,null,null,null,null,null,null,null,null,null,null,null,null,null,null,null,null,null,null,null,null,1]
[null,null,null,"Pada TP 2, siswa tidak mencapai KKTP tapi ingin ditampilkan dalam rapor. Pilih KKTP = 0, dan Tampil/Tidak = 1.",null,null,null,null,null,null,null,null,null,null,null,null,null,null,null,"masuk dalam deskripsi rapor"]
[]
[null,null,"No","Nama Siswa","Tujuan Pembelajaran",null,null,null,null,null,null,null,null,null,null,null,null,null,null,null,null,null,null,null,null,null,null,null,null,null,null,null,null,null,null,null,null,null,null,null,null,null,null,null,null,null,null,null,null,null,null,null,null,null,"Deskripsi Capaian Tertinggi dalam Rapor","Deskripsi Capaian Terendah dalam Rapor"]
[null,null,null,null,"TP 1",null,"TP 2",null,"TP 3",null,"TP 4",null,"TP 5",null,"TP 6",null,"TP 7",null,"TP 8",null,"TP 9",null,"TP 10",null,"TP 11",null,"TP 12",null,"TP 13",null,"TP 14",null,"TP 15",null,"TP 16",null,"TP 17",null,"TP 18",null,"TP 19",null,"TP 20",null,"TP 21",null,"TP 22",null,"TP 23",null,"TP 24",null,"TP 25",null,null,null,null,null,null,null,null,null,null,null,null,null,null,null,null,null,null,null,null,null,null,null,null,null,null,null,null,null,null,null,null,null,null,null,null,null,null,null,null,null,null,null,null,null,null,null,null,null,null,null,null,null,null,null,null,null,"mencapai",null,null,null,null,null,null,null,null,null,null,null,null,null,null,null,null,null,null,null,null,null,null,null,null,null,"tidak mencapai"]
[null,null,null,null,{"$f":"'TP 3'!D8","v":1},null,{"$f":"'TP 3'!D9","v":2},null,{"$f":"'TP 3'!D10","v":3},null,{"$f":"'TP 3'!D11","v":4},null,{"$f":"'TP 3'!D12","v":5},null,{"$f":"'TP 3'!D13","v":6},null,{"$f":"'TP 3'!D14","v":7},null,{"$f":"'TP 3'!D15","v":8},null,{"$f":"'TP 3'!D16","v":9},null,{"$f":"'TP 3'!D17","v":10},null,{"$f":"'TP 3'!D18","v":11},null,{"$f":"'TP 3'!D19","v":12},null,{"$f":"'TP 3'!D20","v":13},null,{"$f":"'TP 3'!D21","v":14},null,{"$f":"'TP 3'!D22","v":15},null,{"$f":"'TP 3'!D23","v":16},null,{"$f":"'TP 3'!D24","v":17},null,{"$f":"'TP 3'!D25","v":18},null,{"$f":"'TP 3'!D26","v":19},null,{"$f":"'TP 3'!D27","v":20},null,{"$f":"'TP 3'!D28","v":21},null,{"$f":"'TP 3'!D29","v":22},null,{"$f":"'TP 3'!D30","v":23},null,{"$f":"'TP 3'!D31","v":24},null,{"$f":"'TP 3'!D32","v":25},null,null,null,null,null,1,2,3,4,5,6,7,8,9,10,11,12,13,14,15,16,17,18,19,20,21,22,23,24,25,null,1,2,3,4,5,6,7,8,9,10,11,12,13,14,15,16,17,18,19,20,21,22,23,24,25,null,{"$f":"E15","v":1},{"$f":"G15","v":2},{"$f":"I15","v":3},{"$f":"K15","v":4},{"$f":"M15","v":5},{"$f":"O15","v":6},{"$f":"Q15","v":7},{"$f":"S15","v":8},{"$f":"U15","v":9},{"$f":"W15","v":10},{"$f":"Y15","v":11},{"$f":"AA15","v":12},{"$f":"AC15","v":13},{"$f":"AE15","v":14},{"$f":"AG15","v":15},{"$f":"AI15","v":16},{"$f":"AK15","v":17},{"$f":"AM15","v":18},{"$f":"AO15","v":19},{"$f":"AQ15","v":20},{"$f":"AS15","v":21},{"$f":"AU15","v":22},{"$f":"AW15","v":23},{"$f":"AY15","v":24},{"$f":"BA15","v":25},null,{"$f":"DG15","v":1},{"$f":"DH15","v":2},3,4,5,6,7,8,9,10,11,12,13,14,15,16,17,18,19,20,21,22,23,24,25,null,"mencapai",null,null,"tidak mencapai"]
[null,null,null,null,"KKTP","Tampil/Tidak","KKTP","Tampil/Tidak","KKTP","Tampil/Tidak","KKTP","Tampil/Tidak","KKTP","Tampil/Tidak","KKTP","Tampil/Tidak","KKTP","Tampil/Tidak","KKTP","Tampil/Tidak","KKTP","Tampil/Tidak","KKTP","Tampil/Tidak","KKTP","Tampil/Tidak","KKTP","Tampil/Tidak","KKTP","Tampil/Tidak","KKTP","Tampil/Tidak","KKTP","Tampil/Tidak","KKTP","Tampil/Tidak","KKTP","Tampil/Tidak","KKTP","Tampil/Tidak","KKTP","Tampil/Tidak","KKTP","Tampil/Tidak","KKTP","Tampil/Tidak","KKTP","Tampil/Tidak","KKTP","Tampil/Tidak","KKTP","Tampil/Tidak","KKTP","Tampil/Tidak",null,null,null,null,null,null,null,null,null,null,null,null,null,null,null,null,null,null,null,null,null,null,null,null,null,null,null,null,null,null,"kktp",null,null,null,null,null,null,null,null,null,null,null,null,null,null,null,null,null,null,null,null,null,null,null,null,null,1,2,3,4,5,6,7,8,9,10,11,12,13,14,15,16,17,18,19,20,21,22,23,24,25,null,1,2,3,4,5,6,7,8,9,10,11,12,13,14,15,16,17,18,19,20,21,22,23,24,25]
[null,null,1,{"$f":"'DATA SISWA'!F10","v":0},null,null,null,null,null,null,null,null,null,null,null,null,null,null,null,null,null,null,null,null,null,null,null,null,null,null,null,null,null,null,null,null,null,null,null,null,null,null,null,null,null,null,null,null,null,null,null,null,null,null,{"$f":"FG17","v":"0 menunjukkan pemahaman dalam "},{"$f":"FJ17","v":"0 membutuhkan bimbingan dalam "},null,null,{"$f":"F17","v":0},{"$f":"H17","v":0},{"$f":"J17","v":0},{"$f":"L17","v":0},{"$f":"N17","v":0},{"$f":"P17","v":0},{"$f":"R17","v":0},{"$f":"T17","v":0},{"$f":"V17","v":0},{"$f":"X17","v":0},{"$f":"Z17","v":0},{"$f":"AB17","v":0},{"$f":"AD17","v":0},{"$f":"AF17","v":0},{"$f":"AH17","v":0},{"$f":"AJ17","v":0},{"$f":"AL17","v":0},{"$f":"AN17","v":0},{"$f":"AP17","v":0},{"$f":"AR17","v":0},{"$f":"AT17","v":0},{"$f":"AV17","v":0},{"$f":"AX17","v":0},{"$f":"AZ17","v":0},{"$f":"BB17","v":0},null,{"$f":"E17","v":0},{"$f":"G17","v":0},{"$f":"I17","v":0},{"$f":"K17","v":0},{"$f":"M17","v":0},{"$f":"O17","v":0},{"$f":"Q17","v":0},{"$f":"S17","v":0},{"$f":"U17","v":0},{"$f":"W17","v":0},{"$f":"Y17","v":0},{"$f":"AA17","v":0},{"$f":"AC17","v":0},{"$f":"AE17","v":0},{"$f":"AG17","v":0},{"$f":"AI17","v":0},{"$f":"AK17","v":0},{"$f":"AM17","v":0},{"$f":"AO17","v":0},{"$f":"AQ17","v":0},{"$f":"AS17","v":0},{"$f":"AU17","v":0},{"$f":"AW17","v":0},{"$f":"AY17","v":0},{"$f":"BA17","v":0},null,{"$f":"IF(AND(BG17=1,CG17=1),DG$15&\", \",\"\")","v":""},{"$f":"IF(AND(BH17=1,CH17=1),DH$15&\", \",\"\")","v":""},"","","","","","","","","","","","","","","",{"$f":"IF(AND(BX17=1,CX17=1),DX$15&\", \",\"\")","v":""},"","","","","","","",null,{"$f":"IF(AND(BG17=1,CG17=0),EG$15&\", \",\"\")","v":""},{"$f":"IF(AND(BH17=1,CH17=0),EH$15&\", \",\"\")","v":""},"","","","","","","","","","","","","","","",{"$f":"IF(AND(BX17=1,CX17=0),EX$15&\", \",\"\")","v":""},"","","","","","","",null,{"$f":"PROPER(D17)&\" menunjukkan pemahaman dalam \"&DG17&DH17&DI17&DJ17&DK17&DL17&DM17&DN17&DO17&DP17&DQ17&DR17&DS17&DT17&DU17&DV17&DW17&DX17&DY17&DZ17&EA17&EB17&EC17&ED17&EE17","v":"0 menunjukkan pemahaman dalam "},null,null,{"$f":"PROPER(D17)&\" membutuhkan bimbingan dalam \"&EG17&EH17&EI17&EJ17&EK17&EL17&EM17&EN17&EO17&EP17&EQ17&ER17&ES17&ET17&EU17&EV17&EW17&EX17&EY17&EZ17&FA17&FB17&FC17&FD17&FE17","v":"0 membutuhkan bimbingan dalam "}]
[null,null,2,{"$f":"'DATA SISWA'!F11","v":0},null,null,null,null,null,null,null,null,null,null,null,null,null,null,null,null,null,null,null,null,null,null,null,null,null,null,null,null,null,null,null,null,null,null,null,null,null,null,null,null,null,null,null,null,null,null,null,null,null,null,{"$f":"FG18","v":"0 menunjukkan pemahaman dalam "},{"$f":"FJ18","v":"0 membutuhkan bimbingan dalam "},null,null,{"$f":"F18","v":0},{"$f":"H18","v":0},{"$f":"J18","v":0},{"$f":"L18","v":0},{"$f":"N18","v":0},{"$f":"P18","v":0},{"$f":"R18","v":0},{"$f":"T18","v":0},{"$f":"V18","v":0},{"$f":"X18","v":0},{"$f":"Z18","v":0},{"$f":"AB18","v":0},{"$f":"AD18","v":0},{"$f":"AF18","v":0},{"$f":"AH18","v":0},{"$f":"AJ18","v":0},{"$f":"AL18","v":0},{"$f":"AN18","v":0},{"$f":"AP18","v":0},{"$f":"AR18","v":0},{"$f":"AT18","v":0},{"$f":"AV18","v":0},{"$f":"AX18","v":0},{"$f":"AZ18","v":0},{"$f":"BB18","v":0},null,{"$f":"E18","v":0},{"$f":"G18","v":0},{"$f":"I18","v":0},{"$f":"K18","v":0},{"$f":"M18","v":0},{"$f":"O18","v":0},{"$f":"Q18","v":0},{"$f":"S18","v":0},{"$f":"U18","v":0},{"$f":"W18","v":0},{"$f":"Y18","v":0},{"$f":"AA18","v":0},{"$f":"AC18","v":0},{"$f":"AE18","v":0},{"$f":"AG18","v":0},{"$f":"AI18","v":0},{"$f":"AK18","v":0},{"$f":"AM18","v":0},{"$f":"AO18","v":0},{"$f":"AQ18","v":0},{"$f":"AS18","v":0},{"$f":"AU18","v":0},{"$f":"AW18","v":0},{"$f":"AY18","v":0},{"$f":"BA18","v":0},null,{"$f":"IF(AND(BG18=1,CG18=1),DG$15&\", \",\"\")","v":""},"","","","","","","","","","","","","","","","","","","","","","","","",null,{"$f":"IF(AND(BG18=1,CG18=0),EG$15&\", \",\"\")","v":""},"","","","","","","","","","","","","","","","","","","","","","","","",null,{"$f":"PROPER(D18)&\" menunjukkan pemahaman dalam \"&DG18&DH18&DI18&DJ18&DK18&DL18&DM18&DN18&DO18&DP18&DQ18&DR18&DS18&DT18&DU18&DV18&DW18&DX18&DY18&DZ18&EA18&EB18&EC18&ED18&EE18","v":"0 menunjukkan pemahaman dalam "},null,null,{"$f":"PROPER(D18)&\" membutuhkan bimbingan dalam \"&EG18&EH18&EI18&EJ18&EK18&EL18&EM18&EN18&EO18&EP18&EQ18&ER18&ES18&ET18&EU18&EV18&EW18&EX18&EY18&EZ18&FA18&FB18&FC18&FD18&FE18","v":"0 membutuhkan bimbingan dalam "}]
[null,null,3,{"$f":"'DATA SISWA'!F12","v":0},null,null,null,null,null,null,null,null,null,null,null,null,null,null,null,null,null,null,null,null,null,null,null,null,null,null,null,null,null,null,null,null,null,null,null,null,null,null,null,null,null,null,null,null,null,null,null,null,null,null,"0 menunjukkan pemahaman dalam ","0 membutuhkan bimbingan dalam ",null,null,0,0,0,0,0,0,0,0,0,0,0,0,0,0,0,0,0,0,0,0,0,0,0,0,0,null,0,0,0,0,0,0,0,0,0,0,0,0,0,0,0,0,0,0,0,0,0,0,0,0,0,null,"","","","","","","","","","","","","","","","","","","","","","","","","",null,"","","","","","","","","","","","","","","","","","","","","","","","","",null,"0 menunjukkan pemahaman dalam ",null,null,"0 membutuhkan bimbingan dalam "]
[null,null,4,{"$f":"'DATA SISWA'!F13","v":0},null,null,null,null,null,null,null,null,null,null,null,null,null,null,null,null,null,null,null,null,null,null,null,null,null,null,null,null,null,null,null,null,null,null,null,null,null,null,null,null,null,null,null,null,null,null,null,null,null,null,"0 menunjukkan pemahaman dalam ","0 membutuhkan bimbingan dalam ",null,null,0,0,0,0,0,0,0,0,0,0,0,0,0,0,0,0,0,0,0,0,0,0,0,0,0,null,0,0,0,0,0,0,0,0,0,0,0,0,0,0,0,0,0,0,0,0,0,0,0,0,0,null,"","","","","","","","","","","","","","","","","","","","","","","","","",null,"","","","","","","","","","","","","","","","","","","","","","","","","",null,"0 menunjukkan pemahaman dalam ",null,null,"0 membutuhkan bimbingan dalam "]
[null,null,5,{"$f":"'DATA SISWA'!F14","v":0},null,null,null,null,null,null,null,null,null,null,null,null,null,null,null,null,null,null,null,null,null,null,null,null,null,null,null,null,null,null,null,null,null,null,null,null,null,null,null,null,null,null,null,null,null,null,null,null,null,null,"0 menunjukkan pemahaman dalam ","0 membutuhkan bimbingan dalam ",null,null,0,0,0,0,0,0,0,0,0,0,0,0,0,0,0,0,0,0,0,0,0,0,0,0,0,null,0,0,0,0,0,0,0,0,0,0,0,0,0,0,0,0,0,0,0,0,0,0,0,0,0,null,"","","","","","","","","","","","","","","","","","","","","","","","","",null,"","","","","","","","","","","","","","","","","","","","","","","","","",null,"0 menunjukkan pemahaman dalam ",null,null,"0 membutuhkan bimbingan dalam "]
[null,null,6,{"$f":"'DATA SISWA'!F15","v":0},null,null,null,null,null,null,null,null,null,null,null,null,null,null,null,null,null,null,null,null,null,null,null,null,null,null,null,null,null,null,null,null,null,null,null,null,null,null,null,null,null,null,null,null,null,null,null,null,null,null,"0 menunjukkan pemahaman dalam ","0 membutuhkan bimbingan dalam ",null,null,0,0,0,0,0,0,0,0,0,0,0,0,0,0,0,0,0,0,0,0,0,0,0,0,0,null,0,0,0,0,0,0,0,0,0,0,0,0,0,0,0,0,0,0,0,0,0,0,0,0,0,null,"","","","","","","","","","","","","","","","","","","","","","","","","",null,"","","","","","","","","","","","","","","","","","","","","","","","","",null,"0 menunjukkan pemahaman dalam ",null,null,"0 membutuhkan bimbingan dalam "]
[null,null,7,{"$f":"'DATA SISWA'!F16","v":0},null,null,null,null,null,null,null,null,null,null,null,null,null,null,null,null,null,null,null,null,null,null,null,null,null,null,null,null,null,null,null,null,null,null,null,null,null,null,null,null,null,null,null,null,null,null,null,null,null,null,"0 menunjukkan pemahaman dalam ","0 membutuhkan bimbingan dalam ",null,null,0,0,0,0,0,0,0,0,0,0,0,0,0,0,0,0,0,0,0,0,0,0,0,0,0,null,0,0,0,0,0,0,0,0,0,0,0,0,0,0,0,0,0,0,0,0,0,0,0,0,0,null,"","","","","","","","","","","","","","","","","","","","","","","","","",null,"","","","","","","","","","","","","","","","","","","","","","","","","",null,"0 menunjukkan pemahaman dalam ",null,null,"0 membutuhkan bimbingan dalam "]
[null,null,8,{"$f":"'DATA SISWA'!F17","v":0},null,null,null,null,null,null,null,null,null,null,null,null,null,null,null,null,null,null,null,null,null,null,null,null,null,null,null,null,null,null,null,null,null,null,null,null,null,null,null,null,null,null,null,null,null,null,null,null,null,null,"0 menunjukkan pemahaman dalam ","0 membutuhkan bimbingan dalam ",null,null,0,0,0,0,0,0,0,0,0,0,0,0,0,0,0,0,0,0,0,0,0,0,0,0,0,null,0,0,0,0,0,0,0,0,0,0,0,0,0,0,0,0,0,0,0,0,0,0,0,0,0,null,"","","","","","","","","","","","","","","","","","","","","","","","","",null,"","","","","","","","","","","","","","","","","","","","","","","","","",null,"0 menunjukkan pemahaman dalam ",null,null,"0 membutuhkan bimbingan dalam "]
[null,null,9,{"$f":"'DATA SISWA'!F18","v":0},null,null,null,null,null,null,null,null,null,null,null,null,null,null,null,null,null,null,null,null,null,null,null,null,null,null,null,null,null,null,null,null,null,null,null,null,null,null,null,null,null,null,null,null,null,null,null,null,null,null,"0 menunjukkan pemahaman dalam ","0 membutuhkan bimbingan dalam ",null,null,0,0,0,0,0,0,0,0,0,0,0,0,0,0,0,0,0,0,0,0,0,0,0,0,0,null,0,0,0,0,0,0,0,0,0,0,0,0,0,0,0,0,0,0,0,0,0,0,0,0,0,null,"","","","","","","","","","","","","","","","","","","","","","","","","",null,"","","","","","","","","","","","","","","","","","","","","","","","","",null,"0 menunjukkan pemahaman dalam ",null,null,"0 membutuhkan bimbingan dalam "]
[null,null,10,{"$f":"'DATA SISWA'!F19","v":0},null,null,null,null,null,null,null,null,null,null,null,null,null,null,null,null,null,null,null,null,null,null,null,null,null,null,null,null,null,null,null,null,null,null,null,null,null,null,null,null,null,null,null,null,null,null,null,null,null,null,"0 menunjukkan pemahaman dalam ","0 membutuhkan bimbingan dalam ",null,null,0,0,0,0,0,0,0,0,0,0,0,0,0,0,0,0,0,0,0,0,0,0,0,0,0,null,0,0,0,0,0,0,0,0,0,0,0,0,0,0,0,0,0,0,0,0,0,0,0,0,0,null,"","","","","","","","","","","","","","","","","","","","","","","","","",null,"","","","","","","","","","","","","","","","","","","","","","","","","",null,"0 menunjukkan pemahaman dalam ",null,null,"0 membutuhkan bimbingan dalam "]
[null,null,11,{"$f":"'DATA SISWA'!F20","v":0},null,null,null,null,null,null,null,null,null,null,null,null,null,null,null,null,null,null,null,null,null,null,null,null,null,null,null,null,null,null,null,null,null,null,null,null,null,null,null,null,null,null,null,null,null,null,null,null,null,null,"0 menunjukkan pemahaman dalam ","0 membutuhkan bimbingan dalam ",null,null,0,0,0,0,0,0,0,0,0,0,0,0,0,0,0,0,0,0,0,0,0,0,0,0,0,null,0,0,0,0,0,0,0,0,0,0,0,0,0,0,0,0,0,0,0,0,0,0,0,0,0,null,"","","","","","","","","","","","","","","","","","","","","","","","","",null,"","","","","","","","","","","","","","","","","","","","","","","","","",null,"0 menunjukkan pemahaman dalam ",null,null,"0 membutuhkan bimbingan dalam "]
[null,null,12,{"$f":"'DATA SISWA'!F21","v":0},null,null,null,null,null,null,null,null,null,null,null,null,null,null,null,null,null,null,null,null,null,null,null,null,null,null,null,null,null,null,null,null,null,null,null,null,null,null,null,null,null,null,null,null,null,null,null,null,null,null,"0 menunjukkan pemahaman dalam ","0 membutuhkan bimbingan dalam ",null,null,0,0,0,0,0,0,0,0,0,0,0,0,0,0,0,0,0,0,0,0,0,0,0,0,0,null,0,0,0,0,0,0,0,0,0,0,0,0,0,0,0,0,0,0,0,0,0,0,0,0,0,null,"","","","","","","","","","","","","","","","","","","","","","","","","",null,"","","","","","","","","","","","","","","","","","","","","","","","","",null,"0 menunjukkan pemahaman dalam ",null,null,"0 membutuhkan bimbingan dalam "]
[null,null,13,{"$f":"'DATA SISWA'!F22","v":0},null,null,null,null,null,null,null,null,null,null,null,null,null,null,null,null,null,null,null,null,null,null,null,null,null,null,null,null,null,null,null,null,null,null,null,null,null,null,null,null,null,null,null,null,null,null,null,null,null,null,"0 menunjukkan pemahaman dalam ","0 membutuhkan bimbingan dalam ",null,null,0,0,0,0,0,0,0,0,0,0,0,0,0,0,0,0,0,0,0,0,0,0,0,0,0,null,0,0,0,0,0,0,0,0,0,0,0,0,0,0,0,0,0,0,0,0,0,0,0,0,0,null,"","","","","","","","","","","","","","","","","","","","","","","","","",null,"","","","","","","","","","","","","","","","","","","","","","","","","",null,"0 menunjukkan pemahaman dalam ",null,null,"0 membutuhkan bimbingan dalam "]
[null,null,14,{"$f":"'DATA SISWA'!F23","v":0},null,null,null,null,null,null,null,null,null,null,null,null,null,null,null,null,null,null,null,null,null,null,null,null,null,null,null,null,null,null,null,null,null,null,null,null,null,null,null,null,null,null,null,null,null,null,null,null,null,null,"0 menunjukkan pemahaman dalam ","0 membutuhkan bimbingan dalam ",null,null,0,0,0,0,0,0,0,0,0,0,0,0,0,0,0,0,0,0,0,0,0,0,0,0,0,null,0,0,0,0,0,0,0,0,0,0,0,0,0,0,0,0,0,0,0,0,0,0,0,0,0,null,"","","","","","","","","","","","","","","","","","","","","","","","","",null,"","","","","","","","","","","","","","","","","","","","","","","","","",null,"0 menunjukkan pemahaman dalam ",null,null,"0 membutuhkan bimbingan dalam "]
[null,null,15,{"$f":"'DATA SISWA'!F24","v":0},null,null,null,null,null,null,null,null,null,null,null,null,null,null,null,null,null,null,null,null,null,null,null,null,null,null,null,null,null,null,null,null,null,null,null,null,null,null,null,null,null,null,null,null,null,null,null,null,null,null,"0 menunjukkan pemahaman dalam ","0 membutuhkan bimbingan dalam ",null,null,0,0,0,0,0,0,0,0,0,0,0,0,0,0,0,0,0,0,0,0,0,0,0,0,0,null,0,0,0,0,0,0,0,0,0,0,0,0,0,0,0,0,0,0,0,0,0,0,0,0,0,null,"","","","","","","","","","","","","","","","","","","","","","","","","",null,"","","","","","","","","","","","","","","","","","","","","","","","","",null,"0 menunjukkan pemahaman dalam ",null,null,"0 membutuhkan bimbingan dalam "]
[null,null,16,{"$f":"'DATA SISWA'!F25","v":0},null,null,null,null,null,null,null,null,null,null,null,null,null,null,null,null,null,null,null,null,null,null,null,null,null,null,null,null,null,null,null,null,null,null,null,null,null,null,null,null,null,null,null,null,null,null,null,null,null,null,"0 menunjukkan pemahaman dalam ","0 membutuhkan bimbingan dalam ",null,null,0,0,0,0,0,0,0,0,0,0,0,0,0,0,0,0,0,0,0,0,0,0,0,0,0,null,0,0,0,0,0,0,0,0,0,0,0,0,0,0,0,0,0,0,0,0,0,0,0,0,0,null,"","","","","","","","","","","","","","","","","","","","","","","","","",null,"","","","","","","","","","","","","","","","","","","","","","","","","",null,"0 menunjukkan pemahaman dalam ",null,null,"0 membutuhkan bimbingan dalam "]
[null,null,17,{"$f":"'DATA SISWA'!F26","v":0},null,null,null,null,null,null,null,null,null,null,null,null,null,null,null,null,null,null,null,null,null,null,null,null,null,null,null,null,null,null,null,null,null,null,null,null,null,null,null,null,null,null,null,null,null,null,null,null,null,null,"0 menunjukkan pemahaman dalam ","0 membutuhkan bimbingan dalam ",null,null,0,0,0,0,0,0,0,0,0,0,0,0,0,0,0,0,0,0,0,0,0,0,0,0,0,null,0,0,0,0,0,0,0,0,0,0,0,0,0,0,0,0,0,0,0,0,0,0,0,0,0,null,"","","","","","","","","","","","","","","","",{"$f":"IF(AND(BW33=1,CW33=1),DW$15&\", \",\"\")","v":""},"","","","","","","","",null,"","","","","","","","","","","","","","","","",{"$f":"IF(AND(BW33=1,CW33=0),EW$15&\", \",\"\")","v":""},"","","","","","","","",null,"0 menunjukkan pemahaman dalam ",null,null,"0 membutuhkan bimbingan dalam "]
[null,null,18,{"$f":"'DATA SISWA'!F27","v":0},null,null,null,null,null,null,null,null,null,null,null,null,null,null,null,null,null,null,null,null,null,null,null,null,null,null,null,null,null,null,null,null,null,null,null,null,null,null,null,null,null,null,null,null,null,null,null,null,null,null,"0 menunjukkan pemahaman dalam ","0 membutuhkan bimbingan dalam ",null,null,0,0,0,0,0,0,0,0,0,0,0,0,0,0,0,0,0,0,0,0,0,0,0,0,0,null,0,0,0,0,0,0,0,0,0,0,0,0,0,0,0,0,0,0,0,0,0,0,0,0,0,null,"","","","","","","","","","","","","","","","","","","","","","","","","",null,"","","","","","","","","","","","","","","","","","","","","","","","","",null,"0 menunjukkan pemahaman dalam ",null,null,"0 membutuhkan bimbingan dalam "]
[null,null,19,{"$f":"'DATA SISWA'!F28","v":0},null,null,null,null,null,null,null,null,null,null,null,null,null,null,null,null,null,null,null,null,null,null,null,null,null,null,null,null,null,null,null,null,null,null,null,null,null,null,null,null,null,null,null,null,null,null,null,null,null,null,"0 menunjukkan pemahaman dalam ","0 membutuhkan bimbingan dalam ",null,null,0,0,0,0,0,0,0,0,0,0,0,0,0,0,0,0,0,0,0,0,0,0,0,0,0,null,0,0,0,0,0,0,0,0,0,0,0,0,0,0,0,0,0,0,0,0,0,0,0,0,0,null,"","","","","","","","","","","","","","","","","","","","","","","","","",null,"","","","","","","","","","","","","","","","","","","","","","","","","",null,"0 menunjukkan pemahaman dalam ",null,null,"0 membutuhkan bimbingan dalam "]
[null,null,20,{"$f":"'DATA SISWA'!F29","v":0},null,null,null,null,null,null,null,null,null,null,null,null,null,null,null,null,null,null,null,null,null,null,null,null,null,null,null,null,null,null,null,null,null,null,null,null,null,null,null,null,null,null,null,null,null,null,null,null,null,null,"0 menunjukkan pemahaman dalam ","0 membutuhkan bimbingan dalam ",null,null,0,0,0,0,0,0,0,0,0,0,0,0,0,0,0,0,0,0,0,0,0,0,0,0,0,null,0,0,0,0,0,0,0,0,0,0,0,0,0,0,0,0,0,0,0,0,0,0,0,0,0,null,"","","","","","","","","","","","","","","","","","","","","","","","","",null,"","","","","","","","","","","","","","","","","","","","","","","","","",null,"0 menunjukkan pemahaman dalam ",null,null,"0 membutuhkan bimbingan dalam "]
[null,null,21,{"$f":"'DATA SISWA'!F30","v":0},null,null,null,null,null,null,null,null,null,null,null,null,null,null,null,null,null,null,null,null,null,null,null,null,null,null,null,null,null,null,null,null,null,null,null,null,null,null,null,null,null,null,null,null,null,null,null,null,null,null,"0 menunjukkan pemahaman dalam ","0 membutuhkan bimbingan dalam ",null,null,0,0,0,0,0,0,0,0,0,0,0,0,0,0,0,0,0,0,0,0,0,0,0,0,0,null,0,0,0,0,0,0,0,0,0,0,0,0,0,0,0,0,0,0,0,0,0,0,0,0,0,null,"","","","","","","","","","","","","","","","","","","","","","","","","",null,"","","","","","","","","","","","","","","","","","","","","","","","","",null,"0 menunjukkan pemahaman dalam ",null,null,"0 membutuhkan bimbingan dalam "]
[null,null,22,{"$f":"'DATA SISWA'!F31","v":0},null,null,null,null,null,null,null,null,null,null,null,null,null,null,null,null,null,null,null,null,null,null,null,null,null,null,null,null,null,null,null,null,null,null,null,null,null,null,null,null,null,null,null,null,null,null,null,null,null,null,"0 menunjukkan pemahaman dalam ","0 membutuhkan bimbingan dalam ",null,null,0,0,0,0,0,0,0,0,0,0,0,0,0,0,0,0,0,0,0,0,0,0,0,0,0,null,0,0,0,0,0,0,0,0,0,0,0,0,0,0,0,0,0,0,0,0,0,0,0,0,0,null,"","","","","","","","","","","","","","","","","","","","","","","","","",null,"","","","","","","","","","","","","","","","","","","","","","","","","",null,"0 menunjukkan pemahaman dalam ",null,null,"0 membutuhkan bimbingan dalam "]
[null,null,23,{"$f":"'DATA SISWA'!F32","v":0},null,null,null,null,null,null,null,null,null,null,null,null,null,null,null,null,null,null,null,null,null,null,null,null,null,null,null,null,null,null,null,null,null,null,null,null,null,null,null,null,null,null,null,null,null,null,null,null,null,null,"0 menunjukkan pemahaman dalam ","0 membutuhkan bimbingan dalam ",null,null,0,0,0,0,0,0,0,0,0,0,0,0,0,0,0,0,0,0,0,0,0,0,0,0,0,null,0,0,0,0,0,0,0,0,0,0,0,0,0,0,0,0,0,0,0,0,0,0,0,0,0,null,"","","","","","","","","","","","","","","","","","","","","","","","","",null,"","","","","","","","","","","","","","","","","","","","","","","","","",null,"0 menunjukkan pemahaman dalam ",null,null,"0 membutuhkan bimbingan dalam "]
[null,null,24,{"$f":"'DATA SISWA'!F33","v":0},null,null,null,null,null,null,null,null,null,null,null,null,null,null,null,null,null,null,null,null,null,null,null,null,null,null,null,null,null,null,null,null,null,null,null,null,null,null,null,null,null,null,null,null,null,null,null,null,null,null,"0 menunjukkan pemahaman dalam ","0 membutuhkan bimbingan dalam ",null,null,0,0,0,0,0,0,0,0,0,0,0,0,0,0,0,0,0,0,0,0,0,0,0,0,0,null,0,0,0,0,0,0,0,0,0,0,0,0,0,0,0,0,0,0,0,0,0,0,0,0,0,null,"","","","","","","","","","","","","","","","","","","","","","","","","",null,"","","","","","","","","","","","","","","","","","","","","","","","","",null,"0 menunjukkan pemahaman dalam ",null,null,"0 membutuhkan bimbingan dalam "]
[null,null,25,{"$f":"'DATA SISWA'!F34","v":0},null,null,null,null,null,null,null,null,null,null,null,null,null,null,null,null,null,null,null,null,null,null,null,null,null,null,null,null,null,null,null,null,null,null,null,null,null,null,null,null,null,null,null,null,null,null,null,null,null,null,"0 menunjukkan pemahaman dalam ","0 membutuhkan bimbingan dalam ",null,null,0,0,0,0,0,0,0,0,0,0,0,0,0,0,0,0,0,0,0,0,0,0,0,0,0,null,0,0,0,0,0,0,0,0,0,0,0,0,0,0,0,0,0,0,0,0,0,0,0,0,0,null,"","","","","","","","","","","","","","","","","","","","","","","","","",null,"","","","","","","","","","","","","","","","","","","","","","","","","",null,"0 menunjukkan pemahaman dalam ",null,null,"0 membutuhkan bimbingan dalam "]
[null,null,26,{"$f":"'DATA SISWA'!F35","v":0},null,null,null,null,null,null,null,null,null,null,null,null,null,null,null,null,null,null,null,null,null,null,null,null,null,null,null,null,null,null,null,null,null,null,null,null,null,null,null,null,null,null,null,null,null,null,null,null,null,null,"0 menunjukkan pemahaman dalam ","0 membutuhkan bimbingan dalam ",null,null,0,0,0,0,0,0,0,0,0,0,0,0,0,0,0,0,0,0,0,0,0,0,0,0,0,null,0,0,0,0,0,0,0,0,0,0,0,0,0,0,0,0,0,0,0,0,0,0,0,0,0,null,"","","","","","","","","","","","","","","","","","","","","","","","","",null,"","","","","","","","","","","","","","","","","","","","","","","","","",null,"0 menunjukkan pemahaman dalam ",null,null,"0 membutuhkan bimbingan dalam "]
[null,null,27,{"$f":"'DATA SISWA'!F36","v":0},null,null,null,null,null,null,null,null,null,null,null,null,null,null,null,null,null,null,null,null,null,null,null,null,null,null,null,null,null,null,null,null,null,null,null,null,null,null,null,null,null,null,null,null,null,null,null,null,null,null,"0 menunjukkan pemahaman dalam ","0 membutuhkan bimbingan dalam ",null,null,0,0,0,0,0,0,0,0,0,0,0,0,0,0,0,0,0,0,0,0,0,0,0,0,0,null,0,0,0,0,0,0,0,0,0,0,0,0,0,0,0,0,0,0,0,0,0,0,0,0,0,null,"","","","","",{"$f":"IF(AND(BL43=1,CL43=1),DL$15&\", \",\"\")","v":""},"","","","","","","","","","","","","","","","","","","",null,"","","","","",{"$f":"IF(AND(BL43=1,CL43=0),EL$15&\", \",\"\")","v":""},"","","","","","","","","","","","","","","","","","","",null,"0 menunjukkan pemahaman dalam ",null,null,"0 membutuhkan bimbingan dalam "]
[null,null,28,{"$f":"'DATA SISWA'!F37","v":0},null,null,null,null,null,null,null,null,null,null,null,null,null,null,null,null,null,null,null,null,null,null,null,null,null,null,null,null,null,null,null,null,null,null,null,null,null,null,null,null,null,null,null,null,null,null,null,null,null,null,"0 menunjukkan pemahaman dalam ","0 membutuhkan bimbingan dalam ",null,null,0,0,0,0,0,0,0,0,0,0,0,0,0,0,0,0,0,0,0,0,0,0,0,0,0,null,0,0,0,0,0,0,0,0,0,0,0,0,0,0,0,0,0,0,0,0,0,0,0,0,0,null,{"$f":"IF(AND(BG44=1,CG44=1),DG$15&\", \",\"\")","v":""},"","","","","","","","","","","","","","","","","","","","","","","","",null,{"$f":"IF(AND(BG44=1,CG44=0),EG$15&\", \",\"\")","v":""},"","","","","","","","","","","","","","","","","","","","","","","","",null,"0 menunjukkan pemahaman dalam ",null,null,"0 membutuhkan bimbingan dalam "]
[null,null,29,{"$f":"'DATA SISWA'!F38","v":0},null,null,null,null,null,null,null,null,null,null,null,null,null,null,null,null,null,null,null,null,null,null,null,null,null,null,null,null,null,null,null,null,null,null,null,null,null,null,null,null,null,null,null,null,null,null,null,null,null,null,"0 menunjukkan pemahaman dalam ","0 membutuhkan bimbingan dalam ",null,null,0,0,0,0,0,0,0,0,0,0,0,0,0,0,0,0,0,0,0,0,0,0,0,0,0,null,0,0,0,0,0,0,0,0,0,0,0,0,0,0,0,0,0,0,0,0,0,0,0,0,0,null,"","","","","","","","","","","","","","","","","","","","","","","","","",null,"","","","","","","","","","","","","","","","","","","","","","","","","",null,"0 menunjukkan pemahaman dalam ",null,null,"0 membutuhkan bimbingan dalam "]
[null,null,30,{"$f":"'DATA SISWA'!F39","v":0},null,null,null,null,null,null,null,null,null,null,null,null,null,null,null,null,null,null,null,null,null,null,null,null,null,null,null,null,null,null,null,null,null,null,null,null,null,null,null,null,null,null,null,null,null,null,null,null,null,null,"0 menunjukkan pemahaman dalam ","0 membutuhkan bimbingan dalam ",null,null,0,0,0,0,0,0,0,0,0,0,0,0,0,0,0,0,0,0,0,0,0,0,0,0,0,null,0,0,0,0,0,0,0,0,0,0,0,0,0,0,0,0,0,0,0,0,0,0,0,0,0,null,"","","","","","","","","","","","","","","","","","","","","","","","","",null,"","","","","","","","","","","","","","","","","","","","","","","","","",null,"0 menunjukkan pemahaman dalam ",null,null,"0 membutuhkan bimbingan dalam "]
[null,null,31,{"$f":"'DATA SISWA'!F40","v":0},null,null,null,null,null,null,null,null,null,null,null,null,null,null,null,null,null,null,null,null,null,null,null,null,null,null,null,null,null,null,null,null,null,null,null,null,null,null,null,null,null,null,null,null,null,null,null,null,null,null,"0 menunjukkan pemahaman dalam ","0 membutuhkan bimbingan dalam ",null,null,0,0,0,0,0,0,0,0,0,0,0,0,0,0,0,0,0,0,0,0,0,0,0,0,0,null,0,0,0,0,0,0,0,0,0,0,0,0,0,0,0,0,0,0,0,0,0,0,0,0,0,null,"","","","","","","","","","","","","","","","","","","","","","","","","",null,"","","","","","","","","","","","","","","","","","","","","","","","","",null,"0 menunjukkan pemahaman dalam ",null,null,"0 membutuhkan bimbingan dalam "]
[null,null,32,{"$f":"'DATA SISWA'!F41","v":0},null,null,null,null,null,null,null,null,null,null,null,null,null,null,null,null,null,null,null,null,null,null,null,null,null,null,null,null,null,null,null,null,null,null,null,null,null,null,null,null,null,null,null,null,null,null,null,null,null,null,"0 menunjukkan pemahaman dalam ","0 membutuhkan bimbingan dalam ",null,null,0,0,0,0,0,0,0,0,0,0,0,0,0,0,0,0,0,0,0,0,0,0,0,0,0,null,0,0,0,0,0,0,0,0,0,0,0,0,0,0,0,0,0,0,0,0,0,0,0,0,0,null,"","","","","","","","","","","","","","","","","","","","","","","","","",null,"","","","","","","","","","","","","","","","","","","","","","","","","",null,"0 menunjukkan pemahaman dalam ",null,null,"0 membutuhkan bimbingan dalam "]
[null,null,33,{"$f":"'DATA SISWA'!F42","v":0},null,null,null,null,null,null,null,null,null,null,null,null,null,null,null,null,null,null,null,null,null,null,null,null,null,null,null,null,null,null,null,null,null,null,null,null,null,null,null,null,null,null,null,null,null,null,null,null,null,null,"0 menunjukkan pemahaman dalam ","0 membutuhkan bimbingan dalam ",null,null,0,0,0,0,0,0,0,0,0,0,0,0,0,0,0,0,0,0,0,0,0,0,0,0,0,null,0,0,0,0,0,0,0,0,0,0,0,0,0,0,0,0,0,0,0,0,0,0,0,0,0,null,"","","","","","","","","","","","","","","","","","","","","","","","","",null,"","","","","","","","","","","","","","","","","","","","","","","","","",null,"0 menunjukkan pemahaman dalam ",null,null,"0 membutuhkan bimbingan dalam "]
[null,null,34,{"$f":"'DATA SISWA'!F43","v":0},null,null,null,null,null,null,null,null,null,null,null,null,null,null,null,null,null,null,null,null,null,null,null,null,null,null,null,null,null,null,null,null,null,null,null,null,null,null,null,null,null,null,null,null,null,null,null,null,null,null,"0 menunjukkan pemahaman dalam ","0 membutuhkan bimbingan dalam ",null,null,0,0,0,0,0,0,0,0,0,0,0,0,0,0,0,0,0,0,0,0,0,0,0,0,0,null,0,0,0,0,0,0,0,0,0,0,0,0,0,0,0,0,0,0,0,0,0,0,0,0,0,null,"","","","","","","","","","","","","","","","","","","","","","","","","",null,"","","","","","","","","","","","","","","","","","","","","","","","","",null,"0 menunjukkan pemahaman dalam ",null,null,"0 membutuhkan bimbingan dalam "]
[null,null,35,{"$f":"'DATA SISWA'!F44","v":0},null,null,null,null,null,null,null,null,null,null,null,null,null,null,null,null,null,null,null,null,null,null,null,null,null,null,null,null,null,null,null,null,null,null,null,null,null,null,null,null,null,null,null,null,null,null,null,null,null,null,"0 menunjukkan pemahaman dalam ","0 membutuhkan bimbingan dalam ",null,null,0,0,0,0,0,0,0,0,0,0,0,0,0,0,0,0,0,0,0,0,0,0,0,0,0,null,0,0,0,0,0,0,0,0,0,0,0,0,0,0,0,0,0,0,0,0,0,0,0,0,0,null,"","","","","","","","","","","","","","","","","","","","","","","","","",null,"","","","","","","","","","","","","","","","","","","","","","","","","",null,"0 menunjukkan pemahaman dalam ",null,null,"0 membutuhkan bimbingan dalam "]
[null,null,36,{"$f":"'DATA SISWA'!F45","v":0},null,null,null,null,null,null,null,null,null,null,null,null,null,null,null,null,null,null,null,null,null,null,null,null,null,null,null,null,null,null,null,null,null,null,null,null,null,null,null,null,null,null,null,null,null,null,null,null,null,null,"0 menunjukkan pemahaman dalam ","0 membutuhkan bimbingan dalam ",null,null,0,0,0,0,0,0,0,0,0,0,0,0,0,0,0,0,0,0,0,0,0,0,0,0,0,null,0,0,0,0,0,0,0,0,0,0,0,0,0,0,0,0,0,0,0,0,0,0,0,0,0,null,"","","","","","","","","","","","","","","","","","","","","","","","","",null,"","","","","","","","","","","","","","","","","","","","","","","","","",null,"0 menunjukkan pemahaman dalam ",null,null,"0 membutuhkan bimbingan dalam "]
[null,null,37,{"$f":"'DATA SISWA'!F46","v":0},null,null,null,null,null,null,null,null,null,null,null,null,null,null,null,null,null,null,null,null,null,null,null,null,null,null,null,null,null,null,null,null,null,null,null,null,null,null,null,null,null,null,null,null,null,null,null,null,null,null,"0 menunjukkan pemahaman dalam ","0 membutuhkan bimbingan dalam ",null,null,0,0,0,0,0,0,0,0,0,0,0,0,0,0,0,0,0,0,0,0,0,0,0,0,0,null,0,0,0,0,0,0,0,0,0,0,0,0,0,0,0,0,0,0,0,0,0,0,0,0,0,null,"","","","","","","","","","","","","","","","","","","","","","","","","",null,"","","","","","","","","","","","","","","","","","","","","","","","","",null,"0 menunjukkan pemahaman dalam ",null,null,"0 membutuhkan bimbingan dalam "]
[null,null,38,{"$f":"'DATA SISWA'!F47","v":0},null,null,null,null,null,null,null,null,null,null,null,null,null,null,null,null,null,null,null,null,null,null,null,null,null,null,null,null,null,null,null,null,null,null,null,null,null,null,null,null,null,null,null,null,null,null,null,null,null,null,"0 menunjukkan pemahaman dalam ","0 membutuhkan bimbingan dalam ",null,null,0,0,0,0,0,0,0,0,0,0,0,0,0,0,0,0,0,0,0,0,0,0,0,0,0,null,0,0,0,0,0,0,0,0,0,0,0,0,0,0,0,0,0,0,0,0,0,0,0,0,0,null,"","","","","","","","","","","","","","","","","","","","","","","","","",null,"","","","","","","","","","","","","","","","","","","","","","","","","",null,"0 menunjukkan pemahaman dalam ",null,null,"0 membutuhkan bimbingan dalam "]
[null,null,39,{"$f":"'DATA SISWA'!F48","v":0},null,null,null,null,null,null,null,null,null,null,null,null,null,null,null,null,null,null,null,null,null,null,null,null,null,null,null,null,null,null,null,null,null,null,null,null,null,null,null,null,null,null,null,null,null,null,null,null,null,null,"0 menunjukkan pemahaman dalam ","0 membutuhkan bimbingan dalam ",null,null,0,0,0,0,0,0,0,0,0,0,0,0,0,0,0,0,0,0,0,0,0,0,0,0,0,null,0,0,0,0,0,0,0,0,0,0,0,0,0,0,0,0,0,0,0,0,0,0,0,0,0,null,"","","","","","","","","","","","","","","","","","","","","","","","","",null,"","","","","","","","","","","","","","","","","","","","","","","","","",null,"0 menunjukkan pemahaman dalam ",null,null,"0 membutuhkan bimbingan dalam "]
[null,null,40,{"$f":"'DATA SISWA'!F49","v":0},null,null,null,null,null,null,null,null,null,null,null,null,null,null,null,null,null,null,null,null,null,null,null,null,null,null,null,null,null,null,null,null,null,null,null,null,null,null,null,null,null,null,null,null,null,null,null,null,null,null,"0 menunjukkan pemahaman dalam ","0 membutuhkan bimbingan dalam ",null,null,0,0,0,0,0,0,0,0,0,0,0,0,0,0,0,0,0,0,0,0,0,0,0,0,0,null,0,0,0,0,0,0,0,0,0,0,0,0,0,0,0,0,0,0,0,0,0,0,0,0,0,null,"","","","","","","","","","","","","","","","","","","","","","","","","",null,"","","","","","","","","","","","","","","","","","","","","","","","","",null,"0 menunjukkan pemahaman dalam ",null,null,"0 membutuhkan bimbingan dalam "]

{"sheet":"F4","index":37,"n_rows":56,"n_cols":166,"rows_kept":56,"cut":false,"hidden":false,"merged":[[13,24,13,25],[2,1,2,54],[4,1,4,54],[12,2,15,2],[12,3,15,3],[12,4,12,53],[13,4,13,5],[13,6,13,7],[13,8,13,9],[13,10,13,11],[13,12,13,13],[13,14,13,15],[13,16,13,17],[13,18,13,19],[13,20,13,21],[13,22,13,23],[13,36,13,37],[13,38,13,39],[13,40,13,41],[13,42,13,43],[13,44,13,45],[13,26,13,27],[13,28,13,29],[13,30,13,31],[13,32,13,33],[13,34,13,35],[13,152,13,153],[13,154,13,155],[13,156,13,157],[13,158,13,159],[14,4,14,5],[14,6,14,7],[14,8,14,9],[14,10,14,11],[14,12,14,13],[14,14,14,15],[13,50,13,51],[13,52,13,53],[13,144,13,145],[13,146,13,147],[13,148,13,149],[13,150,13,151],[14,38,14,39],[14,16,14,17],[14,18,14,19],[14,20,14,21],[14,22,14,23],[14,24,14,25],[14,26,14,27],[14,28,14,29],[14,30,14,31],[14,32,14,33],[14,34,14,35],[14,36,14,37],[12,54,15,54],[12,55,15,55],[14,52,14,53],[14,40,14,41],[14,42,14,43],[14,44,14,45],[14,46,14,47],[14,48,14,49],[14,50,14,51],[13,48,13,49],[13,46,13,47]]}
[]
[]
[null,"INPUT ASESMEN FORMATIF"]
[]
[null,{"$f":"\"MATA PELAJARAN : \"&INTRAKURIKULER!D12","v":"MATA PELAJARAN : "}]
[null,"Petunjuk Pengisian :"]
[null,null,1,"Rapor ini berasumsi bahwa guru telah melakukan penilaian formatif dan direkap dalam lembar tersendiri"]
[null,null,2,"Pada Kolom KKTP, pilih '0' jika siswa tidak memenuhi KKTP, Pilih '1' jika siswa memenuhi KKTP. Bisa juga diketikkan langsung angka 1 atau 0"]
[null,null,3,"Pada Kolom Tampil/Tidak, pilih '0' jika tidak ingin menampilkan TP tersebut di deskripsi rapor, pilih '1' jika ingin menampilkan TP di deskripsi rapor. Bisa juga diketikkan langsung angka 1 atau 0",null,null,null,null,null,null,null,null,null,null,null,null,null,null,null,null,null,null,null,null,null,null,null,null,null,null,null,null,null,null,null,null,null,null,null,null,null,null,null,null,null,null,null,null,null,null,null,null,null,null,null,null,null,null,0]
[null,"Contoh :",null,"Pada TP 1, siswa mencapai KKTP tapi tidak ingin ditampilkan dalam rapor. Pilih KKTP = 1, dan Tampil/Tidak = 0.",null,null,null,null,null,null,null,null,null,null,null,null,null,null,null,"Isilah hanya pada TP yang diinginkan",null,null,null,null,null,null,null,null,null,null,null,null,null,null,null,null,null,null,null,null,null,null,null,null,null,null,null,null,null,null,null,null,null,null,null,null,null,null,1]
[null,null,null,"Pada TP 2, siswa tidak mencapai KKTP tapi ingin ditampilkan dalam rapor. Pilih KKTP = 0, dan Tampil/Tidak = 1.",null,null,null,null,null,null,null,null,null,null,null,null,null,null,null,"masuk dalam deskripsi rapor"]
[]
[null,null,"No","Nama Siswa","Tujuan Pembelajaran",null,null,null,null,null,null,null,null,null,null,null,null,null,null,null,null,null,null,null,null,null,null,null,null,null,null,null,null,null,null,null,null,null,null,null,null,null,null,null,null,null,null,null,null,null,null,null,null,null,"Deskripsi Capaian Tertinggi dalam Rapor","Deskripsi Capaian Terendah dalam Rapor"]
[null,null,null,null,"TP 1",null,"TP 2",null,"TP 3",null,"TP 4",null,"TP 5",null,"TP 6",null,"TP 7",null,"TP 8",null,"TP 9",null,"TP 10",null,"TP 11",null,"TP 12",null,"TP 13",null,"TP 14",null,"TP 15",null,"TP 16",null,"TP 17",null,"TP 18",null,"TP 19",null,"TP 20",null,"TP 21",null,"TP 22",null,"TP 23",null,"TP 24",null,"TP 25",null,null,null,null,null,null,null,null,null,null,null,null,null,null,null,null,null,null,null,null,null,null,null,null,null,null,null,null,null,null,null,null,null,null,null,null,null,null,null,null,null,null,null,null,null,null,null,null,null,null,null,null,null,null,null,null,null,"mencapai",null,null,null,null,null,null,null,null,null,null,null,null,null,null,null,null,null,null,null,null,null,null,null,null,null,"tidak mencapai"]
[null,null,null,null,{"$f":"'TP 4'!D8","v":1},null,{"$f":"'TP 4'!D9","v":2},null,{"$f":"'TP 4'!D10","v":3},null,{"$f":"'TP 4'!D11","v":4},null,{"$f":"'TP 4'!D12","v":5},null,{"$f":"'TP 4'!D13","v":6},null,{"$f":"'TP 4'!D14","v":7},null,{"$f":"'TP 4'!D15","v":8},null,{"$f":"'TP 4'!D16","v":9},null,{"$f":"'TP 4'!D17","v":10},null,{"$f":"'TP 4'!D18","v":11},null,{"$f":"'TP 4'!D19","v":12},null,{"$f":"'TP 4'!D20","v":13},null,{"$f":"'TP 4'!D21","v":14},null,{"$f":"'TP 4'!D22","v":15},null,{"$f":"'TP 4'!D23","v":16},null,{"$f":"'TP 4'!D24","v":17},null,{"$f":"'TP 4'!D25","v":18},null,{"$f":"'TP 4'!D26","v":19},null,{"$f":"'TP 4'!D27","v":20},null,{"$f":"'TP 4'!D28","v":21},null,{"$f":"'TP 4'!D29","v":22},null,{"$f":"'TP 4'!D30","v":23},null,{"$f":"'TP 4'!D31","v":24},null,{"$f":"'TP 4'!D32","v":25},null,null,null,null,null,1,2,3,4,5,6,7,8,9,10,11,12,13,14,15,16,17,18,19,20,21,22,23,24,25,null,1,2,3,4,5,6,7,8,9,10,11,12,13,14,15,16,17,18,19,20,21,22,23,24,25,null,{"$f":"E15","v":1},{"$f":"G15","v":2},{"$f":"I15","v":3},{"$f":"K15","v":4},{"$f":"M15","v":5},{"$f":"O15","v":6},{"$f":"Q15","v":7},{"$f":"S15","v":8},{"$f":"U15","v":9},{"$f":"W15","v":10},{"$f":"Y15","v":11},{"$f":"AA15","v":12},{"$f":"AC15","v":13},{"$f":"AE15","v":14},{"$f":"AG15","v":15},{"$f":"AI15","v":16},{"$f":"AK15","v":17},{"$f":"AM15","v":18},{"$f":"AO15","v":19},{"$f":"AQ15","v":20},{"$f":"AS15","v":21},{"$f":"AU15","v":22},{"$f":"AW15","v":23},{"$f":"AY15","v":24},{"$f":"BA15","v":25},null,{"$f":"DG15","v":1},{"$f":"DH15","v":2},3,4,5,6,7,8,9,10,11,12,13,14,15,16,17,18,19,20,21,22,23,24,25,null,"mencapai",null,null,"tidak mencapai"]
[null,null,null,null,"KKTP","Tampil/Tidak","KKTP","Tampil/Tidak","KKTP","Tampil/Tidak","KKTP","Tampil/Tidak","KKTP","Tampil/Tidak","KKTP","Tampil/Tidak","KKTP","Tampil/Tidak","KKTP","Tampil/Tidak","KKTP","Tampil/Tidak","KKTP","Tampil/Tidak","KKTP","Tampil/Tidak","KKTP","Tampil/Tidak","KKTP","Tampil/Tidak","KKTP","Tampil/Tidak","KKTP","Tampil/Tidak","KKTP","Tampil/Tidak","KKTP","Tampil/Tidak","KKTP","Tampil/Tidak","KKTP","Tampil/Tidak","KKTP","Tampil/Tidak","KKTP","Tampil/Tidak","KKTP","Tampil/Tidak","KKTP","Tampil/Tidak","KKTP","Tampil/Tidak","KKTP","Tampil/Tidak",null,null,null,null,null,null,null,null,null,null,null,null,null,null,null,null,null,null,null,null,null,null,null,null,null,null,null,null,null,null,"kktp",null,null,null,null,null,null,null,null,null,null,null,null,null,null,null,null,null,null,null,null,null,null,null,null,null,1,2,3,4,5,6,7,8,9,10,11,12,13,14,15,16,17,18,19,20,21,22,23,24,25,null,1,2,3,4,5,6,7,8,9,10,11,12,13,14,15,16,17,18,19,20,21,22,23,24,25]
[null,null,1,{"$f":"'DATA SISWA'!F10","v":0},null,null,null,null,null,null,null,null,null,null,null,null,null,null,null,null,null,null,null,null,null,null,null,null,null,null,null,null,null,null,null,null,null,null,null,null,null,null,null,null,null,null,null,null,null,null,null,null,null,null,{"$f":"FG17","v":"0 menunjukkan pemahaman dalam "},{"$f":"FJ17","v":"0 membutuhkan bimbingan dalam "},null,null,{"$f":"F17","v":0},{"$f":"H17","v":0},{"$f":"J17","v":0},{"$f":"L17","v":0},{"$f":"N17","v":0},{"$f":"P17","v":0},{"$f":"R17","v":0},{"$f":"T17","v":0},{"$f":"V17","v":0},{"$f":"X17","v":0},{"$f":"Z17","v":0},{"$f":"AB17","v":0},{"$f":"AD17","v":0},{"$f":"AF17","v":0},{"$f":"AH17","v":0},{"$f":"AJ17","v":0},{"$f":"AL17","v":0},{"$f":"AN17","v":0},{"$f":"AP17","v":0},{"$f":"AR17","v":0},{"$f":"AT17","v":0},{"$f":"AV17","v":0},{"$f":"AX17","v":0},{"$f":"AZ17","v":0},{"$f":"BB17","v":0},null,{"$f":"E17","v":0},{"$f":"G17","v":0},{"$f":"I17","v":0},{"$f":"K17","v":0},{"$f":"M17","v":0},{"$f":"O17","v":0},{"$f":"Q17","v":0},{"$f":"S17","v":0},{"$f":"U17","v":0},{"$f":"W17","v":0},{"$f":"Y17","v":0},{"$f":"AA17","v":0},{"$f":"AC17","v":0},{"$f":"AE17","v":0},{"$f":"AG17","v":0},{"$f":"AI17","v":0},{"$f":"AK17","v":0},{"$f":"AM17","v":0},{"$f":"AO17","v":0},{"$f":"AQ17","v":0},{"$f":"AS17","v":0},{"$f":"AU17","v":0},{"$f":"AW17","v":0},{"$f":"AY17","v":0},{"$f":"BA17","v":0},null,{"$f":"IF(AND(BG17=1,CG17=1),DG$15&\", \",\"\")","v":""},{"$f":"IF(AND(BH17=1,CH17=1),DH$15&\", \",\"\")","v":""},"","","","","","","","","","","","","","","",{"$f":"IF(AND(BX17=1,CX17=1),DX$15&\", \",\"\")","v":""},"","","","","","","",null,{"$f":"IF(AND(BG17=1,CG17=0),EG$15&\", \",\"\")","v":""},{"$f":"IF(AND(BH17=1,CH17=0),EH$15&\", \",\"\")","v":""},"","","","","","","","","","","","","","","",{"$f":"IF(AND(BX17=1,CX17=0),EX$15&\", \",\"\")","v":""},"","","","","","","",null,{"$f":"PROPER(D17)&\" menunjukkan pemahaman dalam \"&DG17&DH17&DI17&DJ17&DK17&DL17&DM17&DN17&DO17&DP17&DQ17&DR17&DS17&DT17&DU17&DV17&DW17&DX17&DY17&DZ17&EA17&EB17&EC17&ED17&EE17","v":"0 menunjukkan pemahaman dalam "},null,null,{"$f":"PROPER(D17)&\" membutuhkan bimbingan dalam \"&EG17&EH17&EI17&EJ17&EK17&EL17&EM17&EN17&EO17&EP17&EQ17&ER17&ES17&ET17&EU17&EV17&EW17&EX17&EY17&EZ17&FA17&FB17&FC17&FD17&FE17","v":"0 membutuhkan bimbingan dalam "}]
[null,null,2,{"$f":"'DATA SISWA'!F11","v":0},null,null,null,null,null,null,null,null,null,null,null,null,null,null,null,null,null,null,null,null,null,null,null,null,null,null,null,null,null,null,null,null,null,null,null,null,null,null,null,null,null,null,null,null,null,null,null,null,null,null,{"$f":"FG18","v":"0 menunjukkan pemahaman dalam "},{"$f":"FJ18","v":"0 membutuhkan bimbingan dalam "},null,null,{"$f":"F18","v":0},{"$f":"H18","v":0},{"$f":"J18","v":0},{"$f":"L18","v":0},{"$f":"N18","v":0},{"$f":"P18","v":0},{"$f":"R18","v":0},{"$f":"T18","v":0},{"$f":"V18","v":0},{"$f":"X18","v":0},{"$f":"Z18","v":0},{"$f":"AB18","v":0},{"$f":"AD18","v":0},{"$f":"AF18","v":0},{"$f":"AH18","v":0},{"$f":"AJ18","v":0},{"$f":"AL18","v":0},{"$f":"AN18","v":0},{"$f":"AP18","v":0},{"$f":"AR18","v":0},{"$f":"AT18","v":0},{"$f":"AV18","v":0},{"$f":"AX18","v":0},{"$f":"AZ18","v":0},{"$f":"BB18","v":0},null,{"$f":"E18","v":0},{"$f":"G18","v":0},{"$f":"I18","v":0},{"$f":"K18","v":0},{"$f":"M18","v":0},{"$f":"O18","v":0},{"$f":"Q18","v":0},{"$f":"S18","v":0},{"$f":"U18","v":0},{"$f":"W18","v":0},{"$f":"Y18","v":0},{"$f":"AA18","v":0},{"$f":"AC18","v":0},{"$f":"AE18","v":0},{"$f":"AG18","v":0},{"$f":"AI18","v":0},{"$f":"AK18","v":0},{"$f":"AM18","v":0},{"$f":"AO18","v":0},{"$f":"AQ18","v":0},{"$f":"AS18","v":0},{"$f":"AU18","v":0},{"$f":"AW18","v":0},{"$f":"AY18","v":0},{"$f":"BA18","v":0},null,{"$f":"IF(AND(BG18=1,CG18=1),DG$15&\", \",\"\")","v":""},"","","","","","","","","","","","","","","","","","","","","","","","",null,{"$f":"IF(AND(BG18=1,CG18=0),EG$15&\", \",\"\")","v":""},"","","","","","","","","","","","","","","","","","","","","","","","",null,{"$f":"PROPER(D18)&\" menunjukkan pemahaman dalam \"&DG18&DH18&DI18&DJ18&DK18&DL18&DM18&DN18&DO18&DP18&DQ18&DR18&DS18&DT18&DU18&DV18&DW18&DX18&DY18&DZ18&EA18&EB18&EC18&ED18&EE18","v":"0 menunjukkan pemahaman dalam "},null,null,{"$f":"PROPER(D18)&\" membutuhkan bimbingan dalam \"&EG18&EH18&EI18&EJ18&EK18&EL18&EM18&EN18&EO18&EP18&EQ18&ER18&ES18&ET18&EU18&EV18&EW18&EX18&EY18&EZ18&FA18&FB18&FC18&FD18&FE18","v":"0 membutuhkan bimbingan dalam "}]
[null,null,3,{"$f":"'DATA SISWA'!F12","v":0},null,null,null,null,null,null,null,null,null,null,null,null,null,null,null,null,null,null,null,null,null,null,null,null,null,null,null,null,null,null,null,null,null,null,null,null,null,null,null,null,null,null,null,null,null,null,null,null,null,null,"0 menunjukkan pemahaman dalam ","0 membutuhkan bimbingan dalam ",null,null,0,0,0,0,0,0,0,0,0,0,0,0,0,0,0,0,0,0,0,0,0,0,0,0,0,null,0,0,0,0,0,0,0,0,0,0,0,0,0,0,0,0,0,0,0,0,0,0,0,0,0,null,"","","","","","","","","","","","","","","","","","","","","","","","","",null,"","","","","","","","","","","","","","","","","","","","","","","","","",null,"0 menunjukkan pemahaman dalam ",null,null,"0 membutuhkan bimbingan dalam "]
[null,null,4,{"$f":"'DATA SISWA'!F13","v":0},null,null,null,null,null,null,null,null,null,null,null,null,null,null,null,null,null,null,null,null,null,null,null,null,null,null,null,null,null,null,null,null,null,null,null,null,null,null,null,null,null,null,null,null,null,null,null,null,null,null,"0 menunjukkan pemahaman dalam ","0 membutuhkan bimbingan dalam ",null,null,0,0,0,0,0,0,0,0,0,0,0,0,0,0,0,0,0,0,0,0,0,0,0,0,0,null,0,0,0,0,0,0,0,0,0,0,0,0,0,0,0,0,0,0,0,0,0,0,0,0,0,null,"","","","","","","","","","","","","","","","","","","","","","","","","",null,"","","","","","","","","","","","","","","","","","","","","","","","","",null,"0 menunjukkan pemahaman dalam ",null,null,"0 membutuhkan bimbingan dalam "]
[null,null,5,{"$f":"'DATA SISWA'!F14","v":0},null,null,null,null,null,null,null,null,null,null,null,null,null,null,null,null,null,null,null,null,null,null,null,null,null,null,null,null,null,null,null,null,null,null,null,null,null,null,null,null,null,null,null,null,null,null,null,null,null,null,"0 menunjukkan pemahaman dalam ","0 membutuhkan bimbingan dalam ",null,null,0,0,0,0,0,0,0,0,0,0,0,0,0,0,0,0,0,0,0,0,0,0,0,0,0,null,0,0,0,0,0,0,0,0,0,0,0,0,0,0,0,0,0,0,0,0,0,0,0,0,0,null,"","","","","","","","","","","","","","","","","","","","","","","","","",null,"","","","","","","","","","","","","","","","","","","","","","","","","",null,"0 menunjukkan pemahaman dalam ",null,null,"0 membutuhkan bimbingan dalam "]
[null,null,6,{"$f":"'DATA SISWA'!F15","v":0},null,null,null,null,null,null,null,null,null,null,null,null,null,null,null,null,null,null,null,null,null,null,null,null,null,null,null,null,null,null,null,null,null,null,null,null,null,null,null,null,null,null,null,null,null,null,null,null,null,null,"0 menunjukkan pemahaman dalam ","0 membutuhkan bimbingan dalam ",null,null,0,0,0,0,0,0,0,0,0,0,0,0,0,0,0,0,0,0,0,0,0,0,0,0,0,null,0,0,0,0,0,0,0,0,0,0,0,0,0,0,0,0,0,0,0,0,0,0,0,0,0,null,"","","","","","","","","","","","","","","","","","","","","","","","","",null,"","","","","","","","","","","","","","","","","","","","","","","","","",null,"0 menunjukkan pemahaman dalam ",null,null,"0 membutuhkan bimbingan dalam "]
[null,null,7,{"$f":"'DATA SISWA'!F16","v":0},null,null,null,null,null,null,null,null,null,null,null,null,null,null,null,null,null,null,null,null,null,null,null,null,null,null,null,null,null,null,null,null,null,null,null,null,null,null,null,null,null,null,null,null,null,null,null,null,null,null,"0 menunjukkan pemahaman dalam ","0 membutuhkan bimbingan dalam ",null,null,0,0,0,0,0,0,0,0,0,0,0,0,0,0,0,0,0,0,0,0,0,0,0,0,0,null,0,0,0,0,0,0,0,0,0,0,0,0,0,0,0,0,0,0,0,0,0,0,0,0,0,null,"","","","","","","","","","","","","","","","","","","","","","","","","",null,"","","","","","","","","","","","","","","","","","","","","","","","","",null,"0 menunjukkan pemahaman dalam ",null,null,"0 membutuhkan bimbingan dalam "]
[null,null,8,{"$f":"'DATA SISWA'!F17","v":0},null,null,null,null,null,null,null,null,null,null,null,null,null,null,null,null,null,null,null,null,null,null,null,null,null,null,null,null,null,null,null,null,null,null,null,null,null,null,null,null,null,null,null,null,null,null,null,null,null,null,"0 menunjukkan pemahaman dalam ","0 membutuhkan bimbingan dalam ",null,null,0,0,0,0,0,0,0,0,0,0,0,0,0,0,0,0,0,0,0,0,0,0,0,0,0,null,0,0,0,0,0,0,0,0,0,0,0,0,0,0,0,0,0,0,0,0,0,0,0,0,0,null,"","","","","","","","","","","","","","","","","","","","","","","","","",null,"","","","","","","","","","","","","","","","","","","","","","","","","",null,"0 menunjukkan pemahaman dalam ",null,null,"0 membutuhkan bimbingan dalam "]
[null,null,9,{"$f":"'DATA SISWA'!F18","v":0},null,null,null,null,null,null,null,null,null,null,null,null,null,null,null,null,null,null,null,null,null,null,null,null,null,null,null,null,null,null,null,null,null,null,null,null,null,null,null,null,null,null,null,null,null,null,null,null,null,null,"0 menunjukkan pemahaman dalam ","0 membutuhkan bimbingan dalam ",null,null,0,0,0,0,0,0,0,0,0,0,0,0,0,0,0,0,0,0,0,0,0,0,0,0,0,null,0,0,0,0,0,0,0,0,0,0,0,0,0,0,0,0,0,0,0,0,0,0,0,0,0,null,"","","","","","","","","","","","","","","","","","","","","","","","","",null,"","","","","","","","","","","","","","","","","","","","","","","","","",null,"0 menunjukkan pemahaman dalam ",null,null,"0 membutuhkan bimbingan dalam "]
[null,null,10,{"$f":"'DATA SISWA'!F19","v":0},null,null,null,null,null,null,null,null,null,null,null,null,null,null,null,null,null,null,null,null,null,null,null,null,null,null,null,null,null,null,null,null,null,null,null,null,null,null,null,null,null,null,null,null,null,null,null,null,null,null,"0 menunjukkan pemahaman dalam ","0 membutuhkan bimbingan dalam ",null,null,0,0,0,0,0,0,0,0,0,0,0,0,0,0,0,0,0,0,0,0,0,0,0,0,0,null,0,0,0,0,0,0,0,0,0,0,0,0,0,0,0,0,0,0,0,0,0,0,0,0,0,null,"","","","","","","","","","","","","","","","","","","","","","","","","",null,"","","","","","","","","","","","","","","","","","","","","","","","","",null,"0 menunjukkan pemahaman dalam ",null,null,"0 membutuhkan bimbingan dalam "]
[null,null,11,{"$f":"'DATA SISWA'!F20","v":0},null,null,null,null,null,null,null,null,null,null,null,null,null,null,null,null,null,null,null,null,null,null,null,null,null,null,null,null,null,null,null,null,null,null,null,null,null,null,null,null,null,null,null,null,null,null,null,null,null,null,"0 menunjukkan pemahaman dalam ","0 membutuhkan bimbingan dalam ",null,null,0,0,0,0,0,0,0,0,0,0,0,0,0,0,0,0,0,0,0,0,0,0,0,0,0,null,0,0,0,0,0,0,0,0,0,0,0,0,0,0,0,0,0,0,0,0,0,0,0,0,0,null,"","","","","","","","","","","","","","","","","","","","","","","","","",null,"","","","","","","","","","","","","","","","","","","","","","","","","",null,"0 menunjukkan pemahaman dalam ",null,null,"0 membutuhkan bimbingan dalam "]
[null,null,12,{"$f":"'DATA SISWA'!F21","v":0},null,null,null,null,null,null,null,null,null,null,null,null,null,null,null,null,null,null,null,null,null,null,null,null,null,null,null,null,null,null,null,null,null,null,null,null,null,null,null,null,null,null,null,null,null,null,null,null,null,null,"0 menunjukkan pemahaman dalam ","0 membutuhkan bimbingan dalam ",null,null,0,0,0,0,0,0,0,0,0,0,0,0,0,0,0,0,0,0,0,0,0,0,0,0,0,null,0,0,0,0,0,0,0,0,0,0,0,0,0,0,0,0,0,0,0,0,0,0,0,0,0,null,"","","","","","","","","","","","","","","","","","","","","","","","","",null,"","","","","","","","","","","","","","","","","","","","","","","","","",null,"0 menunjukkan pemahaman dalam ",null,null,"0 membutuhkan bimbingan dalam "]
[null,null,13,{"$f":"'DATA SISWA'!F22","v":0},null,null,null,null,null,null,null,null,null,null,null,null,null,null,null,null,null,null,null,null,null,null,null,null,null,null,null,null,null,null,null,null,null,null,null,null,null,null,null,null,null,null,null,null,null,null,null,null,null,null,"0 menunjukkan pemahaman dalam ","0 membutuhkan bimbingan dalam ",null,null,0,0,0,0,0,0,0,0,0,0,0,0,0,0,0,0,0,0,0,0,0,0,0,0,0,null,0,0,0,0,0,0,0,0,0,0,0,0,0,0,0,0,0,0,0,0,0,0,0,0,0,null,"","","","","","","","","","","","","","","","","","","","","","","","","",null,"","","","","","","","","","","","","","","","","","","","","","","","","",null,"0 menunjukkan pemahaman dalam ",null,null,"0 membutuhkan bimbingan dalam "]
[null,null,14,{"$f":"'DATA SISWA'!F23","v":0},null,null,null,null,null,null,null,null,null,null,null,null,null,null,null,null,null,null,null,null,null,null,null,null,null,null,null,null,null,null,null,null,null,null,null,null,null,null,null,null,null,null,null,null,null,null,null,null,null,null,"0 menunjukkan pemahaman dalam ","0 membutuhkan bimbingan dalam ",null,null,0,0,0,0,0,0,0,0,0,0,0,0,0,0,0,0,0,0,0,0,0,0,0,0,0,null,0,0,0,0,0,0,0,0,0,0,0,0,0,0,0,0,0,0,0,0,0,0,0,0,0,null,"","","","","","","","","","","","","","","","","","","","","","","","","",null,"","","","","","","","","","","","","","","","","","","","","","","","","",null,"0 menunjukkan pemahaman dalam ",null,null,"0 membutuhkan bimbingan dalam "]
[null,null,15,{"$f":"'DATA SISWA'!F24","v":0},null,null,null,null,null,null,null,null,null,null,null,null,null,null,null,null,null,null,null,null,null,null,null,null,null,null,null,null,null,null,null,null,null,null,null,null,null,null,null,null,null,null,null,null,null,null,null,null,null,null,"0 menunjukkan pemahaman dalam ","0 membutuhkan bimbingan dalam ",null,null,0,0,0,0,0,0,0,0,0,0,0,0,0,0,0,0,0,0,0,0,0,0,0,0,0,null,0,0,0,0,0,0,0,0,0,0,0,0,0,0,0,0,0,0,0,0,0,0,0,0,0,null,"","","","","","","","","","","","","","","","","","","","","","","","","",null,"","","","","","","","","","","","","","","","","","","","","","","","","",null,"0 menunjukkan pemahaman dalam ",null,null,"0 membutuhkan bimbingan dalam "]
[null,null,16,{"$f":"'DATA SISWA'!F25","v":0},null,null,null,null,null,null,null,null,null,null,null,null,null,null,null,null,null,null,null,null,null,null,null,null,null,null,null,null,null,null,null,null,null,null,null,null,null,null,null,null,null,null,null,null,null,null,null,null,null,null,"0 menunjukkan pemahaman dalam ","0 membutuhkan bimbingan dalam ",null,null,0,0,0,0,0,0,0,0,0,0,0,0,0,0,0,0,0,0,0,0,0,0,0,0,0,null,0,0,0,0,0,0,0,0,0,0,0,0,0,0,0,0,0,0,0,0,0,0,0,0,0,null,"","","","","","","","","","","","","","","","","","","","","","","","","",null,"","","","","","","","","","","","","","","","","","","","","","","","","",null,"0 menunjukkan pemahaman dalam ",null,null,"0 membutuhkan bimbingan dalam "]
[null,null,17,{"$f":"'DATA SISWA'!F26","v":0},null,null,null,null,null,null,null,null,null,null,null,null,null,null,null,null,null,null,null,null,null,null,null,null,null,null,null,null,null,null,null,null,null,null,null,null,null,null,null,null,null,null,null,null,null,null,null,null,null,null,"0 menunjukkan pemahaman dalam ","0 membutuhkan bimbingan dalam ",null,null,0,0,0,0,0,0,0,0,0,0,0,0,0,0,0,0,0,0,0,0,0,0,0,0,0,null,0,0,0,0,0,0,0,0,0,0,0,0,0,0,0,0,0,0,0,0,0,0,0,0,0,null,"","","","","","","","","","","","","","","","",{"$f":"IF(AND(BW33=1,CW33=1),DW$15&\", \",\"\")","v":""},"","","","","","","","",null,"","","","","","","","","","","","","","","","",{"$f":"IF(AND(BW33=1,CW33=0),EW$15&\", \",\"\")","v":""},"","","","","","","","",null,"0 menunjukkan pemahaman dalam ",null,null,"0 membutuhkan bimbingan dalam "]
[null,null,18,{"$f":"'DATA SISWA'!F27","v":0},null,null,null,null,null,null,null,null,null,null,null,null,null,null,null,null,null,null,null,null,null,null,null,null,null,null,null,null,null,null,null,null,null,null,null,null,null,null,null,null,null,null,null,null,null,null,null,null,null,null,"0 menunjukkan pemahaman dalam ","0 membutuhkan bimbingan dalam ",null,null,0,0,0,0,0,0,0,0,0,0,0,0,0,0,0,0,0,0,0,0,0,0,0,0,0,null,0,0,0,0,0,0,0,0,0,0,0,0,0,0,0,0,0,0,0,0,0,0,0,0,0,null,"","","","","","","","","","","","","","","","","","","","","","","","","",null,"","","","","","","","","","","","","","","","","","","","","","","","","",null,"0 menunjukkan pemahaman dalam ",null,null,"0 membutuhkan bimbingan dalam "]
[null,null,19,{"$f":"'DATA SISWA'!F28","v":0},null,null,null,null,null,null,null,null,null,null,null,null,null,null,null,null,null,null,null,null,null,null,null,null,null,null,null,null,null,null,null,null,null,null,null,null,null,null,null,null,null,null,null,null,null,null,null,null,null,null,"0 menunjukkan pemahaman dalam ","0 membutuhkan bimbingan dalam ",null,null,0,0,0,0,0,0,0,0,0,0,0,0,0,0,0,0,0,0,0,0,0,0,0,0,0,null,0,0,0,0,0,0,0,0,0,0,0,0,0,0,0,0,0,0,0,0,0,0,0,0,0,null,"","","","","","","","","","","","","","","","","","","","","","","","","",null,"","","","","","","","","","","","","","","","","","","","","","","","","",null,"0 menunjukkan pemahaman dalam ",null,null,"0 membutuhkan bimbingan dalam "]
[null,null,20,{"$f":"'DATA SISWA'!F29","v":0},null,null,null,null,null,null,null,null,null,null,null,null,null,null,null,null,null,null,null,null,null,null,null,null,null,null,null,null,null,null,null,null,null,null,null,null,null,null,null,null,null,null,null,null,null,null,null,null,null,null,"0 menunjukkan pemahaman dalam ","0 membutuhkan bimbingan dalam ",null,null,0,0,0,0,0,0,0,0,0,0,0,0,0,0,0,0,0,0,0,0,0,0,0,0,0,null,0,0,0,0,0,0,0,0,0,0,0,0,0,0,0,0,0,0,0,0,0,0,0,0,0,null,"","","","","","","","","","","","","","","","","","","","","","","","","",null,"","","","","","","","","","","","","","","","","","","","","","","","","",null,"0 menunjukkan pemahaman dalam ",null,null,"0 membutuhkan bimbingan dalam "]
[null,null,21,{"$f":"'DATA SISWA'!F30","v":0},null,null,null,null,null,null,null,null,null,null,null,null,null,null,null,null,null,null,null,null,null,null,null,null,null,null,null,null,null,null,null,null,null,null,null,null,null,null,null,null,null,null,null,null,null,null,null,null,null,null,"0 menunjukkan pemahaman dalam ","0 membutuhkan bimbingan dalam ",null,null,0,0,0,0,0,0,0,0,0,0,0,0,0,0,0,0,0,0,0,0,0,0,0,0,0,null,0,0,0,0,0,0,0,0,0,0,0,0,0,0,0,0,0,0,0,0,0,0,0,0,0,null,"","","","","","","","","","","","","","","","","","","","","","","","","",null,"","","","","","","","","","","","","","","","","","","","","","","","","",null,"0 menunjukkan pemahaman dalam ",null,null,"0 membutuhkan bimbingan dalam "]
[null,null,22,{"$f":"'DATA SISWA'!F31","v":0},null,null,null,null,null,null,null,null,null,null,null,null,null,null,null,null,null,null,null,null,null,null,null,null,null,null,null,null,null,null,null,null,null,null,null,null,null,null,null,null,null,null,null,null,null,null,null,null,null,null,"0 menunjukkan pemahaman dalam ","0 membutuhkan bimbingan dalam ",null,null,0,0,0,0,0,0,0,0,0,0,0,0,0,0,0,0,0,0,0,0,0,0,0,0,0,null,0,0,0,0,0,0,0,0,0,0,0,0,0,0,0,0,0,0,0,0,0,0,0,0,0,null,"","","","","","","","","","","","","","","","","","","","","","","","","",null,"","","","","","","","","","","","","","","","","","","","","","","","","",null,"0 menunjukkan pemahaman dalam ",null,null,"0 membutuhkan bimbingan dalam "]
[null,null,23,{"$f":"'DATA SISWA'!F32","v":0},null,null,null,null,null,null,null,null,null,null,null,null,null,null,null,null,null,null,null,null,null,null,null,null,null,null,null,null,null,null,null,null,null,null,null,null,null,null,null,null,null,null,null,null,null,null,null,null,null,null,"0 menunjukkan pemahaman dalam ","0 membutuhkan bimbingan dalam ",null,null,0,0,0,0,0,0,0,0,0,0,0,0,0,0,0,0,0,0,0,0,0,0,0,0,0,null,0,0,0,0,0,0,0,0,0,0,0,0,0,0,0,0,0,0,0,0,0,0,0,0,0,null,"","","","","","","","","","","","","","","","","","","","","","","","","",null,"","","","","","","","","","","","","","","","","","","","","","","","","",null,"0 menunjukkan pemahaman dalam ",null,null,"0 membutuhkan bimbingan dalam "]
[null,null,24,{"$f":"'DATA SISWA'!F33","v":0},null,null,null,null,null,null,null,null,null,null,null,null,null,null,null,null,null,null,null,null,null,null,null,null,null,null,null,null,null,null,null,null,null,null,null,null,null,null,null,null,null,null,null,null,null,null,null,null,null,null,"0 menunjukkan pemahaman dalam ","0 membutuhkan bimbingan dalam ",null,null,0,0,0,0,0,0,0,0,0,0,0,0,0,0,0,0,0,0,0,0,0,0,0,0,0,null,0,0,0,0,0,0,0,0,0,0,0,0,0,0,0,0,0,0,0,0,0,0,0,0,0,null,"","","","","","","","","","","","","","","","","","","","","","","","","",null,"","","","","","","","","","","","","","","","","","","","","","","","","",null,"0 menunjukkan pemahaman dalam ",null,null,"0 membutuhkan bimbingan dalam "]
[null,null,25,{"$f":"'DATA SISWA'!F34","v":0},null,null,null,null,null,null,null,null,null,null,null,null,null,null,null,null,null,null,null,null,null,null,null,null,null,null,null,null,null,null,null,null,null,null,null,null,null,null,null,null,null,null,null,null,null,null,null,null,null,null,"0 menunjukkan pemahaman dalam ","0 membutuhkan bimbingan dalam ",null,null,0,0,0,0,0,0,0,0,0,0,0,0,0,0,0,0,0,0,0,0,0,0,0,0,0,null,0,0,0,0,0,0,0,0,0,0,0,0,0,0,0,0,0,0,0,0,0,0,0,0,0,null,"","","","","","","","","","","","","","","","","","","","","","","","","",null,"","","","","","","","","","","","","","","","","","","","","","","","","",null,"0 menunjukkan pemahaman dalam ",null,null,"0 membutuhkan bimbingan dalam "]
[null,null,26,{"$f":"'DATA SISWA'!F35","v":0},null,null,null,null,null,null,null,null,null,null,null,null,null,null,null,null,null,null,null,null,null,null,null,null,null,null,null,null,null,null,null,null,null,null,null,null,null,null,null,null,null,null,null,null,null,null,null,null,null,null,"0 menunjukkan pemahaman dalam ","0 membutuhkan bimbingan dalam ",null,null,0,0,0,0,0,0,0,0,0,0,0,0,0,0,0,0,0,0,0,0,0,0,0,0,0,null,0,0,0,0,0,0,0,0,0,0,0,0,0,0,0,0,0,0,0,0,0,0,0,0,0,null,"","","","","","","","","","","","","","","","","","","","","","","","","",null,"","","","","","","","","","","","","","","","","","","","","","","","","",null,"0 menunjukkan pemahaman dalam ",null,null,"0 membutuhkan bimbingan dalam "]
[null,null,27,{"$f":"'DATA SISWA'!F36","v":0},null,null,null,null,null,null,null,null,null,null,null,null,null,null,null,null,null,null,null,null,null,null,null,null,null,null,null,null,null,null,null,null,null,null,null,null,null,null,null,null,null,null,null,null,null,null,null,null,null,null,"0 menunjukkan pemahaman dalam ","0 membutuhkan bimbingan dalam ",null,null,0,0,0,0,0,0,0,0,0,0,0,0,0,0,0,0,0,0,0,0,0,0,0,0,0,null,0,0,0,0,0,0,0,0,0,0,0,0,0,0,0,0,0,0,0,0,0,0,0,0,0,null,"","","","","",{"$f":"IF(AND(BL43=1,CL43=1),DL$15&\", \",\"\")","v":""},"","","","","","","","","","","","","","","","","","","",null,"","","","","",{"$f":"IF(AND(BL43=1,CL43=0),EL$15&\", \",\"\")","v":""},"","","","","","","","","","","","","","","","","","","",null,"0 menunjukkan pemahaman dalam ",null,null,"0 membutuhkan bimbingan dalam "]
[null,null,28,{"$f":"'DATA SISWA'!F37","v":0},null,null,null,null,null,null,null,null,null,null,null,null,null,null,null,null,null,null,null,null,null,null,null,null,null,null,null,null,null,null,null,null,null,null,null,null,null,null,null,null,null,null,null,null,null,null,null,null,null,null,"0 menunjukkan pemahaman dalam ","0 membutuhkan bimbingan dalam ",null,null,0,0,0,0,0,0,0,0,0,0,0,0,0,0,0,0,0,0,0,0,0,0,0,0,0,null,0,0,0,0,0,0,0,0,0,0,0,0,0,0,0,0,0,0,0,0,0,0,0,0,0,null,{"$f":"IF(AND(BG44=1,CG44=1),DG$15&\", \",\"\")","v":""},"","","","","","","","","","","","","","","","","","","","","","","","",null,{"$f":"IF(AND(BG44=1,CG44=0),EG$15&\", \",\"\")","v":""},"","","","","","","","","","","","","","","","","","","","","","","","",null,"0 menunjukkan pemahaman dalam ",null,null,"0 membutuhkan bimbingan dalam "]
[null,null,29,{"$f":"'DATA SISWA'!F38","v":0},null,null,null,null,null,null,null,null,null,null,null,null,null,null,null,null,null,null,null,null,null,null,null,null,null,null,null,null,null,null,null,null,null,null,null,null,null,null,null,null,null,null,null,null,null,null,null,null,null,null,"0 menunjukkan pemahaman dalam ","0 membutuhkan bimbingan dalam ",null,null,0,0,0,0,0,0,0,0,0,0,0,0,0,0,0,0,0,0,0,0,0,0,0,0,0,null,0,0,0,0,0,0,0,0,0,0,0,0,0,0,0,0,0,0,0,0,0,0,0,0,0,null,"","","","","","","","","","","","","","","","","","","","","","","","","",null,"","","","","","","","","","","","","","","","","","","","","","","","","",null,"0 menunjukkan pemahaman dalam ",null,null,"0 membutuhkan bimbingan dalam "]
[null,null,30,{"$f":"'DATA SISWA'!F39","v":0},null,null,null,null,null,null,null,null,null,null,null,null,null,null,null,null,null,null,null,null,null,null,null,null,null,null,null,null,null,null,null,null,null,null,null,null,null,null,null,null,null,null,null,null,null,null,null,null,null,null,"0 menunjukkan pemahaman dalam ","0 membutuhkan bimbingan dalam ",null,null,0,0,0,0,0,0,0,0,0,0,0,0,0,0,0,0,0,0,0,0,0,0,0,0,0,null,0,0,0,0,0,0,0,0,0,0,0,0,0,0,0,0,0,0,0,0,0,0,0,0,0,null,"","","","","","","","","","","","","","","","","","","","","","","","","",null,"","","","","","","","","","","","","","","","","","","","","","","","","",null,"0 menunjukkan pemahaman dalam ",null,null,"0 membutuhkan bimbingan dalam "]
[null,null,31,{"$f":"'DATA SISWA'!F40","v":0},null,null,null,null,null,null,null,null,null,null,null,null,null,null,null,null,null,null,null,null,null,null,null,null,null,null,null,null,null,null,null,null,null,null,null,null,null,null,null,null,null,null,null,null,null,null,null,null,null,null,"0 menunjukkan pemahaman dalam ","0 membutuhkan bimbingan dalam ",null,null,0,0,0,0,0,0,0,0,0,0,0,0,0,0,0,0,0,0,0,0,0,0,0,0,0,null,0,0,0,0,0,0,0,0,0,0,0,0,0,0,0,0,0,0,0,0,0,0,0,0,0,null,"","","","","","","","","","","","","","","","","","","","","","","","","",null,"","","","","","","","","","","","","","","","","","","","","","","","","",null,"0 menunjukkan pemahaman dalam ",null,null,"0 membutuhkan bimbingan dalam "]
[null,null,32,{"$f":"'DATA SISWA'!F41","v":0},null,null,null,null,null,null,null,null,null,null,null,null,null,null,null,null,null,null,null,null,null,null,null,null,null,null,null,null,null,null,null,null,null,null,null,null,null,null,null,null,null,null,null,null,null,null,null,null,null,null,"0 menunjukkan pemahaman dalam ","0 membutuhkan bimbingan dalam ",null,null,0,0,0,0,0,0,0,0,0,0,0,0,0,0,0,0,0,0,0,0,0,0,0,0,0,null,0,0,0,0,0,0,0,0,0,0,0,0,0,0,0,0,0,0,0,0,0,0,0,0,0,null,"","","","","","","","","","","","","","","","","","","","","","","","","",null,"","","","","","","","","","","","","","","","","","","","","","","","","",null,"0 menunjukkan pemahaman dalam ",null,null,"0 membutuhkan bimbingan dalam "]
[null,null,33,{"$f":"'DATA SISWA'!F42","v":0},null,null,null,null,null,null,null,null,null,null,null,null,null,null,null,null,null,null,null,null,null,null,null,null,null,null,null,null,null,null,null,null,null,null,null,null,null,null,null,null,null,null,null,null,null,null,null,null,null,null,"0 menunjukkan pemahaman dalam ","0 membutuhkan bimbingan dalam ",null,null,0,0,0,0,0,0,0,0,0,0,0,0,0,0,0,0,0,0,0,0,0,0,0,0,0,null,0,0,0,0,0,0,0,0,0,0,0,0,0,0,0,0,0,0,0,0,0,0,0,0,0,null,"","","","","","","","","","","","","","","","","","","","","","","","","",null,"","","","","","","","","","","","","","","","","","","","","","","","","",null,"0 menunjukkan pemahaman dalam ",null,null,"0 membutuhkan bimbingan dalam "]
[null,null,34,{"$f":"'DATA SISWA'!F43","v":0},null,null,null,null,null,null,null,null,null,null,null,null,null,null,null,null,null,null,null,null,null,null,null,null,null,null,null,null,null,null,null,null,null,null,null,null,null,null,null,null,null,null,null,null,null,null,null,null,null,null,"0 menunjukkan pemahaman dalam ","0 membutuhkan bimbingan dalam ",null,null,0,0,0,0,0,0,0,0,0,0,0,0,0,0,0,0,0,0,0,0,0,0,0,0,0,null,0,0,0,0,0,0,0,0,0,0,0,0,0,0,0,0,0,0,0,0,0,0,0,0,0,null,"","","","","","","","","","","","","","","","","","","","","","","","","",null,"","","","","","","","","","","","","","","","","","","","","","","","","",null,"0 menunjukkan pemahaman dalam ",null,null,"0 membutuhkan bimbingan dalam "]
[null,null,35,{"$f":"'DATA SISWA'!F44","v":0},null,null,null,null,null,null,null,null,null,null,null,null,null,null,null,null,null,null,null,null,null,null,null,null,null,null,null,null,null,null,null,null,null,null,null,null,null,null,null,null,null,null,null,null,null,null,null,null,null,null,"0 menunjukkan pemahaman dalam ","0 membutuhkan bimbingan dalam ",null,null,0,0,0,0,0,0,0,0,0,0,0,0,0,0,0,0,0,0,0,0,0,0,0,0,0,null,0,0,0,0,0,0,0,0,0,0,0,0,0,0,0,0,0,0,0,0,0,0,0,0,0,null,"","","","","","","","","","","","","","","","","","","","","","","","","",null,"","","","","","","","","","","","","","","","","","","","","","","","","",null,"0 menunjukkan pemahaman dalam ",null,null,"0 membutuhkan bimbingan dalam "]
[null,null,36,{"$f":"'DATA SISWA'!F45","v":0},null,null,null,null,null,null,null,null,null,null,null,null,null,null,null,null,null,null,null,null,null,null,null,null,null,null,null,null,null,null,null,null,null,null,null,null,null,null,null,null,null,null,null,null,null,null,null,null,null,null,"0 menunjukkan pemahaman dalam ","0 membutuhkan bimbingan dalam ",null,null,0,0,0,0,0,0,0,0,0,0,0,0,0,0,0,0,0,0,0,0,0,0,0,0,0,null,0,0,0,0,0,0,0,0,0,0,0,0,0,0,0,0,0,0,0,0,0,0,0,0,0,null,"","","","","","","","","","","","","","","","","","","","","","","","","",null,"","","","","","","","","","","","","","","","","","","","","","","","","",null,"0 menunjukkan pemahaman dalam ",null,null,"0 membutuhkan bimbingan dalam "]
[null,null,37,{"$f":"'DATA SISWA'!F46","v":0},null,null,null,null,null,null,null,null,null,null,null,null,null,null,null,null,null,null,null,null,null,null,null,null,null,null,null,null,null,null,null,null,null,null,null,null,null,null,null,null,null,null,null,null,null,null,null,null,null,null,"0 menunjukkan pemahaman dalam ","0 membutuhkan bimbingan dalam ",null,null,0,0,0,0,0,0,0,0,0,0,0,0,0,0,0,0,0,0,0,0,0,0,0,0,0,null,0,0,0,0,0,0,0,0,0,0,0,0,0,0,0,0,0,0,0,0,0,0,0,0,0,null,"","","","","","","","","","","","","","","","","","","","","","","","","",null,"","","","","","","","","","","","","","","","","","","","","","","","","",null,"0 menunjukkan pemahaman dalam ",null,null,"0 membutuhkan bimbingan dalam "]
[null,null,38,{"$f":"'DATA SISWA'!F47","v":0},null,null,null,null,null,null,null,null,null,null,null,null,null,null,null,null,null,null,null,null,null,null,null,null,null,null,null,null,null,null,null,null,null,null,null,null,null,null,null,null,null,null,null,null,null,null,null,null,null,null,"0 menunjukkan pemahaman dalam ","0 membutuhkan bimbingan dalam ",null,null,0,0,0,0,0,0,0,0,0,0,0,0,0,0,0,0,0,0,0,0,0,0,0,0,0,null,0,0,0,0,0,0,0,0,0,0,0,0,0,0,0,0,0,0,0,0,0,0,0,0,0,null,"","","","","","","","","","","","","","","","","","","","","","","","","",null,"","","","","","","","","","","","","","","","","","","","","","","","","",null,"0 menunjukkan pemahaman dalam ",null,null,"0 membutuhkan bimbingan dalam "]
[null,null,39,{"$f":"'DATA SISWA'!F48","v":0},null,null,null,null,null,null,null,null,null,null,null,null,null,null,null,null,null,null,null,null,null,null,null,null,null,null,null,null,null,null,null,null,null,null,null,null,null,null,null,null,null,null,null,null,null,null,null,null,null,null,"0 menunjukkan pemahaman dalam ","0 membutuhkan bimbingan dalam ",null,null,0,0,0,0,0,0,0,0,0,0,0,0,0,0,0,0,0,0,0,0,0,0,0,0,0,null,0,0,0,0,0,0,0,0,0,0,0,0,0,0,0,0,0,0,0,0,0,0,0,0,0,null,"","","","","","","","","","","","","","","","","","","","","","","","","",null,"","","","","","","","","","","","","","","","","","","","","","","","","",null,"0 menunjukkan pemahaman dalam ",null,null,"0 membutuhkan bimbingan dalam "]
[null,null,40,{"$f":"'DATA SISWA'!F49","v":0},null,null,null,null,null,null,null,null,null,null,null,null,null,null,null,null,null,null,null,null,null,null,null,null,null,null,null,null,null,null,null,null,null,null,null,null,null,null,null,null,null,null,null,null,null,null,null,null,null,null,"0 menunjukkan pemahaman dalam ","0 membutuhkan bimbingan dalam ",null,null,0,0,0,0,0,0,0,0,0,0,0,0,0,0,0,0,0,0,0,0,0,0,0,0,0,null,0,0,0,0,0,0,0,0,0,0,0,0,0,0,0,0,0,0,0,0,0,0,0,0,0,null,"","","","","","","","","","","","","","","","","","","","","","","","","",null,"","","","","","","","","","","","","","","","","","","","","","","","","",null,"0 menunjukkan pemahaman dalam ",null,null,"0 membutuhkan bimbingan dalam "]

{"sheet":"F5","index":38,"n_rows":56,"n_cols":166,"rows_kept":56,"cut":false,"hidden":false,"merged":[[13,24,13,25],[2,1,2,54],[4,1,4,54],[12,2,15,2],[12,3,15,3],[12,4,12,53],[13,4,13,5],[13,6,13,7],[13,8,13,9],[13,10,13,11],[13,12,13,13],[13,14,13,15],[13,16,13,17],[13,18,13,19],[13,20,13,21],[13,22,13,23],[13,36,13,37],[13,38,13,39],[13,40,13,41],[13,42,13,43],[13,44,13,45],[13,26,13,27],[13,28,13,29],[13,30,13,31],[13,32,13,33],[13,34,13,35],[13,152,13,153],[13,154,13,155],[13,156,13,157],[13,158,13,159],[14,4,14,5],[14,6,14,7],[14,8,14,9],[14,10,14,11],[14,12,14,13],[14,14,14,15],[13,50,13,51],[13,52,13,53],[13,144,13,145],[13,146,13,147],[13,148,13,149],[13,150,13,151],[14,38,14,39],[14,16,14,17],[14,18,14,19],[14,20,14,21],[14,22,14,23],[14,24,14,25],[14,26,14,27],[14,28,14,29],[14,30,14,31],[14,32,14,33],[14,34,14,35],[14,36,14,37],[12,54,15,54],[12,55,15,55],[14,52,14,53],[14,40,14,41],[14,42,14,43],[14,44,14,45],[14,46,14,47],[14,48,14,49],[14,50,14,51],[13,48,13,49],[13,46,13,47]]}
[]
[]
[null,"INPUT ASESMEN FORMATIF"]
[]
[null,{"$f":"\"MATA PELAJARAN : \"&INTRAKURIKULER!D13","v":"MATA PELAJARAN : "}]
[null,"Petunjuk Pengisian :"]
[null,null,1,"Rapor ini berasumsi bahwa guru telah melakukan penilaian formatif dan direkap dalam lembar tersendiri"]
[null,null,2,"Pada Kolom KKTP, pilih '0' jika siswa tidak memenuhi KKTP, Pilih '1' jika siswa memenuhi KKTP. Bisa juga diketikkan langsung angka 1 atau 0"]
[null,null,3,"Pada Kolom Tampil/Tidak, pilih '0' jika tidak ingin menampilkan TP tersebut di deskripsi rapor, pilih '1' jika ingin menampilkan TP di deskripsi rapor. Bisa juga diketikkan langsung angka 1 atau 0",null,null,null,null,null,null,null,null,null,null,null,null,null,null,null,null,null,null,null,null,null,null,null,null,null,null,null,null,null,null,null,null,null,null,null,null,null,null,null,null,null,null,null,null,null,null,null,null,null,null,null,null,null,null,0]
[null,"Contoh :",null,"Pada TP 1, siswa mencapai KKTP tapi tidak ingin ditampilkan dalam rapor. Pilih KKTP = 1, dan Tampil/Tidak = 0.",null,null,null,null,null,null,null,null,null,null,null,null,null,null,null,"Isilah hanya pada TP yang diinginkan",null,null,null,null,null,null,null,null,null,null,null,null,null,null,null,null,null,null,null,null,null,null,null,null,null,null,null,null,null,null,null,null,null,null,null,null,null,null,1]
[null,null,null,"Pada TP 2, siswa tidak mencapai KKTP tapi ingin ditampilkan dalam rapor. Pilih KKTP = 0, dan Tampil/Tidak = 1.",null,null,null,null,null,null,null,null,null,null,null,null,null,null,null,"masuk dalam deskripsi rapor"]
[]
[null,null,"No","Nama Siswa","Tujuan Pembelajaran",null,null,null,null,null,null,null,null,null,null,null,null,null,null,null,null,null,null,null,null,null,null,null,null,null,null,null,null,null,null,null,null,null,null,null,null,null,null,null,null,null,null,null,null,null,null,null,null,null,"Deskripsi Capaian Tertinggi dalam Rapor","Deskripsi Capaian Terendah dalam Rapor"]
[null,null,null,null,"TP 1",null,"TP 2",null,"TP 3",null,"TP 4",null,"TP 5",null,"TP 6",null,"TP 7",null,"TP 8",null,"TP 9",null,"TP 10",null,"TP 11",null,"TP 12",null,"TP 13",null,"TP 14",null,"TP 15",null,"TP 16",null,"TP 17",null,"TP 18",null,"TP 19",null,"TP 20",null,"TP 21",null,"TP 22",null,"TP 23",null,"TP 24",null,"TP 25",null,null,null,null,null,null,null,null,null,null,null,null,null,null,null,null,null,null,null,null,null,null,null,null,null,null,null,null,null,null,null,null,null,null,null,null,null,null,null,null,null,null,null,null,null,null,null,null,null,null,null,null,null,null,null,null,null,"mencapai",null,null,null,null,null,null,null,null,null,null,null,null,null,null,null,null,null,null,null,null,null,null,null,null,null,"tidak mencapai"]
[null,null,null,null,{"$f":"'TP 5'!D8","v":1},null,{"$f":"'TP 5'!D9","v":2},null,{"$f":"'TP 5'!D10","v":3},null,{"$f":"'TP 5'!D11","v":4},null,{"$f":"'TP 5'!D12","v":5},null,{"$f":"'TP 5'!D13","v":6},null,{"$f":"'TP 5'!D14","v":7},null,{"$f":"'TP 5'!D15","v":8},null,{"$f":"'TP 5'!D16","v":9},null,{"$f":"'TP 5'!D17","v":10},null,{"$f":"'TP 5'!D18","v":11},null,{"$f":"'TP 5'!D19","v":12},null,{"$f":"'TP 5'!D20","v":13},null,{"$f":"'TP 5'!D21","v":14},null,{"$f":"'TP 5'!D22","v":15},null,{"$f":"'TP 5'!D23","v":16},null,{"$f":"'TP 5'!D24","v":17},null,{"$f":"'TP 5'!D25","v":18},null,{"$f":"'TP 5'!D26","v":19},null,{"$f":"'TP 5'!D27","v":20},null,{"$f":"'TP 5'!D28","v":21},null,{"$f":"'TP 5'!D29","v":22},null,{"$f":"'TP 5'!D30","v":23},null,{"$f":"'TP 5'!D31","v":24},null,{"$f":"'TP 5'!D32","v":25},null,null,null,null,null,1,2,3,4,5,6,7,8,9,10,11,12,13,14,15,16,17,18,19,20,21,22,23,24,25,null,1,2,3,4,5,6,7,8,9,10,11,12,13,14,15,16,17,18,19,20,21,22,23,24,25,null,{"$f":"E15","v":1},{"$f":"G15","v":2},{"$f":"I15","v":3},{"$f":"K15","v":4},{"$f":"M15","v":5},{"$f":"O15","v":6},{"$f":"Q15","v":7},{"$f":"S15","v":8},{"$f":"U15","v":9},{"$f":"W15","v":10},{"$f":"Y15","v":11},{"$f":"AA15","v":12},{"$f":"AC15","v":13},{"$f":"AE15","v":14},{"$f":"AG15","v":15},{"$f":"AI15","v":16},{"$f":"AK15","v":17},{"$f":"AM15","v":18},{"$f":"AO15","v":19},{"$f":"AQ15","v":20},{"$f":"AS15","v":21},{"$f":"AU15","v":22},{"$f":"AW15","v":23},{"$f":"AY15","v":24},{"$f":"BA15","v":25},null,{"$f":"DG15","v":1},{"$f":"DH15","v":2},3,4,5,6,7,8,9,10,11,12,13,14,15,16,17,18,19,20,21,22,23,24,25,null,"mencapai",null,null,"tidak mencapai"]
[null,null,null,null,"KKTP","Tampil/Tidak","KKTP","Tampil/Tidak","KKTP","Tampil/Tidak","KKTP","Tampil/Tidak","KKTP","Tampil/Tidak","KKTP","Tampil/Tidak","KKTP","Tampil/Tidak","KKTP","Tampil/Tidak","KKTP","Tampil/Tidak","KKTP","Tampil/Tidak","KKTP","Tampil/Tidak","KKTP","Tampil/Tidak","KKTP","Tampil/Tidak","KKTP","Tampil/Tidak","KKTP","Tampil/Tidak","KKTP","Tampil/Tidak","KKTP","Tampil/Tidak","KKTP","Tampil/Tidak","KKTP","Tampil/Tidak","KKTP","Tampil/Tidak","KKTP","Tampil/Tidak","KKTP","Tampil/Tidak","KKTP","Tampil/Tidak","KKTP","Tampil/Tidak","KKTP","Tampil/Tidak",null,null,null,null,null,null,null,null,null,null,null,null,null,null,null,null,null,null,null,null,null,null,null,null,null,null,null,null,null,null,"kktp",null,null,null,null,null,null,null,null,null,null,null,null,null,null,null,null,null,null,null,null,null,null,null,null,null,1,2,3,4,5,6,7,8,9,10,11,12,13,14,15,16,17,18,19,20,21,22,23,24,25,null,1,2,3,4,5,6,7,8,9,10,11,12,13,14,15,16,17,18,19,20,21,22,23,24,25]
[null,null,1,{"$f":"'DATA SISWA'!F10","v":0},null,null,null,null,null,null,null,null,null,null,null,null,null,null,null,null,null,null,null,null,null,null,null,null,null,null,null,null,null,null,null,null,null,null,null,null,null,null,null,null,null,null,null,null,null,null,null,null,null,null,{"$f":"FG17","v":"0 menunjukkan pemahaman dalam "},{"$f":"FJ17","v":"0 membutuhkan bimbingan dalam "},null,null,{"$f":"F17","v":0},{"$f":"H17","v":0},{"$f":"J17","v":0},{"$f":"L17","v":0},{"$f":"N17","v":0},{"$f":"P17","v":0},{"$f":"R17","v":0},{"$f":"T17","v":0},{"$f":"V17","v":0},{"$f":"X17","v":0},{"$f":"Z17","v":0},{"$f":"AB17","v":0},{"$f":"AD17","v":0},{"$f":"AF17","v":0},{"$f":"AH17","v":0},{"$f":"AJ17","v":0},{"$f":"AL17","v":0},{"$f":"AN17","v":0},{"$f":"AP17","v":0},{"$f":"AR17","v":0},{"$f":"AT17","v":0},{"$f":"AV17","v":0},{"$f":"AX17","v":0},{"$f":"AZ17","v":0},{"$f":"BB17","v":0},null,{"$f":"E17","v":0},{"$f":"G17","v":0},{"$f":"I17","v":0},{"$f":"K17","v":0},{"$f":"M17","v":0},{"$f":"O17","v":0},{"$f":"Q17","v":0},{"$f":"S17","v":0},{"$f":"U17","v":0},{"$f":"W17","v":0},{"$f":"Y17","v":0},{"$f":"AA17","v":0},{"$f":"AC17","v":0},{"$f":"AE17","v":0},{"$f":"AG17","v":0},{"$f":"AI17","v":0},{"$f":"AK17","v":0},{"$f":"AM17","v":0},{"$f":"AO17","v":0},{"$f":"AQ17","v":0},{"$f":"AS17","v":0},{"$f":"AU17","v":0},{"$f":"AW17","v":0},{"$f":"AY17","v":0},{"$f":"BA17","v":0},null,{"$f":"IF(AND(BG17=1,CG17=1),DG$15&\", \",\"\")","v":""},{"$f":"IF(AND(BH17=1,CH17=1),DH$15&\", \",\"\")","v":""},"","","","","","","","","","","","","","","",{"$f":"IF(AND(BX17=1,CX17=1),DX$15&\", \",\"\")","v":""},"","","","","","","",null,{"$f":"IF(AND(BG17=1,CG17=0),EG$15&\", \",\"\")","v":""},{"$f":"IF(AND(BH17=1,CH17=0),EH$15&\", \",\"\")","v":""},"","","","","","","","","","","","","","","",{"$f":"IF(AND(BX17=1,CX17=0),EX$15&\", \",\"\")","v":""},"","","","","","","",null,{"$f":"PROPER(D17)&\" menunjukkan pemahaman dalam \"&DG17&DH17&DI17&DJ17&DK17&DL17&DM17&DN17&DO17&DP17&DQ17&DR17&DS17&DT17&DU17&DV17&DW17&DX17&DY17&DZ17&EA17&EB17&EC17&ED17&EE17","v":"0 menunjukkan pemahaman dalam "},null,null,{"$f":"PROPER(D17)&\" membutuhkan bimbingan dalam \"&EG17&EH17&EI17&EJ17&EK17&EL17&EM17&EN17&EO17&EP17&EQ17&ER17&ES17&ET17&EU17&EV17&EW17&EX17&EY17&EZ17&FA17&FB17&FC17&FD17&FE17","v":"0 membutuhkan bimbingan dalam "}]
[null,null,2,{"$f":"'DATA SISWA'!F11","v":0},null,null,null,null,null,null,null,null,null,null,null,null,null,null,null,null,null,null,null,null,null,null,null,null,null,null,null,null,null,null,null,null,null,null,null,null,null,null,null,null,null,null,null,null,null,null,null,null,null,null,{"$f":"FG18","v":"0 menunjukkan pemahaman dalam "},{"$f":"FJ18","v":"0 membutuhkan bimbingan dalam "},null,null,{"$f":"F18","v":0},{"$f":"H18","v":0},{"$f":"J18","v":0},{"$f":"L18","v":0},{"$f":"N18","v":0},{"$f":"P18","v":0},{"$f":"R18","v":0},{"$f":"T18","v":0},{"$f":"V18","v":0},{"$f":"X18","v":0},{"$f":"Z18","v":0},{"$f":"AB18","v":0},{"$f":"AD18","v":0},{"$f":"AF18","v":0},{"$f":"AH18","v":0},{"$f":"AJ18","v":0},{"$f":"AL18","v":0},{"$f":"AN18","v":0},{"$f":"AP18","v":0},{"$f":"AR18","v":0},{"$f":"AT18","v":0},{"$f":"AV18","v":0},{"$f":"AX18","v":0},{"$f":"AZ18","v":0},{"$f":"BB18","v":0},null,{"$f":"E18","v":0},{"$f":"G18","v":0},{"$f":"I18","v":0},{"$f":"K18","v":0},{"$f":"M18","v":0},{"$f":"O18","v":0},{"$f":"Q18","v":0},{"$f":"S18","v":0},{"$f":"U18","v":0},{"$f":"W18","v":0},{"$f":"Y18","v":0},{"$f":"AA18","v":0},{"$f":"AC18","v":0},{"$f":"AE18","v":0},{"$f":"AG18","v":0},{"$f":"AI18","v":0},{"$f":"AK18","v":0},{"$f":"AM18","v":0},{"$f":"AO18","v":0},{"$f":"AQ18","v":0},{"$f":"AS18","v":0},{"$f":"AU18","v":0},{"$f":"AW18","v":0},{"$f":"AY18","v":0},{"$f":"BA18","v":0},null,{"$f":"IF(AND(BG18=1,CG18=1),DG$15&\", \",\"\")","v":""},"","","","","","","","","","","","","","","","","","","","","","","","",null,{"$f":"IF(AND(BG18=1,CG18=0),EG$15&\", \",\"\")","v":""},"","","","","","","","","","","","","","","","","","","","","","","","",null,{"$f":"PROPER(D18)&\" menunjukkan pemahaman dalam \"&DG18&DH18&DI18&DJ18&DK18&DL18&DM18&DN18&DO18&DP18&DQ18&DR18&DS18&DT18&DU18&DV18&DW18&DX18&DY18&DZ18&EA18&EB18&EC18&ED18&EE18","v":"0 menunjukkan pemahaman dalam "},null,null,{"$f":"PROPER(D18)&\" membutuhkan bimbingan dalam \"&EG18&EH18&EI18&EJ18&EK18&EL18&EM18&EN18&EO18&EP18&EQ18&ER18&ES18&ET18&EU18&EV18&EW18&EX18&EY18&EZ18&FA18&FB18&FC18&FD18&FE18","v":"0 membutuhkan bimbingan dalam "}]
[null,null,3,{"$f":"'DATA SISWA'!F12","v":0},null,null,null,null,null,null,null,null,null,null,null,null,null,null,null,null,null,null,null,null,null,null,null,null,null,null,null,null,null,null,null,null,null,null,null,null,null,null,null,null,null,null,null,null,null,null,null,null,null,null,"0 menunjukkan pemahaman dalam ","0 membutuhkan bimbingan dalam ",null,null,0,0,0,0,0,0,0,0,0,0,0,0,0,0,0,0,0,0,0,0,0,0,0,0,0,null,0,0,0,0,0,0,0,0,0,0,0,0,0,0,0,0,0,0,0,0,0,0,0,0,0,null,"","","","","","","","","","","","","","","","","","","","","","","","","",null,"","","","","","","","","","","","","","","","","","","","","","","","","",null,"0 menunjukkan pemahaman dalam ",null,null,"0 membutuhkan bimbingan dalam "]
[null,null,4,{"$f":"'DATA SISWA'!F13","v":0},null,null,null,null,null,null,null,null,null,null,null,null,null,null,null,null,null,null,null,null,null,null,null,null,null,null,null,null,null,null,null,null,null,null,null,null,null,null,null,null,null,null,null,null,null,null,null,null,null,null,"0 menunjukkan pemahaman dalam ","0 membutuhkan bimbingan dalam ",null,null,0,0,0,0,0,0,0,0,0,0,0,0,0,0,0,0,0,0,0,0,0,0,0,0,0,null,0,0,0,0,0,0,0,0,0,0,0,0,0,0,0,0,0,0,0,0,0,0,0,0,0,null,"","","","","","","","","","","","","","","","","","","","","","","","","",null,"","","","","","","","","","","","","","","","","","","","","","","","","",null,"0 menunjukkan pemahaman dalam ",null,null,"0 membutuhkan bimbingan dalam "]
[null,null,5,{"$f":"'DATA SISWA'!F14","v":0},null,null,null,null,null,null,null,null,null,null,null,null,null,null,null,null,null,null,null,null,null,null,null,null,null,null,null,null,null,null,null,null,null,null,null,null,null,null,null,null,null,null,null,null,null,null,null,null,null,null,"0 menunjukkan pemahaman dalam ","0 membutuhkan bimbingan dalam ",null,null,0,0,0,0,0,0,0,0,0,0,0,0,0,0,0,0,0,0,0,0,0,0,0,0,0,null,0,0,0,0,0,0,0,0,0,0,0,0,0,0,0,0,0,0,0,0,0,0,0,0,0,null,"","","","","","","","","","","","","","","","","","","","","","","","","",null,"","","","","","","","","","","","","","","","","","","","","","","","","",null,"0 menunjukkan pemahaman dalam ",null,null,"0 membutuhkan bimbingan dalam "]
[null,null,6,{"$f":"'DATA SISWA'!F15","v":0},null,null,null,null,null,null,null,null,null,null,null,null,null,null,null,null,null,null,null,null,null,null,null,null,null,null,null,null,null,null,null,null,null,null,null,null,null,null,null,null,null,null,null,null,null,null,null,null,null,null,"0 menunjukkan pemahaman dalam ","0 membutuhkan bimbingan dalam ",null,null,0,0,0,0,0,0,0,0,0,0,0,0,0,0,0,0,0,0,0,0,0,0,0,0,0,null,0,0,0,0,0,0,0,0,0,0,0,0,0,0,0,0,0,0,0,0,0,0,0,0,0,null,"","","","","","","","","","","","","","","","","","","","","","","","","",null,"","","","","","","","","","","","","","","","","","","","","","","","","",null,"0 menunjukkan pemahaman dalam ",null,null,"0 membutuhkan bimbingan dalam "]
[null,null,7,{"$f":"'DATA SISWA'!F16","v":0},null,null,null,null,null,null,null,null,null,null,null,null,null,null,null,null,null,null,null,null,null,null,null,null,null,null,null,null,null,null,null,null,null,null,null,null,null,null,null,null,null,null,null,null,null,null,null,null,null,null,"0 menunjukkan pemahaman dalam ","0 membutuhkan bimbingan dalam ",null,null,0,0,0,0,0,0,0,0,0,0,0,0,0,0,0,0,0,0,0,0,0,0,0,0,0,null,0,0,0,0,0,0,0,0,0,0,0,0,0,0,0,0,0,0,0,0,0,0,0,0,0,null,"","","","","","","","","","","","","","","","","","","","","","","","","",null,"","","","","","","","","","","","","","","","","","","","","","","","","",null,"0 menunjukkan pemahaman dalam ",null,null,"0 membutuhkan bimbingan dalam "]
[null,null,8,{"$f":"'DATA SISWA'!F17","v":0},null,null,null,null,null,null,null,null,null,null,null,null,null,null,null,null,null,null,null,null,null,null,null,null,null,null,null,null,null,null,null,null,null,null,null,null,null,null,null,null,null,null,null,null,null,null,null,null,null,null,"0 menunjukkan pemahaman dalam ","0 membutuhkan bimbingan dalam ",null,null,0,0,0,0,0,0,0,0,0,0,0,0,0,0,0,0,0,0,0,0,0,0,0,0,0,null,0,0,0,0,0,0,0,0,0,0,0,0,0,0,0,0,0,0,0,0,0,0,0,0,0,null,"","","","","","","","","","","","","","","","","","","","","","","","","",null,"","","","","","","","","","","","","","","","","","","","","","","","","",null,"0 menunjukkan pemahaman dalam ",null,null,"0 membutuhkan bimbingan dalam "]
[null,null,9,{"$f":"'DATA SISWA'!F18","v":0},null,null,null,null,null,null,null,null,null,null,null,null,null,null,null,null,null,null,null,null,null,null,null,null,null,null,null,null,null,null,null,null,null,null,null,null,null,null,null,null,null,null,null,null,null,null,null,null,null,null,"0 menunjukkan pemahaman dalam ","0 membutuhkan bimbingan dalam ",null,null,0,0,0,0,0,0,0,0,0,0,0,0,0,0,0,0,0,0,0,0,0,0,0,0,0,null,0,0,0,0,0,0,0,0,0,0,0,0,0,0,0,0,0,0,0,0,0,0,0,0,0,null,"","","","","","","","","","","","","","","","","","","","","","","","","",null,"","","","","","","","","","","","","","","","","","","","","","","","","",null,"0 menunjukkan pemahaman dalam ",null,null,"0 membutuhkan bimbingan dalam "]
[null,null,10,{"$f":"'DATA SISWA'!F19","v":0},null,null,null,null,null,null,null,null,null,null,null,null,null,null,null,null,null,null,null,null,null,null,null,null,null,null,null,null,null,null,null,null,null,null,null,null,null,null,null,null,null,null,null,null,null,null,null,null,null,null,"0 menunjukkan pemahaman dalam ","0 membutuhkan bimbingan dalam ",null,null,0,0,0,0,0,0,0,0,0,0,0,0,0,0,0,0,0,0,0,0,0,0,0,0,0,null,0,0,0,0,0,0,0,0,0,0,0,0,0,0,0,0,0,0,0,0,0,0,0,0,0,null,"","","","","","","","","","","","","","","","","","","","","","","","","",null,"","","","","","","","","","","","","","","","","","","","","","","","","",null,"0 menunjukkan pemahaman dalam ",null,null,"0 membutuhkan bimbingan dalam "]
[null,null,11,{"$f":"'DATA SISWA'!F20","v":0},null,null,null,null,null,null,null,null,null,null,null,null,null,null,null,null,null,null,null,null,null,null,null,null,null,null,null,null,null,null,null,null,null,null,null,null,null,null,null,null,null,null,null,null,null,null,null,null,null,null,"0 menunjukkan pemahaman dalam ","0 membutuhkan bimbingan dalam ",null,null,0,0,0,0,0,0,0,0,0,0,0,0,0,0,0,0,0,0,0,0,0,0,0,0,0,null,0,0,0,0,0,0,0,0,0,0,0,0,0,0,0,0,0,0,0,0,0,0,0,0,0,null,"","","","","","","","","","","","","","","","","","","","","","","","","",null,"","","","","","","","","","","","","","","","","","","","","","","","","",null,"0 menunjukkan pemahaman dalam ",null,null,"0 membutuhkan bimbingan dalam "]
[null,null,12,{"$f":"'DATA SISWA'!F21","v":0},null,null,null,null,null,null,null,null,null,null,null,null,null,null,null,null,null,null,null,null,null,null,null,null,null,null,null,null,null,null,null,null,null,null,null,null,null,null,null,null,null,null,null,null,null,null,null,null,null,null,"0 menunjukkan pemahaman dalam ","0 membutuhkan bimbingan dalam ",null,null,0,0,0,0,0,0,0,0,0,0,0,0,0,0,0,0,0,0,0,0,0,0,0,0,0,null,0,0,0,0,0,0,0,0,0,0,0,0,0,0,0,0,0,0,0,0,0,0,0,0,0,null,"","","","","","","","","","","","","","","","","","","","","","","","","",null,"","","","","","","","","","","","","","","","","","","","","","","","","",null,"0 menunjukkan pemahaman dalam ",null,null,"0 membutuhkan bimbingan dalam "]
[null,null,13,{"$f":"'DATA SISWA'!F22","v":0},null,null,null,null,null,null,null,null,null,null,null,null,null,null,null,null,null,null,null,null,null,null,null,null,null,null,null,null,null,null,null,null,null,null,null,null,null,null,null,null,null,null,null,null,null,null,null,null,null,null,"0 menunjukkan pemahaman dalam ","0 membutuhkan bimbingan dalam ",null,null,0,0,0,0,0,0,0,0,0,0,0,0,0,0,0,0,0,0,0,0,0,0,0,0,0,null,0,0,0,0,0,0,0,0,0,0,0,0,0,0,0,0,0,0,0,0,0,0,0,0,0,null,"","","","","","","","","","","","","","","","","","","","","","","","","",null,"","","","","","","","","","","","","","","","","","","","","","","","","",null,"0 menunjukkan pemahaman dalam ",null,null,"0 membutuhkan bimbingan dalam "]
[null,null,14,{"$f":"'DATA SISWA'!F23","v":0},null,null,null,null,null,null,null,null,null,null,null,null,null,null,null,null,null,null,null,null,null,null,null,null,null,null,null,null,null,null,null,null,null,null,null,null,null,null,null,null,null,null,null,null,null,null,null,null,null,null,"0 menunjukkan pemahaman dalam ","0 membutuhkan bimbingan dalam ",null,null,0,0,0,0,0,0,0,0,0,0,0,0,0,0,0,0,0,0,0,0,0,0,0,0,0,null,0,0,0,0,0,0,0,0,0,0,0,0,0,0,0,0,0,0,0,0,0,0,0,0,0,null,"","","","","","","","","","","","","","","","","","","","","","","","","",null,"","","","","","","","","","","","","","","","","","","","","","","","","",null,"0 menunjukkan pemahaman dalam ",null,null,"0 membutuhkan bimbingan dalam "]
[null,null,15,{"$f":"'DATA SISWA'!F24","v":0},null,null,null,null,null,null,null,null,null,null,null,null,null,null,null,null,null,null,null,null,null,null,null,null,null,null,null,null,null,null,null,null,null,null,null,null,null,null,null,null,null,null,null,null,null,null,null,null,null,null,"0 menunjukkan pemahaman dalam ","0 membutuhkan bimbingan dalam ",null,null,0,0,0,0,0,0,0,0,0,0,0,0,0,0,0,0,0,0,0,0,0,0,0,0,0,null,0,0,0,0,0,0,0,0,0,0,0,0,0,0,0,0,0,0,0,0,0,0,0,0,0,null,"","","","","","","","","","","","","","","","","","","","","","","","","",null,"","","","","","","","","","","","","","","","","","","","","","","","","",null,"0 menunjukkan pemahaman dalam ",null,null,"0 membutuhkan bimbingan dalam "]
[null,null,16,{"$f":"'DATA SISWA'!F25","v":0},null,null,null,null,null,null,null,null,null,null,null,null,null,null,null,null,null,null,null,null,null,null,null,null,null,null,null,null,null,null,null,null,null,null,null,null,null,null,null,null,null,null,null,null,null,null,null,null,null,null,"0 menunjukkan pemahaman dalam ","0 membutuhkan bimbingan dalam ",null,null,0,0,0,0,0,0,0,0,0,0,0,0,0,0,0,0,0,0,0,0,0,0,0,0,0,null,0,0,0,0,0,0,0,0,0,0,0,0,0,0,0,0,0,0,0,0,0,0,0,0,0,null,"","","","","","","","","","","","","","","","","","","","","","","","","",null,"","","","","","","","","","","","","","","","","","","","","","","","","",null,"0 menunjukkan pemahaman dalam ",null,null,"0 membutuhkan bimbingan dalam "]
[null,null,17,{"$f":"'DATA SISWA'!F26","v":0},null,null,null,null,null,null,null,null,null,null,null,null,null,null,null,null,null,null,null,null,null,null,null,null,null,null,null,null,null,null,null,null,null,null,null,null,null,null,null,null,null,null,null,null,null,null,null,null,null,null,"0 menunjukkan pemahaman dalam ","0 membutuhkan bimbingan dalam ",null,null,0,0,0,0,0,0,0,0,0,0,0,0,0,0,0,0,0,0,0,0,0,0,0,0,0,null,0,0,0,0,0,0,0,0,0,0,0,0,0,0,0,0,0,0,0,0,0,0,0,0,0,null,"","","","","","","","","","","","","","","","",{"$f":"IF(AND(BW33=1,CW33=1),DW$15&\", \",\"\")","v":""},"","","","","","","","",null,"","","","","","","","","","","","","","","","",{"$f":"IF(AND(BW33=1,CW33=0),EW$15&\", \",\"\")","v":""},"","","","","","","","",null,"0 menunjukkan pemahaman dalam ",null,null,"0 membutuhkan bimbingan dalam "]
[null,null,18,{"$f":"'DATA SISWA'!F27","v":0},null,null,null,null,null,null,null,null,null,null,null,null,null,null,null,null,null,null,null,null,null,null,null,null,null,null,null,null,null,null,null,null,null,null,null,null,null,null,null,null,null,null,null,null,null,null,null,null,null,null,"0 menunjukkan pemahaman dalam ","0 membutuhkan bimbingan dalam ",null,null,0,0,0,0,0,0,0,0,0,0,0,0,0,0,0,0,0,0,0,0,0,0,0,0,0,null,0,0,0,0,0,0,0,0,0,0,0,0,0,0,0,0,0,0,0,0,0,0,0,0,0,null,"","","","","","","","","","","","","","","","","","","","","","","","","",null,"","","","","","","","","","","","","","","","","","","","","","","","","",null,"0 menunjukkan pemahaman dalam ",null,null,"0 membutuhkan bimbingan dalam "]
[null,null,19,{"$f":"'DATA SISWA'!F28","v":0},null,null,null,null,null,null,null,null,null,null,null,null,null,null,null,null,null,null,null,null,null,null,null,null,null,null,null,null,null,null,null,null,null,null,null,null,null,null,null,null,null,null,null,null,null,null,null,null,null,null,"0 menunjukkan pemahaman dalam ","0 membutuhkan bimbingan dalam ",null,null,0,0,0,0,0,0,0,0,0,0,0,0,0,0,0,0,0,0,0,0,0,0,0,0,0,null,0,0,0,0,0,0,0,0,0,0,0,0,0,0,0,0,0,0,0,0,0,0,0,0,0,null,"","","","","","","","","","","","","","","","","","","","","","","","","",null,"","","","","","","","","","","","","","","","","","","","","","","","","",null,"0 menunjukkan pemahaman dalam ",null,null,"0 membutuhkan bimbingan dalam "]
[null,null,20,{"$f":"'DATA SISWA'!F29","v":0},null,null,null,null,null,null,null,null,null,null,null,null,null,null,null,null,null,null,null,null,null,null,null,null,null,null,null,null,null,null,null,null,null,null,null,null,null,null,null,null,null,null,null,null,null,null,null,null,null,null,"0 menunjukkan pemahaman dalam ","0 membutuhkan bimbingan dalam ",null,null,0,0,0,0,0,0,0,0,0,0,0,0,0,0,0,0,0,0,0,0,0,0,0,0,0,null,0,0,0,0,0,0,0,0,0,0,0,0,0,0,0,0,0,0,0,0,0,0,0,0,0,null,"","","","","","","","","","","","","","","","","","","","","","","","","",null,"","","","","","","","","","","","","","","","","","","","","","","","","",null,"0 menunjukkan pemahaman dalam ",null,null,"0 membutuhkan bimbingan dalam "]
[null,null,21,{"$f":"'DATA SISWA'!F30","v":0},null,null,null,null,null,null,null,null,null,null,null,null,null,null,null,null,null,null,null,null,null,null,null,null,null,null,null,null,null,null,null,null,null,null,null,null,null,null,null,null,null,null,null,null,null,null,null,null,null,null,"0 menunjukkan pemahaman dalam ","0 membutuhkan bimbingan dalam ",null,null,0,0,0,0,0,0,0,0,0,0,0,0,0,0,0,0,0,0,0,0,0,0,0,0,0,null,0,0,0,0,0,0,0,0,0,0,0,0,0,0,0,0,0,0,0,0,0,0,0,0,0,null,"","","","","","","","","","","","","","","","","","","","","","","","","",null,"","","","","","","","","","","","","","","","","","","","","","","","","",null,"0 menunjukkan pemahaman dalam ",null,null,"0 membutuhkan bimbingan dalam "]
[null,null,22,{"$f":"'DATA SISWA'!F31","v":0},null,null,null,null,null,null,null,null,null,null,null,null,null,null,null,null,null,null,null,null,null,null,null,null,null,null,null,null,null,null,null,null,null,null,null,null,null,null,null,null,null,null,null,null,null,null,null,null,null,null,"0 menunjukkan pemahaman dalam ","0 membutuhkan bimbingan dalam ",null,null,0,0,0,0,0,0,0,0,0,0,0,0,0,0,0,0,0,0,0,0,0,0,0,0,0,null,0,0,0,0,0,0,0,0,0,0,0,0,0,0,0,0,0,0,0,0,0,0,0,0,0,null,"","","","","","","","","","","","","","","","","","","","","","","","","",null,"","","","","","","","","","","","","","","","","","","","","","","","","",null,"0 menunjukkan pemahaman dalam ",null,null,"0 membutuhkan bimbingan dalam "]
[null,null,23,{"$f":"'DATA SISWA'!F32","v":0},null,null,null,null,null,null,null,null,null,null,null,null,null,null,null,null,null,null,null,null,null,null,null,null,null,null,null,null,null,null,null,null,null,null,null,null,null,null,null,null,null,null,null,null,null,null,null,null,null,null,"0 menunjukkan pemahaman dalam ","0 membutuhkan bimbingan dalam ",null,null,0,0,0,0,0,0,0,0,0,0,0,0,0,0,0,0,0,0,0,0,0,0,0,0,0,null,0,0,0,0,0,0,0,0,0,0,0,0,0,0,0,0,0,0,0,0,0,0,0,0,0,null,"","","","","","","","","","","","","","","","","","","","","","","","","",null,"","","","","","","","","","","","","","","","","","","","","","","","","",null,"0 menunjukkan pemahaman dalam ",null,null,"0 membutuhkan bimbingan dalam "]
[null,null,24,{"$f":"'DATA SISWA'!F33","v":0},null,null,null,null,null,null,null,null,null,null,null,null,null,null,null,null,null,null,null,null,null,null,null,null,null,null,null,null,null,null,null,null,null,null,null,null,null,null,null,null,null,null,null,null,null,null,null,null,null,null,"0 menunjukkan pemahaman dalam ","0 membutuhkan bimbingan dalam ",null,null,0,0,0,0,0,0,0,0,0,0,0,0,0,0,0,0,0,0,0,0,0,0,0,0,0,null,0,0,0,0,0,0,0,0,0,0,0,0,0,0,0,0,0,0,0,0,0,0,0,0,0,null,"","","","","","","","","","","","","","","","","","","","","","","","","",null,"","","","","","","","","","","","","","","","","","","","","","","","","",null,"0 menunjukkan pemahaman dalam ",null,null,"0 membutuhkan bimbingan dalam "]
[null,null,25,{"$f":"'DATA SISWA'!F34","v":0},null,null,null,null,null,null,null,null,null,null,null,null,null,null,null,null,null,null,null,null,null,null,null,null,null,null,null,null,null,null,null,null,null,null,null,null,null,null,null,null,null,null,null,null,null,null,null,null,null,null,"0 menunjukkan pemahaman dalam ","0 membutuhkan bimbingan dalam ",null,null,0,0,0,0,0,0,0,0,0,0,0,0,0,0,0,0,0,0,0,0,0,0,0,0,0,null,0,0,0,0,0,0,0,0,0,0,0,0,0,0,0,0,0,0,0,0,0,0,0,0,0,null,"","","","","","","","","","","","","","","","","","","","","","","","","",null,"","","","","","","","","","","","","","","","","","","","","","","","","",null,"0 menunjukkan pemahaman dalam ",null,null,"0 membutuhkan bimbingan dalam "]
[null,null,26,{"$f":"'DATA SISWA'!F35","v":0},null,null,null,null,null,null,null,null,null,null,null,null,null,null,null,null,null,null,null,null,null,null,null,null,null,null,null,null,null,null,null,null,null,null,null,null,null,null,null,null,null,null,null,null,null,null,null,null,null,null,"0 menunjukkan pemahaman dalam ","0 membutuhkan bimbingan dalam ",null,null,0,0,0,0,0,0,0,0,0,0,0,0,0,0,0,0,0,0,0,0,0,0,0,0,0,null,0,0,0,0,0,0,0,0,0,0,0,0,0,0,0,0,0,0,0,0,0,0,0,0,0,null,"","","","","","","","","","","","","","","","","","","","","","","","","",null,"","","","","","","","","","","","","","","","","","","","","","","","","",null,"0 menunjukkan pemahaman dalam ",null,null,"0 membutuhkan bimbingan dalam "]
[null,null,27,{"$f":"'DATA SISWA'!F36","v":0},null,null,null,null,null,null,null,null,null,null,null,null,null,null,null,null,null,null,null,null,null,null,null,null,null,null,null,null,null,null,null,null,null,null,null,null,null,null,null,null,null,null,null,null,null,null,null,null,null,null,"0 menunjukkan pemahaman dalam ","0 membutuhkan bimbingan dalam ",null,null,0,0,0,0,0,0,0,0,0,0,0,0,0,0,0,0,0,0,0,0,0,0,0,0,0,null,0,0,0,0,0,0,0,0,0,0,0,0,0,0,0,0,0,0,0,0,0,0,0,0,0,null,"","","","","",{"$f":"IF(AND(BL43=1,CL43=1),DL$15&\", \",\"\")","v":""},"","","","","","","","","","","","","","","","","","","",null,"","","","","",{"$f":"IF(AND(BL43=1,CL43=0),EL$15&\", \",\"\")","v":""},"","","","","","","","","","","","","","","","","","","",null,"0 menunjukkan pemahaman dalam ",null,null,"0 membutuhkan bimbingan dalam "]
[null,null,28,{"$f":"'DATA SISWA'!F37","v":0},null,null,null,null,null,null,null,null,null,null,null,null,null,null,null,null,null,null,null,null,null,null,null,null,null,null,null,null,null,null,null,null,null,null,null,null,null,null,null,null,null,null,null,null,null,null,null,null,null,null,"0 menunjukkan pemahaman dalam ","0 membutuhkan bimbingan dalam ",null,null,0,0,0,0,0,0,0,0,0,0,0,0,0,0,0,0,0,0,0,0,0,0,0,0,0,null,0,0,0,0,0,0,0,0,0,0,0,0,0,0,0,0,0,0,0,0,0,0,0,0,0,null,{"$f":"IF(AND(BG44=1,CG44=1),DG$15&\", \",\"\")","v":""},"","","","","","","","","","","","","","","","","","","","","","","","",null,{"$f":"IF(AND(BG44=1,CG44=0),EG$15&\", \",\"\")","v":""},"","","","","","","","","","","","","","","","","","","","","","","","",null,"0 menunjukkan pemahaman dalam ",null,null,"0 membutuhkan bimbingan dalam "]
[null,null,29,{"$f":"'DATA SISWA'!F38","v":0},null,null,null,null,null,null,null,null,null,null,null,null,null,null,null,null,null,null,null,null,null,null,null,null,null,null,null,null,null,null,null,null,null,null,null,null,null,null,null,null,null,null,null,null,null,null,null,null,null,null,"0 menunjukkan pemahaman dalam ","0 membutuhkan bimbingan dalam ",null,null,0,0,0,0,0,0,0,0,0,0,0,0,0,0,0,0,0,0,0,0,0,0,0,0,0,null,0,0,0,0,0,0,0,0,0,0,0,0,0,0,0,0,0,0,0,0,0,0,0,0,0,null,"","","","","","","","","","","","","","","","","","","","","","","","","",null,"","","","","","","","","","","","","","","","","","","","","","","","","",null,"0 menunjukkan pemahaman dalam ",null,null,"0 membutuhkan bimbingan dalam "]
[null,null,30,{"$f":"'DATA SISWA'!F39","v":0},null,null,null,null,null,null,null,null,null,null,null,null,null,null,null,null,null,null,null,null,null,null,null,null,null,null,null,null,null,null,null,null,null,null,null,null,null,null,null,null,null,null,null,null,null,null,null,null,null,null,"0 menunjukkan pemahaman dalam ","0 membutuhkan bimbingan dalam ",null,null,0,0,0,0,0,0,0,0,0,0,0,0,0,0,0,0,0,0,0,0,0,0,0,0,0,null,0,0,0,0,0,0,0,0,0,0,0,0,0,0,0,0,0,0,0,0,0,0,0,0,0,null,"","","","","","","","","","","","","","","","","","","","","","","","","",null,"","","","","","","","","","","","","","","","","","","","","","","","","",null,"0 menunjukkan pemahaman dalam ",null,null,"0 membutuhkan bimbingan dalam "]
[null,null,31,{"$f":"'DATA SISWA'!F40","v":0},null,null,null,null,null,null,null,null,null,null,null,null,null,null,null,null,null,null,null,null,null,null,null,null,null,null,null,null,null,null,null,null,null,null,null,null,null,null,null,null,null,null,null,null,null,null,null,null,null,null,"0 menunjukkan pemahaman dalam ","0 membutuhkan bimbingan dalam ",null,null,0,0,0,0,0,0,0,0,0,0,0,0,0,0,0,0,0,0,0,0,0,0,0,0,0,null,0,0,0,0,0,0,0,0,0,0,0,0,0,0,0,0,0,0,0,0,0,0,0,0,0,null,"","","","","","","","","","","","","","","","","","","","","","","","","",null,"","","","","","","","","","","","","","","","","","","","","","","","","",null,"0 menunjukkan pemahaman dalam ",null,null,"0 membutuhkan bimbingan dalam "]
[null,null,32,{"$f":"'DATA SISWA'!F41","v":0},null,null,null,null,null,null,null,null,null,null,null,null,null,null,null,null,null,null,null,null,null,null,null,null,null,null,null,null,null,null,null,null,null,null,null,null,null,null,null,null,null,null,null,null,null,null,null,null,null,null,"0 menunjukkan pemahaman dalam ","0 membutuhkan bimbingan dalam ",null,null,0,0,0,0,0,0,0,0,0,0,0,0,0,0,0,0,0,0,0,0,0,0,0,0,0,null,0,0,0,0,0,0,0,0,0,0,0,0,0,0,0,0,0,0,0,0,0,0,0,0,0,null,"","","","","","","","","","","","","","","","","","","","","","","","","",null,"","","","","","","","","","","","","","","","","","","","","","","","","",null,"0 menunjukkan pemahaman dalam ",null,null,"0 membutuhkan bimbingan dalam "]
[null,null,33,{"$f":"'DATA SISWA'!F42","v":0},null,null,null,null,null,null,null,null,null,null,null,null,null,null,null,null,null,null,null,null,null,null,null,null,null,null,null,null,null,null,null,null,null,null,null,null,null,null,null,null,null,null,null,null,null,null,null,null,null,null,"0 menunjukkan pemahaman dalam ","0 membutuhkan bimbingan dalam ",null,null,0,0,0,0,0,0,0,0,0,0,0,0,0,0,0,0,0,0,0,0,0,0,0,0,0,null,0,0,0,0,0,0,0,0,0,0,0,0,0,0,0,0,0,0,0,0,0,0,0,0,0,null,"","","","","","","","","","","","","","","","","","","","","","","","","",null,"","","","","","","","","","","","","","","","","","","","","","","","","",null,"0 menunjukkan pemahaman dalam ",null,null,"0 membutuhkan bimbingan dalam "]
[null,null,34,{"$f":"'DATA SISWA'!F43","v":0},null,null,null,null,null,null,null,null,null,null,null,null,null,null,null,null,null,null,null,null,null,null,null,null,null,null,null,null,null,null,null,null,null,null,null,null,null,null,null,null,null,null,null,null,null,null,null,null,null,null,"0 menunjukkan pemahaman dalam ","0 membutuhkan bimbingan dalam ",null,null,0,0,0,0,0,0,0,0,0,0,0,0,0,0,0,0,0,0,0,0,0,0,0,0,0,null,0,0,0,0,0,0,0,0,0,0,0,0,0,0,0,0,0,0,0,0,0,0,0,0,0,null,"","","","","","","","","","","","","","","","","","","","","","","","","",null,"","","","","","","","","","","","","","","","","","","","","","","","","",null,"0 menunjukkan pemahaman dalam ",null,null,"0 membutuhkan bimbingan dalam "]
[null,null,35,{"$f":"'DATA SISWA'!F44","v":0},null,null,null,null,null,null,null,null,null,null,null,null,null,null,null,null,null,null,null,null,null,null,null,null,null,null,null,null,null,null,null,null,null,null,null,null,null,null,null,null,null,null,null,null,null,null,null,null,null,null,"0 menunjukkan pemahaman dalam ","0 membutuhkan bimbingan dalam ",null,null,0,0,0,0,0,0,0,0,0,0,0,0,0,0,0,0,0,0,0,0,0,0,0,0,0,null,0,0,0,0,0,0,0,0,0,0,0,0,0,0,0,0,0,0,0,0,0,0,0,0,0,null,"","","","","","","","","","","","","","","","","","","","","","","","","",null,"","","","","","","","","","","","","","","","","","","","","","","","","",null,"0 menunjukkan pemahaman dalam ",null,null,"0 membutuhkan bimbingan dalam "]
[null,null,36,{"$f":"'DATA SISWA'!F45","v":0},null,null,null,null,null,null,null,null,null,null,null,null,null,null,null,null,null,null,null,null,null,null,null,null,null,null,null,null,null,null,null,null,null,null,null,null,null,null,null,null,null,null,null,null,null,null,null,null,null,null,"0 menunjukkan pemahaman dalam ","0 membutuhkan bimbingan dalam ",null,null,0,0,0,0,0,0,0,0,0,0,0,0,0,0,0,0,0,0,0,0,0,0,0,0,0,null,0,0,0,0,0,0,0,0,0,0,0,0,0,0,0,0,0,0,0,0,0,0,0,0,0,null,"","","","","","","","","","","","","","","","","","","","","","","","","",null,"","","","","","","","","","","","","","","","","","","","","","","","","",null,"0 menunjukkan pemahaman dalam ",null,null,"0 membutuhkan bimbingan dalam "]
[null,null,37,{"$f":"'DATA SISWA'!F46","v":0},null,null,null,null,null,null,null,null,null,null,null,null,null,null,null,null,null,null,null,null,null,null,null,null,null,null,null,null,null,null,null,null,null,null,null,null,null,null,null,null,null,null,null,null,null,null,null,null,null,null,"0 menunjukkan pemahaman dalam ","0 membutuhkan bimbingan dalam ",null,null,0,0,0,0,0,0,0,0,0,0,0,0,0,0,0,0,0,0,0,0,0,0,0,0,0,null,0,0,0,0,0,0,0,0,0,0,0,0,0,0,0,0,0,0,0,0,0,0,0,0,0,null,"","","","","","","","","","","","","","","","","","","","","","","","","",null,"","","","","","","","","","","","","","","","","","","","","","","","","",null,"0 menunjukkan pemahaman dalam ",null,null,"0 membutuhkan bimbingan dalam "]
[null,null,38,{"$f":"'DATA SISWA'!F47","v":0},null,null,null,null,null,null,null,null,null,null,null,null,null,null,null,null,null,null,null,null,null,null,null,null,null,null,null,null,null,null,null,null,null,null,null,null,null,null,null,null,null,null,null,null,null,null,null,null,null,null,"0 menunjukkan pemahaman dalam ","0 membutuhkan bimbingan dalam ",null,null,0,0,0,0,0,0,0,0,0,0,0,0,0,0,0,0,0,0,0,0,0,0,0,0,0,null,0,0,0,0,0,0,0,0,0,0,0,0,0,0,0,0,0,0,0,0,0,0,0,0,0,null,"","","","","","","","","","","","","","","","","","","","","","","","","",null,"","","","","","","","","","","","","","","","","","","","","","","","","",null,"0 menunjukkan pemahaman dalam ",null,null,"0 membutuhkan bimbingan dalam "]
[null,null,39,{"$f":"'DATA SISWA'!F48","v":0},null,null,null,null,null,null,null,null,null,null,null,null,null,null,null,null,null,null,null,null,null,null,null,null,null,null,null,null,null,null,null,null,null,null,null,null,null,null,null,null,null,null,null,null,null,null,null,null,null,null,"0 menunjukkan pemahaman dalam ","0 membutuhkan bimbingan dalam ",null,null,0,0,0,0,0,0,0,0,0,0,0,0,0,0,0,0,0,0,0,0,0,0,0,0,0,null,0,0,0,0,0,0,0,0,0,0,0,0,0,0,0,0,0,0,0,0,0,0,0,0,0,null,"","","","","","","","","","","","","","","","","","","","","","","","","",null,"","","","","","","","","","","","","","","","","","","","","","","","","",null,"0 menunjukkan pemahaman dalam ",null,null,"0 membutuhkan bimbingan dalam "]
[null,null,40,{"$f":"'DATA SISWA'!F49","v":0},null,null,null,null,null,null,null,null,null,null,null,null,null,null,null,null,null,null,null,null,null,null,null,null,null,null,null,null,null,null,null,null,null,null,null,null,null,null,null,null,null,null,null,null,null,null,null,null,null,null,"0 menunjukkan pemahaman dalam ","0 membutuhkan bimbingan dalam ",null,null,0,0,0,0,0,0,0,0,0,0,0,0,0,0,0,0,0,0,0,0,0,0,0,0,0,null,0,0,0,0,0,0,0,0,0,0,0,0,0,0,0,0,0,0,0,0,0,0,0,0,0,null,"","","","","","","","","","","","","","","","","","","","","","","","","",null,"","","","","","","","","","","","","","","","","","","","","","","","","",null,"0 menunjukkan pemahaman dalam ",null,null,"0 membutuhkan bimbingan dalam "]

{"sheet":"F6","index":39,"n_rows":56,"n_cols":166,"rows_kept":56,"cut":false,"hidden":false,"merged":[[14,52,14,53],[14,40,14,41],[14,42,14,43],[14,44,14,45],[14,46,14,47],[14,48,14,49],[14,50,14,51],[14,38,14,39],[14,16,14,17],[14,18,14,19],[14,20,14,21],[14,22,14,23],[14,24,14,25],[14,26,14,27],[14,28,14,29],[14,30,14,31],[14,32,14,33],[14,34,14,35],[14,36,14,37],[13,152,13,153],[13,154,13,155],[13,156,13,157],[13,158,13,159],[14,4,14,5],[14,6,14,7],[14,8,14,9],[14,10,14,11],[14,12,14,13],[14,14,14,15],[13,50,13,51],[13,52,13,53],[13,144,13,145],[13,146,13,147],[13,148,13,149],[13,150,13,151],[13,20,13,21],[13,22,13,23],[13,48,13,49],[13,26,13,27],[13,28,13,29],[13,30,13,31],[13,32,13,33],[13,34,13,35],[13,36,13,37],[13,38,13,39],[13,40,13,41],[13,42,13,43],[13,44,13,45],[13,46,13,47],[12,54,15,54],[12,55,15,55],[13,24,13,25],[2,1,2,54],[4,1,4,54],[12,2,15,2],[12,3,15,3],[12,4,12,53],[13,4,13,5],[13,6,13,7],[13,8,13,9],[13,10,13,11],[13,12,13,13],[13,14,13,15],[13,16,13,17],[13,18,13,19]]}
[]
[]
[null,"INPUT ASESMEN FORMATIF"]
[]
[null,{"$f":"\"MATA PELAJARAN : \"&INTRAKURIKULER!D14","v":"MATA PELAJARAN : "}]
[null,"Petunjuk Pengisian :"]
[null,null,1,"Rapor ini berasumsi bahwa guru telah melakukan penilaian formatif dan direkap dalam lembar tersendiri"]
[null,null,2,"Pada Kolom KKTP, pilih '0' jika siswa tidak memenuhi KKTP, Pilih '1' jika siswa memenuhi KKTP. Bisa juga diketikkan langsung angka 1 atau 0"]
[null,null,3,"Pada Kolom Tampil/Tidak, pilih '0' jika tidak ingin menampilkan TP tersebut di deskripsi rapor, pilih '1' jika ingin menampilkan TP di deskripsi rapor. Bisa juga diketikkan langsung angka 1 atau 0",null,null,null,null,null,null,null,null,null,null,null,null,null,null,null,null,null,null,null,null,null,null,null,null,null,null,null,null,null,null,null,null,null,null,null,null,null,null,null,null,null,null,null,null,null,null,null,null,null,null,null,null,null,null,0]
[null,"Contoh :",null,"Pada TP 1, siswa mencapai KKTP tapi tidak ingin ditampilkan dalam rapor. Pilih KKTP = 1, dan Tampil/Tidak = 0.",null,null,null,null,null,null,null,null,null,null,null,null,null,null,null,"Isilah hanya pada TP yang diinginkan",null,null,null,null,null,null,null,null,null,null,null,null,null,null,null,null,null,null,null,null,null,null,null,null,null,null,null,null,null,null,null,null,null,null,null,null,null,null,1]
[null,null,null,"Pada TP 2, siswa tidak mencapai KKTP tapi ingin ditampilkan dalam rapor. Pilih KKTP = 0, dan Tampil/Tidak = 1.",null,null,null,null,null,null,null,null,null,null,null,null,null,null,null,"masuk dalam deskripsi rapor"]
[]
[null,null,"No","Nama Siswa","Tujuan Pembelajaran",null,null,null,null,null,null,null,null,null,null,null,null,null,null,null,null,null,null,null,null,null,null,null,null,null,null,null,null,null,null,null,null,null,null,null,null,null,null,null,null,null,null,null,null,null,null,null,null,null,"Deskripsi Capaian Tertinggi dalam Rapor","Deskripsi Capaian Terendah dalam Rapor"]
[null,null,null,null,"TP 1",null,"TP 2",null,"TP 3",null,"TP 4",null,"TP 5",null,"TP 6",null,"TP 7",null,"TP 8",null,"TP 9",null,"TP 10",null,"TP 11",null,"TP 12",null,"TP 13",null,"TP 14",null,"TP 15",null,"TP 16",null,"TP 17",null,"TP 18",null,"TP 19",null,"TP 20",null,"TP 21",null,"TP 22",null,"TP 23",null,"TP 24",null,"TP 25",null,null,null,null,null,null,null,null,null,null,null,null,null,null,null,null,null,null,null,null,null,null,null,null,null,null,null,null,null,null,null,null,null,null,null,null,null,null,null,null,null,null,null,null,null,null,null,null,null,null,null,null,null,null,null,null,null,"mencapai",null,null,null,null,null,null,null,null,null,null,null,null,null,null,null,null,null,null,null,null,null,null,null,null,null,"tidak mencapai"]
[null,null,null,null,{"$f":"'TP 6'!D8","v":1},null,{"$f":"'TP 6'!D9","v":2},null,{"$f":"'TP 6'!D10","v":3},null,{"$f":"'TP 6'!D11","v":4},null,{"$f":"'TP 6'!D12","v":5},null,{"$f":"'TP 6'!D13","v":6},null,{"$f":"'TP 6'!D14","v":7},null,{"$f":"'TP 6'!D15","v":8},null,{"$f":"'TP 6'!D16","v":9},null,{"$f":"'TP 6'!D17","v":10},null,{"$f":"'TP 6'!D18","v":11},null,{"$f":"'TP 6'!D19","v":12},null,{"$f":"'TP 6'!D20","v":13},null,{"$f":"'TP 6'!D21","v":14},null,{"$f":"'TP 6'!D22","v":15},null,{"$f":"'TP 6'!D23","v":16},null,{"$f":"'TP 6'!D24","v":17},null,{"$f":"'TP 6'!D25","v":18},null,{"$f":"'TP 6'!D26","v":19},null,{"$f":"'TP 6'!D27","v":20},null,{"$f":"'TP 6'!D28","v":21},null,{"$f":"'TP 6'!D29","v":22},null,{"$f":"'TP 6'!D30","v":23},null,{"$f":"'TP 6'!D31","v":24},null,{"$f":"'TP 6'!D32","v":25},null,null,null,null,null,1,2,3,4,5,6,7,8,9,10,11,12,13,14,15,16,17,18,19,20,21,22,23,24,25,null,1,2,3,4,5,6,7,8,9,10,11,12,13,14,15,16,17,18,19,20,21,22,23,24,25,null,{"$f":"E15","v":1},{"$f":"G15","v":2},{"$f":"I15","v":3},{"$f":"K15","v":4},{"$f":"M15","v":5},{"$f":"O15","v":6},{"$f":"Q15","v":7},{"$f":"S15","v":8},{"$f":"U15","v":9},{"$f":"W15","v":10},{"$f":"Y15","v":11},{"$f":"AA15","v":12},{"$f":"AC15","v":13},{"$f":"AE15","v":14},{"$f":"AG15","v":15},{"$f":"AI15","v":16},{"$f":"AK15","v":17},{"$f":"AM15","v":18},{"$f":"AO15","v":19},{"$f":"AQ15","v":20},{"$f":"AS15","v":21},{"$f":"AU15","v":22},{"$f":"AW15","v":23},{"$f":"AY15","v":24},{"$f":"BA15","v":25},null,{"$f":"DG15","v":1},{"$f":"DH15","v":2},3,4,5,6,7,8,9,10,11,12,13,14,15,16,17,18,19,20,21,22,23,24,25,null,"mencapai",null,null,"tidak mencapai"]
[null,null,null,null,"KKTP","Tampil/Tidak","KKTP","Tampil/Tidak","KKTP","Tampil/Tidak","KKTP","Tampil/Tidak","KKTP","Tampil/Tidak","KKTP","Tampil/Tidak","KKTP","Tampil/Tidak","KKTP","Tampil/Tidak","KKTP","Tampil/Tidak","KKTP","Tampil/Tidak","KKTP","Tampil/Tidak","KKTP","Tampil/Tidak","KKTP","Tampil/Tidak","KKTP","Tampil/Tidak","KKTP","Tampil/Tidak","KKTP","Tampil/Tidak","KKTP","Tampil/Tidak","KKTP","Tampil/Tidak","KKTP","Tampil/Tidak","KKTP","Tampil/Tidak","KKTP","Tampil/Tidak","KKTP","Tampil/Tidak","KKTP","Tampil/Tidak","KKTP","Tampil/Tidak","KKTP","Tampil/Tidak",null,null,null,null,null,null,null,null,null,null,null,null,null,null,null,null,null,null,null,null,null,null,null,null,null,null,null,null,null,null,"kktp",null,null,null,null,null,null,null,null,null,null,null,null,null,null,null,null,null,null,null,null,null,null,null,null,null,1,2,3,4,5,6,7,8,9,10,11,12,13,14,15,16,17,18,19,20,21,22,23,24,25,null,1,2,3,4,5,6,7,8,9,10,11,12,13,14,15,16,17,18,19,20,21,22,23,24,25]
[null,null,1,{"$f":"'DATA SISWA'!F10","v":0},null,null,null,null,null,null,null,null,null,null,null,null,null,null,null,null,null,null,null,null,null,null,null,null,null,null,null,null,null,null,null,null,null,null,null,null,null,null,null,null,null,null,null,null,null,null,null,null,null,null,{"$f":"FG17","v":"0 menunjukkan pemahaman dalam "},{"$f":"FJ17","v":"0 membutuhkan bimbingan dalam "},null,null,{"$f":"F17","v":0},{"$f":"H17","v":0},{"$f":"J17","v":0},{"$f":"L17","v":0},{"$f":"N17","v":0},{"$f":"P17","v":0},{"$f":"R17","v":0},{"$f":"T17","v":0},{"$f":"V17","v":0},{"$f":"X17","v":0},{"$f":"Z17","v":0},{"$f":"AB17","v":0},{"$f":"AD17","v":0},{"$f":"AF17","v":0},{"$f":"AH17","v":0},{"$f":"AJ17","v":0},{"$f":"AL17","v":0},{"$f":"AN17","v":0},{"$f":"AP17","v":0},{"$f":"AR17","v":0},{"$f":"AT17","v":0},{"$f":"AV17","v":0},{"$f":"AX17","v":0},{"$f":"AZ17","v":0},{"$f":"BB17","v":0},null,{"$f":"E17","v":0},{"$f":"G17","v":0},{"$f":"I17","v":0},{"$f":"K17","v":0},{"$f":"M17","v":0},{"$f":"O17","v":0},{"$f":"Q17","v":0},{"$f":"S17","v":0},{"$f":"U17","v":0},{"$f":"W17","v":0},{"$f":"Y17","v":0},{"$f":"AA17","v":0},{"$f":"AC17","v":0},{"$f":"AE17","v":0},{"$f":"AG17","v":0},{"$f":"AI17","v":0},{"$f":"AK17","v":0},{"$f":"AM17","v":0},{"$f":"AO17","v":0},{"$f":"AQ17","v":0},{"$f":"AS17","v":0},{"$f":"AU17","v":0},{"$f":"AW17","v":0},{"$f":"AY17","v":0},{"$f":"BA17","v":0},null,{"$f":"IF(AND(BG17=1,CG17=1),DG$15&\", \",\"\")","v":""},{"$f":"IF(AND(BH17=1,CH17=1),DH$15&\", \",\"\")","v":""},"","","","","","","","","","","","","","","",{"$f":"IF(AND(BX17=1,CX17=1),DX$15&\", \",\"\")","v":""},"","","","","","","",null,{"$f":"IF(AND(BG17=1,CG17=0),EG$15&\", \",\"\")","v":""},{"$f":"IF(AND(BH17=1,CH17=0),EH$15&\", \",\"\")","v":""},"","","","","","","","","","","","","","","",{"$f":"IF(AND(BX17=1,CX17=0),EX$15&\", \",\"\")","v":""},"","","","","","","",null,{"$f":"PROPER(D17)&\" menunjukkan pemahaman dalam \"&DG17&DH17&DI17&DJ17&DK17&DL17&DM17&DN17&DO17&DP17&DQ17&DR17&DS17&DT17&DU17&DV17&DW17&DX17&DY17&DZ17&EA17&EB17&EC17&ED17&EE17","v":"0 menunjukkan pemahaman dalam "},null,null,{"$f":"PROPER(D17)&\" membutuhkan bimbingan dalam \"&EG17&EH17&EI17&EJ17&EK17&EL17&EM17&EN17&EO17&EP17&EQ17&ER17&ES17&ET17&EU17&EV17&EW17&EX17&EY17&EZ17&FA17&FB17&FC17&FD17&FE17","v":"0 membutuhkan bimbingan dalam "}]
[null,null,2,{"$f":"'DATA SISWA'!F11","v":0},null,null,null,null,null,null,null,null,null,null,null,null,null,null,null,null,null,null,null,null,null,null,null,null,null,null,null,null,null,null,null,null,null,null,null,null,null,null,null,null,null,null,null,null,null,null,null,null,null,null,{"$f":"FG18","v":"0 menunjukkan pemahaman dalam "},{"$f":"FJ18","v":"0 membutuhkan bimbingan dalam "},null,null,{"$f":"F18","v":0},{"$f":"H18","v":0},{"$f":"J18","v":0},{"$f":"L18","v":0},{"$f":"N18","v":0},{"$f":"P18","v":0},{"$f":"R18","v":0},{"$f":"T18","v":0},{"$f":"V18","v":0},{"$f":"X18","v":0},{"$f":"Z18","v":0},{"$f":"AB18","v":0},{"$f":"AD18","v":0},{"$f":"AF18","v":0},{"$f":"AH18","v":0},{"$f":"AJ18","v":0},{"$f":"AL18","v":0},{"$f":"AN18","v":0},{"$f":"AP18","v":0},{"$f":"AR18","v":0},{"$f":"AT18","v":0},{"$f":"AV18","v":0},{"$f":"AX18","v":0},{"$f":"AZ18","v":0},{"$f":"BB18","v":0},null,{"$f":"E18","v":0},{"$f":"G18","v":0},{"$f":"I18","v":0},{"$f":"K18","v":0},{"$f":"M18","v":0},{"$f":"O18","v":0},{"$f":"Q18","v":0},{"$f":"S18","v":0},{"$f":"U18","v":0},{"$f":"W18","v":0},{"$f":"Y18","v":0},{"$f":"AA18","v":0},{"$f":"AC18","v":0},{"$f":"AE18","v":0},{"$f":"AG18","v":0},{"$f":"AI18","v":0},{"$f":"AK18","v":0},{"$f":"AM18","v":0},{"$f":"AO18","v":0},{"$f":"AQ18","v":0},{"$f":"AS18","v":0},{"$f":"AU18","v":0},{"$f":"AW18","v":0},{"$f":"AY18","v":0},{"$f":"BA18","v":0},null,{"$f":"IF(AND(BG18=1,CG18=1),DG$15&\", \",\"\")","v":""},"","","","","","","","","","","","","","","","","","","","","","","","",null,{"$f":"IF(AND(BG18=1,CG18=0),EG$15&\", \",\"\")","v":""},"","","","","","","","","","","","","","","","","","","","","","","","",null,{"$f":"PROPER(D18)&\" menunjukkan pemahaman dalam \"&DG18&DH18&DI18&DJ18&DK18&DL18&DM18&DN18&DO18&DP18&DQ18&DR18&DS18&DT18&DU18&DV18&DW18&DX18&DY18&DZ18&EA18&EB18&EC18&ED18&EE18","v":"0 menunjukkan pemahaman dalam "},null,null,{"$f":"PROPER(D18)&\" membutuhkan bimbingan dalam \"&EG18&EH18&EI18&EJ18&EK18&EL18&EM18&EN18&EO18&EP18&EQ18&ER18&ES18&ET18&EU18&EV18&EW18&EX18&EY18&EZ18&FA18&FB18&FC18&FD18&FE18","v":"0 membutuhkan bimbingan dalam "}]
[null,null,3,{"$f":"'DATA SISWA'!F12","v":0},null,null,null,null,null,null,null,null,null,null,null,null,null,null,null,null,null,null,null,null,null,null,null,null,null,null,null,null,null,null,null,null,null,null,null,null,null,null,null,null,null,null,null,null,null,null,null,null,null,null,"0 menunjukkan pemahaman dalam ","0 membutuhkan bimbingan dalam ",null,null,0,0,0,0,0,0,0,0,0,0,0,0,0,0,0,0,0,0,0,0,0,0,0,0,0,null,0,0,0,0,0,0,0,0,0,0,0,0,0,0,0,0,0,0,0,0,0,0,0,0,0,null,"","","","","","","","","","","","","","","","","","","","","","","","","",null,"","","","","","","","","","","","","","","","","","","","","","","","","",null,"0 menunjukkan pemahaman dalam ",null,null,"0 membutuhkan bimbingan dalam "]
[null,null,4,{"$f":"'DATA SISWA'!F13","v":0},null,null,null,null,null,null,null,null,null,null,null,null,null,null,null,null,null,null,null,null,null,null,null,null,null,null,null,null,null,null,null,null,null,null,null,null,null,null,null,null,null,null,null,null,null,null,null,null,null,null,"0 menunjukkan pemahaman dalam ","0 membutuhkan bimbingan dalam ",null,null,0,0,0,0,0,0,0,0,0,0,0,0,0,0,0,0,0,0,0,0,0,0,0,0,0,null,0,0,0,0,0,0,0,0,0,0,0,0,0,0,0,0,0,0,0,0,0,0,0,0,0,null,"","","","","","","","","","","","","","","","","","","","","","","","","",null,"","","","","","","","","","","","","","","","","","","","","","","","","",null,"0 menunjukkan pemahaman dalam ",null,null,"0 membutuhkan bimbingan dalam "]
[null,null,5,{"$f":"'DATA SISWA'!F14","v":0},null,null,null,null,null,null,null,null,null,null,null,null,null,null,null,null,null,null,null,null,null,null,null,null,null,null,null,null,null,null,null,null,null,null,null,null,null,null,null,null,null,null,null,null,null,null,null,null,null,null,"0 menunjukkan pemahaman dalam ","0 membutuhkan bimbingan dalam ",null,null,0,0,0,0,0,0,0,0,0,0,0,0,0,0,0,0,0,0,0,0,0,0,0,0,0,null,0,0,0,0,0,0,0,0,0,0,0,0,0,0,0,0,0,0,0,0,0,0,0,0,0,null,"","","","","","","","","","","","","","","","","","","","","","","","","",null,"","","","","","","","","","","","","","","","","","","","","","","","","",null,"0 menunjukkan pemahaman dalam ",null,null,"0 membutuhkan bimbingan dalam "]
[null,null,6,{"$f":"'DATA SISWA'!F15","v":0},null,null,null,null,null,null,null,null,null,null,null,null,null,null,null,null,null,null,null,null,null,null,null,null,null,null,null,null,null,null,null,null,null,null,null,null,null,null,null,null,null,null,null,null,null,null,null,null,null,null,"0 menunjukkan pemahaman dalam ","0 membutuhkan bimbingan dalam ",null,null,0,0,0,0,0,0,0,0,0,0,0,0,0,0,0,0,0,0,0,0,0,0,0,0,0,null,0,0,0,0,0,0,0,0,0,0,0,0,0,0,0,0,0,0,0,0,0,0,0,0,0,null,"","","","","","","","","","","","","","","","","","","","","","","","","",null,"","","","","","","","","","","","","","","","","","","","","","","","","",null,"0 menunjukkan pemahaman dalam ",null,null,"0 membutuhkan bimbingan dalam "]
[null,null,7,{"$f":"'DATA SISWA'!F16","v":0},null,null,null,null,null,null,null,null,null,null,null,null,null,null,null,null,null,null,null,null,null,null,null,null,null,null,null,null,null,null,null,null,null,null,null,null,null,null,null,null,null,null,null,null,null,null,null,null,null,null,"0 menunjukkan pemahaman dalam ","0 membutuhkan bimbingan dalam ",null,null,0,0,0,0,0,0,0,0,0,0,0,0,0,0,0,0,0,0,0,0,0,0,0,0,0,null,0,0,0,0,0,0,0,0,0,0,0,0,0,0,0,0,0,0,0,0,0,0,0,0,0,null,"","","","","","","","","","","","","","","","","","","","","","","","","",null,"","","","","","","","","","","","","","","","","","","","","","","","","",null,"0 menunjukkan pemahaman dalam ",null,null,"0 membutuhkan bimbingan dalam "]
[null,null,8,{"$f":"'DATA SISWA'!F17","v":0},null,null,null,null,null,null,null,null,null,null,null,null,null,null,null,null,null,null,null,null,null,null,null,null,null,null,null,null,null,null,null,null,null,null,null,null,null,null,null,null,null,null,null,null,null,null,null,null,null,null,"0 menunjukkan pemahaman dalam ","0 membutuhkan bimbingan dalam ",null,null,0,0,0,0,0,0,0,0,0,0,0,0,0,0,0,0,0,0,0,0,0,0,0,0,0,null,0,0,0,0,0,0,0,0,0,0,0,0,0,0,0,0,0,0,0,0,0,0,0,0,0,null,"","","","","","","","","","","","","","","","","","","","","","","","","",null,"","","","","","","","","","","","","","","","","","","","","","","","","",null,"0 menunjukkan pemahaman dalam ",null,null,"0 membutuhkan bimbingan dalam "]
[null,null,9,{"$f":"'DATA SISWA'!F18","v":0},null,null,null,null,null,null,null,null,null,null,null,null,null,null,null,null,null,null,null,null,null,null,null,null,null,null,null,null,null,null,null,null,null,null,null,null,null,null,null,null,null,null,null,null,null,null,null,null,null,null,"0 menunjukkan pemahaman dalam ","0 membutuhkan bimbingan dalam ",null,null,0,0,0,0,0,0,0,0,0,0,0,0,0,0,0,0,0,0,0,0,0,0,0,0,0,null,0,0,0,0,0,0,0,0,0,0,0,0,0,0,0,0,0,0,0,0,0,0,0,0,0,null,"","","","","","","","","","","","","","","","","","","","","","","","","",null,"","","","","","","","","","","","","","","","","","","","","","","","","",null,"0 menunjukkan pemahaman dalam ",null,null,"0 membutuhkan bimbingan dalam "]
[null,null,10,{"$f":"'DATA SISWA'!F19","v":0},null,null,null,null,null,null,null,null,null,null,null,null,null,null,null,null,null,null,null,null,null,null,null,null,null,null,null,null,null,null,null,null,null,null,null,null,null,null,null,null,null,null,null,null,null,null,null,null,null,null,"0 menunjukkan pemahaman dalam ","0 membutuhkan bimbingan dalam ",null,null,0,0,0,0,0,0,0,0,0,0,0,0,0,0,0,0,0,0,0,0,0,0,0,0,0,null,0,0,0,0,0,0,0,0,0,0,0,0,0,0,0,0,0,0,0,0,0,0,0,0,0,null,"","","","","","","","","","","","","","","","","","","","","","","","","",null,"","","","","","","","","","","","","","","","","","","","","","","","","",null,"0 menunjukkan pemahaman dalam ",null,null,"0 membutuhkan bimbingan dalam "]
[null,null,11,{"$f":"'DATA SISWA'!F20","v":0},null,null,null,null,null,null,null,null,null,null,null,null,null,null,null,null,null,null,null,null,null,null,null,null,null,null,null,null,null,null,null,null,null,null,null,null,null,null,null,null,null,null,null,null,null,null,null,null,null,null,"0 menunjukkan pemahaman dalam ","0 membutuhkan bimbingan dalam ",null,null,0,0,0,0,0,0,0,0,0,0,0,0,0,0,0,0,0,0,0,0,0,0,0,0,0,null,0,0,0,0,0,0,0,0,0,0,0,0,0,0,0,0,0,0,0,0,0,0,0,0,0,null,"","","","","","","","","","","","","","","","","","","","","","","","","",null,"","","","","","","","","","","","","","","","","","","","","","","","","",null,"0 menunjukkan pemahaman dalam ",null,null,"0 membutuhkan bimbingan dalam "]
[null,null,12,{"$f":"'DATA SISWA'!F21","v":0},null,null,null,null,null,null,null,null,null,null,null,null,null,null,null,null,null,null,null,null,null,null,null,null,null,null,null,null,null,null,null,null,null,null,null,null,null,null,null,null,null,null,null,null,null,null,null,null,null,null,"0 menunjukkan pemahaman dalam ","0 membutuhkan bimbingan dalam ",null,null,0,0,0,0,0,0,0,0,0,0,0,0,0,0,0,0,0,0,0,0,0,0,0,0,0,null,0,0,0,0,0,0,0,0,0,0,0,0,0,0,0,0,0,0,0,0,0,0,0,0,0,null,"","","","","","","","","","","","","","","","","","","","","","","","","",null,"","","","","","","","","","","","","","","","","","","","","","","","","",null,"0 menunjukkan pemahaman dalam ",null,null,"0 membutuhkan bimbingan dalam "]
[null,null,13,{"$f":"'DATA SISWA'!F22","v":0},null,null,null,null,null,null,null,null,null,null,null,null,null,null,null,null,null,null,null,null,null,null,null,null,null,null,null,null,null,null,null,null,null,null,null,null,null,null,null,null,null,null,null,null,null,null,null,null,null,null,"0 menunjukkan pemahaman dalam ","0 membutuhkan bimbingan dalam ",null,null,0,0,0,0,0,0,0,0,0,0,0,0,0,0,0,0,0,0,0,0,0,0,0,0,0,null,0,0,0,0,0,0,0,0,0,0,0,0,0,0,0,0,0,0,0,0,0,0,0,0,0,null,"","","","","","","","","","","","","","","","","","","","","","","","","",null,"","","","","","","","","","","","","","","","","","","","","","","","","",null,"0 menunjukkan pemahaman dalam ",null,null,"0 membutuhkan bimbingan dalam "]
[null,null,14,{"$f":"'DATA SISWA'!F23","v":0},null,null,null,null,null,null,null,null,null,null,null,null,null,null,null,null,null,null,null,null,null,null,null,null,null,null,null,null,null,null,null,null,null,null,null,null,null,null,null,null,null,null,null,null,null,null,null,null,null,null,"0 menunjukkan pemahaman dalam ","0 membutuhkan bimbingan dalam ",null,null,0,0,0,0,0,0,0,0,0,0,0,0,0,0,0,0,0,0,0,0,0,0,0,0,0,null,0,0,0,0,0,0,0,0,0,0,0,0,0,0,0,0,0,0,0,0,0,0,0,0,0,null,"","","","","","","","","","","","","","","","","","","","","","","","","",null,"","","","","","","","","","","","","","","","","","","","","","","","","",null,"0 menunjukkan pemahaman dalam ",null,null,"0 membutuhkan bimbingan dalam "]
[null,null,15,{"$f":"'DATA SISWA'!F24","v":0},null,null,null,null,null,null,null,null,null,null,null,null,null,null,null,null,null,null,null,null,null,null,null,null,null,null,null,null,null,null,null,null,null,null,null,null,null,null,null,null,null,null,null,null,null,null,null,null,null,null,"0 menunjukkan pemahaman dalam ","0 membutuhkan bimbingan dalam ",null,null,0,0,0,0,0,0,0,0,0,0,0,0,0,0,0,0,0,0,0,0,0,0,0,0,0,null,0,0,0,0,0,0,0,0,0,0,0,0,0,0,0,0,0,0,0,0,0,0,0,0,0,null,"","","","","","","","","","","","","","","","","","","","","","","","","",null,"","","","","","","","","","","","","","","","","","","","","","","","","",null,"0 menunjukkan pemahaman dalam ",null,null,"0 membutuhkan bimbingan dalam "]
[null,null,16,{"$f":"'DATA SISWA'!F25","v":0},null,null,null,null,null,null,null,null,null,null,null,null,null,null,null,null,null,null,null,null,null,null,null,null,null,null,null,null,null,null,null,null,null,null,null,null,null,null,null,null,null,null,null,null,null,null,null,null,null,null,"0 menunjukkan pemahaman dalam ","0 membutuhkan bimbingan dalam ",null,null,0,0,0,0,0,0,0,0,0,0,0,0,0,0,0,0,0,0,0,0,0,0,0,0,0,null,0,0,0,0,0,0,0,0,0,0,0,0,0,0,0,0,0,0,0,0,0,0,0,0,0,null,"","","","","","","","","","","","","","","","","","","","","","","","","",null,"","","","","","","","","","","","","","","","","","","","","","","","","",null,"0 menunjukkan pemahaman dalam ",null,null,"0 membutuhkan bimbingan dalam "]
[null,null,17,{"$f":"'DATA SISWA'!F26","v":0},null,null,null,null,null,null,null,null,null,null,null,null,null,null,null,null,null,null,null,null,null,null,null,null,null,null,null,null,null,null,null,null,null,null,null,null,null,null,null,null,null,null,null,null,null,null,null,null,null,null,"0 menunjukkan pemahaman dalam ","0 membutuhkan bimbingan dalam ",null,null,0,0,0,0,0,0,0,0,0,0,0,0,0,0,0,0,0,0,0,0,0,0,0,0,0,null,0,0,0,0,0,0,0,0,0,0,0,0,0,0,0,0,0,0,0,0,0,0,0,0,0,null,"","","","","","","","","","","","","","","","",{"$f":"IF(AND(BW33=1,CW33=1),DW$15&\", \",\"\")","v":""},"","","","","","","","",null,"","","","","","","","","","","","","","","","",{"$f":"IF(AND(BW33=1,CW33=0),EW$15&\", \",\"\")","v":""},"","","","","","","","",null,"0 menunjukkan pemahaman dalam ",null,null,"0 membutuhkan bimbingan dalam "]
[null,null,18,{"$f":"'DATA SISWA'!F27","v":0},null,null,null,null,null,null,null,null,null,null,null,null,null,null,null,null,null,null,null,null,null,null,null,null,null,null,null,null,null,null,null,null,null,null,null,null,null,null,null,null,null,null,null,null,null,null,null,null,null,null,"0 menunjukkan pemahaman dalam ","0 membutuhkan bimbingan dalam ",null,null,0,0,0,0,0,0,0,0,0,0,0,0,0,0,0,0,0,0,0,0,0,0,0,0,0,null,0,0,0,0,0,0,0,0,0,0,0,0,0,0,0,0,0,0,0,0,0,0,0,0,0,null,"","","","","","","","","","","","","","","","","","","","","","","","","",null,"","","","","","","","","","","","","","","","","","","","","","","","","",null,"0 menunjukkan pemahaman dalam ",null,null,"0 membutuhkan bimbingan dalam "]
[null,null,19,{"$f":"'DATA SISWA'!F28","v":0},null,null,null,null,null,null,null,null,null,null,null,null,null,null,null,null,null,null,null,null,null,null,null,null,null,null,null,null,null,null,null,null,null,null,null,null,null,null,null,null,null,null,null,null,null,null,null,null,null,null,"0 menunjukkan pemahaman dalam ","0 membutuhkan bimbingan dalam ",null,null,0,0,0,0,0,0,0,0,0,0,0,0,0,0,0,0,0,0,0,0,0,0,0,0,0,null,0,0,0,0,0,0,0,0,0,0,0,0,0,0,0,0,0,0,0,0,0,0,0,0,0,null,"","","","","","","","","","","","","","","","","","","","","","","","","",null,"","","","","","","","","","","","","","","","","","","","","","","","","",null,"0 menunjukkan pemahaman dalam ",null,null,"0 membutuhkan bimbingan dalam "]
[null,null,20,{"$f":"'DATA SISWA'!F29","v":0},null,null,null,null,null,null,null,null,null,null,null,null,null,null,null,null,null,null,null,null,null,null,null,null,null,null,null,null,null,null,null,null,null,null,null,null,null,null,null,null,null,null,null,null,null,null,null,null,null,null,"0 menunjukkan pemahaman dalam ","0 membutuhkan bimbingan dalam ",null,null,0,0,0,0,0,0,0,0,0,0,0,0,0,0,0,0,0,0,0,0,0,0,0,0,0,null,0,0,0,0,0,0,0,0,0,0,0,0,0,0,0,0,0,0,0,0,0,0,0,0,0,null,"","","","","","","","","","","","","","","","","","","","","","","","","",null,"","","","","","","","","","","","","","","","","","","","","","","","","",null,"0 menunjukkan pemahaman dalam ",null,null,"0 membutuhkan bimbingan dalam "]
[null,null,21,{"$f":"'DATA SISWA'!F30","v":0},null,null,null,null,null,null,null,null,null,null,null,null,null,null,null,null,null,null,null,null,null,null,null,null,null,null,null,null,null,null,null,null,null,null,null,null,null,null,null,null,null,null,null,null,null,null,null,null,null,null,"0 menunjukkan pemahaman dalam ","0 membutuhkan bimbingan dalam ",null,null,0,0,0,0,0,0,0,0,0,0,0,0,0,0,0,0,0,0,0,0,0,0,0,0,0,null,0,0,0,0,0,0,0,0,0,0,0,0,0,0,0,0,0,0,0,0,0,0,0,0,0,null,"","","","","","","","","","","","","","","","","","","","","","","","","",null,"","","","","","","","","","","","","","","","","","","","","","","","","",null,"0 menunjukkan pemahaman dalam ",null,null,"0 membutuhkan bimbingan dalam "]
[null,null,22,{"$f":"'DATA SISWA'!F31","v":0},null,null,null,null,null,null,null,null,null,null,null,null,null,null,null,null,null,null,null,null,null,null,null,null,null,null,null,null,null,null,null,null,null,null,null,null,null,null,null,null,null,null,null,null,null,null,null,null,null,null,"0 menunjukkan pemahaman dalam ","0 membutuhkan bimbingan dalam ",null,null,0,0,0,0,0,0,0,0,0,0,0,0,0,0,0,0,0,0,0,0,0,0,0,0,0,null,0,0,0,0,0,0,0,0,0,0,0,0,0,0,0,0,0,0,0,0,0,0,0,0,0,null,"","","","","","","","","","","","","","","","","","","","","","","","","",null,"","","","","","","","","","","","","","","","","","","","","","","","","",null,"0 menunjukkan pemahaman dalam ",null,null,"0 membutuhkan bimbingan dalam "]
[null,null,23,{"$f":"'DATA SISWA'!F32","v":0},null,null,null,null,null,null,null,null,null,null,null,null,null,null,null,null,null,null,null,null,null,null,null,null,null,null,null,null,null,null,null,null,null,null,null,null,null,null,null,null,null,null,null,null,null,null,null,null,null,null,"0 menunjukkan pemahaman dalam ","0 membutuhkan bimbingan dalam ",null,null,0,0,0,0,0,0,0,0,0,0,0,0,0,0,0,0,0,0,0,0,0,0,0,0,0,null,0,0,0,0,0,0,0,0,0,0,0,0,0,0,0,0,0,0,0,0,0,0,0,0,0,null,"","","","","","","","","","","","","","","","","","","","","","","","","",null,"","","","","","","","","","","","","","","","","","","","","","","","","",null,"0 menunjukkan pemahaman dalam ",null,null,"0 membutuhkan bimbingan dalam "]
[null,null,24,{"$f":"'DATA SISWA'!F33","v":0},null,null,null,null,null,null,null,null,null,null,null,null,null,null,null,null,null,null,null,null,null,null,null,null,null,null,null,null,null,null,null,null,null,null,null,null,null,null,null,null,null,null,null,null,null,null,null,null,null,null,"0 menunjukkan pemahaman dalam ","0 membutuhkan bimbingan dalam ",null,null,0,0,0,0,0,0,0,0,0,0,0,0,0,0,0,0,0,0,0,0,0,0,0,0,0,null,0,0,0,0,0,0,0,0,0,0,0,0,0,0,0,0,0,0,0,0,0,0,0,0,0,null,"","","","","","","","","","","","","","","","","","","","","","","","","",null,"","","","","","","","","","","","","","","","","","","","","","","","","",null,"0 menunjukkan pemahaman dalam ",null,null,"0 membutuhkan bimbingan dalam "]
[null,null,25,{"$f":"'DATA SISWA'!F34","v":0},null,null,null,null,null,null,null,null,null,null,null,null,null,null,null,null,null,null,null,null,null,null,null,null,null,null,null,null,null,null,null,null,null,null,null,null,null,null,null,null,null,null,null,null,null,null,null,null,null,null,"0 menunjukkan pemahaman dalam ","0 membutuhkan bimbingan dalam ",null,null,0,0,0,0,0,0,0,0,0,0,0,0,0,0,0,0,0,0,0,0,0,0,0,0,0,null,0,0,0,0,0,0,0,0,0,0,0,0,0,0,0,0,0,0,0,0,0,0,0,0,0,null,"","","","","","","","","","","","","","","","","","","","","","","","","",null,"","","","","","","","","","","","","","","","","","","","","","","","","",null,"0 menunjukkan pemahaman dalam ",null,null,"0 membutuhkan bimbingan dalam "]
[null,null,26,{"$f":"'DATA SISWA'!F35","v":0},null,null,null,null,null,null,null,null,null,null,null,null,null,null,null,null,null,null,null,null,null,null,null,null,null,null,null,null,null,null,null,null,null,null,null,null,null,null,null,null,null,null,null,null,null,null,null,null,null,null,"0 menunjukkan pemahaman dalam ","0 membutuhkan bimbingan dalam ",null,null,0,0,0,0,0,0,0,0,0,0,0,0,0,0,0,0,0,0,0,0,0,0,0,0,0,null,0,0,0,0,0,0,0,0,0,0,0,0,0,0,0,0,0,0,0,0,0,0,0,0,0,null,"","","","","","","","","","","","","","","","","","","","","","","","","",null,"","","","","","","","","","","","","","","","","","","","","","","","","",null,"0 menunjukkan pemahaman dalam ",null,null,"0 membutuhkan bimbingan dalam "]
[null,null,27,{"$f":"'DATA SISWA'!F36","v":0},null,null,null,null,null,null,null,null,null,null,null,null,null,null,null,null,null,null,null,null,null,null,null,null,null,null,null,null,null,null,null,null,null,null,null,null,null,null,null,null,null,null,null,null,null,null,null,null,null,null,"0 menunjukkan pemahaman dalam ","0 membutuhkan bimbingan dalam ",null,null,0,0,0,0,0,0,0,0,0,0,0,0,0,0,0,0,0,0,0,0,0,0,0,0,0,null,0,0,0,0,0,0,0,0,0,0,0,0,0,0,0,0,0,0,0,0,0,0,0,0,0,null,"","","","","",{"$f":"IF(AND(BL43=1,CL43=1),DL$15&\", \",\"\")","v":""},"","","","","","","","","","","","","","","","","","","",null,"","","","","",{"$f":"IF(AND(BL43=1,CL43=0),EL$15&\", \",\"\")","v":""},"","","","","","","","","","","","","","","","","","","",null,"0 menunjukkan pemahaman dalam ",null,null,"0 membutuhkan bimbingan dalam "]
[null,null,28,{"$f":"'DATA SISWA'!F37","v":0},null,null,null,null,null,null,null,null,null,null,null,null,null,null,null,null,null,null,null,null,null,null,null,null,null,null,null,null,null,null,null,null,null,null,null,null,null,null,null,null,null,null,null,null,null,null,null,null,null,null,"0 menunjukkan pemahaman dalam ","0 membutuhkan bimbingan dalam ",null,null,0,0,0,0,0,0,0,0,0,0,0,0,0,0,0,0,0,0,0,0,0,0,0,0,0,null,0,0,0,0,0,0,0,0,0,0,0,0,0,0,0,0,0,0,0,0,0,0,0,0,0,null,{"$f":"IF(AND(BG44=1,CG44=1),DG$15&\", \",\"\")","v":""},"","","","","","","","","","","","","","","","","","","","","","","","",null,{"$f":"IF(AND(BG44=1,CG44=0),EG$15&\", \",\"\")","v":""},"","","","","","","","","","","","","","","","","","","","","","","","",null,"0 menunjukkan pemahaman dalam ",null,null,"0 membutuhkan bimbingan dalam "]
[null,null,29,{"$f":"'DATA SISWA'!F38","v":0},null,null,null,null,null,null,null,null,null,null,null,null,null,null,null,null,null,null,null,null,null,null,null,null,null,null,null,null,null,null,null,null,null,null,null,null,null,null,null,null,null,null,null,null,null,null,null,null,null,null,"0 menunjukkan pemahaman dalam ","0 membutuhkan bimbingan dalam ",null,null,0,0,0,0,0,0,0,0,0,0,0,0,0,0,0,0,0,0,0,0,0,0,0,0,0,null,0,0,0,0,0,0,0,0,0,0,0,0,0,0,0,0,0,0,0,0,0,0,0,0,0,null,"","","","","","","","","","","","","","","","","","","","","","","","","",null,"","","","","","","","","","","","","","","","","","","","","","","","","",null,"0 menunjukkan pemahaman dalam ",null,null,"0 membutuhkan bimbingan dalam "]
[null,null,30,{"$f":"'DATA SISWA'!F39","v":0},null,null,null,null,null,null,null,null,null,null,null,null,null,null,null,null,null,null,null,null,null,null,null,null,null,null,null,null,null,null,null,null,null,null,null,null,null,null,null,null,null,null,null,null,null,null,null,null,null,null,"0 menunjukkan pemahaman dalam ","0 membutuhkan bimbingan dalam ",null,null,0,0,0,0,0,0,0,0,0,0,0,0,0,0,0,0,0,0,0,0,0,0,0,0,0,null,0,0,0,0,0,0,0,0,0,0,0,0,0,0,0,0,0,0,0,0,0,0,0,0,0,null,"","","","","","","","","","","","","","","","","","","","","","","","","",null,"","","","","","","","","","","","","","","","","","","","","","","","","",null,"0 menunjukkan pemahaman dalam ",null,null,"0 membutuhkan bimbingan dalam "]
[null,null,31,{"$f":"'DATA SISWA'!F40","v":0},null,null,null,null,null,null,null,null,null,null,null,null,null,null,null,null,null,null,null,null,null,null,null,null,null,null,null,null,null,null,null,null,null,null,null,null,null,null,null,null,null,null,null,null,null,null,null,null,null,null,"0 menunjukkan pemahaman dalam ","0 membutuhkan bimbingan dalam ",null,null,0,0,0,0,0,0,0,0,0,0,0,0,0,0,0,0,0,0,0,0,0,0,0,0,0,null,0,0,0,0,0,0,0,0,0,0,0,0,0,0,0,0,0,0,0,0,0,0,0,0,0,null,"","","","","","","","","","","","","","","","","","","","","","","","","",null,"","","","","","","","","","","","","","","","","","","","","","","","","",null,"0 menunjukkan pemahaman dalam ",null,null,"0 membutuhkan bimbingan dalam "]
[null,null,32,{"$f":"'DATA SISWA'!F41","v":0},null,null,null,null,null,null,null,null,null,null,null,null,null,null,null,null,null,null,null,null,null,null,null,null,null,null,null,null,null,null,null,null,null,null,null,null,null,null,null,null,null,null,null,null,null,null,null,null,null,null,"0 menunjukkan pemahaman dalam ","0 membutuhkan bimbingan dalam ",null,null,0,0,0,0,0,0,0,0,0,0,0,0,0,0,0,0,0,0,0,0,0,0,0,0,0,null,0,0,0,0,0,0,0,0,0,0,0,0,0,0,0,0,0,0,0,0,0,0,0,0,0,null,"","","","","","","","","","","","","","","","","","","","","","","","","",null,"","","","","","","","","","","","","","","","","","","","","","","","","",null,"0 menunjukkan pemahaman dalam ",null,null,"0 membutuhkan bimbingan dalam "]
[null,null,33,{"$f":"'DATA SISWA'!F42","v":0},null,null,null,null,null,null,null,null,null,null,null,null,null,null,null,null,null,null,null,null,null,null,null,null,null,null,null,null,null,null,null,null,null,null,null,null,null,null,null,null,null,null,null,null,null,null,null,null,null,null,"0 menunjukkan pemahaman dalam ","0 membutuhkan bimbingan dalam ",null,null,0,0,0,0,0,0,0,0,0,0,0,0,0,0,0,0,0,0,0,0,0,0,0,0,0,null,0,0,0,0,0,0,0,0,0,0,0,0,0,0,0,0,0,0,0,0,0,0,0,0,0,null,"","","","","","","","","","","","","","","","","","","","","","","","","",null,"","","","","","","","","","","","","","","","","","","","","","","","","",null,"0 menunjukkan pemahaman dalam ",null,null,"0 membutuhkan bimbingan dalam "]
[null,null,34,{"$f":"'DATA SISWA'!F43","v":0},null,null,null,null,null,null,null,null,null,null,null,null,null,null,null,null,null,null,null,null,null,null,null,null,null,null,null,null,null,null,null,null,null,null,null,null,null,null,null,null,null,null,null,null,null,null,null,null,null,null,"0 menunjukkan pemahaman dalam ","0 membutuhkan bimbingan dalam ",null,null,0,0,0,0,0,0,0,0,0,0,0,0,0,0,0,0,0,0,0,0,0,0,0,0,0,null,0,0,0,0,0,0,0,0,0,0,0,0,0,0,0,0,0,0,0,0,0,0,0,0,0,null,"","","","","","","","","","","","","","","","","","","","","","","","","",null,"","","","","","","","","","","","","","","","","","","","","","","","","",null,"0 menunjukkan pemahaman dalam ",null,null,"0 membutuhkan bimbingan dalam "]
[null,null,35,{"$f":"'DATA SISWA'!F44","v":0},null,null,null,null,null,null,null,null,null,null,null,null,null,null,null,null,null,null,null,null,null,null,null,null,null,null,null,null,null,null,null,null,null,null,null,null,null,null,null,null,null,null,null,null,null,null,null,null,null,null,"0 menunjukkan pemahaman dalam ","0 membutuhkan bimbingan dalam ",null,null,0,0,0,0,0,0,0,0,0,0,0,0,0,0,0,0,0,0,0,0,0,0,0,0,0,null,0,0,0,0,0,0,0,0,0,0,0,0,0,0,0,0,0,0,0,0,0,0,0,0,0,null,"","","","","","","","","","","","","","","","","","","","","","","","","",null,"","","","","","","","","","","","","","","","","","","","","","","","","",null,"0 menunjukkan pemahaman dalam ",null,null,"0 membutuhkan bimbingan dalam "]
[null,null,36,{"$f":"'DATA SISWA'!F45","v":0},null,null,null,null,null,null,null,null,null,null,null,null,null,null,null,null,null,null,null,null,null,null,null,null,null,null,null,null,null,null,null,null,null,null,null,null,null,null,null,null,null,null,null,null,null,null,null,null,null,null,"0 menunjukkan pemahaman dalam ","0 membutuhkan bimbingan dalam ",null,null,0,0,0,0,0,0,0,0,0,0,0,0,0,0,0,0,0,0,0,0,0,0,0,0,0,null,0,0,0,0,0,0,0,0,0,0,0,0,0,0,0,0,0,0,0,0,0,0,0,0,0,null,"","","","","","","","","","","","","","","","","","","","","","","","","",null,"","","","","","","","","","","","","","","","","","","","","","","","","",null,"0 menunjukkan pemahaman dalam ",null,null,"0 membutuhkan bimbingan dalam "]
[null,null,37,{"$f":"'DATA SISWA'!F46","v":0},null,null,null,null,null,null,null,null,null,null,null,null,null,null,null,null,null,null,null,null,null,null,null,null,null,null,null,null,null,null,null,null,null,null,null,null,null,null,null,null,null,null,null,null,null,null,null,null,null,null,"0 menunjukkan pemahaman dalam ","0 membutuhkan bimbingan dalam ",null,null,0,0,0,0,0,0,0,0,0,0,0,0,0,0,0,0,0,0,0,0,0,0,0,0,0,null,0,0,0,0,0,0,0,0,0,0,0,0,0,0,0,0,0,0,0,0,0,0,0,0,0,null,"","","","","","","","","","","","","","","","","","","","","","","","","",null,"","","","","","","","","","","","","","","","","","","","","","","","","",null,"0 menunjukkan pemahaman dalam ",null,null,"0 membutuhkan bimbingan dalam "]
[null,null,38,{"$f":"'DATA SISWA'!F47","v":0},null,null,null,null,null,null,null,null,null,null,null,null,null,null,null,null,null,null,null,null,null,null,null,null,null,null,null,null,null,null,null,null,null,null,null,null,null,null,null,null,null,null,null,null,null,null,null,null,null,null,"0 menunjukkan pemahaman dalam ","0 membutuhkan bimbingan dalam ",null,null,0,0,0,0,0,0,0,0,0,0,0,0,0,0,0,0,0,0,0,0,0,0,0,0,0,null,0,0,0,0,0,0,0,0,0,0,0,0,0,0,0,0,0,0,0,0,0,0,0,0,0,null,"","","","","","","","","","","","","","","","","","","","","","","","","",null,"","","","","","","","","","","","","","","","","","","","","","","","","",null,"0 menunjukkan pemahaman dalam ",null,null,"0 membutuhkan bimbingan dalam "]
[null,null,39,{"$f":"'DATA SISWA'!F48","v":0},null,null,null,null,null,null,null,null,null,null,null,null,null,null,null,null,null,null,null,null,null,null,null,null,null,null,null,null,null,null,null,null,null,null,null,null,null,null,null,null,null,null,null,null,null,null,null,null,null,null,"0 menunjukkan pemahaman dalam ","0 membutuhkan bimbingan dalam ",null,null,0,0,0,0,0,0,0,0,0,0,0,0,0,0,0,0,0,0,0,0,0,0,0,0,0,null,0,0,0,0,0,0,0,0,0,0,0,0,0,0,0,0,0,0,0,0,0,0,0,0,0,null,"","","","","","","","","","","","","","","","","","","","","","","","","",null,"","","","","","","","","","","","","","","","","","","","","","","","","",null,"0 menunjukkan pemahaman dalam ",null,null,"0 membutuhkan bimbingan dalam "]
[null,null,40,{"$f":"'DATA SISWA'!F49","v":0},null,null,null,null,null,null,null,null,null,null,null,null,null,null,null,null,null,null,null,null,null,null,null,null,null,null,null,null,null,null,null,null,null,null,null,null,null,null,null,null,null,null,null,null,null,null,null,null,null,null,"0 menunjukkan pemahaman dalam ","0 membutuhkan bimbingan dalam ",null,null,0,0,0,0,0,0,0,0,0,0,0,0,0,0,0,0,0,0,0,0,0,0,0,0,0,null,0,0,0,0,0,0,0,0,0,0,0,0,0,0,0,0,0,0,0,0,0,0,0,0,0,null,"","","","","","","","","","","","","","","","","","","","","","","","","",null,"","","","","","","","","","","","","","","","","","","","","","","","","",null,"0 menunjukkan pemahaman dalam ",null,null,"0 membutuhkan bimbingan dalam "]

{"sheet":"F7","index":40,"n_rows":56,"n_cols":166,"rows_kept":56,"cut":false,"hidden":false,"merged":[[14,52,14,53],[14,40,14,41],[14,42,14,43],[14,44,14,45],[14,46,14,47],[14,48,14,49],[14,50,14,51],[14,38,14,39],[14,16,14,17],[14,18,14,19],[14,20,14,21],[14,22,14,23],[14,24,14,25],[14,26,14,27],[14,28,14,29],[14,30,14,31],[14,32,14,33],[14,34,14,35],[14,36,14,37],[13,152,13,153],[13,154,13,155],[13,156,13,157],[13,158,13,159],[14,4,14,5],[14,6,14,7],[14,8,14,9],[14,10,14,11],[14,12,14,13],[14,14,14,15],[13,50,13,51],[13,52,13,53],[13,144,13,145],[13,146,13,147],[13,148,13,149],[13,150,13,151],[13,20,13,21],[13,22,13,23],[13,48,13,49],[13,26,13,27],[13,28,13,29],[13,30,13,31],[13,32,13,33],[13,34,13,35],[13,36,13,37],[13,38,13,39],[13,40,13,41],[13,42,13,43],[13,44,13,45],[13,46,13,47],[12,54,15,54],[12,55,15,55],[13,24,13,25],[2,1,2,54],[4,1,4,54],[12,2,15,2],[12,3,15,3],[12,4,12,53],[13,4,13,5],[13,6,13,7],[13,8,13,9],[13,10,13,11],[13,12,13,13],[13,14,13,15],[13,16,13,17],[13,18,13,19]]}
[]
[]
[null,"INPUT ASESMEN FORMATIF"]
[]
[null,{"$f":"\"MATA PELAJARAN : \"&INTRAKURIKULER!D15","v":"MATA PELAJARAN : "}]
[null,"Petunjuk Pengisian :"]
[null,null,1,"Rapor ini berasumsi bahwa guru telah melakukan penilaian formatif dan direkap dalam lembar tersendiri"]
[null,null,2,"Pada Kolom KKTP, pilih '0' jika siswa tidak memenuhi KKTP, Pilih '1' jika siswa memenuhi KKTP. Bisa juga diketikkan langsung angka 1 atau 0"]
[null,null,3,"Pada Kolom Tampil/Tidak, pilih '0' jika tidak ingin menampilkan TP tersebut di deskripsi rapor, pilih '1' jika ingin menampilkan TP di deskripsi rapor. Bisa juga diketikkan langsung angka 1 atau 0",null,null,null,null,null,null,null,null,null,null,null,null,null,null,null,null,null,null,null,null,null,null,null,null,null,null,null,null,null,null,null,null,null,null,null,null,null,null,null,null,null,null,null,null,null,null,null,null,null,null,null,null,null,null,0]
[null,"Contoh :",null,"Pada TP 1, siswa mencapai KKTP tapi tidak ingin ditampilkan dalam rapor. Pilih KKTP = 1, dan Tampil/Tidak = 0.",null,null,null,null,null,null,null,null,null,null,null,null,null,null,null,"Isilah hanya pada TP yang diinginkan",null,null,null,null,null,null,null,null,null,null,null,null,null,null,null,null,null,null,null,null,null,null,null,null,null,null,null,null,null,null,null,null,null,null,null,null,null,null,1]
[null,null,null,"Pada TP 2, siswa tidak mencapai KKTP tapi ingin ditampilkan dalam rapor. Pilih KKTP = 0, dan Tampil/Tidak = 1.",null,null,null,null,null,null,null,null,null,null,null,null,null,null,null,"masuk dalam deskripsi rapor"]
[]
[null,null,"No","Nama Siswa","Tujuan Pembelajaran",null,null,null,null,null,null,null,null,null,null,null,null,null,null,null,null,null,null,null,null,null,null,null,null,null,null,null,null,null,null,null,null,null,null,null,null,null,null,null,null,null,null,null,null,null,null,null,null,null,"Deskripsi Capaian Tertinggi dalam Rapor","Deskripsi Capaian Terendah dalam Rapor"]
[null,null,null,null,"TP 1",null,"TP 2",null,"TP 3",null,"TP 4",null,"TP 5",null,"TP 6",null,"TP 7",null,"TP 8",null,"TP 9",null,"TP 10",null,"TP 11",null,"TP 12",null,"TP 13",null,"TP 14",null,"TP 15",null,"TP 16",null,"TP 17",null,"TP 18",null,"TP 19",null,"TP 20",null,"TP 21",null,"TP 22",null,"TP 23",null,"TP 24",null,"TP 25",null,null,null,null,null,null,null,null,null,null,null,null,null,null,null,null,null,null,null,null,null,null,null,null,null,null,null,null,null,null,null,null,null,null,null,null,null,null,null,null,null,null,null,null,null,null,null,null,null,null,null,null,null,null,null,null,null,"mencapai",null,null,null,null,null,null,null,null,null,null,null,null,null,null,null,null,null,null,null,null,null,null,null,null,null,"tidak mencapai"]
[null,null,null,null,{"$f":"'TP 7'!D8","v":1},null,{"$f":"'TP 7'!D9","v":2},null,{"$f":"'TP 7'!D10","v":3},null,{"$f":"'TP 7'!D11","v":4},null,{"$f":"'TP 7'!D12","v":5},null,{"$f":"'TP 7'!D13","v":6},null,{"$f":"'TP 7'!D14","v":7},null,{"$f":"'TP 7'!D15","v":8},null,{"$f":"'TP 7'!D16","v":9},null,{"$f":"'TP 7'!D17","v":10},null,{"$f":"'TP 7'!D18","v":11},null,{"$f":"'TP 7'!D19","v":12},null,{"$f":"'TP 7'!D20","v":13},null,{"$f":"'TP 7'!D21","v":14},null,{"$f":"'TP 7'!D22","v":15},null,{"$f":"'TP 7'!D23","v":16},null,{"$f":"'TP 7'!D24","v":17},null,{"$f":"'TP 7'!D25","v":18},null,{"$f":"'TP 7'!D26","v":19},null,{"$f":"'TP 7'!D27","v":20},null,{"$f":"'TP 7'!D28","v":21},null,{"$f":"'TP 7'!D29","v":22},null,{"$f":"'TP 7'!D30","v":23},null,{"$f":"'TP 7'!D31","v":24},null,{"$f":"'TP 7'!D32","v":25},null,null,null,null,null,1,2,3,4,5,6,7,8,9,10,11,12,13,14,15,16,17,18,19,20,21,22,23,24,25,null,1,2,3,4,5,6,7,8,9,10,11,12,13,14,15,16,17,18,19,20,21,22,23,24,25,null,{"$f":"E15","v":1},{"$f":"G15","v":2},{"$f":"I15","v":3},{"$f":"K15","v":4},{"$f":"M15","v":5},{"$f":"O15","v":6},{"$f":"Q15","v":7},{"$f":"S15","v":8},{"$f":"U15","v":9},{"$f":"W15","v":10},{"$f":"Y15","v":11},{"$f":"AA15","v":12},{"$f":"AC15","v":13},{"$f":"AE15","v":14},{"$f":"AG15","v":15},{"$f":"AI15","v":16},{"$f":"AK15","v":17},{"$f":"AM15","v":18},{"$f":"AO15","v":19},{"$f":"AQ15","v":20},{"$f":"AS15","v":21},{"$f":"AU15","v":22},{"$f":"AW15","v":23},{"$f":"AY15","v":24},{"$f":"BA15","v":25},null,{"$f":"DG15","v":1},{"$f":"DH15","v":2},3,4,5,6,7,8,9,10,11,12,13,14,15,16,17,18,19,20,21,22,23,24,25,null,"mencapai",null,null,"tidak mencapai"]
[null,null,null,null,"KKTP","Tampil/Tidak","KKTP","Tampil/Tidak","KKTP","Tampil/Tidak","KKTP","Tampil/Tidak","KKTP","Tampil/Tidak","KKTP","Tampil/Tidak","KKTP","Tampil/Tidak","KKTP","Tampil/Tidak","KKTP","Tampil/Tidak","KKTP","Tampil/Tidak","KKTP","Tampil/Tidak","KKTP","Tampil/Tidak","KKTP","Tampil/Tidak","KKTP","Tampil/Tidak","KKTP","Tampil/Tidak","KKTP","Tampil/Tidak","KKTP","Tampil/Tidak","KKTP","Tampil/Tidak","KKTP","Tampil/Tidak","KKTP","Tampil/Tidak","KKTP","Tampil/Tidak","KKTP","Tampil/Tidak","KKTP","Tampil/Tidak","KKTP","Tampil/Tidak","KKTP","Tampil/Tidak",null,null,null,null,null,null,null,null,null,null,null,null,null,null,null,null,null,null,null,null,null,null,null,null,null,null,null,null,null,null,"kktp",null,null,null,null,null,null,null,null,null,null,null,null,null,null,null,null,null,null,null,null,null,null,null,null,null,1,2,3,4,5,6,7,8,9,10,11,12,13,14,15,16,17,18,19,20,21,22,23,24,25,null,1,2,3,4,5,6,7,8,9,10,11,12,13,14,15,16,17,18,19,20,21,22,23,24,25]
[null,null,1,{"$f":"'DATA SISWA'!F10","v":0},null,null,null,null,null,null,null,null,null,null,null,null,null,null,null,null,null,null,null,null,null,null,null,null,null,null,null,null,null,null,null,null,null,null,null,null,null,null,null,null,null,null,null,null,null,null,null,null,null,null,{"$f":"FG17","v":"0 menunjukkan pemahaman dalam "},{"$f":"FJ17","v":"0 membutuhkan bimbingan dalam "},null,null,{"$f":"F17","v":0},{"$f":"H17","v":0},{"$f":"J17","v":0},{"$f":"L17","v":0},{"$f":"N17","v":0},{"$f":"P17","v":0},{"$f":"R17","v":0},{"$f":"T17","v":0},{"$f":"V17","v":0},{"$f":"X17","v":0},{"$f":"Z17","v":0},{"$f":"AB17","v":0},{"$f":"AD17","v":0},{"$f":"AF17","v":0},{"$f":"AH17","v":0},{"$f":"AJ17","v":0},{"$f":"AL17","v":0},{"$f":"AN17","v":0},{"$f":"AP17","v":0},{"$f":"AR17","v":0},{"$f":"AT17","v":0},{"$f":"AV17","v":0},{"$f":"AX17","v":0},{"$f":"AZ17","v":0},{"$f":"BB17","v":0},null,{"$f":"E17","v":0},{"$f":"G17","v":0},{"$f":"I17","v":0},{"$f":"K17","v":0},{"$f":"M17","v":0},{"$f":"O17","v":0},{"$f":"Q17","v":0},{"$f":"S17","v":0},{"$f":"U17","v":0},{"$f":"W17","v":0},{"$f":"Y17","v":0},{"$f":"AA17","v":0},{"$f":"AC17","v":0},{"$f":"AE17","v":0},{"$f":"AG17","v":0},{"$f":"AI17","v":0},{"$f":"AK17","v":0},{"$f":"AM17","v":0},{"$f":"AO17","v":0},{"$f":"AQ17","v":0},{"$f":"AS17","v":0},{"$f":"AU17","v":0},{"$f":"AW17","v":0},{"$f":"AY17","v":0},{"$f":"BA17","v":0},null,{"$f":"IF(AND(BG17=1,CG17=1),DG$15&\", \",\"\")","v":""},{"$f":"IF(AND(BH17=1,CH17=1),DH$15&\", \",\"\")","v":""},"","","","","","","","","","","","","","","",{"$f":"IF(AND(BX17=1,CX17=1),DX$15&\", \",\"\")","v":""},"","","","","","","",null,{"$f":"IF(AND(BG17=1,CG17=0),EG$15&\", \",\"\")","v":""},{"$f":"IF(AND(BH17=1,CH17=0),EH$15&\", \",\"\")","v":""},"","","","","","","","","","","","","","","",{"$f":"IF(AND(BX17=1,CX17=0),EX$15&\", \",\"\")","v":""},"","","","","","","",null,{"$f":"PROPER(D17)&\" menunjukkan pemahaman dalam \"&DG17&DH17&DI17&DJ17&DK17&DL17&DM17&DN17&DO17&DP17&DQ17&DR17&DS17&DT17&DU17&DV17&DW17&DX17&DY17&DZ17&EA17&EB17&EC17&ED17&EE17","v":"0 menunjukkan pemahaman dalam "},null,null,{"$f":"PROPER(D17)&\" membutuhkan bimbingan dalam \"&EG17&EH17&EI17&EJ17&EK17&EL17&EM17&EN17&EO17&EP17&EQ17&ER17&ES17&ET17&EU17&EV17&EW17&EX17&EY17&EZ17&FA17&FB17&FC17&FD17&FE17","v":"0 membutuhkan bimbingan dalam "}]
[null,null,2,{"$f":"'DATA SISWA'!F11","v":0},null,null,null,null,null,null,null,null,null,null,null,null,null,null,null,null,null,null,null,null,null,null,null,null,null,null,null,null,null,null,null,null,null,null,null,null,null,null,null,null,null,null,null,null,null,null,null,null,null,null,{"$f":"FG18","v":"0 menunjukkan pemahaman dalam "},{"$f":"FJ18","v":"0 membutuhkan bimbingan dalam "},null,null,{"$f":"F18","v":0},{"$f":"H18","v":0},{"$f":"J18","v":0},{"$f":"L18","v":0},{"$f":"N18","v":0},{"$f":"P18","v":0},{"$f":"R18","v":0},{"$f":"T18","v":0},{"$f":"V18","v":0},{"$f":"X18","v":0},{"$f":"Z18","v":0},{"$f":"AB18","v":0},{"$f":"AD18","v":0},{"$f":"AF18","v":0},{"$f":"AH18","v":0},{"$f":"AJ18","v":0},{"$f":"AL18","v":0},{"$f":"AN18","v":0},{"$f":"AP18","v":0},{"$f":"AR18","v":0},{"$f":"AT18","v":0},{"$f":"AV18","v":0},{"$f":"AX18","v":0},{"$f":"AZ18","v":0},{"$f":"BB18","v":0},null,{"$f":"E18","v":0},{"$f":"G18","v":0},{"$f":"I18","v":0},{"$f":"K18","v":0},{"$f":"M18","v":0},{"$f":"O18","v":0},{"$f":"Q18","v":0},{"$f":"S18","v":0},{"$f":"U18","v":0},{"$f":"W18","v":0},{"$f":"Y18","v":0},{"$f":"AA18","v":0},{"$f":"AC18","v":0},{"$f":"AE18","v":0},{"$f":"AG18","v":0},{"$f":"AI18","v":0},{"$f":"AK18","v":0},{"$f":"AM18","v":0},{"$f":"AO18","v":0},{"$f":"AQ18","v":0},{"$f":"AS18","v":0},{"$f":"AU18","v":0},{"$f":"AW18","v":0},{"$f":"AY18","v":0},{"$f":"BA18","v":0},null,{"$f":"IF(AND(BG18=1,CG18=1),DG$15&\", \",\"\")","v":""},"","","","","","","","","","","","","","","","","","","","","","","","",null,{"$f":"IF(AND(BG18=1,CG18=0),EG$15&\", \",\"\")","v":""},"","","","","","","","","","","","","","","","","","","","","","","","",null,{"$f":"PROPER(D18)&\" menunjukkan pemahaman dalam \"&DG18&DH18&DI18&DJ18&DK18&DL18&DM18&DN18&DO18&DP18&DQ18&DR18&DS18&DT18&DU18&DV18&DW18&DX18&DY18&DZ18&EA18&EB18&EC18&ED18&EE18","v":"0 menunjukkan pemahaman dalam "},null,null,{"$f":"PROPER(D18)&\" membutuhkan bimbingan dalam \"&EG18&EH18&EI18&EJ18&EK18&EL18&EM18&EN18&EO18&EP18&EQ18&ER18&ES18&ET18&EU18&EV18&EW18&EX18&EY18&EZ18&FA18&FB18&FC18&FD18&FE18","v":"0 membutuhkan bimbingan dalam "}]
[null,null,3,{"$f":"'DATA SISWA'!F12","v":0},null,null,null,null,null,null,null,null,null,null,null,null,null,null,null,null,null,null,null,null,null,null,null,null,null,null,null,null,null,null,null,null,null,null,null,null,null,null,null,null,null,null,null,null,null,null,null,null,null,null,"0 menunjukkan pemahaman dalam ","0 membutuhkan bimbingan dalam ",null,null,0,0,0,0,0,0,0,0,0,0,0,0,0,0,0,0,0,0,0,0,0,0,0,0,0,null,0,0,0,0,0,0,0,0,0,0,0,0,0,0,0,0,0,0,0,0,0,0,0,0,0,null,"","","","","","","","","","","","","","","","","","","","","","","","","",null,"","","","","","","","","","","","","","","","","","","","","","","","","",null,"0 menunjukkan pemahaman dalam ",null,null,"0 membutuhkan bimbingan dalam "]
[null,null,4,{"$f":"'DATA SISWA'!F13","v":0},null,null,null,null,null,null,null,null,null,null,null,null,null,null,null,null,null,null,null,null,null,null,null,null,null,null,null,null,null,null,null,null,null,null,null,null,null,null,null,null,null,null,null,null,null,null,null,null,null,null,"0 menunjukkan pemahaman dalam ","0 membutuhkan bimbingan dalam ",null,null,0,0,0,0,0,0,0,0,0,0,0,0,0,0,0,0,0,0,0,0,0,0,0,0,0,null,0,0,0,0,0,0,0,0,0,0,0,0,0,0,0,0,0,0,0,0,0,0,0,0,0,null,"","","","","","","","","","","","","","","","","","","","","","","","","",null,"","","","","","","","","","","","","","","","","","","","","","","","","",null,"0 menunjukkan pemahaman dalam ",null,null,"0 membutuhkan bimbingan dalam "]
[null,null,5,{"$f":"'DATA SISWA'!F14","v":0},null,null,null,null,null,null,null,null,null,null,null,null,null,null,null,null,null,null,null,null,null,null,null,null,null,null,null,null,null,null,null,null,null,null,null,null,null,null,null,null,null,null,null,null,null,null,null,null,null,null,"0 menunjukkan pemahaman dalam ","0 membutuhkan bimbingan dalam ",null,null,0,0,0,0,0,0,0,0,0,0,0,0,0,0,0,0,0,0,0,0,0,0,0,0,0,null,0,0,0,0,0,0,0,0,0,0,0,0,0,0,0,0,0,0,0,0,0,0,0,0,0,null,"","","","","","","","","","","","","","","","","","","","","","","","","",null,"","","","","","","","","","","","","","","","","","","","","","","","","",null,"0 menunjukkan pemahaman dalam ",null,null,"0 membutuhkan bimbingan dalam "]
[null,null,6,{"$f":"'DATA SISWA'!F15","v":0},null,null,null,null,null,null,null,null,null,null,null,null,null,null,null,null,null,null,null,null,null,null,null,null,null,null,null,null,null,null,null,null,null,null,null,null,null,null,null,null,null,null,null,null,null,null,null,null,null,null,"0 menunjukkan pemahaman dalam ","0 membutuhkan bimbingan dalam ",null,null,0,0,0,0,0,0,0,0,0,0,0,0,0,0,0,0,0,0,0,0,0,0,0,0,0,null,0,0,0,0,0,0,0,0,0,0,0,0,0,0,0,0,0,0,0,0,0,0,0,0,0,null,"","","","","","","","","","","","","","","","","","","","","","","","","",null,"","","","","","","","","","","","","","","","","","","","","","","","","",null,"0 menunjukkan pemahaman dalam ",null,null,"0 membutuhkan bimbingan dalam "]
[null,null,7,{"$f":"'DATA SISWA'!F16","v":0},null,null,null,null,null,null,null,null,null,null,null,null,null,null,null,null,null,null,null,null,null,null,null,null,null,null,null,null,null,null,null,null,null,null,null,null,null,null,null,null,null,null,null,null,null,null,null,null,null,null,"0 menunjukkan pemahaman dalam ","0 membutuhkan bimbingan dalam ",null,null,0,0,0,0,0,0,0,0,0,0,0,0,0,0,0,0,0,0,0,0,0,0,0,0,0,null,0,0,0,0,0,0,0,0,0,0,0,0,0,0,0,0,0,0,0,0,0,0,0,0,0,null,"","","","","","","","","","","","","","","","","","","","","","","","","",null,"","","","","","","","","","","","","","","","","","","","","","","","","",null,"0 menunjukkan pemahaman dalam ",null,null,"0 membutuhkan bimbingan dalam "]
[null,null,8,{"$f":"'DATA SISWA'!F17","v":0},null,null,null,null,null,null,null,null,null,null,null,null,null,null,null,null,null,null,null,null,null,null,null,null,null,null,null,null,null,null,null,null,null,null,null,null,null,null,null,null,null,null,null,null,null,null,null,null,null,null,"0 menunjukkan pemahaman dalam ","0 membutuhkan bimbingan dalam ",null,null,0,0,0,0,0,0,0,0,0,0,0,0,0,0,0,0,0,0,0,0,0,0,0,0,0,null,0,0,0,0,0,0,0,0,0,0,0,0,0,0,0,0,0,0,0,0,0,0,0,0,0,null,"","","","","","","","","","","","","","","","","","","","","","","","","",null,"","","","","","","","","","","","","","","","","","","","","","","","","",null,"0 menunjukkan pemahaman dalam ",null,null,"0 membutuhkan bimbingan dalam "]
[null,null,9,{"$f":"'DATA SISWA'!F18","v":0},null,null,null,null,null,null,null,null,null,null,null,null,null,null,null,null,null,null,null,null,null,null,null,null,null,null,null,null,null,null,null,null,null,null,null,null,null,null,null,null,null,null,null,null,null,null,null,null,null,null,"0 menunjukkan pemahaman dalam ","0 membutuhkan bimbingan dalam ",null,null,0,0,0,0,0,0,0,0,0,0,0,0,0,0,0,0,0,0,0,0,0,0,0,0,0,null,0,0,0,0,0,0,0,0,0,0,0,0,0,0,0,0,0,0,0,0,0,0,0,0,0,null,"","","","","","","","","","","","","","","","","","","","","","","","","",null,"","","","","","","","","","","","","","","","","","","","","","","","","",null,"0 menunjukkan pemahaman dalam ",null,null,"0 membutuhkan bimbingan dalam "]
[null,null,10,{"$f":"'DATA SISWA'!F19","v":0},null,null,null,null,null,null,null,null,null,null,null,null,null,null,null,null,null,null,null,null,null,null,null,null,null,null,null,null,null,null,null,null,null,null,null,null,null,null,null,null,null,null,null,null,null,null,null,null,null,null,"0 menunjukkan pemahaman dalam ","0 membutuhkan bimbingan dalam ",null,null,0,0,0,0,0,0,0,0,0,0,0,0,0,0,0,0,0,0,0,0,0,0,0,0,0,null,0,0,0,0,0,0,0,0,0,0,0,0,0,0,0,0,0,0,0,0,0,0,0,0,0,null,"","","","","","","","","","","","","","","","","","","","","","","","","",null,"","","","","","","","","","","","","","","","","","","","","","","","","",null,"0 menunjukkan pemahaman dalam ",null,null,"0 membutuhkan bimbingan dalam "]
[null,null,11,{"$f":"'DATA SISWA'!F20","v":0},null,null,null,null,null,null,null,null,null,null,null,null,null,null,null,null,null,null,null,null,null,null,null,null,null,null,null,null,null,null,null,null,null,null,null,null,null,null,null,null,null,null,null,null,null,null,null,null,null,null,"0 menunjukkan pemahaman dalam ","0 membutuhkan bimbingan dalam ",null,null,0,0,0,0,0,0,0,0,0,0,0,0,0,0,0,0,0,0,0,0,0,0,0,0,0,null,0,0,0,0,0,0,0,0,0,0,0,0,0,0,0,0,0,0,0,0,0,0,0,0,0,null,"","","","","","","","","","","","","","","","","","","","","","","","","",null,"","","","","","","","","","","","","","","","","","","","","","","","","",null,"0 menunjukkan pemahaman dalam ",null,null,"0 membutuhkan bimbingan dalam "]
[null,null,12,{"$f":"'DATA SISWA'!F21","v":0},null,null,null,null,null,null,null,null,null,null,null,null,null,null,null,null,null,null,null,null,null,null,null,null,null,null,null,null,null,null,null,null,null,null,null,null,null,null,null,null,null,null,null,null,null,null,null,null,null,null,"0 menunjukkan pemahaman dalam ","0 membutuhkan bimbingan dalam ",null,null,0,0,0,0,0,0,0,0,0,0,0,0,0,0,0,0,0,0,0,0,0,0,0,0,0,null,0,0,0,0,0,0,0,0,0,0,0,0,0,0,0,0,0,0,0,0,0,0,0,0,0,null,"","","","","","","","","","","","","","","","","","","","","","","","","",null,"","","","","","","","","","","","","","","","","","","","","","","","","",null,"0 menunjukkan pemahaman dalam ",null,null,"0 membutuhkan bimbingan dalam "]
[null,null,13,{"$f":"'DATA SISWA'!F22","v":0},null,null,null,null,null,null,null,null,null,null,null,null,null,null,null,null,null,null,null,null,null,null,null,null,null,null,null,null,null,null,null,null,null,null,null,null,null,null,null,null,null,null,null,null,null,null,null,null,null,null,"0 menunjukkan pemahaman dalam ","0 membutuhkan bimbingan dalam ",null,null,0,0,0,0,0,0,0,0,0,0,0,0,0,0,0,0,0,0,0,0,0,0,0,0,0,null,0,0,0,0,0,0,0,0,0,0,0,0,0,0,0,0,0,0,0,0,0,0,0,0,0,null,"","","","","","","","","","","","","","","","","","","","","","","","","",null,"","","","","","","","","","","","","","","","","","","","","","","","","",null,"0 menunjukkan pemahaman dalam ",null,null,"0 membutuhkan bimbingan dalam "]
[null,null,14,{"$f":"'DATA SISWA'!F23","v":0},null,null,null,null,null,null,null,null,null,null,null,null,null,null,null,null,null,null,null,null,null,null,null,null,null,null,null,null,null,null,null,null,null,null,null,null,null,null,null,null,null,null,null,null,null,null,null,null,null,null,"0 menunjukkan pemahaman dalam ","0 membutuhkan bimbingan dalam ",null,null,0,0,0,0,0,0,0,0,0,0,0,0,0,0,0,0,0,0,0,0,0,0,0,0,0,null,0,0,0,0,0,0,0,0,0,0,0,0,0,0,0,0,0,0,0,0,0,0,0,0,0,null,"","","","","","","","","","","","","","","","","","","","","","","","","",null,"","","","","","","","","","","","","","","","","","","","","","","","","",null,"0 menunjukkan pemahaman dalam ",null,null,"0 membutuhkan bimbingan dalam "]
[null,null,15,{"$f":"'DATA SISWA'!F24","v":0},null,null,null,null,null,null,null,null,null,null,null,null,null,null,null,null,null,null,null,null,null,null,null,null,null,null,null,null,null,null,null,null,null,null,null,null,null,null,null,null,null,null,null,null,null,null,null,null,null,null,"0 menunjukkan pemahaman dalam ","0 membutuhkan bimbingan dalam ",null,null,0,0,0,0,0,0,0,0,0,0,0,0,0,0,0,0,0,0,0,0,0,0,0,0,0,null,0,0,0,0,0,0,0,0,0,0,0,0,0,0,0,0,0,0,0,0,0,0,0,0,0,null,"","","","","","","","","","","","","","","","","","","","","","","","","",null,"","","","","","","","","","","","","","","","","","","","","","","","","",null,"0 menunjukkan pemahaman dalam ",null,null,"0 membutuhkan bimbingan dalam "]
[null,null,16,{"$f":"'DATA SISWA'!F25","v":0},null,null,null,null,null,null,null,null,null,null,null,null,null,null,null,null,null,null,null,null,null,null,null,null,null,null,null,null,null,null,null,null,null,null,null,null,null,null,null,null,null,null,null,null,null,null,null,null,null,null,"0 menunjukkan pemahaman dalam ","0 membutuhkan bimbingan dalam ",null,null,0,0,0,0,0,0,0,0,0,0,0,0,0,0,0,0,0,0,0,0,0,0,0,0,0,null,0,0,0,0,0,0,0,0,0,0,0,0,0,0,0,0,0,0,0,0,0,0,0,0,0,null,"","","","","","","","","","","","","","","","","","","","","","","","","",null,"","","","","","","","","","","","","","","","","","","","","","","","","",null,"0 menunjukkan pemahaman dalam ",null,null,"0 membutuhkan bimbingan dalam "]
[null,null,17,{"$f":"'DATA SISWA'!F26","v":0},null,null,null,null,null,null,null,null,null,null,null,null,null,null,null,null,null,null,null,null,null,null,null,null,null,null,null,null,null,null,null,null,null,null,null,null,null,null,null,null,null,null,null,null,null,null,null,null,null,null,"0 menunjukkan pemahaman dalam ","0 membutuhkan bimbingan dalam ",null,null,0,0,0,0,0,0,0,0,0,0,0,0,0,0,0,0,0,0,0,0,0,0,0,0,0,null,0,0,0,0,0,0,0,0,0,0,0,0,0,0,0,0,0,0,0,0,0,0,0,0,0,null,"","","","","","","","","","","","","","","","",{"$f":"IF(AND(BW33=1,CW33=1),DW$15&\", \",\"\")","v":""},"","","","","","","","",null,"","","","","","","","","","","","","","","","",{"$f":"IF(AND(BW33=1,CW33=0),EW$15&\", \",\"\")","v":""},"","","","","","","","",null,"0 menunjukkan pemahaman dalam ",null,null,"0 membutuhkan bimbingan dalam "]
[null,null,18,{"$f":"'DATA SISWA'!F27","v":0},null,null,null,null,null,null,null,null,null,null,null,null,null,null,null,null,null,null,null,null,null,null,null,null,null,null,null,null,null,null,null,null,null,null,null,null,null,null,null,null,null,null,null,null,null,null,null,null,null,null,"0 menunjukkan pemahaman dalam ","0 membutuhkan bimbingan dalam ",null,null,0,0,0,0,0,0,0,0,0,0,0,0,0,0,0,0,0,0,0,0,0,0,0,0,0,null,0,0,0,0,0,0,0,0,0,0,0,0,0,0,0,0,0,0,0,0,0,0,0,0,0,null,"","","","","","","","","","","","","","","","","","","","","","","","","",null,"","","","","","","","","","","","","","","","","","","","","","","","","",null,"0 menunjukkan pemahaman dalam ",null,null,"0 membutuhkan bimbingan dalam "]
[null,null,19,{"$f":"'DATA SISWA'!F28","v":0},null,null,null,null,null,null,null,null,null,null,null,null,null,null,null,null,null,null,null,null,null,null,null,null,null,null,null,null,null,null,null,null,null,null,null,null,null,null,null,null,null,null,null,null,null,null,null,null,null,null,"0 menunjukkan pemahaman dalam ","0 membutuhkan bimbingan dalam ",null,null,0,0,0,0,0,0,0,0,0,0,0,0,0,0,0,0,0,0,0,0,0,0,0,0,0,null,0,0,0,0,0,0,0,0,0,0,0,0,0,0,0,0,0,0,0,0,0,0,0,0,0,null,"","","","","","","","","","","","","","","","","","","","","","","","","",null,"","","","","","","","","","","","","","","","","","","","","","","","","",null,"0 menunjukkan pemahaman dalam ",null,null,"0 membutuhkan bimbingan dalam "]
[null,null,20,{"$f":"'DATA SISWA'!F29","v":0},null,null,null,null,null,null,null,null,null,null,null,null,null,null,null,null,null,null,null,null,null,null,null,null,null,null,null,null,null,null,null,null,null,null,null,null,null,null,null,null,null,null,null,null,null,null,null,null,null,null,"0 menunjukkan pemahaman dalam ","0 membutuhkan bimbingan dalam ",null,null,0,0,0,0,0,0,0,0,0,0,0,0,0,0,0,0,0,0,0,0,0,0,0,0,0,null,0,0,0,0,0,0,0,0,0,0,0,0,0,0,0,0,0,0,0,0,0,0,0,0,0,null,"","","","","","","","","","","","","","","","","","","","","","","","","",null,"","","","","","","","","","","","","","","","","","","","","","","","","",null,"0 menunjukkan pemahaman dalam ",null,null,"0 membutuhkan bimbingan dalam "]
[null,null,21,{"$f":"'DATA SISWA'!F30","v":0},null,null,null,null,null,null,null,null,null,null,null,null,null,null,null,null,null,null,null,null,null,null,null,null,null,null,null,null,null,null,null,null,null,null,null,null,null,null,null,null,null,null,null,null,null,null,null,null,null,null,"0 menunjukkan pemahaman dalam ","0 membutuhkan bimbingan dalam ",null,null,0,0,0,0,0,0,0,0,0,0,0,0,0,0,0,0,0,0,0,0,0,0,0,0,0,null,0,0,0,0,0,0,0,0,0,0,0,0,0,0,0,0,0,0,0,0,0,0,0,0,0,null,"","","","","","","","","","","","","","","","","","","","","","","","","",null,"","","","","","","","","","","","","","","","","","","","","","","","","",null,"0 menunjukkan pemahaman dalam ",null,null,"0 membutuhkan bimbingan dalam "]
[null,null,22,{"$f":"'DATA SISWA'!F31","v":0},null,null,null,null,null,null,null,null,null,null,null,null,null,null,null,null,null,null,null,null,null,null,null,null,null,null,null,null,null,null,null,null,null,null,null,null,null,null,null,null,null,null,null,null,null,null,null,null,null,null,"0 menunjukkan pemahaman dalam ","0 membutuhkan bimbingan dalam ",null,null,0,0,0,0,0,0,0,0,0,0,0,0,0,0,0,0,0,0,0,0,0,0,0,0,0,null,0,0,0,0,0,0,0,0,0,0,0,0,0,0,0,0,0,0,0,0,0,0,0,0,0,null,"","","","","","","","","","","","","","","","","","","","","","","","","",null,"","","","","","","","","","","","","","","","","","","","","","","","","",null,"0 menunjukkan pemahaman dalam ",null,null,"0 membutuhkan bimbingan dalam "]
[null,null,23,{"$f":"'DATA SISWA'!F32","v":0},null,null,null,null,null,null,null,null,null,null,null,null,null,null,null,null,null,null,null,null,null,null,null,null,null,null,null,null,null,null,null,null,null,null,null,null,null,null,null,null,null,null,null,null,null,null,null,null,null,null,"0 menunjukkan pemahaman dalam ","0 membutuhkan bimbingan dalam ",null,null,0,0,0,0,0,0,0,0,0,0,0,0,0,0,0,0,0,0,0,0,0,0,0,0,0,null,0,0,0,0,0,0,0,0,0,0,0,0,0,0,0,0,0,0,0,0,0,0,0,0,0,null,"","","","","","","","","","","","","","","","","","","","","","","","","",null,"","","","","","","","","","","","","","","","","","","","","","","","","",null,"0 menunjukkan pemahaman dalam ",null,null,"0 membutuhkan bimbingan dalam "]
[null,null,24,{"$f":"'DATA SISWA'!F33","v":0},null,null,null,null,null,null,null,null,null,null,null,null,null,null,null,null,null,null,null,null,null,null,null,null,null,null,null,null,null,null,null,null,null,null,null,null,null,null,null,null,null,null,null,null,null,null,null,null,null,null,"0 menunjukkan pemahaman dalam ","0 membutuhkan bimbingan dalam ",null,null,0,0,0,0,0,0,0,0,0,0,0,0,0,0,0,0,0,0,0,0,0,0,0,0,0,null,0,0,0,0,0,0,0,0,0,0,0,0,0,0,0,0,0,0,0,0,0,0,0,0,0,null,"","","","","","","","","","","","","","","","","","","","","","","","","",null,"","","","","","","","","","","","","","","","","","","","","","","","","",null,"0 menunjukkan pemahaman dalam ",null,null,"0 membutuhkan bimbingan dalam "]
[null,null,25,{"$f":"'DATA SISWA'!F34","v":0},null,null,null,null,null,null,null,null,null,null,null,null,null,null,null,null,null,null,null,null,null,null,null,null,null,null,null,null,null,null,null,null,null,null,null,null,null,null,null,null,null,null,null,null,null,null,null,null,null,null,"0 menunjukkan pemahaman dalam ","0 membutuhkan bimbingan dalam ",null,null,0,0,0,0,0,0,0,0,0,0,0,0,0,0,0,0,0,0,0,0,0,0,0,0,0,null,0,0,0,0,0,0,0,0,0,0,0,0,0,0,0,0,0,0,0,0,0,0,0,0,0,null,"","","","","","","","","","","","","","","","","","","","","","","","","",null,"","","","","","","","","","","","","","","","","","","","","","","","","",null,"0 menunjukkan pemahaman dalam ",null,null,"0 membutuhkan bimbingan dalam "]
[null,null,26,{"$f":"'DATA SISWA'!F35","v":0},null,null,null,null,null,null,null,null,null,null,null,null,null,null,null,null,null,null,null,null,null,null,null,null,null,null,null,null,null,null,null,null,null,null,null,null,null,null,null,null,null,null,null,null,null,null,null,null,null,null,"0 menunjukkan pemahaman dalam ","0 membutuhkan bimbingan dalam ",null,null,0,0,0,0,0,0,0,0,0,0,0,0,0,0,0,0,0,0,0,0,0,0,0,0,0,null,0,0,0,0,0,0,0,0,0,0,0,0,0,0,0,0,0,0,0,0,0,0,0,0,0,null,"","","","","","","","","","","","","","","","","","","","","","","","","",null,"","","","","","","","","","","","","","","","","","","","","","","","","",null,"0 menunjukkan pemahaman dalam ",null,null,"0 membutuhkan bimbingan dalam "]
[null,null,27,{"$f":"'DATA SISWA'!F36","v":0},null,null,null,null,null,null,null,null,null,null,null,null,null,null,null,null,null,null,null,null,null,null,null,null,null,null,null,null,null,null,null,null,null,null,null,null,null,null,null,null,null,null,null,null,null,null,null,null,null,null,"0 menunjukkan pemahaman dalam ","0 membutuhkan bimbingan dalam ",null,null,0,0,0,0,0,0,0,0,0,0,0,0,0,0,0,0,0,0,0,0,0,0,0,0,0,null,0,0,0,0,0,0,0,0,0,0,0,0,0,0,0,0,0,0,0,0,0,0,0,0,0,null,"","","","","",{"$f":"IF(AND(BL43=1,CL43=1),DL$15&\", \",\"\")","v":""},"","","","","","","","","","","","","","","","","","","",null,"","","","","",{"$f":"IF(AND(BL43=1,CL43=0),EL$15&\", \",\"\")","v":""},"","","","","","","","","","","","","","","","","","","",null,"0 menunjukkan pemahaman dalam ",null,null,"0 membutuhkan bimbingan dalam "]
[null,null,28,{"$f":"'DATA SISWA'!F37","v":0},null,null,null,null,null,null,null,null,null,null,null,null,null,null,null,null,null,null,null,null,null,null,null,null,null,null,null,null,null,null,null,null,null,null,null,null,null,null,null,null,null,null,null,null,null,null,null,null,null,null,"0 menunjukkan pemahaman dalam ","0 membutuhkan bimbingan dalam ",null,null,0,0,0,0,0,0,0,0,0,0,0,0,0,0,0,0,0,0,0,0,0,0,0,0,0,null,0,0,0,0,0,0,0,0,0,0,0,0,0,0,0,0,0,0,0,0,0,0,0,0,0,null,{"$f":"IF(AND(BG44=1,CG44=1),DG$15&\", \",\"\")","v":""},"","","","","","","","","","","","","","","","","","","","","","","","",null,{"$f":"IF(AND(BG44=1,CG44=0),EG$15&\", \",\"\")","v":""},"","","","","","","","","","","","","","","","","","","","","","","","",null,"0 menunjukkan pemahaman dalam ",null,null,"0 membutuhkan bimbingan dalam "]
[null,null,29,{"$f":"'DATA SISWA'!F38","v":0},null,null,null,null,null,null,null,null,null,null,null,null,null,null,null,null,null,null,null,null,null,null,null,null,null,null,null,null,null,null,null,null,null,null,null,null,null,null,null,null,null,null,null,null,null,null,null,null,null,null,"0 menunjukkan pemahaman dalam ","0 membutuhkan bimbingan dalam ",null,null,0,0,0,0,0,0,0,0,0,0,0,0,0,0,0,0,0,0,0,0,0,0,0,0,0,null,0,0,0,0,0,0,0,0,0,0,0,0,0,0,0,0,0,0,0,0,0,0,0,0,0,null,"","","","","","","","","","","","","","","","","","","","","","","","","",null,"","","","","","","","","","","","","","","","","","","","","","","","","",null,"0 menunjukkan pemahaman dalam ",null,null,"0 membutuhkan bimbingan dalam "]
[null,null,30,{"$f":"'DATA SISWA'!F39","v":0},null,null,null,null,null,null,null,null,null,null,null,null,null,null,null,null,null,null,null,null,null,null,null,null,null,null,null,null,null,null,null,null,null,null,null,null,null,null,null,null,null,null,null,null,null,null,null,null,null,null,"0 menunjukkan pemahaman dalam ","0 membutuhkan bimbingan dalam ",null,null,0,0,0,0,0,0,0,0,0,0,0,0,0,0,0,0,0,0,0,0,0,0,0,0,0,null,0,0,0,0,0,0,0,0,0,0,0,0,0,0,0,0,0,0,0,0,0,0,0,0,0,null,"","","","","","","","","","","","","","","","","","","","","","","","","",null,"","","","","","","","","","","","","","","","","","","","","","","","","",null,"0 menunjukkan pemahaman dalam ",null,null,"0 membutuhkan bimbingan dalam "]
[null,null,31,{"$f":"'DATA SISWA'!F40","v":0},null,null,null,null,null,null,null,null,null,null,null,null,null,null,null,null,null,null,null,null,null,null,null,null,null,null,null,null,null,null,null,null,null,null,null,null,null,null,null,null,null,null,null,null,null,null,null,null,null,null,"0 menunjukkan pemahaman dalam ","0 membutuhkan bimbingan dalam ",null,null,0,0,0,0,0,0,0,0,0,0,0,0,0,0,0,0,0,0,0,0,0,0,0,0,0,null,0,0,0,0,0,0,0,0,0,0,0,0,0,0,0,0,0,0,0,0,0,0,0,0,0,null,"","","","","","","","","","","","","","","","","","","","","","","","","",null,"","","","","","","","","","","","","","","","","","","","","","","","","",null,"0 menunjukkan pemahaman dalam ",null,null,"0 membutuhkan bimbingan dalam "]
[null,null,32,{"$f":"'DATA SISWA'!F41","v":0},null,null,null,null,null,null,null,null,null,null,null,null,null,null,null,null,null,null,null,null,null,null,null,null,null,null,null,null,null,null,null,null,null,null,null,null,null,null,null,null,null,null,null,null,null,null,null,null,null,null,"0 menunjukkan pemahaman dalam ","0 membutuhkan bimbingan dalam ",null,null,0,0,0,0,0,0,0,0,0,0,0,0,0,0,0,0,0,0,0,0,0,0,0,0,0,null,0,0,0,0,0,0,0,0,0,0,0,0,0,0,0,0,0,0,0,0,0,0,0,0,0,null,"","","","","","","","","","","","","","","","","","","","","","","","","",null,"","","","","","","","","","","","","","","","","","","","","","","","","",null,"0 menunjukkan pemahaman dalam ",null,null,"0 membutuhkan bimbingan dalam "]
[null,null,33,{"$f":"'DATA SISWA'!F42","v":0},null,null,null,null,null,null,null,null,null,null,null,null,null,null,null,null,null,null,null,null,null,null,null,null,null,null,null,null,null,null,null,null,null,null,null,null,null,null,null,null,null,null,null,null,null,null,null,null,null,null,"0 menunjukkan pemahaman dalam ","0 membutuhkan bimbingan dalam ",null,null,0,0,0,0,0,0,0,0,0,0,0,0,0,0,0,0,0,0,0,0,0,0,0,0,0,null,0,0,0,0,0,0,0,0,0,0,0,0,0,0,0,0,0,0,0,0,0,0,0,0,0,null,"","","","","","","","","","","","","","","","","","","","","","","","","",null,"","","","","","","","","","","","","","","","","","","","","","","","","",null,"0 menunjukkan pemahaman dalam ",null,null,"0 membutuhkan bimbingan dalam "]
[null,null,34,{"$f":"'DATA SISWA'!F43","v":0},null,null,null,null,null,null,null,null,null,null,null,null,null,null,null,null,null,null,null,null,null,null,null,null,null,null,null,null,null,null,null,null,null,null,null,null,null,null,null,null,null,null,null,null,null,null,null,null,null,null,"0 menunjukkan pemahaman dalam ","0 membutuhkan bimbingan dalam ",null,null,0,0,0,0,0,0,0,0,0,0,0,0,0,0,0,0,0,0,0,0,0,0,0,0,0,null,0,0,0,0,0,0,0,0,0,0,0,0,0,0,0,0,0,0,0,0,0,0,0,0,0,null,"","","","","","","","","","","","","","","","","","","","","","","","","",null,"","","","","","","","","","","","","","","","","","","","","","","","","",null,"0 menunjukkan pemahaman dalam ",null,null,"0 membutuhkan bimbingan dalam "]
[null,null,35,{"$f":"'DATA SISWA'!F44","v":0},null,null,null,null,null,null,null,null,null,null,null,null,null,null,null,null,null,null,null,null,null,null,null,null,null,null,null,null,null,null,null,null,null,null,null,null,null,null,null,null,null,null,null,null,null,null,null,null,null,null,"0 menunjukkan pemahaman dalam ","0 membutuhkan bimbingan dalam ",null,null,0,0,0,0,0,0,0,0,0,0,0,0,0,0,0,0,0,0,0,0,0,0,0,0,0,null,0,0,0,0,0,0,0,0,0,0,0,0,0,0,0,0,0,0,0,0,0,0,0,0,0,null,"","","","","","","","","","","","","","","","","","","","","","","","","",null,"","","","","","","","","","","","","","","","","","","","","","","","","",null,"0 menunjukkan pemahaman dalam ",null,null,"0 membutuhkan bimbingan dalam "]
[null,null,36,{"$f":"'DATA SISWA'!F45","v":0},null,null,null,null,null,null,null,null,null,null,null,null,null,null,null,null,null,null,null,null,null,null,null,null,null,null,null,null,null,null,null,null,null,null,null,null,null,null,null,null,null,null,null,null,null,null,null,null,null,null,"0 menunjukkan pemahaman dalam ","0 membutuhkan bimbingan dalam ",null,null,0,0,0,0,0,0,0,0,0,0,0,0,0,0,0,0,0,0,0,0,0,0,0,0,0,null,0,0,0,0,0,0,0,0,0,0,0,0,0,0,0,0,0,0,0,0,0,0,0,0,0,null,"","","","","","","","","","","","","","","","","","","","","","","","","",null,"","","","","","","","","","","","","","","","","","","","","","","","","",null,"0 menunjukkan pemahaman dalam ",null,null,"0 membutuhkan bimbingan dalam "]
[null,null,37,{"$f":"'DATA SISWA'!F46","v":0},null,null,null,null,null,null,null,null,null,null,null,null,null,null,null,null,null,null,null,null,null,null,null,null,null,null,null,null,null,null,null,null,null,null,null,null,null,null,null,null,null,null,null,null,null,null,null,null,null,null,"0 menunjukkan pemahaman dalam ","0 membutuhkan bimbingan dalam ",null,null,0,0,0,0,0,0,0,0,0,0,0,0,0,0,0,0,0,0,0,0,0,0,0,0,0,null,0,0,0,0,0,0,0,0,0,0,0,0,0,0,0,0,0,0,0,0,0,0,0,0,0,null,"","","","","","","","","","","","","","","","","","","","","","","","","",null,"","","","","","","","","","","","","","","","","","","","","","","","","",null,"0 menunjukkan pemahaman dalam ",null,null,"0 membutuhkan bimbingan dalam "]
[null,null,38,{"$f":"'DATA SISWA'!F47","v":0},null,null,null,null,null,null,null,null,null,null,null,null,null,null,null,null,null,null,null,null,null,null,null,null,null,null,null,null,null,null,null,null,null,null,null,null,null,null,null,null,null,null,null,null,null,null,null,null,null,null,"0 menunjukkan pemahaman dalam ","0 membutuhkan bimbingan dalam ",null,null,0,0,0,0,0,0,0,0,0,0,0,0,0,0,0,0,0,0,0,0,0,0,0,0,0,null,0,0,0,0,0,0,0,0,0,0,0,0,0,0,0,0,0,0,0,0,0,0,0,0,0,null,"","","","","","","","","","","","","","","","","","","","","","","","","",null,"","","","","","","","","","","","","","","","","","","","","","","","","",null,"0 menunjukkan pemahaman dalam ",null,null,"0 membutuhkan bimbingan dalam "]
[null,null,39,{"$f":"'DATA SISWA'!F48","v":0},null,null,null,null,null,null,null,null,null,null,null,null,null,null,null,null,null,null,null,null,null,null,null,null,null,null,null,null,null,null,null,null,null,null,null,null,null,null,null,null,null,null,null,null,null,null,null,null,null,null,"0 menunjukkan pemahaman dalam ","0 membutuhkan bimbingan dalam ",null,null,0,0,0,0,0,0,0,0,0,0,0,0,0,0,0,0,0,0,0,0,0,0,0,0,0,null,0,0,0,0,0,0,0,0,0,0,0,0,0,0,0,0,0,0,0,0,0,0,0,0,0,null,"","","","","","","","","","","","","","","","","","","","","","","","","",null,"","","","","","","","","","","","","","","","","","","","","","","","","",null,"0 menunjukkan pemahaman dalam ",null,null,"0 membutuhkan bimbingan dalam "]
[null,null,40,{"$f":"'DATA SISWA'!F49","v":0},null,null,null,null,null,null,null,null,null,null,null,null,null,null,null,null,null,null,null,null,null,null,null,null,null,null,null,null,null,null,null,null,null,null,null,null,null,null,null,null,null,null,null,null,null,null,null,null,null,null,"0 menunjukkan pemahaman dalam ","0 membutuhkan bimbingan dalam ",null,null,0,0,0,0,0,0,0,0,0,0,0,0,0,0,0,0,0,0,0,0,0,0,0,0,0,null,0,0,0,0,0,0,0,0,0,0,0,0,0,0,0,0,0,0,0,0,0,0,0,0,0,null,"","","","","","","","","","","","","","","","","","","","","","","","","",null,"","","","","","","","","","","","","","","","","","","","","","","","","",null,"0 menunjukkan pemahaman dalam ",null,null,"0 membutuhkan bimbingan dalam "]

{"sheet":"F8","index":41,"n_rows":56,"n_cols":166,"rows_kept":56,"cut":false,"hidden":false,"merged":[[14,52,14,53],[14,40,14,41],[14,42,14,43],[14,44,14,45],[14,46,14,47],[14,48,14,49],[14,50,14,51],[14,38,14,39],[14,16,14,17],[14,18,14,19],[14,20,14,21],[14,22,14,23],[14,24,14,25],[14,26,14,27],[14,28,14,29],[14,30,14,31],[14,32,14,33],[14,34,14,35],[14,36,14,37],[13,152,13,153],[13,154,13,155],[13,156,13,157],[13,158,13,159],[14,4,14,5],[14,6,14,7],[14,8,14,9],[14,10,14,11],[14,12,14,13],[14,14,14,15],[13,50,13,51],[13,52,13,53],[13,144,13,145],[13,146,13,147],[13,148,13,149],[13,150,13,151],[13,20,13,21],[13,22,13,23],[13,48,13,49],[13,26,13,27],[13,28,13,29],[13,30,13,31],[13,32,13,33],[13,34,13,35],[13,36,13,37],[13,38,13,39],[13,40,13,41],[13,42,13,43],[13,44,13,45],[13,46,13,47],[12,54,15,54],[12,55,15,55],[13,24,13,25],[2,1,2,54],[4,1,4,54],[12,2,15,2],[12,3,15,3],[12,4,12,53],[13,4,13,5],[13,6,13,7],[13,8,13,9],[13,10,13,11],[13,12,13,13],[13,14,13,15],[13,16,13,17],[13,18,13,19]]}
[]
[]
[null,"INPUT ASESMEN FORMATIF"]
[]
[null,{"$f":"\"MATA PELAJARAN : \"&INTRAKURIKULER!D16","v":"MATA PELAJARAN : "}]
[null,"Petunjuk Pengisian :"]
[null,null,1,"Rapor ini berasumsi bahwa guru telah melakukan penilaian formatif dan direkap dalam lembar tersendiri"]
[null,null,2,"Pada Kolom KKTP, pilih '0' jika siswa tidak memenuhi KKTP, Pilih '1' jika siswa memenuhi KKTP. Bisa juga diketikkan langsung angka 1 atau 0"]
[null,null,3,"Pada Kolom Tampil/Tidak, pilih '0' jika tidak ingin menampilkan TP tersebut di deskripsi rapor, pilih '1' jika ingin menampilkan TP di deskripsi rapor. Bisa juga diketikkan langsung angka 1 atau 0",null,null,null,null,null,null,null,null,null,null,null,null,null,null,null,null,null,null,null,null,null,null,null,null,null,null,null,null,null,null,null,null,null,null,null,null,null,null,null,null,null,null,null,null,null,null,null,null,null,null,null,null,null,null,0]
[null,"Contoh :",null,"Pada TP 1, siswa mencapai KKTP tapi tidak ingin ditampilkan dalam rapor. Pilih KKTP = 1, dan Tampil/Tidak = 0.",null,null,null,null,null,null,null,null,null,null,null,null,null,null,null,"Isilah hanya pada TP yang diinginkan",null,null,null,null,null,null,null,null,null,null,null,null,null,null,null,null,null,null,null,null,null,null,null,null,null,null,null,null,null,null,null,null,null,null,null,null,null,null,1]
[null,null,null,"Pada TP 2, siswa tidak mencapai KKTP tapi ingin ditampilkan dalam rapor. Pilih KKTP = 0, dan Tampil/Tidak = 1.",null,null,null,null,null,null,null,null,null,null,null,null,null,null,null,"masuk dalam deskripsi rapor"]
[]
[null,null,"No","Nama Siswa","Tujuan Pembelajaran",null,null,null,null,null,null,null,null,null,null,null,null,null,null,null,null,null,null,null,null,null,null,null,null,null,null,null,null,null,null,null,null,null,null,null,null,null,null,null,null,null,null,null,null,null,null,null,null,null,"Deskripsi Capaian Tertinggi dalam Rapor","Deskripsi Capaian Terendah dalam Rapor"]
[null,null,null,null,"TP 1",null,"TP 2",null,"TP 3",null,"TP 4",null,"TP 5",null,"TP 6",null,"TP 7",null,"TP 8",null,"TP 9",null,"TP 10",null,"TP 11",null,"TP 12",null,"TP 13",null,"TP 14",null,"TP 15",null,"TP 16",null,"TP 17",null,"TP 18",null,"TP 19",null,"TP 20",null,"TP 21",null,"TP 22",null,"TP 23",null,"TP 24",null,"TP 25",null,null,null,null,null,null,null,null,null,null,null,null,null,null,null,null,null,null,null,null,null,null,null,null,null,null,null,null,null,null,null,null,null,null,null,null,null,null,null,null,null,null,null,null,null,null,null,null,null,null,null,null,null,null,null,null,null,"mencapai",null,null,null,null,null,null,null,null,null,null,null,null,null,null,null,null,null,null,null,null,null,null,null,null,null,"tidak mencapai"]
[null,null,null,null,{"$f":"'TP 8'!D8","v":1},null,{"$f":"'TP 8'!D9","v":2},null,{"$f":"'TP 8'!D10","v":3},null,{"$f":"'TP 8'!D11","v":4},null,{"$f":"'TP 8'!D12","v":5},null,{"$f":"'TP 8'!D13","v":6},null,{"$f":"'TP 8'!D14","v":7},null,{"$f":"'TP 8'!D15","v":8},null,{"$f":"'TP 8'!D16","v":9},null,{"$f":"'TP 8'!D17","v":10},null,{"$f":"'TP 8'!D18","v":11},null,{"$f":"'TP 8'!D19","v":12},null,{"$f":"'TP 8'!D20","v":13},null,{"$f":"'TP 8'!D21","v":14},null,{"$f":"'TP 8'!D22","v":15},null,{"$f":"'TP 8'!D23","v":16},null,{"$f":"'TP 8'!D24","v":17},null,{"$f":"'TP 8'!D25","v":18},null,{"$f":"'TP 8'!D26","v":19},null,{"$f":"'TP 8'!D27","v":20},null,{"$f":"'TP 8'!D28","v":21},null,{"$f":"'TP 8'!D29","v":22},null,{"$f":"'TP 8'!D30","v":23},null,{"$f":"'TP 8'!D31","v":24},null,{"$f":"'TP 8'!D32","v":25},null,null,null,null,null,1,2,3,4,5,6,7,8,9,10,11,12,13,14,15,16,17,18,19,20,21,22,23,24,25,null,1,2,3,4,5,6,7,8,9,10,11,12,13,14,15,16,17,18,19,20,21,22,23,24,25,null,{"$f":"E15","v":1},{"$f":"G15","v":2},{"$f":"I15","v":3},{"$f":"K15","v":4},{"$f":"M15","v":5},{"$f":"O15","v":6},{"$f":"Q15","v":7},{"$f":"S15","v":8},{"$f":"U15","v":9},{"$f":"W15","v":10},{"$f":"Y15","v":11},{"$f":"AA15","v":12},{"$f":"AC15","v":13},{"$f":"AE15","v":14},{"$f":"AG15","v":15},{"$f":"AI15","v":16},{"$f":"AK15","v":17},{"$f":"AM15","v":18},{"$f":"AO15","v":19},{"$f":"AQ15","v":20},{"$f":"AS15","v":21},{"$f":"AU15","v":22},{"$f":"AW15","v":23},{"$f":"AY15","v":24},{"$f":"BA15","v":25},null,{"$f":"DG15","v":1},{"$f":"DH15","v":2},3,4,5,6,7,8,9,10,11,12,13,14,15,16,17,18,19,20,21,22,23,24,25,null,"mencapai",null,null,"tidak mencapai"]
[null,null,null,null,"KKTP","Tampil/Tidak","KKTP","Tampil/Tidak","KKTP","Tampil/Tidak","KKTP","Tampil/Tidak","KKTP","Tampil/Tidak","KKTP","Tampil/Tidak","KKTP","Tampil/Tidak","KKTP","Tampil/Tidak","KKTP","Tampil/Tidak","KKTP","Tampil/Tidak","KKTP","Tampil/Tidak","KKTP","Tampil/Tidak","KKTP","Tampil/Tidak","KKTP","Tampil/Tidak","KKTP","Tampil/Tidak","KKTP","Tampil/Tidak","KKTP","Tampil/Tidak","KKTP","Tampil/Tidak","KKTP","Tampil/Tidak","KKTP","Tampil/Tidak","KKTP","Tampil/Tidak","KKTP","Tampil/Tidak","KKTP","Tampil/Tidak","KKTP","Tampil/Tidak","KKTP","Tampil/Tidak",null,null,null,null,null,null,null,null,null,null,null,null,null,null,null,null,null,null,null,null,null,null,null,null,null,null,null,null,null,null,"kktp",null,null,null,null,null,null,null,null,null,null,null,null,null,null,null,null,null,null,null,null,null,null,null,null,null,1,2,3,4,5,6,7,8,9,10,11,12,13,14,15,16,17,18,19,20,21,22,23,24,25,null,1,2,3,4,5,6,7,8,9,10,11,12,13,14,15,16,17,18,19,20,21,22,23,24,25]
[null,null,1,{"$f":"'DATA SISWA'!F10","v":0},null,null,null,null,null,null,null,null,null,null,null,null,null,null,null,null,null,null,null,null,null,null,null,null,null,null,null,null,null,null,null,null,null,null,null,null,null,null,null,null,null,null,null,null,null,null,null,null,null,null,{"$f":"FG17","v":"0 menunjukkan pemahaman dalam "},{"$f":"FJ17","v":"0 membutuhkan bimbingan dalam "},null,null,{"$f":"F17","v":0},{"$f":"H17","v":0},{"$f":"J17","v":0},{"$f":"L17","v":0},{"$f":"N17","v":0},{"$f":"P17","v":0},{"$f":"R17","v":0},{"$f":"T17","v":0},{"$f":"V17","v":0},{"$f":"X17","v":0},{"$f":"Z17","v":0},{"$f":"AB17","v":0},{"$f":"AD17","v":0},{"$f":"AF17","v":0},{"$f":"AH17","v":0},{"$f":"AJ17","v":0},{"$f":"AL17","v":0},{"$f":"AN17","v":0},{"$f":"AP17","v":0},{"$f":"AR17","v":0},{"$f":"AT17","v":0},{"$f":"AV17","v":0},{"$f":"AX17","v":0},{"$f":"AZ17","v":0},{"$f":"BB17","v":0},null,{"$f":"E17","v":0},{"$f":"G17","v":0},{"$f":"I17","v":0},{"$f":"K17","v":0},{"$f":"M17","v":0},{"$f":"O17","v":0},{"$f":"Q17","v":0},{"$f":"S17","v":0},{"$f":"U17","v":0},{"$f":"W17","v":0},{"$f":"Y17","v":0},{"$f":"AA17","v":0},{"$f":"AC17","v":0},{"$f":"AE17","v":0},{"$f":"AG17","v":0},{"$f":"AI17","v":0},{"$f":"AK17","v":0},{"$f":"AM17","v":0},{"$f":"AO17","v":0},{"$f":"AQ17","v":0},{"$f":"AS17","v":0},{"$f":"AU17","v":0},{"$f":"AW17","v":0},{"$f":"AY17","v":0},{"$f":"BA17","v":0},null,{"$f":"IF(AND(BG17=1,CG17=1),DG$15&\", \",\"\")","v":""},{"$f":"IF(AND(BH17=1,CH17=1),DH$15&\", \",\"\")","v":""},"","","","","","","","","","","","","","","",{"$f":"IF(AND(BX17=1,CX17=1),DX$15&\", \",\"\")","v":""},"","","","","","","",null,{"$f":"IF(AND(BG17=1,CG17=0),EG$15&\", \",\"\")","v":""},{"$f":"IF(AND(BH17=1,CH17=0),EH$15&\", \",\"\")","v":""},"","","","","","","","","","","","","","","",{"$f":"IF(AND(BX17=1,CX17=0),EX$15&\", \",\"\")","v":""},"","","","","","","",null,{"$f":"PROPER(D17)&\" menunjukkan pemahaman dalam \"&DG17&DH17&DI17&DJ17&DK17&DL17&DM17&DN17&DO17&DP17&DQ17&DR17&DS17&DT17&DU17&DV17&DW17&DX17&DY17&DZ17&EA17&EB17&EC17&ED17&EE17","v":"0 menunjukkan pemahaman dalam "},null,null,{"$f":"PROPER(D17)&\" membutuhkan bimbingan dalam \"&EG17&EH17&EI17&EJ17&EK17&EL17&EM17&EN17&EO17&EP17&EQ17&ER17&ES17&ET17&EU17&EV17&EW17&EX17&EY17&EZ17&FA17&FB17&FC17&FD17&FE17","v":"0 membutuhkan bimbingan dalam "}]
[null,null,2,{"$f":"'DATA SISWA'!F11","v":0},null,null,null,null,null,null,null,null,null,null,null,null,null,null,null,null,null,null,null,null,null,null,null,null,null,null,null,null,null,null,null,null,null,null,null,null,null,null,null,null,null,null,null,null,null,null,null,null,null,null,{"$f":"FG18","v":"0 menunjukkan pemahaman dalam "},{"$f":"FJ18","v":"0 membutuhkan bimbingan dalam "},null,null,{"$f":"F18","v":0},{"$f":"H18","v":0},{"$f":"J18","v":0},{"$f":"L18","v":0},{"$f":"N18","v":0},{"$f":"P18","v":0},{"$f":"R18","v":0},{"$f":"T18","v":0},{"$f":"V18","v":0},{"$f":"X18","v":0},{"$f":"Z18","v":0},{"$f":"AB18","v":0},{"$f":"AD18","v":0},{"$f":"AF18","v":0},{"$f":"AH18","v":0},{"$f":"AJ18","v":0},{"$f":"AL18","v":0},{"$f":"AN18","v":0},{"$f":"AP18","v":0},{"$f":"AR18","v":0},{"$f":"AT18","v":0},{"$f":"AV18","v":0},{"$f":"AX18","v":0},{"$f":"AZ18","v":0},{"$f":"BB18","v":0},null,{"$f":"E18","v":0},{"$f":"G18","v":0},{"$f":"I18","v":0},{"$f":"K18","v":0},{"$f":"M18","v":0},{"$f":"O18","v":0},{"$f":"Q18","v":0},{"$f":"S18","v":0},{"$f":"U18","v":0},{"$f":"W18","v":0},{"$f":"Y18","v":0},{"$f":"AA18","v":0},{"$f":"AC18","v":0},{"$f":"AE18","v":0},{"$f":"AG18","v":0},{"$f":"AI18","v":0},{"$f":"AK18","v":0},{"$f":"AM18","v":0},{"$f":"AO18","v":0},{"$f":"AQ18","v":0},{"$f":"AS18","v":0},{"$f":"AU18","v":0},{"$f":"AW18","v":0},{"$f":"AY18","v":0},{"$f":"BA18","v":0},null,{"$f":"IF(AND(BG18=1,CG18=1),DG$15&\", \",\"\")","v":""},"","","","","","","","","","","","","","","","","","","","","","","","",null,{"$f":"IF(AND(BG18=1,CG18=0),EG$15&\", \",\"\")","v":""},"","","","","","","","","","","","","","","","","","","","","","","","",null,{"$f":"PROPER(D18)&\" menunjukkan pemahaman dalam \"&DG18&DH18&DI18&DJ18&DK18&DL18&DM18&DN18&DO18&DP18&DQ18&DR18&DS18&DT18&DU18&DV18&DW18&DX18&DY18&DZ18&EA18&EB18&EC18&ED18&EE18","v":"0 menunjukkan pemahaman dalam "},null,null,{"$f":"PROPER(D18)&\" membutuhkan bimbingan dalam \"&EG18&EH18&EI18&EJ18&EK18&EL18&EM18&EN18&EO18&EP18&EQ18&ER18&ES18&ET18&EU18&EV18&EW18&EX18&EY18&EZ18&FA18&FB18&FC18&FD18&FE18","v":"0 membutuhkan bimbingan dalam "}]
[null,null,3,{"$f":"'DATA SISWA'!F12","v":0},null,null,null,null,null,null,null,null,null,null,null,null,null,null,null,null,null,null,null,null,null,null,null,null,null,null,null,null,null,null,null,null,null,null,null,null,null,null,null,null,null,null,null,null,null,null,null,null,null,null,"0 menunjukkan pemahaman dalam ","0 membutuhkan bimbingan dalam ",null,null,0,0,0,0,0,0,0,0,0,0,0,0,0,0,0,0,0,0,0,0,0,0,0,0,0,null,0,0,0,0,0,0,0,0,0,0,0,0,0,0,0,0,0,0,0,0,0,0,0,0,0,null,"","","","","","","","","","","","","","","","","","","","","","","","","",null,"","","","","","","","","","","","","","","","","","","","","","","","","",null,"0 menunjukkan pemahaman dalam ",null,null,"0 membutuhkan bimbingan dalam "]
[null,null,4,{"$f":"'DATA SISWA'!F13","v":0},null,null,null,null,null,null,null,null,null,null,null,null,null,null,null,null,null,null,null,null,null,null,null,null,null,null,null,null,null,null,null,null,null,null,null,null,null,null,null,null,null,null,null,null,null,null,null,null,null,null,"0 menunjukkan pemahaman dalam ","0 membutuhkan bimbingan dalam ",null,null,0,0,0,0,0,0,0,0,0,0,0,0,0,0,0,0,0,0,0,0,0,0,0,0,0,null,0,0,0,0,0,0,0,0,0,0,0,0,0,0,0,0,0,0,0,0,0,0,0,0,0,null,"","","","","","","","","","","","","","","","","","","","","","","","","",null,"","","","","","","","","","","","","","","","","","","","","","","","","",null,"0 menunjukkan pemahaman dalam ",null,null,"0 membutuhkan bimbingan dalam "]
[null,null,5,{"$f":"'DATA SISWA'!F14","v":0},null,null,null,null,null,null,null,null,null,null,null,null,null,null,null,null,null,null,null,null,null,null,null,null,null,null,null,null,null,null,null,null,null,null,null,null,null,null,null,null,null,null,null,null,null,null,null,null,null,null,"0 menunjukkan pemahaman dalam ","0 membutuhkan bimbingan dalam ",null,null,0,0,0,0,0,0,0,0,0,0,0,0,0,0,0,0,0,0,0,0,0,0,0,0,0,null,0,0,0,0,0,0,0,0,0,0,0,0,0,0,0,0,0,0,0,0,0,0,0,0,0,null,"","","","","","","","","","","","","","","","","","","","","","","","","",null,"","","","","","","","","","","","","","","","","","","","","","","","","",null,"0 menunjukkan pemahaman dalam ",null,null,"0 membutuhkan bimbingan dalam "]
[null,null,6,{"$f":"'DATA SISWA'!F15","v":0},null,null,null,null,null,null,null,null,null,null,null,null,null,null,null,null,null,null,null,null,null,null,null,null,null,null,null,null,null,null,null,null,null,null,null,null,null,null,null,null,null,null,null,null,null,null,null,null,null,null,"0 menunjukkan pemahaman dalam ","0 membutuhkan bimbingan dalam ",null,null,0,0,0,0,0,0,0,0,0,0,0,0,0,0,0,0,0,0,0,0,0,0,0,0,0,null,0,0,0,0,0,0,0,0,0,0,0,0,0,0,0,0,0,0,0,0,0,0,0,0,0,null,"","","","","","","","","","","","","","","","","","","","","","","","","",null,"","","","","","","","","","","","","","","","","","","","","","","","","",null,"0 menunjukkan pemahaman dalam ",null,null,"0 membutuhkan bimbingan dalam "]
[null,null,7,{"$f":"'DATA SISWA'!F16","v":0},null,null,null,null,null,null,null,null,null,null,null,null,null,null,null,null,null,null,null,null,null,null,null,null,null,null,null,null,null,null,null,null,null,null,null,null,null,null,null,null,null,null,null,null,null,null,null,null,null,null,"0 menunjukkan pemahaman dalam ","0 membutuhkan bimbingan dalam ",null,null,0,0,0,0,0,0,0,0,0,0,0,0,0,0,0,0,0,0,0,0,0,0,0,0,0,null,0,0,0,0,0,0,0,0,0,0,0,0,0,0,0,0,0,0,0,0,0,0,0,0,0,null,"","","","","","","","","","","","","","","","","","","","","","","","","",null,"","","","","","","","","","","","","","","","","","","","","","","","","",null,"0 menunjukkan pemahaman dalam ",null,null,"0 membutuhkan bimbingan dalam "]
[null,null,8,{"$f":"'DATA SISWA'!F17","v":0},null,null,null,null,null,null,null,null,null,null,null,null,null,null,null,null,null,null,null,null,null,null,null,null,null,null,null,null,null,null,null,null,null,null,null,null,null,null,null,null,null,null,null,null,null,null,null,null,null,null,"0 menunjukkan pemahaman dalam ","0 membutuhkan bimbingan dalam ",null,null,0,0,0,0,0,0,0,0,0,0,0,0,0,0,0,0,0,0,0,0,0,0,0,0,0,null,0,0,0,0,0,0,0,0,0,0,0,0,0,0,0,0,0,0,0,0,0,0,0,0,0,null,"","","","","","","","","","","","","","","","","","","","","","","","","",null,"","","","","","","","","","","","","","","","","","","","","","","","","",null,"0 menunjukkan pemahaman dalam ",null,null,"0 membutuhkan bimbingan dalam "]
[null,null,9,{"$f":"'DATA SISWA'!F18","v":0},null,null,null,null,null,null,null,null,null,null,null,null,null,null,null,null,null,null,null,null,null,null,null,null,null,null,null,null,null,null,null,null,null,null,null,null,null,null,null,null,null,null,null,null,null,null,null,null,null,null,"0 menunjukkan pemahaman dalam ","0 membutuhkan bimbingan dalam ",null,null,0,0,0,0,0,0,0,0,0,0,0,0,0,0,0,0,0,0,0,0,0,0,0,0,0,null,0,0,0,0,0,0,0,0,0,0,0,0,0,0,0,0,0,0,0,0,0,0,0,0,0,null,"","","","","","","","","","","","","","","","","","","","","","","","","",null,"","","","","","","","","","","","","","","","","","","","","","","","","",null,"0 menunjukkan pemahaman dalam ",null,null,"0 membutuhkan bimbingan dalam "]
[null,null,10,{"$f":"'DATA SISWA'!F19","v":0},null,null,null,null,null,null,null,null,null,null,null,null,null,null,null,null,null,null,null,null,null,null,null,null,null,null,null,null,null,null,null,null,null,null,null,null,null,null,null,null,null,null,null,null,null,null,null,null,null,null,"0 menunjukkan pemahaman dalam ","0 membutuhkan bimbingan dalam ",null,null,0,0,0,0,0,0,0,0,0,0,0,0,0,0,0,0,0,0,0,0,0,0,0,0,0,null,0,0,0,0,0,0,0,0,0,0,0,0,0,0,0,0,0,0,0,0,0,0,0,0,0,null,"","","","","","","","","","","","","","","","","","","","","","","","","",null,"","","","","","","","","","","","","","","","","","","","","","","","","",null,"0 menunjukkan pemahaman dalam ",null,null,"0 membutuhkan bimbingan dalam "]
[null,null,11,{"$f":"'DATA SISWA'!F20","v":0},null,null,null,null,null,null,null,null,null,null,null,null,null,null,null,null,null,null,null,null,null,null,null,null,null,null,null,null,null,null,null,null,null,null,null,null,null,null,null,null,null,null,null,null,null,null,null,null,null,null,"0 menunjukkan pemahaman dalam ","0 membutuhkan bimbingan dalam ",null,null,0,0,0,0,0,0,0,0,0,0,0,0,0,0,0,0,0,0,0,0,0,0,0,0,0,null,0,0,0,0,0,0,0,0,0,0,0,0,0,0,0,0,0,0,0,0,0,0,0,0,0,null,"","","","","","","","","","","","","","","","","","","","","","","","","",null,"","","","","","","","","","","","","","","","","","","","","","","","","",null,"0 menunjukkan pemahaman dalam ",null,null,"0 membutuhkan bimbingan dalam "]
[null,null,12,{"$f":"'DATA SISWA'!F21","v":0},null,null,null,null,null,null,null,null,null,null,null,null,null,null,null,null,null,null,null,null,null,null,null,null,null,null,null,null,null,null,null,null,null,null,null,null,null,null,null,null,null,null,null,null,null,null,null,null,null,null,"0 menunjukkan pemahaman dalam ","0 membutuhkan bimbingan dalam ",null,null,0,0,0,0,0,0,0,0,0,0,0,0,0,0,0,0,0,0,0,0,0,0,0,0,0,null,0,0,0,0,0,0,0,0,0,0,0,0,0,0,0,0,0,0,0,0,0,0,0,0,0,null,"","","","","","","","","","","","","","","","","","","","","","","","","",null,"","","","","","","","","","","","","","","","","","","","","","","","","",null,"0 menunjukkan pemahaman dalam ",null,null,"0 membutuhkan bimbingan dalam "]
[null,null,13,{"$f":"'DATA SISWA'!F22","v":0},null,null,null,null,null,null,null,null,null,null,null,null,null,null,null,null,null,null,null,null,null,null,null,null,null,null,null,null,null,null,null,null,null,null,null,null,null,null,null,null,null,null,null,null,null,null,null,null,null,null,"0 menunjukkan pemahaman dalam ","0 membutuhkan bimbingan dalam ",null,null,0,0,0,0,0,0,0,0,0,0,0,0,0,0,0,0,0,0,0,0,0,0,0,0,0,null,0,0,0,0,0,0,0,0,0,0,0,0,0,0,0,0,0,0,0,0,0,0,0,0,0,null,"","","","","","","","","","","","","","","","","","","","","","","","","",null,"","","","","","","","","","","","","","","","","","","","","","","","","",null,"0 menunjukkan pemahaman dalam ",null,null,"0 membutuhkan bimbingan dalam "]
[null,null,14,{"$f":"'DATA SISWA'!F23","v":0},null,null,null,null,null,null,null,null,null,null,null,null,null,null,null,null,null,null,null,null,null,null,null,null,null,null,null,null,null,null,null,null,null,null,null,null,null,null,null,null,null,null,null,null,null,null,null,null,null,null,"0 menunjukkan pemahaman dalam ","0 membutuhkan bimbingan dalam ",null,null,0,0,0,0,0,0,0,0,0,0,0,0,0,0,0,0,0,0,0,0,0,0,0,0,0,null,0,0,0,0,0,0,0,0,0,0,0,0,0,0,0,0,0,0,0,0,0,0,0,0,0,null,"","","","","","","","","","","","","","","","","","","","","","","","","",null,"","","","","","","","","","","","","","","","","","","","","","","","","",null,"0 menunjukkan pemahaman dalam ",null,null,"0 membutuhkan bimbingan dalam "]
[null,null,15,{"$f":"'DATA SISWA'!F24","v":0},null,null,null,null,null,null,null,null,null,null,null,null,null,null,null,null,null,null,null,null,null,null,null,null,null,null,null,null,null,null,null,null,null,null,null,null,null,null,null,null,null,null,null,null,null,null,null,null,null,null,"0 menunjukkan pemahaman dalam ","0 membutuhkan bimbingan dalam ",null,null,0,0,0,0,0,0,0,0,0,0,0,0,0,0,0,0,0,0,0,0,0,0,0,0,0,null,0,0,0,0,0,0,0,0,0,0,0,0,0,0,0,0,0,0,0,0,0,0,0,0,0,null,"","","","","","","","","","","","","","","","","","","","","","","","","",null,"","","","","","","","","","","","","","","","","","","","","","","","","",null,"0 menunjukkan pemahaman dalam ",null,null,"0 membutuhkan bimbingan dalam "]
[null,null,16,{"$f":"'DATA SISWA'!F25","v":0},null,null,null,null,null,null,null,null,null,null,null,null,null,null,null,null,null,null,null,null,null,null,null,null,null,null,null,null,null,null,null,null,null,null,null,null,null,null,null,null,null,null,null,null,null,null,null,null,null,null,"0 menunjukkan pemahaman dalam ","0 membutuhkan bimbingan dalam ",null,null,0,0,0,0,0,0,0,0,0,0,0,0,0,0,0,0,0,0,0,0,0,0,0,0,0,null,0,0,0,0,0,0,0,0,0,0,0,0,0,0,0,0,0,0,0,0,0,0,0,0,0,null,"","","","","","","","","","","","","","","","","","","","","","","","","",null,"","","","","","","","","","","","","","","","","","","","","","","","","",null,"0 menunjukkan pemahaman dalam ",null,null,"0 membutuhkan bimbingan dalam "]
[null,null,17,{"$f":"'DATA SISWA'!F26","v":0},null,null,null,null,null,null,null,null,null,null,null,null,null,null,null,null,null,null,null,null,null,null,null,null,null,null,null,null,null,null,null,null,null,null,null,null,null,null,null,null,null,null,null,null,null,null,null,null,null,null,"0 menunjukkan pemahaman dalam ","0 membutuhkan bimbingan dalam ",null,null,0,0,0,0,0,0,0,0,0,0,0,0,0,0,0,0,0,0,0,0,0,0,0,0,0,null,0,0,0,0,0,0,0,0,0,0,0,0,0,0,0,0,0,0,0,0,0,0,0,0,0,null,"","","","","","","","","","","","","","","","",{"$f":"IF(AND(BW33=1,CW33=1),DW$15&\", \",\"\")","v":""},"","","","","","","","",null,"","","","","","","","","","","","","","","","",{"$f":"IF(AND(BW33=1,CW33=0),EW$15&\", \",\"\")","v":""},"","","","","","","","",null,"0 menunjukkan pemahaman dalam ",null,null,"0 membutuhkan bimbingan dalam "]
[null,null,18,{"$f":"'DATA SISWA'!F27","v":0},null,null,null,null,null,null,null,null,null,null,null,null,null,null,null,null,null,null,null,null,null,null,null,null,null,null,null,null,null,null,null,null,null,null,null,null,null,null,null,null,null,null,null,null,null,null,null,null,null,null,"0 menunjukkan pemahaman dalam ","0 membutuhkan bimbingan dalam ",null,null,0,0,0,0,0,0,0,0,0,0,0,0,0,0,0,0,0,0,0,0,0,0,0,0,0,null,0,0,0,0,0,0,0,0,0,0,0,0,0,0,0,0,0,0,0,0,0,0,0,0,0,null,"","","","","","","","","","","","","","","","","","","","","","","","","",null,"","","","","","","","","","","","","","","","","","","","","","","","","",null,"0 menunjukkan pemahaman dalam ",null,null,"0 membutuhkan bimbingan dalam "]
[null,null,19,{"$f":"'DATA SISWA'!F28","v":0},null,null,null,null,null,null,null,null,null,null,null,null,null,null,null,null,null,null,null,null,null,null,null,null,null,null,null,null,null,null,null,null,null,null,null,null,null,null,null,null,null,null,null,null,null,null,null,null,null,null,"0 menunjukkan pemahaman dalam ","0 membutuhkan bimbingan dalam ",null,null,0,0,0,0,0,0,0,0,0,0,0,0,0,0,0,0,0,0,0,0,0,0,0,0,0,null,0,0,0,0,0,0,0,0,0,0,0,0,0,0,0,0,0,0,0,0,0,0,0,0,0,null,"","","","","","","","","","","","","","","","","","","","","","","","","",null,"","","","","","","","","","","","","","","","","","","","","","","","","",null,"0 menunjukkan pemahaman dalam ",null,null,"0 membutuhkan bimbingan dalam "]
[null,null,20,{"$f":"'DATA SISWA'!F29","v":0},null,null,null,null,null,null,null,null,null,null,null,null,null,null,null,null,null,null,null,null,null,null,null,null,null,null,null,null,null,null,null,null,null,null,null,null,null,null,null,null,null,null,null,null,null,null,null,null,null,null,"0 menunjukkan pemahaman dalam ","0 membutuhkan bimbingan dalam ",null,null,0,0,0,0,0,0,0,0,0,0,0,0,0,0,0,0,0,0,0,0,0,0,0,0,0,null,0,0,0,0,0,0,0,0,0,0,0,0,0,0,0,0,0,0,0,0,0,0,0,0,0,null,"","","","","","","","","","","","","","","","","","","","","","","","","",null,"","","","","","","","","","","","","","","","","","","","","","","","","",null,"0 menunjukkan pemahaman dalam ",null,null,"0 membutuhkan bimbingan dalam "]
[null,null,21,{"$f":"'DATA SISWA'!F30","v":0},null,null,null,null,null,null,null,null,null,null,null,null,null,null,null,null,null,null,null,null,null,null,null,null,null,null,null,null,null,null,null,null,null,null,null,null,null,null,null,null,null,null,null,null,null,null,null,null,null,null,"0 menunjukkan pemahaman dalam ","0 membutuhkan bimbingan dalam ",null,null,0,0,0,0,0,0,0,0,0,0,0,0,0,0,0,0,0,0,0,0,0,0,0,0,0,null,0,0,0,0,0,0,0,0,0,0,0,0,0,0,0,0,0,0,0,0,0,0,0,0,0,null,"","","","","","","","","","","","","","","","","","","","","","","","","",null,"","","","","","","","","","","","","","","","","","","","","","","","","",null,"0 menunjukkan pemahaman dalam ",null,null,"0 membutuhkan bimbingan dalam "]
[null,null,22,{"$f":"'DATA SISWA'!F31","v":0},null,null,null,null,null,null,null,null,null,null,null,null,null,null,null,null,null,null,null,null,null,null,null,null,null,null,null,null,null,null,null,null,null,null,null,null,null,null,null,null,null,null,null,null,null,null,null,null,null,null,"0 menunjukkan pemahaman dalam ","0 membutuhkan bimbingan dalam ",null,null,0,0,0,0,0,0,0,0,0,0,0,0,0,0,0,0,0,0,0,0,0,0,0,0,0,null,0,0,0,0,0,0,0,0,0,0,0,0,0,0,0,0,0,0,0,0,0,0,0,0,0,null,"","","","","","","","","","","","","","","","","","","","","","","","","",null,"","","","","","","","","","","","","","","","","","","","","","","","","",null,"0 menunjukkan pemahaman dalam ",null,null,"0 membutuhkan bimbingan dalam "]
[null,null,23,{"$f":"'DATA SISWA'!F32","v":0},null,null,null,null,null,null,null,null,null,null,null,null,null,null,null,null,null,null,null,null,null,null,null,null,null,null,null,null,null,null,null,null,null,null,null,null,null,null,null,null,null,null,null,null,null,null,null,null,null,null,"0 menunjukkan pemahaman dalam ","0 membutuhkan bimbingan dalam ",null,null,0,0,0,0,0,0,0,0,0,0,0,0,0,0,0,0,0,0,0,0,0,0,0,0,0,null,0,0,0,0,0,0,0,0,0,0,0,0,0,0,0,0,0,0,0,0,0,0,0,0,0,null,"","","","","","","","","","","","","","","","","","","","","","","","","",null,"","","","","","","","","","","","","","","","","","","","","","","","","",null,"0 menunjukkan pemahaman dalam ",null,null,"0 membutuhkan bimbingan dalam "]
[null,null,24,{"$f":"'DATA SISWA'!F33","v":0},null,null,null,null,null,null,null,null,null,null,null,null,null,null,null,null,null,null,null,null,null,null,null,null,null,null,null,null,null,null,null,null,null,null,null,null,null,null,null,null,null,null,null,null,null,null,null,null,null,null,"0 menunjukkan pemahaman dalam ","0 membutuhkan bimbingan dalam ",null,null,0,0,0,0,0,0,0,0,0,0,0,0,0,0,0,0,0,0,0,0,0,0,0,0,0,null,0,0,0,0,0,0,0,0,0,0,0,0,0,0,0,0,0,0,0,0,0,0,0,0,0,null,"","","","","","","","","","","","","","","","","","","","","","","","","",null,"","","","","","","","","","","","","","","","","","","","","","","","","",null,"0 menunjukkan pemahaman dalam ",null,null,"0 membutuhkan bimbingan dalam "]
[null,null,25,{"$f":"'DATA SISWA'!F34","v":0},null,null,null,null,null,null,null,null,null,null,null,null,null,null,null,null,null,null,null,null,null,null,null,null,null,null,null,null,null,null,null,null,null,null,null,null,null,null,null,null,null,null,null,null,null,null,null,null,null,null,"0 menunjukkan pemahaman dalam ","0 membutuhkan bimbingan dalam ",null,null,0,0,0,0,0,0,0,0,0,0,0,0,0,0,0,0,0,0,0,0,0,0,0,0,0,null,0,0,0,0,0,0,0,0,0,0,0,0,0,0,0,0,0,0,0,0,0,0,0,0,0,null,"","","","","","","","","","","","","","","","","","","","","","","","","",null,"","","","","","","","","","","","","","","","","","","","","","","","","",null,"0 menunjukkan pemahaman dalam ",null,null,"0 membutuhkan bimbingan dalam "]
[null,null,26,{"$f":"'DATA SISWA'!F35","v":0},null,null,null,null,null,null,null,null,null,null,null,null,null,null,null,null,null,null,null,null,null,null,null,null,null,null,null,null,null,null,null,null,null,null,null,null,null,null,null,null,null,null,null,null,null,null,null,null,null,null,"0 menunjukkan pemahaman dalam ","0 membutuhkan bimbingan dalam ",null,null,0,0,0,0,0,0,0,0,0,0,0,0,0,0,0,0,0,0,0,0,0,0,0,0,0,null,0,0,0,0,0,0,0,0,0,0,0,0,0,0,0,0,0,0,0,0,0,0,0,0,0,null,"","","","","","","","","","","","","","","","","","","","","","","","","",null,"","","","","","","","","","","","","","","","","","","","","","","","","",null,"0 menunjukkan pemahaman dalam ",null,null,"0 membutuhkan bimbingan dalam "]
[null,null,27,{"$f":"'DATA SISWA'!F36","v":0},null,null,null,null,null,null,null,null,null,null,null,null,null,null,null,null,null,null,null,null,null,null,null,null,null,null,null,null,null,null,null,null,null,null,null,null,null,null,null,null,null,null,null,null,null,null,null,null,null,null,"0 menunjukkan pemahaman dalam ","0 membutuhkan bimbingan dalam ",null,null,0,0,0,0,0,0,0,0,0,0,0,0,0,0,0,0,0,0,0,0,0,0,0,0,0,null,0,0,0,0,0,0,0,0,0,0,0,0,0,0,0,0,0,0,0,0,0,0,0,0,0,null,"","","","","",{"$f":"IF(AND(BL43=1,CL43=1),DL$15&\", \",\"\")","v":""},"","","","","","","","","","","","","","","","","","","",null,"","","","","",{"$f":"IF(AND(BL43=1,CL43=0),EL$15&\", \",\"\")","v":""},"","","","","","","","","","","","","","","","","","","",null,"0 menunjukkan pemahaman dalam ",null,null,"0 membutuhkan bimbingan dalam "]
[null,null,28,{"$f":"'DATA SISWA'!F37","v":0},null,null,null,null,null,null,null,null,null,null,null,null,null,null,null,null,null,null,null,null,null,null,null,null,null,null,null,null,null,null,null,null,null,null,null,null,null,null,null,null,null,null,null,null,null,null,null,null,null,null,"0 menunjukkan pemahaman dalam ","0 membutuhkan bimbingan dalam ",null,null,0,0,0,0,0,0,0,0,0,0,0,0,0,0,0,0,0,0,0,0,0,0,0,0,0,null,0,0,0,0,0,0,0,0,0,0,0,0,0,0,0,0,0,0,0,0,0,0,0,0,0,null,{"$f":"IF(AND(BG44=1,CG44=1),DG$15&\", \",\"\")","v":""},"","","","","","","","","","","","","","","","","","","","","","","","",null,{"$f":"IF(AND(BG44=1,CG44=0),EG$15&\", \",\"\")","v":""},"","","","","","","","","","","","","","","","","","","","","","","","",null,"0 menunjukkan pemahaman dalam ",null,null,"0 membutuhkan bimbingan dalam "]
[null,null,29,{"$f":"'DATA SISWA'!F38","v":0},null,null,null,null,null,null,null,null,null,null,null,null,null,null,null,null,null,null,null,null,null,null,null,null,null,null,null,null,null,null,null,null,null,null,null,null,null,null,null,null,null,null,null,null,null,null,null,null,null,null,"0 menunjukkan pemahaman dalam ","0 membutuhkan bimbingan dalam ",null,null,0,0,0,0,0,0,0,0,0,0,0,0,0,0,0,0,0,0,0,0,0,0,0,0,0,null,0,0,0,0,0,0,0,0,0,0,0,0,0,0,0,0,0,0,0,0,0,0,0,0,0,null,"","","","","","","","","","","","","","","","","","","","","","","","","",null,"","","","","","","","","","","","","","","","","","","","","","","","","",null,"0 menunjukkan pemahaman dalam ",null,null,"0 membutuhkan bimbingan dalam "]
[null,null,30,{"$f":"'DATA SISWA'!F39","v":0},null,null,null,null,null,null,null,null,null,null,null,null,null,null,null,null,null,null,null,null,null,null,null,null,null,null,null,null,null,null,null,null,null,null,null,null,null,null,null,null,null,null,null,null,null,null,null,null,null,null,"0 menunjukkan pemahaman dalam ","0 membutuhkan bimbingan dalam ",null,null,0,0,0,0,0,0,0,0,0,0,0,0,0,0,0,0,0,0,0,0,0,0,0,0,0,null,0,0,0,0,0,0,0,0,0,0,0,0,0,0,0,0,0,0,0,0,0,0,0,0,0,null,"","","","","","","","","","","","","","","","","","","","","","","","","",null,"","","","","","","","","","","","","","","","","","","","","","","","","",null,"0 menunjukkan pemahaman dalam ",null,null,"0 membutuhkan bimbingan dalam "]
[null,null,31,{"$f":"'DATA SISWA'!F40","v":0},null,null,null,null,null,null,null,null,null,null,null,null,null,null,null,null,null,null,null,null,null,null,null,null,null,null,null,null,null,null,null,null,null,null,null,null,null,null,null,null,null,null,null,null,null,null,null,null,null,null,"0 menunjukkan pemahaman dalam ","0 membutuhkan bimbingan dalam ",null,null,0,0,0,0,0,0,0,0,0,0,0,0,0,0,0,0,0,0,0,0,0,0,0,0,0,null,0,0,0,0,0,0,0,0,0,0,0,0,0,0,0,0,0,0,0,0,0,0,0,0,0,null,"","","","","","","","","","","","","","","","","","","","","","","","","",null,"","","","","","","","","","","","","","","","","","","","","","","","","",null,"0 menunjukkan pemahaman dalam ",null,null,"0 membutuhkan bimbingan dalam "]
[null,null,32,{"$f":"'DATA SISWA'!F41","v":0},null,null,null,null,null,null,null,null,null,null,null,null,null,null,null,null,null,null,null,null,null,null,null,null,null,null,null,null,null,null,null,null,null,null,null,null,null,null,null,null,null,null,null,null,null,null,null,null,null,null,"0 menunjukkan pemahaman dalam ","0 membutuhkan bimbingan dalam ",null,null,0,0,0,0,0,0,0,0,0,0,0,0,0,0,0,0,0,0,0,0,0,0,0,0,0,null,0,0,0,0,0,0,0,0,0,0,0,0,0,0,0,0,0,0,0,0,0,0,0,0,0,null,"","","","","","","","","","","","","","","","","","","","","","","","","",null,"","","","","","","","","","","","","","","","","","","","","","","","","",null,"0 menunjukkan pemahaman dalam ",null,null,"0 membutuhkan bimbingan dalam "]
[null,null,33,{"$f":"'DATA SISWA'!F42","v":0},null,null,null,null,null,null,null,null,null,null,null,null,null,null,null,null,null,null,null,null,null,null,null,null,null,null,null,null,null,null,null,null,null,null,null,null,null,null,null,null,null,null,null,null,null,null,null,null,null,null,"0 menunjukkan pemahaman dalam ","0 membutuhkan bimbingan dalam ",null,null,0,0,0,0,0,0,0,0,0,0,0,0,0,0,0,0,0,0,0,0,0,0,0,0,0,null,0,0,0,0,0,0,0,0,0,0,0,0,0,0,0,0,0,0,0,0,0,0,0,0,0,null,"","","","","","","","","","","","","","","","","","","","","","","","","",null,"","","","","","","","","","","","","","","","","","","","","","","","","",null,"0 menunjukkan pemahaman dalam ",null,null,"0 membutuhkan bimbingan dalam "]
[null,null,34,{"$f":"'DATA SISWA'!F43","v":0},null,null,null,null,null,null,null,null,null,null,null,null,null,null,null,null,null,null,null,null,null,null,null,null,null,null,null,null,null,null,null,null,null,null,null,null,null,null,null,null,null,null,null,null,null,null,null,null,null,null,"0 menunjukkan pemahaman dalam ","0 membutuhkan bimbingan dalam ",null,null,0,0,0,0,0,0,0,0,0,0,0,0,0,0,0,0,0,0,0,0,0,0,0,0,0,null,0,0,0,0,0,0,0,0,0,0,0,0,0,0,0,0,0,0,0,0,0,0,0,0,0,null,"","","","","","","","","","","","","","","","","","","","","","","","","",null,"","","","","","","","","","","","","","","","","","","","","","","","","",null,"0 menunjukkan pemahaman dalam ",null,null,"0 membutuhkan bimbingan dalam "]
[null,null,35,{"$f":"'DATA SISWA'!F44","v":0},null,null,null,null,null,null,null,null,null,null,null,null,null,null,null,null,null,null,null,null,null,null,null,null,null,null,null,null,null,null,null,null,null,null,null,null,null,null,null,null,null,null,null,null,null,null,null,null,null,null,"0 menunjukkan pemahaman dalam ","0 membutuhkan bimbingan dalam ",null,null,0,0,0,0,0,0,0,0,0,0,0,0,0,0,0,0,0,0,0,0,0,0,0,0,0,null,0,0,0,0,0,0,0,0,0,0,0,0,0,0,0,0,0,0,0,0,0,0,0,0,0,null,"","","","","","","","","","","","","","","","","","","","","","","","","",null,"","","","","","","","","","","","","","","","","","","","","","","","","",null,"0 menunjukkan pemahaman dalam ",null,null,"0 membutuhkan bimbingan dalam "]
[null,null,36,{"$f":"'DATA SISWA'!F45","v":0},null,null,null,null,null,null,null,null,null,null,null,null,null,null,null,null,null,null,null,null,null,null,null,null,null,null,null,null,null,null,null,null,null,null,null,null,null,null,null,null,null,null,null,null,null,null,null,null,null,null,"0 menunjukkan pemahaman dalam ","0 membutuhkan bimbingan dalam ",null,null,0,0,0,0,0,0,0,0,0,0,0,0,0,0,0,0,0,0,0,0,0,0,0,0,0,null,0,0,0,0,0,0,0,0,0,0,0,0,0,0,0,0,0,0,0,0,0,0,0,0,0,null,"","","","","","","","","","","","","","","","","","","","","","","","","",null,"","","","","","","","","","","","","","","","","","","","","","","","","",null,"0 menunjukkan pemahaman dalam ",null,null,"0 membutuhkan bimbingan dalam "]
[null,null,37,{"$f":"'DATA SISWA'!F46","v":0},null,null,null,null,null,null,null,null,null,null,null,null,null,null,null,null,null,null,null,null,null,null,null,null,null,null,null,null,null,null,null,null,null,null,null,null,null,null,null,null,null,null,null,null,null,null,null,null,null,null,"0 menunjukkan pemahaman dalam ","0 membutuhkan bimbingan dalam ",null,null,0,0,0,0,0,0,0,0,0,0,0,0,0,0,0,0,0,0,0,0,0,0,0,0,0,null,0,0,0,0,0,0,0,0,0,0,0,0,0,0,0,0,0,0,0,0,0,0,0,0,0,null,"","","","","","","","","","","","","","","","","","","","","","","","","",null,"","","","","","","","","","","","","","","","","","","","","","","","","",null,"0 menunjukkan pemahaman dalam ",null,null,"0 membutuhkan bimbingan dalam "]
[null,null,38,{"$f":"'DATA SISWA'!F47","v":0},null,null,null,null,null,null,null,null,null,null,null,null,null,null,null,null,null,null,null,null,null,null,null,null,null,null,null,null,null,null,null,null,null,null,null,null,null,null,null,null,null,null,null,null,null,null,null,null,null,null,"0 menunjukkan pemahaman dalam ","0 membutuhkan bimbingan dalam ",null,null,0,0,0,0,0,0,0,0,0,0,0,0,0,0,0,0,0,0,0,0,0,0,0,0,0,null,0,0,0,0,0,0,0,0,0,0,0,0,0,0,0,0,0,0,0,0,0,0,0,0,0,null,"","","","","","","","","","","","","","","","","","","","","","","","","",null,"","","","","","","","","","","","","","","","","","","","","","","","","",null,"0 menunjukkan pemahaman dalam ",null,null,"0 membutuhkan bimbingan dalam "]
[null,null,39,{"$f":"'DATA SISWA'!F48","v":0},null,null,null,null,null,null,null,null,null,null,null,null,null,null,null,null,null,null,null,null,null,null,null,null,null,null,null,null,null,null,null,null,null,null,null,null,null,null,null,null,null,null,null,null,null,null,null,null,null,null,"0 menunjukkan pemahaman dalam ","0 membutuhkan bimbingan dalam ",null,null,0,0,0,0,0,0,0,0,0,0,0,0,0,0,0,0,0,0,0,0,0,0,0,0,0,null,0,0,0,0,0,0,0,0,0,0,0,0,0,0,0,0,0,0,0,0,0,0,0,0,0,null,"","","","","","","","","","","","","","","","","","","","","","","","","",null,"","","","","","","","","","","","","","","","","","","","","","","","","",null,"0 menunjukkan pemahaman dalam ",null,null,"0 membutuhkan bimbingan dalam "]
[null,null,40,{"$f":"'DATA SISWA'!F49","v":0},null,null,null,null,null,null,null,null,null,null,null,null,null,null,null,null,null,null,null,null,null,null,null,null,null,null,null,null,null,null,null,null,null,null,null,null,null,null,null,null,null,null,null,null,null,null,null,null,null,null,"0 menunjukkan pemahaman dalam ","0 membutuhkan bimbingan dalam ",null,null,0,0,0,0,0,0,0,0,0,0,0,0,0,0,0,0,0,0,0,0,0,0,0,0,0,null,0,0,0,0,0,0,0,0,0,0,0,0,0,0,0,0,0,0,0,0,0,0,0,0,0,null,"","","","","","","","","","","","","","","","","","","","","","","","","",null,"","","","","","","","","","","","","","","","","","","","","","","","","",null,"0 menunjukkan pemahaman dalam ",null,null,"0 membutuhkan bimbingan dalam "]

{"sheet":"F9","index":42,"n_rows":56,"n_cols":166,"rows_kept":56,"cut":false,"hidden":false,"merged":[[14,52,14,53],[14,40,14,41],[14,42,14,43],[14,44,14,45],[14,46,14,47],[14,48,14,49],[14,50,14,51],[14,38,14,39],[14,16,14,17],[14,18,14,19],[14,20,14,21],[14,22,14,23],[14,24,14,25],[14,26,14,27],[14,28,14,29],[14,30,14,31],[14,32,14,33],[14,34,14,35],[14,36,14,37],[13,152,13,153],[13,154,13,155],[13,156,13,157],[13,158,13,159],[14,4,14,5],[14,6,14,7],[14,8,14,9],[14,10,14,11],[14,12,14,13],[14,14,14,15],[13,50,13,51],[13,52,13,53],[13,144,13,145],[13,146,13,147],[13,148,13,149],[13,150,13,151],[13,20,13,21],[13,22,13,23],[13,48,13,49],[13,26,13,27],[13,28,13,29],[13,30,13,31],[13,32,13,33],[13,34,13,35],[13,36,13,37],[13,38,13,39],[13,40,13,41],[13,42,13,43],[13,44,13,45],[13,46,13,47],[12,54,15,54],[12,55,15,55],[13,24,13,25],[2,1,2,54],[4,1,4,54],[12,2,15,2],[12,3,15,3],[12,4,12,53],[13,4,13,5],[13,6,13,7],[13,8,13,9],[13,10,13,11],[13,12,13,13],[13,14,13,15],[13,16,13,17],[13,18,13,19]]}
[]
[]
[null,"INPUT ASESMEN FORMATIF"]
[]
[null,{"$f":"\"MATA PELAJARAN : \"&INTRAKURIKULER!D17","v":"MATA PELAJARAN : "}]
[null,"Petunjuk Pengisian :"]
[null,null,1,"Rapor ini berasumsi bahwa guru telah melakukan penilaian formatif dan direkap dalam lembar tersendiri"]
[null,null,2,"Pada Kolom KKTP, pilih '0' jika siswa tidak memenuhi KKTP, Pilih '1' jika siswa memenuhi KKTP. Bisa juga diketikkan langsung angka 1 atau 0"]
[null,null,3,"Pada Kolom Tampil/Tidak, pilih '0' jika tidak ingin menampilkan TP tersebut di deskripsi rapor, pilih '1' jika ingin menampilkan TP di deskripsi rapor. Bisa juga diketikkan langsung angka 1 atau 0",null,null,null,null,null,null,null,null,null,null,null,null,null,null,null,null,null,null,null,null,null,null,null,null,null,null,null,null,null,null,null,null,null,null,null,null,null,null,null,null,null,null,null,null,null,null,null,null,null,null,null,null,null,null,0]
[null,"Contoh :",null,"Pada TP 1, siswa mencapai KKTP tapi tidak ingin ditampilkan dalam rapor. Pilih KKTP = 1, dan Tampil/Tidak = 0.",null,null,null,null,null,null,null,null,null,null,null,null,null,null,null,"Isilah hanya pada TP yang diinginkan",null,null,null,null,null,null,null,null,null,null,null,null,null,null,null,null,null,null,null,null,null,null,null,null,null,null,null,null,null,null,null,null,null,null,null,null,null,null,1]
[null,null,null,"Pada TP 2, siswa tidak mencapai KKTP tapi ingin ditampilkan dalam rapor. Pilih KKTP = 0, dan Tampil/Tidak = 1.",null,null,null,null,null,null,null,null,null,null,null,null,null,null,null,"masuk dalam deskripsi rapor"]
[]
[null,null,"No","Nama Siswa","Tujuan Pembelajaran",null,null,null,null,null,null,null,null,null,null,null,null,null,null,null,null,null,null,null,null,null,null,null,null,null,null,null,null,null,null,null,null,null,null,null,null,null,null,null,null,null,null,null,null,null,null,null,null,null,"Deskripsi Capaian Tertinggi dalam Rapor","Deskripsi Capaian Terendah dalam Rapor"]
[null,null,null,null,"TP 1",null,"TP 2",null,"TP 3",null,"TP 4",null,"TP 5",null,"TP 6",null,"TP 7",null,"TP 8",null,"TP 9",null,"TP 10",null,"TP 11",null,"TP 12",null,"TP 13",null,"TP 14",null,"TP 15",null,"TP 16",null,"TP 17",null,"TP 18",null,"TP 19",null,"TP 20",null,"TP 21",null,"TP 22",null,"TP 23",null,"TP 24",null,"TP 25",null,null,null,null,null,null,null,null,null,null,null,null,null,null,null,null,null,null,null,null,null,null,null,null,null,null,null,null,null,null,null,null,null,null,null,null,null,null,null,null,null,null,null,null,null,null,null,null,null,null,null,null,null,null,null,null,null,"mencapai",null,null,null,null,null,null,null,null,null,null,null,null,null,null,null,null,null,null,null,null,null,null,null,null,null,"tidak mencapai"]
[null,null,null,null,{"$f":"'TP 9'!D8","v":1},null,{"$f":"'TP 9'!D9","v":2},null,{"$f":"'TP 9'!D10","v":3},null,{"$f":"'TP 9'!D11","v":4},null,{"$f":"'TP 9'!D12","v":5},null,{"$f":"'TP 9'!D13","v":6},null,{"$f":"'TP 9'!D14","v":7},null,{"$f":"'TP 9'!D15","v":8},null,{"$f":"'TP 9'!D16","v":9},null,{"$f":"'TP 9'!D17","v":10},null,{"$f":"'TP 9'!D18","v":11},null,{"$f":"'TP 9'!D19","v":12},null,{"$f":"'TP 9'!D20","v":13},null,{"$f":"'TP 9'!D21","v":14},null,{"$f":"'TP 9'!D22","v":15},null,{"$f":"'TP 9'!D23","v":16},null,{"$f":"'TP 9'!D24","v":17},null,{"$f":"'TP 9'!D25","v":18},null,{"$f":"'TP 9'!D26","v":19},null,{"$f":"'TP 9'!D27","v":20},null,{"$f":"'TP 9'!D28","v":21},null,{"$f":"'TP 9'!D29","v":22},null,{"$f":"'TP 9'!D30","v":23},null,{"$f":"'TP 9'!D31","v":24},null,{"$f":"'TP 9'!D32","v":25},null,null,null,null,null,1,2,3,4,5,6,7,8,9,10,11,12,13,14,15,16,17,18,19,20,21,22,23,24,25,null,1,2,3,4,5,6,7,8,9,10,11,12,13,14,15,16,17,18,19,20,21,22,23,24,25,null,{"$f":"E15","v":1},{"$f":"G15","v":2},{"$f":"I15","v":3},{"$f":"K15","v":4},{"$f":"M15","v":5},{"$f":"O15","v":6},{"$f":"Q15","v":7},{"$f":"S15","v":8},{"$f":"U15","v":9},{"$f":"W15","v":10},{"$f":"Y15","v":11},{"$f":"AA15","v":12},{"$f":"AC15","v":13},{"$f":"AE15","v":14},{"$f":"AG15","v":15},{"$f":"AI15","v":16},{"$f":"AK15","v":17},{"$f":"AM15","v":18},{"$f":"AO15","v":19},{"$f":"AQ15","v":20},{"$f":"AS15","v":21},{"$f":"AU15","v":22},{"$f":"AW15","v":23},{"$f":"AY15","v":24},{"$f":"BA15","v":25},null,{"$f":"DG15","v":1},{"$f":"DH15","v":2},3,4,5,6,7,8,9,10,11,12,13,14,15,16,17,18,19,20,21,22,23,24,25,null,"mencapai",null,null,"tidak mencapai"]
[null,null,null,null,"KKTP","Tampil/Tidak","KKTP","Tampil/Tidak","KKTP","Tampil/Tidak","KKTP","Tampil/Tidak","KKTP","Tampil/Tidak","KKTP","Tampil/Tidak","KKTP","Tampil/Tidak","KKTP","Tampil/Tidak","KKTP","Tampil/Tidak","KKTP","Tampil/Tidak","KKTP","Tampil/Tidak","KKTP","Tampil/Tidak","KKTP","Tampil/Tidak","KKTP","Tampil/Tidak","KKTP","Tampil/Tidak","KKTP","Tampil/Tidak","KKTP","Tampil/Tidak","KKTP","Tampil/Tidak","KKTP","Tampil/Tidak","KKTP","Tampil/Tidak","KKTP","Tampil/Tidak","KKTP","Tampil/Tidak","KKTP","Tampil/Tidak","KKTP","Tampil/Tidak","KKTP","Tampil/Tidak",null,null,null,null,null,null,null,null,null,null,null,null,null,null,null,null,null,null,null,null,null,null,null,null,null,null,null,null,null,null,"kktp",null,null,null,null,null,null,null,null,null,null,null,null,null,null,null,null,null,null,null,null,null,null,null,null,null,1,2,3,4,5,6,7,8,9,10,11,12,13,14,15,16,17,18,19,20,21,22,23,24,25,null,1,2,3,4,5,6,7,8,9,10,11,12,13,14,15,16,17,18,19,20,21,22,23,24,25]
[null,null,1,{"$f":"'DATA SISWA'!F10","v":0},null,null,null,null,null,null,null,null,null,null,null,null,null,null,null,null,null,null,null,null,null,null,null,null,null,null,null,null,null,null,null,null,null,null,null,null,null,null,null,null,null,null,null,null,null,null,null,null,null,null,{"$f":"FG17","v":"0 menunjukkan pemahaman dalam "},{"$f":"FJ17","v":"0 membutuhkan bimbingan dalam "},null,null,{"$f":"F17","v":0},{"$f":"H17","v":0},{"$f":"J17","v":0},{"$f":"L17","v":0},{"$f":"N17","v":0},{"$f":"P17","v":0},{"$f":"R17","v":0},{"$f":"T17","v":0},{"$f":"V17","v":0},{"$f":"X17","v":0},{"$f":"Z17","v":0},{"$f":"AB17","v":0},{"$f":"AD17","v":0},{"$f":"AF17","v":0},{"$f":"AH17","v":0},{"$f":"AJ17","v":0},{"$f":"AL17","v":0},{"$f":"AN17","v":0},{"$f":"AP17","v":0},{"$f":"AR17","v":0},{"$f":"AT17","v":0},{"$f":"AV17","v":0},{"$f":"AX17","v":0},{"$f":"AZ17","v":0},{"$f":"BB17","v":0},null,{"$f":"E17","v":0},{"$f":"G17","v":0},{"$f":"I17","v":0},{"$f":"K17","v":0},{"$f":"M17","v":0},{"$f":"O17","v":0},{"$f":"Q17","v":0},{"$f":"S17","v":0},{"$f":"U17","v":0},{"$f":"W17","v":0},{"$f":"Y17","v":0},{"$f":"AA17","v":0},{"$f":"AC17","v":0},{"$f":"AE17","v":0},{"$f":"AG17","v":0},{"$f":"AI17","v":0},{"$f":"AK17","v":0},{"$f":"AM17","v":0},{"$f":"AO17","v":0},{"$f":"AQ17","v":0},{"$f":"AS17","v":0},{"$f":"AU17","v":0},{"$f":"AW17","v":0},{"$f":"AY17","v":0},{"$f":"BA17","v":0},null,{"$f":"IF(AND(BG17=1,CG17=1),DG$15&\", \",\"\")","v":""},{"$f":"IF(AND(BH17=1,CH17=1),DH$15&\", \",\"\")","v":""},"","","","","","","","","","","","","","","",{"$f":"IF(AND(BX17=1,CX17=1),DX$15&\", \",\"\")","v":""},"","","","","","","",null,{"$f":"IF(AND(BG17=1,CG17=0),EG$15&\", \",\"\")","v":""},{"$f":"IF(AND(BH17=1,CH17=0),EH$15&\", \",\"\")","v":""},"","","","","","","","","","","","","","","",{"$f":"IF(AND(BX17=1,CX17=0),EX$15&\", \",\"\")","v":""},"","","","","","","",null,{"$f":"PROPER(D17)&\" menunjukkan pemahaman dalam \"&DG17&DH17&DI17&DJ17&DK17&DL17&DM17&DN17&DO17&DP17&DQ17&DR17&DS17&DT17&DU17&DV17&DW17&DX17&DY17&DZ17&EA17&EB17&EC17&ED17&EE17","v":"0 menunjukkan pemahaman dalam "},null,null,{"$f":"PROPER(D17)&\" membutuhkan bimbingan dalam \"&EG17&EH17&EI17&EJ17&EK17&EL17&EM17&EN17&EO17&EP17&EQ17&ER17&ES17&ET17&EU17&EV17&EW17&EX17&EY17&EZ17&FA17&FB17&FC17&FD17&FE17","v":"0 membutuhkan bimbingan dalam "}]
[null,null,2,{"$f":"'DATA SISWA'!F11","v":0},null,null,null,null,null,null,null,null,null,null,null,null,null,null,null,null,null,null,null,null,null,null,null,null,null,null,null,null,null,null,null,null,null,null,null,null,null,null,null,null,null,null,null,null,null,null,null,null,null,null,{"$f":"FG18","v":"0 menunjukkan pemahaman dalam "},{"$f":"FJ18","v":"0 membutuhkan bimbingan dalam "},null,null,{"$f":"F18","v":0},{"$f":"H18","v":0},{"$f":"J18","v":0},{"$f":"L18","v":0},{"$f":"N18","v":0},{"$f":"P18","v":0},{"$f":"R18","v":0},{"$f":"T18","v":0},{"$f":"V18","v":0},{"$f":"X18","v":0},{"$f":"Z18","v":0},{"$f":"AB18","v":0},{"$f":"AD18","v":0},{"$f":"AF18","v":0},{"$f":"AH18","v":0},{"$f":"AJ18","v":0},{"$f":"AL18","v":0},{"$f":"AN18","v":0},{"$f":"AP18","v":0},{"$f":"AR18","v":0},{"$f":"AT18","v":0},{"$f":"AV18","v":0},{"$f":"AX18","v":0},{"$f":"AZ18","v":0},{"$f":"BB18","v":0},null,{"$f":"E18","v":0},{"$f":"G18","v":0},{"$f":"I18","v":0},{"$f":"K18","v":0},{"$f":"M18","v":0},{"$f":"O18","v":0},{"$f":"Q18","v":0},{"$f":"S18","v":0},{"$f":"U18","v":0},{"$f":"W18","v":0},{"$f":"Y18","v":0},{"$f":"AA18","v":0},{"$f":"AC18","v":0},{"$f":"AE18","v":0},{"$f":"AG18","v":0},{"$f":"AI18","v":0},{"$f":"AK18","v":0},{"$f":"AM18","v":0},{"$f":"AO18","v":0},{"$f":"AQ18","v":0},{"$f":"AS18","v":0},{"$f":"AU18","v":0},{"$f":"AW18","v":0},{"$f":"AY18","v":0},{"$f":"BA18","v":0},null,{"$f":"IF(AND(BG18=1,CG18=1),DG$15&\", \",\"\")","v":""},"","","","","","","","","","","","","","","","","","","","","","","","",null,{"$f":"IF(AND(BG18=1,CG18=0),EG$15&\", \",\"\")","v":""},"","","","","","","","","","","","","","","","","","","","","","","","",null,{"$f":"PROPER(D18)&\" menunjukkan pemahaman dalam \"&DG18&DH18&DI18&DJ18&DK18&DL18&DM18&DN18&DO18&DP18&DQ18&DR18&DS18&DT18&DU18&DV18&DW18&DX18&DY18&DZ18&EA18&EB18&EC18&ED18&EE18","v":"0 menunjukkan pemahaman dalam "},null,null,{"$f":"PROPER(D18)&\" membutuhkan bimbingan dalam \"&EG18&EH18&EI18&EJ18&EK18&EL18&EM18&EN18&EO18&EP18&EQ18&ER18&ES18&ET18&EU18&EV18&EW18&EX18&EY18&EZ18&FA18&FB18&FC18&FD18&FE18","v":"0 membutuhkan bimbingan dalam "}]
[null,null,3,{"$f":"'DATA SISWA'!F12","v":0},null,null,null,null,null,null,null,null,null,null,null,null,null,null,null,null,null,null,null,null,null,null,null,null,null,null,null,null,null,null,null,null,null,null,null,null,null,null,null,null,null,null,null,null,null,null,null,null,null,null,"0 menunjukkan pemahaman dalam ","0 membutuhkan bimbingan dalam ",null,null,0,0,0,0,0,0,0,0,0,0,0,0,0,0,0,0,0,0,0,0,0,0,0,0,0,null,0,0,0,0,0,0,0,0,0,0,0,0,0,0,0,0,0,0,0,0,0,0,0,0,0,null,"","","","","","","","","","","","","","","","","","","","","","","","","",null,"","","","","","","","","","","","","","","","","","","","","","","","","",null,"0 menunjukkan pemahaman dalam ",null,null,"0 membutuhkan bimbingan dalam "]
[null,null,4,{"$f":"'DATA SISWA'!F13","v":0},null,null,null,null,null,null,null,null,null,null,null,null,null,null,null,null,null,null,null,null,null,null,null,null,null,null,null,null,null,null,null,null,null,null,null,null,null,null,null,null,null,null,null,null,null,null,null,null,null,null,"0 menunjukkan pemahaman dalam ","0 membutuhkan bimbingan dalam ",null,null,0,0,0,0,0,0,0,0,0,0,0,0,0,0,0,0,0,0,0,0,0,0,0,0,0,null,0,0,0,0,0,0,0,0,0,0,0,0,0,0,0,0,0,0,0,0,0,0,0,0,0,null,"","","","","","","","","","","","","","","","","","","","","","","","","",null,"","","","","","","","","","","","","","","","","","","","","","","","","",null,"0 menunjukkan pemahaman dalam ",null,null,"0 membutuhkan bimbingan dalam "]
[null,null,5,{"$f":"'DATA SISWA'!F14","v":0},null,null,null,null,null,null,null,null,null,null,null,null,null,null,null,null,null,null,null,null,null,null,null,null,null,null,null,null,null,null,null,null,null,null,null,null,null,null,null,null,null,null,null,null,null,null,null,null,null,null,"0 menunjukkan pemahaman dalam ","0 membutuhkan bimbingan dalam ",null,null,0,0,0,0,0,0,0,0,0,0,0,0,0,0,0,0,0,0,0,0,0,0,0,0,0,null,0,0,0,0,0,0,0,0,0,0,0,0,0,0,0,0,0,0,0,0,0,0,0,0,0,null,"","","","","","","","","","","","","","","","","","","","","","","","","",null,"","","","","","","","","","","","","","","","","","","","","","","","","",null,"0 menunjukkan pemahaman dalam ",null,null,"0 membutuhkan bimbingan dalam "]
[null,null,6,{"$f":"'DATA SISWA'!F15","v":0},null,null,null,null,null,null,null,null,null,null,null,null,null,null,null,null,null,null,null,null,null,null,null,null,null,null,null,null,null,null,null,null,null,null,null,null,null,null,null,null,null,null,null,null,null,null,null,null,null,null,"0 menunjukkan pemahaman dalam ","0 membutuhkan bimbingan dalam ",null,null,0,0,0,0,0,0,0,0,0,0,0,0,0,0,0,0,0,0,0,0,0,0,0,0,0,null,0,0,0,0,0,0,0,0,0,0,0,0,0,0,0,0,0,0,0,0,0,0,0,0,0,null,"","","","","","","","","","","","","","","","","","","","","","","","","",null,"","","","","","","","","","","","","","","","","","","","","","","","","",null,"0 menunjukkan pemahaman dalam ",null,null,"0 membutuhkan bimbingan dalam "]
[null,null,7,{"$f":"'DATA SISWA'!F16","v":0},null,null,null,null,null,null,null,null,null,null,null,null,null,null,null,null,null,null,null,null,null,null,null,null,null,null,null,null,null,null,null,null,null,null,null,null,null,null,null,null,null,null,null,null,null,null,null,null,null,null,"0 menunjukkan pemahaman dalam ","0 membutuhkan bimbingan dalam ",null,null,0,0,0,0,0,0,0,0,0,0,0,0,0,0,0,0,0,0,0,0,0,0,0,0,0,null,0,0,0,0,0,0,0,0,0,0,0,0,0,0,0,0,0,0,0,0,0,0,0,0,0,null,"","","","","","","","","","","","","","","","","","","","","","","","","",null,"","","","","","","","","","","","","","","","","","","","","","","","","",null,"0 menunjukkan pemahaman dalam ",null,null,"0 membutuhkan bimbingan dalam "]
[null,null,8,{"$f":"'DATA SISWA'!F17","v":0},null,null,null,null,null,null,null,null,null,null,null,null,null,null,null,null,null,null,null,null,null,null,null,null,null,null,null,null,null,null,null,null,null,null,null,null,null,null,null,null,null,null,null,null,null,null,null,null,null,null,"0 menunjukkan pemahaman dalam ","0 membutuhkan bimbingan dalam ",null,null,0,0,0,0,0,0,0,0,0,0,0,0,0,0,0,0,0,0,0,0,0,0,0,0,0,null,0,0,0,0,0,0,0,0,0,0,0,0,0,0,0,0,0,0,0,0,0,0,0,0,0,null,"","","","","","","","","","","","","","","","","","","","","","","","","",null,"","","","","","","","","","","","","","","","","","","","","","","","","",null,"0 menunjukkan pemahaman dalam ",null,null,"0 membutuhkan bimbingan dalam "]
[null,null,9,{"$f":"'DATA SISWA'!F18","v":0},null,null,null,null,null,null,null,null,null,null,null,null,null,null,null,null,null,null,null,null,null,null,null,null,null,null,null,null,null,null,null,null,null,null,null,null,null,null,null,null,null,null,null,null,null,null,null,null,null,null,"0 menunjukkan pemahaman dalam ","0 membutuhkan bimbingan dalam ",null,null,0,0,0,0,0,0,0,0,0,0,0,0,0,0,0,0,0,0,0,0,0,0,0,0,0,null,0,0,0,0,0,0,0,0,0,0,0,0,0,0,0,0,0,0,0,0,0,0,0,0,0,null,"","","","","","","","","","","","","","","","","","","","","","","","","",null,"","","","","","","","","","","","","","","","","","","","","","","","","",null,"0 menunjukkan pemahaman dalam ",null,null,"0 membutuhkan bimbingan dalam "]
[null,null,10,{"$f":"'DATA SISWA'!F19","v":0},null,null,null,null,null,null,null,null,null,null,null,null,null,null,null,null,null,null,null,null,null,null,null,null,null,null,null,null,null,null,null,null,null,null,null,null,null,null,null,null,null,null,null,null,null,null,null,null,null,null,"0 menunjukkan pemahaman dalam ","0 membutuhkan bimbingan dalam ",null,null,0,0,0,0,0,0,0,0,0,0,0,0,0,0,0,0,0,0,0,0,0,0,0,0,0,null,0,0,0,0,0,0,0,0,0,0,0,0,0,0,0,0,0,0,0,0,0,0,0,0,0,null,"","","","","","","","","","","","","","","","","","","","","","","","","",null,"","","","","","","","","","","","","","","","","","","","","","","","","",null,"0 menunjukkan pemahaman dalam ",null,null,"0 membutuhkan bimbingan dalam "]
[null,null,11,{"$f":"'DATA SISWA'!F20","v":0},null,null,null,null,null,null,null,null,null,null,null,null,null,null,null,null,null,null,null,null,null,null,null,null,null,null,null,null,null,null,null,null,null,null,null,null,null,null,null,null,null,null,null,null,null,null,null,null,null,null,"0 menunjukkan pemahaman dalam ","0 membutuhkan bimbingan dalam ",null,null,0,0,0,0,0,0,0,0,0,0,0,0,0,0,0,0,0,0,0,0,0,0,0,0,0,null,0,0,0,0,0,0,0,0,0,0,0,0,0,0,0,0,0,0,0,0,0,0,0,0,0,null,"","","","","","","","","","","","","","","","","","","","","","","","","",null,"","","","","","","","","","","","","","","","","","","","","","","","","",null,"0 menunjukkan pemahaman dalam ",null,null,"0 membutuhkan bimbingan dalam "]
[null,null,12,{"$f":"'DATA SISWA'!F21","v":0},null,null,null,null,null,null,null,null,null,null,null,null,null,null,null,null,null,null,null,null,null,null,null,null,null,null,null,null,null,null,null,null,null,null,null,null,null,null,null,null,null,null,null,null,null,null,null,null,null,null,"0 menunjukkan pemahaman dalam ","0 membutuhkan bimbingan dalam ",null,null,0,0,0,0,0,0,0,0,0,0,0,0,0,0,0,0,0,0,0,0,0,0,0,0,0,null,0,0,0,0,0,0,0,0,0,0,0,0,0,0,0,0,0,0,0,0,0,0,0,0,0,null,"","","","","","","","","","","","","","","","","","","","","","","","","",null,"","","","","","","","","","","","","","","","","","","","","","","","","",null,"0 menunjukkan pemahaman dalam ",null,null,"0 membutuhkan bimbingan dalam "]
[null,null,13,{"$f":"'DATA SISWA'!F22","v":0},null,null,null,null,null,null,null,null,null,null,null,null,null,null,null,null,null,null,null,null,null,null,null,null,null,null,null,null,null,null,null,null,null,null,null,null,null,null,null,null,null,null,null,null,null,null,null,null,null,null,"0 menunjukkan pemahaman dalam ","0 membutuhkan bimbingan dalam ",null,null,0,0,0,0,0,0,0,0,0,0,0,0,0,0,0,0,0,0,0,0,0,0,0,0,0,null,0,0,0,0,0,0,0,0,0,0,0,0,0,0,0,0,0,0,0,0,0,0,0,0,0,null,"","","","","","","","","","","","","","","","","","","","","","","","","",null,"","","","","","","","","","","","","","","","","","","","","","","","","",null,"0 menunjukkan pemahaman dalam ",null,null,"0 membutuhkan bimbingan dalam "]
[null,null,14,{"$f":"'DATA SISWA'!F23","v":0},null,null,null,null,null,null,null,null,null,null,null,null,null,null,null,null,null,null,null,null,null,null,null,null,null,null,null,null,null,null,null,null,null,null,null,null,null,null,null,null,null,null,null,null,null,null,null,null,null,null,"0 menunjukkan pemahaman dalam ","0 membutuhkan bimbingan dalam ",null,null,0,0,0,0,0,0,0,0,0,0,0,0,0,0,0,0,0,0,0,0,0,0,0,0,0,null,0,0,0,0,0,0,0,0,0,0,0,0,0,0,0,0,0,0,0,0,0,0,0,0,0,null,"","","","","","","","","","","","","","","","","","","","","","","","","",null,"","","","","","","","","","","","","","","","","","","","","","","","","",null,"0 menunjukkan pemahaman dalam ",null,null,"0 membutuhkan bimbingan dalam "]
[null,null,15,{"$f":"'DATA SISWA'!F24","v":0},null,null,null,null,null,null,null,null,null,null,null,null,null,null,null,null,null,null,null,null,null,null,null,null,null,null,null,null,null,null,null,null,null,null,null,null,null,null,null,null,null,null,null,null,null,null,null,null,null,null,"0 menunjukkan pemahaman dalam ","0 membutuhkan bimbingan dalam ",null,null,0,0,0,0,0,0,0,0,0,0,0,0,0,0,0,0,0,0,0,0,0,0,0,0,0,null,0,0,0,0,0,0,0,0,0,0,0,0,0,0,0,0,0,0,0,0,0,0,0,0,0,null,"","","","","","","","","","","","","","","","","","","","","","","","","",null,"","","","","","","","","","","","","","","","","","","","","","","","","",null,"0 menunjukkan pemahaman dalam ",null,null,"0 membutuhkan bimbingan dalam "]
[null,null,16,{"$f":"'DATA SISWA'!F25","v":0},null,null,null,null,null,null,null,null,null,null,null,null,null,null,null,null,null,null,null,null,null,null,null,null,null,null,null,null,null,null,null,null,null,null,null,null,null,null,null,null,null,null,null,null,null,null,null,null,null,null,"0 menunjukkan pemahaman dalam ","0 membutuhkan bimbingan dalam ",null,null,0,0,0,0,0,0,0,0,0,0,0,0,0,0,0,0,0,0,0,0,0,0,0,0,0,null,0,0,0,0,0,0,0,0,0,0,0,0,0,0,0,0,0,0,0,0,0,0,0,0,0,null,"","","","","","","","","","","","","","","","","","","","","","","","","",null,"","","","","","","","","","","","","","","","","","","","","","","","","",null,"0 menunjukkan pemahaman dalam ",null,null,"0 membutuhkan bimbingan dalam "]
[null,null,17,{"$f":"'DATA SISWA'!F26","v":0},null,null,null,null,null,null,null,null,null,null,null,null,null,null,null,null,null,null,null,null,null,null,null,null,null,null,null,null,null,null,null,null,null,null,null,null,null,null,null,null,null,null,null,null,null,null,null,null,null,null,"0 menunjukkan pemahaman dalam ","0 membutuhkan bimbingan dalam ",null,null,0,0,0,0,0,0,0,0,0,0,0,0,0,0,0,0,0,0,0,0,0,0,0,0,0,null,0,0,0,0,0,0,0,0,0,0,0,0,0,0,0,0,0,0,0,0,0,0,0,0,0,null,"","","","","","","","","","","","","","","","",{"$f":"IF(AND(BW33=1,CW33=1),DW$15&\", \",\"\")","v":""},"","","","","","","","",null,"","","","","","","","","","","","","","","","",{"$f":"IF(AND(BW33=1,CW33=0),EW$15&\", \",\"\")","v":""},"","","","","","","","",null,"0 menunjukkan pemahaman dalam ",null,null,"0 membutuhkan bimbingan dalam "]
[null,null,18,{"$f":"'DATA SISWA'!F27","v":0},null,null,null,null,null,null,null,null,null,null,null,null,null,null,null,null,null,null,null,null,null,null,null,null,null,null,null,null,null,null,null,null,null,null,null,null,null,null,null,null,null,null,null,null,null,null,null,null,null,null,"0 menunjukkan pemahaman dalam ","0 membutuhkan bimbingan dalam ",null,null,0,0,0,0,0,0,0,0,0,0,0,0,0,0,0,0,0,0,0,0,0,0,0,0,0,null,0,0,0,0,0,0,0,0,0,0,0,0,0,0,0,0,0,0,0,0,0,0,0,0,0,null,"","","","","","","","","","","","","","","","","","","","","","","","","",null,"","","","","","","","","","","","","","","","","","","","","","","","","",null,"0 menunjukkan pemahaman dalam ",null,null,"0 membutuhkan bimbingan dalam "]
[null,null,19,{"$f":"'DATA SISWA'!F28","v":0},null,null,null,null,null,null,null,null,null,null,null,null,null,null,null,null,null,null,null,null,null,null,null,null,null,null,null,null,null,null,null,null,null,null,null,null,null,null,null,null,null,null,null,null,null,null,null,null,null,null,"0 menunjukkan pemahaman dalam ","0 membutuhkan bimbingan dalam ",null,null,0,0,0,0,0,0,0,0,0,0,0,0,0,0,0,0,0,0,0,0,0,0,0,0,0,null,0,0,0,0,0,0,0,0,0,0,0,0,0,0,0,0,0,0,0,0,0,0,0,0,0,null,"","","","","","","","","","","","","","","","","","","","","","","","","",null,"","","","","","","","","","","","","","","","","","","","","","","","","",null,"0 menunjukkan pemahaman dalam ",null,null,"0 membutuhkan bimbingan dalam "]
[null,null,20,{"$f":"'DATA SISWA'!F29","v":0},null,null,null,null,null,null,null,null,null,null,null,null,null,null,null,null,null,null,null,null,null,null,null,null,null,null,null,null,null,null,null,null,null,null,null,null,null,null,null,null,null,null,null,null,null,null,null,null,null,null,"0 menunjukkan pemahaman dalam ","0 membutuhkan bimbingan dalam ",null,null,0,0,0,0,0,0,0,0,0,0,0,0,0,0,0,0,0,0,0,0,0,0,0,0,0,null,0,0,0,0,0,0,0,0,0,0,0,0,0,0,0,0,0,0,0,0,0,0,0,0,0,null,"","","","","","","","","","","","","","","","","","","","","","","","","",null,"","","","","","","","","","","","","","","","","","","","","","","","","",null,"0 menunjukkan pemahaman dalam ",null,null,"0 membutuhkan bimbingan dalam "]
[null,null,21,{"$f":"'DATA SISWA'!F30","v":0},null,null,null,null,null,null,null,null,null,null,null,null,null,null,null,null,null,null,null,null,null,null,null,null,null,null,null,null,null,null,null,null,null,null,null,null,null,null,null,null,null,null,null,null,null,null,null,null,null,null,"0 menunjukkan pemahaman dalam ","0 membutuhkan bimbingan dalam ",null,null,0,0,0,0,0,0,0,0,0,0,0,0,0,0,0,0,0,0,0,0,0,0,0,0,0,null,0,0,0,0,0,0,0,0,0,0,0,0,0,0,0,0,0,0,0,0,0,0,0,0,0,null,"","","","","","","","","","","","","","","","","","","","","","","","","",null,"","","","","","","","","","","","","","","","","","","","","","","","","",null,"0 menunjukkan pemahaman dalam ",null,null,"0 membutuhkan bimbingan dalam "]
[null,null,22,{"$f":"'DATA SISWA'!F31","v":0},null,null,null,null,null,null,null,null,null,null,null,null,null,null,null,null,null,null,null,null,null,null,null,null,null,null,null,null,null,null,null,null,null,null,null,null,null,null,null,null,null,null,null,null,null,null,null,null,null,null,"0 menunjukkan pemahaman dalam ","0 membutuhkan bimbingan dalam ",null,null,0,0,0,0,0,0,0,0,0,0,0,0,0,0,0,0,0,0,0,0,0,0,0,0,0,null,0,0,0,0,0,0,0,0,0,0,0,0,0,0,0,0,0,0,0,0,0,0,0,0,0,null,"","","","","","","","","","","","","","","","","","","","","","","","","",null,"","","","","","","","","","","","","","","","","","","","","","","","","",null,"0 menunjukkan pemahaman dalam ",null,null,"0 membutuhkan bimbingan dalam "]
[null,null,23,{"$f":"'DATA SISWA'!F32","v":0},null,null,null,null,null,null,null,null,null,null,null,null,null,null,null,null,null,null,null,null,null,null,null,null,null,null,null,null,null,null,null,null,null,null,null,null,null,null,null,null,null,null,null,null,null,null,null,null,null,null,"0 menunjukkan pemahaman dalam ","0 membutuhkan bimbingan dalam ",null,null,0,0,0,0,0,0,0,0,0,0,0,0,0,0,0,0,0,0,0,0,0,0,0,0,0,null,0,0,0,0,0,0,0,0,0,0,0,0,0,0,0,0,0,0,0,0,0,0,0,0,0,null,"","","","","","","","","","","","","","","","","","","","","","","","","",null,"","","","","","","","","","","","","","","","","","","","","","","","","",null,"0 menunjukkan pemahaman dalam ",null,null,"0 membutuhkan bimbingan dalam "]
[null,null,24,{"$f":"'DATA SISWA'!F33","v":0},null,null,null,null,null,null,null,null,null,null,null,null,null,null,null,null,null,null,null,null,null,null,null,null,null,null,null,null,null,null,null,null,null,null,null,null,null,null,null,null,null,null,null,null,null,null,null,null,null,null,"0 menunjukkan pemahaman dalam ","0 membutuhkan bimbingan dalam ",null,null,0,0,0,0,0,0,0,0,0,0,0,0,0,0,0,0,0,0,0,0,0,0,0,0,0,null,0,0,0,0,0,0,0,0,0,0,0,0,0,0,0,0,0,0,0,0,0,0,0,0,0,null,"","","","","","","","","","","","","","","","","","","","","","","","","",null,"","","","","","","","","","","","","","","","","","","","","","","","","",null,"0 menunjukkan pemahaman dalam ",null,null,"0 membutuhkan bimbingan dalam "]
[null,null,25,{"$f":"'DATA SISWA'!F34","v":0},null,null,null,null,null,null,null,null,null,null,null,null,null,null,null,null,null,null,null,null,null,null,null,null,null,null,null,null,null,null,null,null,null,null,null,null,null,null,null,null,null,null,null,null,null,null,null,null,null,null,"0 menunjukkan pemahaman dalam ","0 membutuhkan bimbingan dalam ",null,null,0,0,0,0,0,0,0,0,0,0,0,0,0,0,0,0,0,0,0,0,0,0,0,0,0,null,0,0,0,0,0,0,0,0,0,0,0,0,0,0,0,0,0,0,0,0,0,0,0,0,0,null,"","","","","","","","","","","","","","","","","","","","","","","","","",null,"","","","","","","","","","","","","","","","","","","","","","","","","",null,"0 menunjukkan pemahaman dalam ",null,null,"0 membutuhkan bimbingan dalam "]
[null,null,26,{"$f":"'DATA SISWA'!F35","v":0},null,null,null,null,null,null,null,null,null,null,null,null,null,null,null,null,null,null,null,null,null,null,null,null,null,null,null,null,null,null,null,null,null,null,null,null,null,null,null,null,null,null,null,null,null,null,null,null,null,null,"0 menunjukkan pemahaman dalam ","0 membutuhkan bimbingan dalam ",null,null,0,0,0,0,0,0,0,0,0,0,0,0,0,0,0,0,0,0,0,0,0,0,0,0,0,null,0,0,0,0,0,0,0,0,0,0,0,0,0,0,0,0,0,0,0,0,0,0,0,0,0,null,"","","","","","","","","","","","","","","","","","","","","","","","","",null,"","","","","","","","","","","","","","","","","","","","","","","","","",null,"0 menunjukkan pemahaman dalam ",null,null,"0 membutuhkan bimbingan dalam "]
[null,null,27,{"$f":"'DATA SISWA'!F36","v":0},null,null,null,null,null,null,null,null,null,null,null,null,null,null,null,null,null,null,null,null,null,null,null,null,null,null,null,null,null,null,null,null,null,null,null,null,null,null,null,null,null,null,null,null,null,null,null,null,null,null,"0 menunjukkan pemahaman dalam ","0 membutuhkan bimbingan dalam ",null,null,0,0,0,0,0,0,0,0,0,0,0,0,0,0,0,0,0,0,0,0,0,0,0,0,0,null,0,0,0,0,0,0,0,0,0,0,0,0,0,0,0,0,0,0,0,0,0,0,0,0,0,null,"","","","","",{"$f":"IF(AND(BL43=1,CL43=1),DL$15&\", \",\"\")","v":""},"","","","","","","","","","","","","","","","","","","",null,"","","","","",{"$f":"IF(AND(BL43=1,CL43=0),EL$15&\", \",\"\")","v":""},"","","","","","","","","","","","","","","","","","","",null,"0 menunjukkan pemahaman dalam ",null,null,"0 membutuhkan bimbingan dalam "]
[null,null,28,{"$f":"'DATA SISWA'!F37","v":0},null,null,null,null,null,null,null,null,null,null,null,null,null,null,null,null,null,null,null,null,null,null,null,null,null,null,null,null,null,null,null,null,null,null,null,null,null,null,null,null,null,null,null,null,null,null,null,null,null,null,"0 menunjukkan pemahaman dalam ","0 membutuhkan bimbingan dalam ",null,null,0,0,0,0,0,0,0,0,0,0,0,0,0,0,0,0,0,0,0,0,0,0,0,0,0,null,0,0,0,0,0,0,0,0,0,0,0,0,0,0,0,0,0,0,0,0,0,0,0,0,0,null,{"$f":"IF(AND(BG44=1,CG44=1),DG$15&\", \",\"\")","v":""},"","","","","","","","","","","","","","","","","","","","","","","","",null,{"$f":"IF(AND(BG44=1,CG44=0),EG$15&\", \",\"\")","v":""},"","","","","","","","","","","","","","","","","","","","","","","","",null,"0 menunjukkan pemahaman dalam ",null,null,"0 membutuhkan bimbingan dalam "]
[null,null,29,{"$f":"'DATA SISWA'!F38","v":0},null,null,null,null,null,null,null,null,null,null,null,null,null,null,null,null,null,null,null,null,null,null,null,null,null,null,null,null,null,null,null,null,null,null,null,null,null,null,null,null,null,null,null,null,null,null,null,null,null,null,"0 menunjukkan pemahaman dalam ","0 membutuhkan bimbingan dalam ",null,null,0,0,0,0,0,0,0,0,0,0,0,0,0,0,0,0,0,0,0,0,0,0,0,0,0,null,0,0,0,0,0,0,0,0,0,0,0,0,0,0,0,0,0,0,0,0,0,0,0,0,0,null,"","","","","","","","","","","","","","","","","","","","","","","","","",null,"","","","","","","","","","","","","","","","","","","","","","","","","",null,"0 menunjukkan pemahaman dalam ",null,null,"0 membutuhkan bimbingan dalam "]
[null,null,30,{"$f":"'DATA SISWA'!F39","v":0},null,null,null,null,null,null,null,null,null,null,null,null,null,null,null,null,null,null,null,null,null,null,null,null,null,null,null,null,null,null,null,null,null,null,null,null,null,null,null,null,null,null,null,null,null,null,null,null,null,null,"0 menunjukkan pemahaman dalam ","0 membutuhkan bimbingan dalam ",null,null,0,0,0,0,0,0,0,0,0,0,0,0,0,0,0,0,0,0,0,0,0,0,0,0,0,null,0,0,0,0,0,0,0,0,0,0,0,0,0,0,0,0,0,0,0,0,0,0,0,0,0,null,"","","","","","","","","","","","","","","","","","","","","","","","","",null,"","","","","","","","","","","","","","","","","","","","","","","","","",null,"0 menunjukkan pemahaman dalam ",null,null,"0 membutuhkan bimbingan dalam "]
[null,null,31,{"$f":"'DATA SISWA'!F40","v":0},null,null,null,null,null,null,null,null,null,null,null,null,null,null,null,null,null,null,null,null,null,null,null,null,null,null,null,null,null,null,null,null,null,null,null,null,null,null,null,null,null,null,null,null,null,null,null,null,null,null,"0 menunjukkan pemahaman dalam ","0 membutuhkan bimbingan dalam ",null,null,0,0,0,0,0,0,0,0,0,0,0,0,0,0,0,0,0,0,0,0,0,0,0,0,0,null,0,0,0,0,0,0,0,0,0,0,0,0,0,0,0,0,0,0,0,0,0,0,0,0,0,null,"","","","","","","","","","","","","","","","","","","","","","","","","",null,"","","","","","","","","","","","","","","","","","","","","","","","","",null,"0 menunjukkan pemahaman dalam ",null,null,"0 membutuhkan bimbingan dalam "]
[null,null,32,{"$f":"'DATA SISWA'!F41","v":0},null,null,null,null,null,null,null,null,null,null,null,null,null,null,null,null,null,null,null,null,null,null,null,null,null,null,null,null,null,null,null,null,null,null,null,null,null,null,null,null,null,null,null,null,null,null,null,null,null,null,"0 menunjukkan pemahaman dalam ","0 membutuhkan bimbingan dalam ",null,null,0,0,0,0,0,0,0,0,0,0,0,0,0,0,0,0,0,0,0,0,0,0,0,0,0,null,0,0,0,0,0,0,0,0,0,0,0,0,0,0,0,0,0,0,0,0,0,0,0,0,0,null,"","","","","","","","","","","","","","","","","","","","","","","","","",null,"","","","","","","","","","","","","","","","","","","","","","","","","",null,"0 menunjukkan pemahaman dalam ",null,null,"0 membutuhkan bimbingan dalam "]
[null,null,33,{"$f":"'DATA SISWA'!F42","v":0},null,null,null,null,null,null,null,null,null,null,null,null,null,null,null,null,null,null,null,null,null,null,null,null,null,null,null,null,null,null,null,null,null,null,null,null,null,null,null,null,null,null,null,null,null,null,null,null,null,null,"0 menunjukkan pemahaman dalam ","0 membutuhkan bimbingan dalam ",null,null,0,0,0,0,0,0,0,0,0,0,0,0,0,0,0,0,0,0,0,0,0,0,0,0,0,null,0,0,0,0,0,0,0,0,0,0,0,0,0,0,0,0,0,0,0,0,0,0,0,0,0,null,"","","","","","","","","","","","","","","","","","","","","","","","","",null,"","","","","","","","","","","","","","","","","","","","","","","","","",null,"0 menunjukkan pemahaman dalam ",null,null,"0 membutuhkan bimbingan dalam "]
[null,null,34,{"$f":"'DATA SISWA'!F43","v":0},null,null,null,null,null,null,null,null,null,null,null,null,null,null,null,null,null,null,null,null,null,null,null,null,null,null,null,null,null,null,null,null,null,null,null,null,null,null,null,null,null,null,null,null,null,null,null,null,null,null,"0 menunjukkan pemahaman dalam ","0 membutuhkan bimbingan dalam ",null,null,0,0,0,0,0,0,0,0,0,0,0,0,0,0,0,0,0,0,0,0,0,0,0,0,0,null,0,0,0,0,0,0,0,0,0,0,0,0,0,0,0,0,0,0,0,0,0,0,0,0,0,null,"","","","","","","","","","","","","","","","","","","","","","","","","",null,"","","","","","","","","","","","","","","","","","","","","","","","","",null,"0 menunjukkan pemahaman dalam ",null,null,"0 membutuhkan bimbingan dalam "]
[null,null,35,{"$f":"'DATA SISWA'!F44","v":0},null,null,null,null,null,null,null,null,null,null,null,null,null,null,null,null,null,null,null,null,null,null,null,null,null,null,null,null,null,null,null,null,null,null,null,null,null,null,null,null,null,null,null,null,null,null,null,null,null,null,"0 menunjukkan pemahaman dalam ","0 membutuhkan bimbingan dalam ",null,null,0,0,0,0,0,0,0,0,0,0,0,0,0,0,0,0,0,0,0,0,0,0,0,0,0,null,0,0,0,0,0,0,0,0,0,0,0,0,0,0,0,0,0,0,0,0,0,0,0,0,0,null,"","","","","","","","","","","","","","","","","","","","","","","","","",null,"","","","","","","","","","","","","","","","","","","","","","","","","",null,"0 menunjukkan pemahaman dalam ",null,null,"0 membutuhkan bimbingan dalam "]
[null,null,36,{"$f":"'DATA SISWA'!F45","v":0},null,null,null,null,null,null,null,null,null,null,null,null,null,null,null,null,null,null,null,null,null,null,null,null,null,null,null,null,null,null,null,null,null,null,null,null,null,null,null,null,null,null,null,null,null,null,null,null,null,null,"0 menunjukkan pemahaman dalam ","0 membutuhkan bimbingan dalam ",null,null,0,0,0,0,0,0,0,0,0,0,0,0,0,0,0,0,0,0,0,0,0,0,0,0,0,null,0,0,0,0,0,0,0,0,0,0,0,0,0,0,0,0,0,0,0,0,0,0,0,0,0,null,"","","","","","","","","","","","","","","","","","","","","","","","","",null,"","","","","","","","","","","","","","","","","","","","","","","","","",null,"0 menunjukkan pemahaman dalam ",null,null,"0 membutuhkan bimbingan dalam "]
[null,null,37,{"$f":"'DATA SISWA'!F46","v":0},null,null,null,null,null,null,null,null,null,null,null,null,null,null,null,null,null,null,null,null,null,null,null,null,null,null,null,null,null,null,null,null,null,null,null,null,null,null,null,null,null,null,null,null,null,null,null,null,null,null,"0 menunjukkan pemahaman dalam ","0 membutuhkan bimbingan dalam ",null,null,0,0,0,0,0,0,0,0,0,0,0,0,0,0,0,0,0,0,0,0,0,0,0,0,0,null,0,0,0,0,0,0,0,0,0,0,0,0,0,0,0,0,0,0,0,0,0,0,0,0,0,null,"","","","","","","","","","","","","","","","","","","","","","","","","",null,"","","","","","","","","","","","","","","","","","","","","","","","","",null,"0 menunjukkan pemahaman dalam ",null,null,"0 membutuhkan bimbingan dalam "]
[null,null,38,{"$f":"'DATA SISWA'!F47","v":0},null,null,null,null,null,null,null,null,null,null,null,null,null,null,null,null,null,null,null,null,null,null,null,null,null,null,null,null,null,null,null,null,null,null,null,null,null,null,null,null,null,null,null,null,null,null,null,null,null,null,"0 menunjukkan pemahaman dalam ","0 membutuhkan bimbingan dalam ",null,null,0,0,0,0,0,0,0,0,0,0,0,0,0,0,0,0,0,0,0,0,0,0,0,0,0,null,0,0,0,0,0,0,0,0,0,0,0,0,0,0,0,0,0,0,0,0,0,0,0,0,0,null,"","","","","","","","","","","","","","","","","","","","","","","","","",null,"","","","","","","","","","","","","","","","","","","","","","","","","",null,"0 menunjukkan pemahaman dalam ",null,null,"0 membutuhkan bimbingan dalam "]
[null,null,39,{"$f":"'DATA SISWA'!F48","v":0},null,null,null,null,null,null,null,null,null,null,null,null,null,null,null,null,null,null,null,null,null,null,null,null,null,null,null,null,null,null,null,null,null,null,null,null,null,null,null,null,null,null,null,null,null,null,null,null,null,null,"0 menunjukkan pemahaman dalam ","0 membutuhkan bimbingan dalam ",null,null,0,0,0,0,0,0,0,0,0,0,0,0,0,0,0,0,0,0,0,0,0,0,0,0,0,null,0,0,0,0,0,0,0,0,0,0,0,0,0,0,0,0,0,0,0,0,0,0,0,0,0,null,"","","","","","","","","","","","","","","","","","","","","","","","","",null,"","","","","","","","","","","","","","","","","","","","","","","","","",null,"0 menunjukkan pemahaman dalam ",null,null,"0 membutuhkan bimbingan dalam "]
[null,null,40,{"$f":"'DATA SISWA'!F49","v":0},null,null,null,null,null,null,null,null,null,null,null,null,null,null,null,null,null,null,null,null,null,null,null,null,null,null,null,null,null,null,null,null,null,null,null,null,null,null,null,null,null,null,null,null,null,null,null,null,null,null,"0 menunjukkan pemahaman dalam ","0 membutuhkan bimbingan dalam ",null,null,0,0,0,0,0,0,0,0,0,0,0,0,0,0,0,0,0,0,0,0,0,0,0,0,0,null,0,0,0,0,0,0,0,0,0,0,0,0,0,0,0,0,0,0,0,0,0,0,0,0,0,null,"","","","","","","","","","","","","","","","","","","","","","","","","",null,"","","","","","","","","","","","","","","","","","","","","","","","","",null,"0 menunjukkan pemahaman dalam ",null,null,"0 membutuhkan bimbingan dalam "]

{"sheet":"F10","index":43,"n_rows":56,"n_cols":166,"rows_kept":56,"cut":false,"hidden":false,"merged":[[12,54,15,54],[12,55,15,55],[14,52,14,53],[14,40,14,41],[14,42,14,43],[14,44,14,45],[14,46,14,47],[14,48,14,49],[14,50,14,51],[13,48,13,49],[13,46,13,47],[14,38,14,39],[14,16,14,17],[14,18,14,19],[14,20,14,21],[14,22,14,23],[14,24,14,25],[14,26,14,27],[14,28,14,29],[14,30,14,31],[14,32,14,33],[14,34,14,35],[14,36,14,37],[13,152,13,153],[13,154,13,155],[13,156,13,157],[13,158,13,159],[14,4,14,5],[14,6,14,7],[14,8,14,9],[14,10,14,11],[14,12,14,13],[14,14,14,15],[13,50,13,51],[13,52,13,53],[13,144,13,145],[13,146,13,147],[13,148,13,149],[13,150,13,151],[13,26,13,27],[13,28,13,29],[13,30,13,31],[13,32,13,33],[13,34,13,35],[13,36,13,37],[13,38,13,39],[13,40,13,41],[13,42,13,43],[13,44,13,45],[13,24,13,25],[2,1,2,54],[4,1,4,54],[12,2,15,2],[12,3,15,3],[12,4,12,53],[13,4,13,5],[13,6,13,7],[13,8,13,9],[13,10,13,11],[13,12,13,13],[13,14,13,15],[13,16,13,17],[13,18,13,19],[13,20,13,21],[13,22,13,23]]}
[]
[]
[null,"INPUT ASESMEN FORMATIF"]
[]
[null,{"$f":"\"MATA PELAJARAN : \"&INTRAKURIKULER!D18","v":"MATA PELAJARAN : "}]
[null,"Petunjuk Pengisian :"]
[null,null,1,"Rapor ini berasumsi bahwa guru telah melakukan penilaian formatif dan direkap dalam lembar tersendiri"]
[null,null,2,"Pada Kolom KKTP, pilih '0' jika siswa tidak memenuhi KKTP, Pilih '1' jika siswa memenuhi KKTP. Bisa juga diketikkan langsung angka 1 atau 0"]
[null,null,3,"Pada Kolom Tampil/Tidak, pilih '0' jika tidak ingin menampilkan TP tersebut di deskripsi rapor, pilih '1' jika ingin menampilkan TP di deskripsi rapor. Bisa juga diketikkan langsung angka 1 atau 0",null,null,null,null,null,null,null,null,null,null,null,null,null,null,null,null,null,null,null,null,null,null,null,null,null,null,null,null,null,null,null,null,null,null,null,null,null,null,null,null,null,null,null,null,null,null,null,null,null,null,null,null,null,null,0]
[null,"Contoh :",null,"Pada TP 1, siswa mencapai KKTP tapi tidak ingin ditampilkan dalam rapor. Pilih KKTP = 1, dan Tampil/Tidak = 0.",null,null,null,null,null,null,null,null,null,null,null,null,null,null,null,"Isilah hanya pada TP yang diinginkan",null,null,null,null,null,null,null,null,null,null,null,null,null,null,null,null,null,null,null,null,null,null,null,null,null,null,null,null,null,null,null,null,null,null,null,null,null,null,1]
[null,null,null,"Pada TP 2, siswa tidak mencapai KKTP tapi ingin ditampilkan dalam rapor. Pilih KKTP = 0, dan Tampil/Tidak = 1.",null,null,null,null,null,null,null,null,null,null,null,null,null,null,null,"masuk dalam deskripsi rapor"]
[]
[null,null,"No","Nama Siswa","Tujuan Pembelajaran",null,null,null,null,null,null,null,null,null,null,null,null,null,null,null,null,null,null,null,null,null,null,null,null,null,null,null,null,null,null,null,null,null,null,null,null,null,null,null,null,null,null,null,null,null,null,null,null,null,"Deskripsi Capaian Tertinggi dalam Rapor","Deskripsi Capaian Terendah dalam Rapor"]
[null,null,null,null,"TP 1",null,"TP 2",null,"TP 3",null,"TP 4",null,"TP 5",null,"TP 6",null,"TP 7",null,"TP 8",null,"TP 9",null,"TP 10",null,"TP 11",null,"TP 12",null,"TP 13",null,"TP 14",null,"TP 15",null,"TP 16",null,"TP 17",null,"TP 18",null,"TP 19",null,"TP 20",null,"TP 21",null,"TP 22",null,"TP 23",null,"TP 24",null,"TP 25",null,null,null,null,null,null,null,null,null,null,null,null,null,null,null,null,null,null,null,null,null,null,null,null,null,null,null,null,null,null,null,null,null,null,null,null,null,null,null,null,null,null,null,null,null,null,null,null,null,null,null,null,null,null,null,null,null,"mencapai",null,null,null,null,null,null,null,null,null,null,null,null,null,null,null,null,null,null,null,null,null,null,null,null,null,"tidak mencapai"]
[null,null,null,null,{"$f":"'TP 10'!D8","v":1},null,{"$f":"'TP 10'!D9","v":2},null,{"$f":"'TP 10'!D10","v":3},null,{"$f":"'TP 10'!D11","v":4},null,{"$f":"'TP 10'!D12","v":5},null,{"$f":"'TP 10'!D13","v":6},null,{"$f":"'TP 10'!D14","v":7},null,{"$f":"'TP 10'!D15","v":8},null,{"$f":"'TP 10'!D16","v":9},null,{"$f":"'TP 10'!D17","v":10},null,{"$f":"'TP 10'!D18","v":11},null,{"$f":"'TP 10'!D19","v":12},null,{"$f":"'TP 10'!D20","v":13},null,{"$f":"'TP 10'!D21","v":14},null,{"$f":"'TP 10'!D22","v":15},null,{"$f":"'TP 10'!D23","v":16},null,{"$f":"'TP 10'!D24","v":17},null,{"$f":"'TP 10'!D25","v":18},null,{"$f":"'TP 10'!D26","v":19},null,{"$f":"'TP 10'!D27","v":20},null,{"$f":"'TP 10'!D28","v":21},null,{"$f":"'TP 10'!D29","v":22},null,{"$f":"'TP 10'!D30","v":23},null,{"$f":"'TP 10'!D31","v":24},null,{"$f":"'TP 10'!D32","v":25},null,null,null,null,null,1,2,3,4,5,6,7,8,9,10,11,12,13,14,15,16,17,18,19,20,21,22,23,24,25,null,1,2,3,4,5,6,7,8,9,10,11,12,13,14,15,16,17,18,19,20,21,22,23,24,25,null,{"$f":"E15","v":1},{"$f":"G15","v":2},{"$f":"I15","v":3},{"$f":"K15","v":4},{"$f":"M15","v":5},{"$f":"O15","v":6},{"$f":"Q15","v":7},{"$f":"S15","v":8},{"$f":"U15","v":9},{"$f":"W15","v":10},{"$f":"Y15","v":11},{"$f":"AA15","v":12},{"$f":"AC15","v":13},{"$f":"AE15","v":14},{"$f":"AG15","v":15},{"$f":"AI15","v":16},{"$f":"AK15","v":17},{"$f":"AM15","v":18},{"$f":"AO15","v":19},{"$f":"AQ15","v":20},{"$f":"AS15","v":21},{"$f":"AU15","v":22},{"$f":"AW15","v":23},{"$f":"AY15","v":24},{"$f":"BA15","v":25},null,{"$f":"DG15","v":1},{"$f":"DH15","v":2},3,4,5,6,7,8,9,10,11,12,13,14,15,16,17,18,19,20,21,22,23,24,25,null,"mencapai",null,null,"tidak mencapai"]
[null,null,null,null,"KKTP","Tampil/Tidak","KKTP","Tampil/Tidak","KKTP","Tampil/Tidak","KKTP","Tampil/Tidak","KKTP","Tampil/Tidak","KKTP","Tampil/Tidak","KKTP","Tampil/Tidak","KKTP","Tampil/Tidak","KKTP","Tampil/Tidak","KKTP","Tampil/Tidak","KKTP","Tampil/Tidak","KKTP","Tampil/Tidak","KKTP","Tampil/Tidak","KKTP","Tampil/Tidak","KKTP","Tampil/Tidak","KKTP","Tampil/Tidak","KKTP","Tampil/Tidak","KKTP","Tampil/Tidak","KKTP","Tampil/Tidak","KKTP","Tampil/Tidak","KKTP","Tampil/Tidak","KKTP","Tampil/Tidak","KKTP","Tampil/Tidak","KKTP","Tampil/Tidak","KKTP","Tampil/Tidak",null,null,null,null,null,null,null,null,null,null,null,null,null,null,null,null,null,null,null,null,null,null,null,null,null,null,null,null,null,null,"kktp",null,null,null,null,null,null,null,null,null,null,null,null,null,null,null,null,null,null,null,null,null,null,null,null,null,1,2,3,4,5,6,7,8,9,10,11,12,13,14,15,16,17,18,19,20,21,22,23,24,25,null,1,2,3,4,5,6,7,8,9,10,11,12,13,14,15,16,17,18,19,20,21,22,23,24,25]
[null,null,1,{"$f":"'DATA SISWA'!F10","v":0},null,null,null,null,null,null,null,null,null,null,null,null,null,null,null,null,null,null,null,null,null,null,null,null,null,null,null,null,null,null,null,null,null,null,null,null,null,null,null,null,null,null,null,null,null,null,null,null,null,null,{"$f":"FG17","v":"0 menunjukkan pemahaman dalam "},{"$f":"FJ17","v":"0 membutuhkan bimbingan dalam "},null,null,{"$f":"F17","v":0},{"$f":"H17","v":0},{"$f":"J17","v":0},{"$f":"L17","v":0},{"$f":"N17","v":0},{"$f":"P17","v":0},{"$f":"R17","v":0},{"$f":"T17","v":0},{"$f":"V17","v":0},{"$f":"X17","v":0},{"$f":"Z17","v":0},{"$f":"AB17","v":0},{"$f":"AD17","v":0},{"$f":"AF17","v":0},{"$f":"AH17","v":0},{"$f":"AJ17","v":0},{"$f":"AL17","v":0},{"$f":"AN17","v":0},{"$f":"AP17","v":0},{"$f":"AR17","v":0},{"$f":"AT17","v":0},{"$f":"AV17","v":0},{"$f":"AX17","v":0},{"$f":"AZ17","v":0},{"$f":"BB17","v":0},null,{"$f":"E17","v":0},{"$f":"G17","v":0},{"$f":"I17","v":0},{"$f":"K17","v":0},{"$f":"M17","v":0},{"$f":"O17","v":0},{"$f":"Q17","v":0},{"$f":"S17","v":0},{"$f":"U17","v":0},{"$f":"W17","v":0},{"$f":"Y17","v":0},{"$f":"AA17","v":0},{"$f":"AC17","v":0},{"$f":"AE17","v":0},{"$f":"AG17","v":0},{"$f":"AI17","v":0},{"$f":"AK17","v":0},{"$f":"AM17","v":0},{"$f":"AO17","v":0},{"$f":"AQ17","v":0},{"$f":"AS17","v":0},{"$f":"AU17","v":0},{"$f":"AW17","v":0},{"$f":"AY17","v":0},{"$f":"BA17","v":0},null,{"$f":"IF(AND(BG17=1,CG17=1),DG$15&\", \",\"\")","v":""},{"$f":"IF(AND(BH17=1,CH17=1),DH$15&\", \",\"\")","v":""},"","","","","","","","","","","","","","","",{"$f":"IF(AND(BX17=1,CX17=1),DX$15&\", \",\"\")","v":""},"","","","","","","",null,{"$f":"IF(AND(BG17=1,CG17=0),EG$15&\", \",\"\")","v":""},{"$f":"IF(AND(BH17=1,CH17=0),EH$15&\", \",\"\")","v":""},"","","","","","","","","","","","","","","",{"$f":"IF(AND(BX17=1,CX17=0),EX$15&\", \",\"\")","v":""},"","","","","","","",null,{"$f":"PROPER(D17)&\" menunjukkan pemahaman dalam \"&DG17&DH17&DI17&DJ17&DK17&DL17&DM17&DN17&DO17&DP17&DQ17&DR17&DS17&DT17&DU17&DV17&DW17&DX17&DY17&DZ17&EA17&EB17&EC17&ED17&EE17","v":"0 menunjukkan pemahaman dalam "},null,null,{"$f":"PROPER(D17)&\" membutuhkan bimbingan dalam \"&EG17&EH17&EI17&EJ17&EK17&EL17&EM17&EN17&EO17&EP17&EQ17&ER17&ES17&ET17&EU17&EV17&EW17&EX17&EY17&EZ17&FA17&FB17&FC17&FD17&FE17","v":"0 membutuhkan bimbingan dalam "}]
[null,null,2,{"$f":"'DATA SISWA'!F11","v":0},null,null,null,null,null,null,null,null,null,null,null,null,null,null,null,null,null,null,null,null,null,null,null,null,null,null,null,null,null,null,null,null,null,null,null,null,null,null,null,null,null,null,null,null,null,null,null,null,null,null,{"$f":"FG18","v":"0 menunjukkan pemahaman dalam "},{"$f":"FJ18","v":"0 membutuhkan bimbingan dalam "},null,null,{"$f":"F18","v":0},{"$f":"H18","v":0},{"$f":"J18","v":0},{"$f":"L18","v":0},{"$f":"N18","v":0},{"$f":"P18","v":0},{"$f":"R18","v":0},{"$f":"T18","v":0},{"$f":"V18","v":0},{"$f":"X18","v":0},{"$f":"Z18","v":0},{"$f":"AB18","v":0},{"$f":"AD18","v":0},{"$f":"AF18","v":0},{"$f":"AH18","v":0},{"$f":"AJ18","v":0},{"$f":"AL18","v":0},{"$f":"AN18","v":0},{"$f":"AP18","v":0},{"$f":"AR18","v":0},{"$f":"AT18","v":0},{"$f":"AV18","v":0},{"$f":"AX18","v":0},{"$f":"AZ18","v":0},{"$f":"BB18","v":0},null,{"$f":"E18","v":0},{"$f":"G18","v":0},{"$f":"I18","v":0},{"$f":"K18","v":0},{"$f":"M18","v":0},{"$f":"O18","v":0},{"$f":"Q18","v":0},{"$f":"S18","v":0},{"$f":"U18","v":0},{"$f":"W18","v":0},{"$f":"Y18","v":0},{"$f":"AA18","v":0},{"$f":"AC18","v":0},{"$f":"AE18","v":0},{"$f":"AG18","v":0},{"$f":"AI18","v":0},{"$f":"AK18","v":0},{"$f":"AM18","v":0},{"$f":"AO18","v":0},{"$f":"AQ18","v":0},{"$f":"AS18","v":0},{"$f":"AU18","v":0},{"$f":"AW18","v":0},{"$f":"AY18","v":0},{"$f":"BA18","v":0},null,{"$f":"IF(AND(BG18=1,CG18=1),DG$15&\", \",\"\")","v":""},"","","","","","","","","","","","","","","","","","","","","","","","",null,{"$f":"IF(AND(BG18=1,CG18=0),EG$15&\", \",\"\")","v":""},"","","","","","","","","","","","","","","","","","","","","","","","",null,{"$f":"PROPER(D18)&\" menunjukkan pemahaman dalam \"&DG18&DH18&DI18&DJ18&DK18&DL18&DM18&DN18&DO18&DP18&DQ18&DR18&DS18&DT18&DU18&DV18&DW18&DX18&DY18&DZ18&EA18&EB18&EC18&ED18&EE18","v":"0 menunjukkan pemahaman dalam "},null,null,{"$f":"PROPER(D18)&\" membutuhkan bimbingan dalam \"&EG18&EH18&EI18&EJ18&EK18&EL18&EM18&EN18&EO18&EP18&EQ18&ER18&ES18&ET18&EU18&EV18&EW18&EX18&EY18&EZ18&FA18&FB18&FC18&FD18&FE18","v":"0 membutuhkan bimbingan dalam "}]
[null,null,3,{"$f":"'DATA SISWA'!F12","v":0},null,null,null,null,null,null,null,null,null,null,null,null,null,null,null,null,null,null,null,null,null,null,null,null,null,null,null,null,null,null,null,null,null,null,null,null,null,null,null,null,null,null,null,null,null,null,null,null,null,null,"0 menunjukkan pemahaman dalam ","0 membutuhkan bimbingan dalam ",null,null,0,0,0,0,0,0,0,0,0,0,0,0,0,0,0,0,0,0,0,0,0,0,0,0,0,null,0,0,0,0,0,0,0,0,0,0,0,0,0,0,0,0,0,0,0,0,0,0,0,0,0,null,"","","","","","","","","","","","","","","","","","","","","","","","","",null,"","","","","","","","","","","","","","","","","","","","","","","","","",null,"0 menunjukkan pemahaman dalam ",null,null,"0 membutuhkan bimbingan dalam "]
[null,null,4,{"$f":"'DATA SISWA'!F13","v":0},null,null,null,null,null,null,null,null,null,null,null,null,null,null,null,null,null,null,null,null,null,null,null,null,null,null,null,null,null,null,null,null,null,null,null,null,null,null,null,null,null,null,null,null,null,null,null,null,null,null,"0 menunjukkan pemahaman dalam ","0 membutuhkan bimbingan dalam ",null,null,0,0,0,0,0,0,0,0,0,0,0,0,0,0,0,0,0,0,0,0,0,0,0,0,0,null,0,0,0,0,0,0,0,0,0,0,0,0,0,0,0,0,0,0,0,0,0,0,0,0,0,null,"","","","","","","","","","","","","","","","","","","","","","","","","",null,"","","","","","","","","","","","","","","","","","","","","","","","","",null,"0 menunjukkan pemahaman dalam ",null,null,"0 membutuhkan bimbingan dalam "]
[null,null,5,{"$f":"'DATA SISWA'!F14","v":0},null,null,null,null,null,null,null,null,null,null,null,null,null,null,null,null,null,null,null,null,null,null,null,null,null,null,null,null,null,null,null,null,null,null,null,null,null,null,null,null,null,null,null,null,null,null,null,null,null,null,"0 menunjukkan pemahaman dalam ","0 membutuhkan bimbingan dalam ",null,null,0,0,0,0,0,0,0,0,0,0,0,0,0,0,0,0,0,0,0,0,0,0,0,0,0,null,0,0,0,0,0,0,0,0,0,0,0,0,0,0,0,0,0,0,0,0,0,0,0,0,0,null,"","","","","","","","","","","","","","","","","","","","","","","","","",null,"","","","","","","","","","","","","","","","","","","","","","","","","",null,"0 menunjukkan pemahaman dalam ",null,null,"0 membutuhkan bimbingan dalam "]
[null,null,6,{"$f":"'DATA SISWA'!F15","v":0},null,null,null,null,null,null,null,null,null,null,null,null,null,null,null,null,null,null,null,null,null,null,null,null,null,null,null,null,null,null,null,null,null,null,null,null,null,null,null,null,null,null,null,null,null,null,null,null,null,null,"0 menunjukkan pemahaman dalam ","0 membutuhkan bimbingan dalam ",null,null,0,0,0,0,0,0,0,0,0,0,0,0,0,0,0,0,0,0,0,0,0,0,0,0,0,null,0,0,0,0,0,0,0,0,0,0,0,0,0,0,0,0,0,0,0,0,0,0,0,0,0,null,"","","","","","","","","","","","","","","","","","","","","","","","","",null,"","","","","","","","","","","","","","","","","","","","","","","","","",null,"0 menunjukkan pemahaman dalam ",null,null,"0 membutuhkan bimbingan dalam "]
[null,null,7,{"$f":"'DATA SISWA'!F16","v":0},null,null,null,null,null,null,null,null,null,null,null,null,null,null,null,null,null,null,null,null,null,null,null,null,null,null,null,null,null,null,null,null,null,null,null,null,null,null,null,null,null,null,null,null,null,null,null,null,null,null,"0 menunjukkan pemahaman dalam ","0 membutuhkan bimbingan dalam ",null,null,0,0,0,0,0,0,0,0,0,0,0,0,0,0,0,0,0,0,0,0,0,0,0,0,0,null,0,0,0,0,0,0,0,0,0,0,0,0,0,0,0,0,0,0,0,0,0,0,0,0,0,null,"","","","","","","","","","","","","","","","","","","","","","","","","",null,"","","","","","","","","","","","","","","","","","","","","","","","","",null,"0 menunjukkan pemahaman dalam ",null,null,"0 membutuhkan bimbingan dalam "]
[null,null,8,{"$f":"'DATA SISWA'!F17","v":0},null,null,null,null,null,null,null,null,null,null,null,null,null,null,null,null,null,null,null,null,null,null,null,null,null,null,null,null,null,null,null,null,null,null,null,null,null,null,null,null,null,null,null,null,null,null,null,null,null,null,"0 menunjukkan pemahaman dalam ","0 membutuhkan bimbingan dalam ",null,null,0,0,0,0,0,0,0,0,0,0,0,0,0,0,0,0,0,0,0,0,0,0,0,0,0,null,0,0,0,0,0,0,0,0,0,0,0,0,0,0,0,0,0,0,0,0,0,0,0,0,0,null,"","","","","","","","","","","","","","","","","","","","","","","","","",null,"","","","","","","","","","","","","","","","","","","","","","","","","",null,"0 menunjukkan pemahaman dalam ",null,null,"0 membutuhkan bimbingan dalam "]
[null,null,9,{"$f":"'DATA SISWA'!F18","v":0},null,null,null,null,null,null,null,null,null,null,null,null,null,null,null,null,null,null,null,null,null,null,null,null,null,null,null,null,null,null,null,null,null,null,null,null,null,null,null,null,null,null,null,null,null,null,null,null,null,null,"0 menunjukkan pemahaman dalam ","0 membutuhkan bimbingan dalam ",null,null,0,0,0,0,0,0,0,0,0,0,0,0,0,0,0,0,0,0,0,0,0,0,0,0,0,null,0,0,0,0,0,0,0,0,0,0,0,0,0,0,0,0,0,0,0,0,0,0,0,0,0,null,"","","","","","","","","","","","","","","","","","","","","","","","","",null,"","","","","","","","","","","","","","","","","","","","","","","","","",null,"0 menunjukkan pemahaman dalam ",null,null,"0 membutuhkan bimbingan dalam "]
[null,null,10,{"$f":"'DATA SISWA'!F19","v":0},null,null,null,null,null,null,null,null,null,null,null,null,null,null,null,null,null,null,null,null,null,null,null,null,null,null,null,null,null,null,null,null,null,null,null,null,null,null,null,null,null,null,null,null,null,null,null,null,null,null,"0 menunjukkan pemahaman dalam ","0 membutuhkan bimbingan dalam ",null,null,0,0,0,0,0,0,0,0,0,0,0,0,0,0,0,0,0,0,0,0,0,0,0,0,0,null,0,0,0,0,0,0,0,0,0,0,0,0,0,0,0,0,0,0,0,0,0,0,0,0,0,null,"","","","","","","","","","","","","","","","","","","","","","","","","",null,"","","","","","","","","","","","","","","","","","","","","","","","","",null,"0 menunjukkan pemahaman dalam ",null,null,"0 membutuhkan bimbingan dalam "]
[null,null,11,{"$f":"'DATA SISWA'!F20","v":0},null,null,null,null,null,null,null,null,null,null,null,null,null,null,null,null,null,null,null,null,null,null,null,null,null,null,null,null,null,null,null,null,null,null,null,null,null,null,null,null,null,null,null,null,null,null,null,null,null,null,"0 menunjukkan pemahaman dalam ","0 membutuhkan bimbingan dalam ",null,null,0,0,0,0,0,0,0,0,0,0,0,0,0,0,0,0,0,0,0,0,0,0,0,0,0,null,0,0,0,0,0,0,0,0,0,0,0,0,0,0,0,0,0,0,0,0,0,0,0,0,0,null,"","","","","","","","","","","","","","","","","","","","","","","","","",null,"","","","","","","","","","","","","","","","","","","","","","","","","",null,"0 menunjukkan pemahaman dalam ",null,null,"0 membutuhkan bimbingan dalam "]
[null,null,12,{"$f":"'DATA SISWA'!F21","v":0},null,null,null,null,null,null,null,null,null,null,null,null,null,null,null,null,null,null,null,null,null,null,null,null,null,null,null,null,null,null,null,null,null,null,null,null,null,null,null,null,null,null,null,null,null,null,null,null,null,null,"0 menunjukkan pemahaman dalam ","0 membutuhkan bimbingan dalam ",null,null,0,0,0,0,0,0,0,0,0,0,0,0,0,0,0,0,0,0,0,0,0,0,0,0,0,null,0,0,0,0,0,0,0,0,0,0,0,0,0,0,0,0,0,0,0,0,0,0,0,0,0,null,"","","","","","","","","","","","","","","","","","","","","","","","","",null,"","","","","","","","","","","","","","","","","","","","","","","","","",null,"0 menunjukkan pemahaman dalam ",null,null,"0 membutuhkan bimbingan dalam "]
[null,null,13,{"$f":"'DATA SISWA'!F22","v":0},null,null,null,null,null,null,null,null,null,null,null,null,null,null,null,null,null,null,null,null,null,null,null,null,null,null,null,null,null,null,null,null,null,null,null,null,null,null,null,null,null,null,null,null,null,null,null,null,null,null,"0 menunjukkan pemahaman dalam ","0 membutuhkan bimbingan dalam ",null,null,0,0,0,0,0,0,0,0,0,0,0,0,0,0,0,0,0,0,0,0,0,0,0,0,0,null,0,0,0,0,0,0,0,0,0,0,0,0,0,0,0,0,0,0,0,0,0,0,0,0,0,null,"","","","","","","","","","","","","","","","","","","","","","","","","",null,"","","","","","","","","","","","","","","","","","","","","","","","","",null,"0 menunjukkan pemahaman dalam ",null,null,"0 membutuhkan bimbingan dalam "]
[null,null,14,{"$f":"'DATA SISWA'!F23","v":0},null,null,null,null,null,null,null,null,null,null,null,null,null,null,null,null,null,null,null,null,null,null,null,null,null,null,null,null,null,null,null,null,null,null,null,null,null,null,null,null,null,null,null,null,null,null,null,null,null,null,"0 menunjukkan pemahaman dalam ","0 membutuhkan bimbingan dalam ",null,null,0,0,0,0,0,0,0,0,0,0,0,0,0,0,0,0,0,0,0,0,0,0,0,0,0,null,0,0,0,0,0,0,0,0,0,0,0,0,0,0,0,0,0,0,0,0,0,0,0,0,0,null,"","","","","","","","","","","","","","","","","","","","","","","","","",null,"","","","","","","","","","","","","","","","","","","","","","","","","",null,"0 menunjukkan pemahaman dalam ",null,null,"0 membutuhkan bimbingan dalam "]
[null,null,15,{"$f":"'DATA SISWA'!F24","v":0},null,null,null,null,null,null,null,null,null,null,null,null,null,null,null,null,null,null,null,null,null,null,null,null,null,null,null,null,null,null,null,null,null,null,null,null,null,null,null,null,null,null,null,null,null,null,null,null,null,null,"0 menunjukkan pemahaman dalam ","0 membutuhkan bimbingan dalam ",null,null,0,0,0,0,0,0,0,0,0,0,0,0,0,0,0,0,0,0,0,0,0,0,0,0,0,null,0,0,0,0,0,0,0,0,0,0,0,0,0,0,0,0,0,0,0,0,0,0,0,0,0,null,"","","","","","","","","","","","","","","","","","","","","","","","","",null,"","","","","","","","","","","","","","","","","","","","","","","","","",null,"0 menunjukkan pemahaman dalam ",null,null,"0 membutuhkan bimbingan dalam "]
[null,null,16,{"$f":"'DATA SISWA'!F25","v":0},null,null,null,null,null,null,null,null,null,null,null,null,null,null,null,null,null,null,null,null,null,null,null,null,null,null,null,null,null,null,null,null,null,null,null,null,null,null,null,null,null,null,null,null,null,null,null,null,null,null,"0 menunjukkan pemahaman dalam ","0 membutuhkan bimbingan dalam ",null,null,0,0,0,0,0,0,0,0,0,0,0,0,0,0,0,0,0,0,0,0,0,0,0,0,0,null,0,0,0,0,0,0,0,0,0,0,0,0,0,0,0,0,0,0,0,0,0,0,0,0,0,null,"","","","","","","","","","","","","","","","","","","","","","","","","",null,"","","","","","","","","","","","","","","","","","","","","","","","","",null,"0 menunjukkan pemahaman dalam ",null,null,"0 membutuhkan bimbingan dalam "]
[null,null,17,{"$f":"'DATA SISWA'!F26","v":0},null,null,null,null,null,null,null,null,null,null,null,null,null,null,null,null,null,null,null,null,null,null,null,null,null,null,null,null,null,null,null,null,null,null,null,null,null,null,null,null,null,null,null,null,null,null,null,null,null,null,"0 menunjukkan pemahaman dalam ","0 membutuhkan bimbingan dalam ",null,null,0,0,0,0,0,0,0,0,0,0,0,0,0,0,0,0,0,0,0,0,0,0,0,0,0,null,0,0,0,0,0,0,0,0,0,0,0,0,0,0,0,0,0,0,0,0,0,0,0,0,0,null,"","","","","","","","","","","","","","","","",{"$f":"IF(AND(BW33=1,CW33=1),DW$15&\", \",\"\")","v":""},"","","","","","","","",null,"","","","","","","","","","","","","","","","",{"$f":"IF(AND(BW33=1,CW33=0),EW$15&\", \",\"\")","v":""},"","","","","","","","",null,"0 menunjukkan pemahaman dalam ",null,null,"0 membutuhkan bimbingan dalam "]
[null,null,18,{"$f":"'DATA SISWA'!F27","v":0},null,null,null,null,null,null,null,null,null,null,null,null,null,null,null,null,null,null,null,null,null,null,null,null,null,null,null,null,null,null,null,null,null,null,null,null,null,null,null,null,null,null,null,null,null,null,null,null,null,null,"0 menunjukkan pemahaman dalam ","0 membutuhkan bimbingan dalam ",null,null,0,0,0,0,0,0,0,0,0,0,0,0,0,0,0,0,0,0,0,0,0,0,0,0,0,null,0,0,0,0,0,0,0,0,0,0,0,0,0,0,0,0,0,0,0,0,0,0,0,0,0,null,"","","","","","","","","","","","","","","","","","","","","","","","","",null,"","","","","","","","","","","","","","","","","","","","","","","","","",null,"0 menunjukkan pemahaman dalam ",null,null,"0 membutuhkan bimbingan dalam "]
[null,null,19,{"$f":"'DATA SISWA'!F28","v":0},null,null,null,null,null,null,null,null,null,null,null,null,null,null,null,null,null,null,null,null,null,null,null,null,null,null,null,null,null,null,null,null,null,null,null,null,null,null,null,null,null,null,null,null,null,null,null,null,null,null,"0 menunjukkan pemahaman dalam ","0 membutuhkan bimbingan dalam ",null,null,0,0,0,0,0,0,0,0,0,0,0,0,0,0,0,0,0,0,0,0,0,0,0,0,0,null,0,0,0,0,0,0,0,0,0,0,0,0,0,0,0,0,0,0,0,0,0,0,0,0,0,null,"","","","","","","","","","","","","","","","","","","","","","","","","",null,"","","","","","","","","","","","","","","","","","","","","","","","","",null,"0 menunjukkan pemahaman dalam ",null,null,"0 membutuhkan bimbingan dalam "]
[null,null,20,{"$f":"'DATA SISWA'!F29","v":0},null,null,null,null,null,null,null,null,null,null,null,null,null,null,null,null,null,null,null,null,null,null,null,null,null,null,null,null,null,null,null,null,null,null,null,null,null,null,null,null,null,null,null,null,null,null,null,null,null,null,"0 menunjukkan pemahaman dalam ","0 membutuhkan bimbingan dalam ",null,null,0,0,0,0,0,0,0,0,0,0,0,0,0,0,0,0,0,0,0,0,0,0,0,0,0,null,0,0,0,0,0,0,0,0,0,0,0,0,0,0,0,0,0,0,0,0,0,0,0,0,0,null,"","","","","","","","","","","","","","","","","","","","","","","","","",null,"","","","","","","","","","","","","","","","","","","","","","","","","",null,"0 menunjukkan pemahaman dalam ",null,null,"0 membutuhkan bimbingan dalam "]
[null,null,21,{"$f":"'DATA SISWA'!F30","v":0},null,null,null,null,null,null,null,null,null,null,null,null,null,null,null,null,null,null,null,null,null,null,null,null,null,null,null,null,null,null,null,null,null,null,null,null,null,null,null,null,null,null,null,null,null,null,null,null,null,null,"0 menunjukkan pemahaman dalam ","0 membutuhkan bimbingan dalam ",null,null,0,0,0,0,0,0,0,0,0,0,0,0,0,0,0,0,0,0,0,0,0,0,0,0,0,null,0,0,0,0,0,0,0,0,0,0,0,0,0,0,0,0,0,0,0,0,0,0,0,0,0,null,"","","","","","","","","","","","","","","","","","","","","","","","","",null,"","","","","","","","","","","","","","","","","","","","","","","","","",null,"0 menunjukkan pemahaman dalam ",null,null,"0 membutuhkan bimbingan dalam "]
[null,null,22,{"$f":"'DATA SISWA'!F31","v":0},null,null,null,null,null,null,null,null,null,null,null,null,null,null,null,null,null,null,null,null,null,null,null,null,null,null,null,null,null,null,null,null,null,null,null,null,null,null,null,null,null,null,null,null,null,null,null,null,null,null,"0 menunjukkan pemahaman dalam ","0 membutuhkan bimbingan dalam ",null,null,0,0,0,0,0,0,0,0,0,0,0,0,0,0,0,0,0,0,0,0,0,0,0,0,0,null,0,0,0,0,0,0,0,0,0,0,0,0,0,0,0,0,0,0,0,0,0,0,0,0,0,null,"","","","","","","","","","","","","","","","","","","","","","","","","",null,"","","","","","","","","","","","","","","","","","","","","","","","","",null,"0 menunjukkan pemahaman dalam ",null,null,"0 membutuhkan bimbingan dalam "]
[null,null,23,{"$f":"'DATA SISWA'!F32","v":0},null,null,null,null,null,null,null,null,null,null,null,null,null,null,null,null,null,null,null,null,null,null,null,null,null,null,null,null,null,null,null,null,null,null,null,null,null,null,null,null,null,null,null,null,null,null,null,null,null,null,"0 menunjukkan pemahaman dalam ","0 membutuhkan bimbingan dalam ",null,null,0,0,0,0,0,0,0,0,0,0,0,0,0,0,0,0,0,0,0,0,0,0,0,0,0,null,0,0,0,0,0,0,0,0,0,0,0,0,0,0,0,0,0,0,0,0,0,0,0,0,0,null,"","","","","","","","","","","","","","","","","","","","","","","","","",null,"","","","","","","","","","","","","","","","","","","","","","","","","",null,"0 menunjukkan pemahaman dalam ",null,null,"0 membutuhkan bimbingan dalam "]
[null,null,24,{"$f":"'DATA SISWA'!F33","v":0},null,null,null,null,null,null,null,null,null,null,null,null,null,null,null,null,null,null,null,null,null,null,null,null,null,null,null,null,null,null,null,null,null,null,null,null,null,null,null,null,null,null,null,null,null,null,null,null,null,null,"0 menunjukkan pemahaman dalam ","0 membutuhkan bimbingan dalam ",null,null,0,0,0,0,0,0,0,0,0,0,0,0,0,0,0,0,0,0,0,0,0,0,0,0,0,null,0,0,0,0,0,0,0,0,0,0,0,0,0,0,0,0,0,0,0,0,0,0,0,0,0,null,"","","","","","","","","","","","","","","","","","","","","","","","","",null,"","","","","","","","","","","","","","","","","","","","","","","","","",null,"0 menunjukkan pemahaman dalam ",null,null,"0 membutuhkan bimbingan dalam "]
[null,null,25,{"$f":"'DATA SISWA'!F34","v":0},null,null,null,null,null,null,null,null,null,null,null,null,null,null,null,null,null,null,null,null,null,null,null,null,null,null,null,null,null,null,null,null,null,null,null,null,null,null,null,null,null,null,null,null,null,null,null,null,null,null,"0 menunjukkan pemahaman dalam ","0 membutuhkan bimbingan dalam ",null,null,0,0,0,0,0,0,0,0,0,0,0,0,0,0,0,0,0,0,0,0,0,0,0,0,0,null,0,0,0,0,0,0,0,0,0,0,0,0,0,0,0,0,0,0,0,0,0,0,0,0,0,null,"","","","","","","","","","","","","","","","","","","","","","","","","",null,"","","","","","","","","","","","","","","","","","","","","","","","","",null,"0 menunjukkan pemahaman dalam ",null,null,"0 membutuhkan bimbingan dalam "]
[null,null,26,{"$f":"'DATA SISWA'!F35","v":0},null,null,null,null,null,null,null,null,null,null,null,null,null,null,null,null,null,null,null,null,null,null,null,null,null,null,null,null,null,null,null,null,null,null,null,null,null,null,null,null,null,null,null,null,null,null,null,null,null,null,"0 menunjukkan pemahaman dalam ","0 membutuhkan bimbingan dalam ",null,null,0,0,0,0,0,0,0,0,0,0,0,0,0,0,0,0,0,0,0,0,0,0,0,0,0,null,0,0,0,0,0,0,0,0,0,0,0,0,0,0,0,0,0,0,0,0,0,0,0,0,0,null,"","","","","","","","","","","","","","","","","","","","","","","","","",null,"","","","","","","","","","","","","","","","","","","","","","","","","",null,"0 menunjukkan pemahaman dalam ",null,null,"0 membutuhkan bimbingan dalam "]
[null,null,27,{"$f":"'DATA SISWA'!F36","v":0},null,null,null,null,null,null,null,null,null,null,null,null,null,null,null,null,null,null,null,null,null,null,null,null,null,null,null,null,null,null,null,null,null,null,null,null,null,null,null,null,null,null,null,null,null,null,null,null,null,null,"0 menunjukkan pemahaman dalam ","0 membutuhkan bimbingan dalam ",null,null,0,0,0,0,0,0,0,0,0,0,0,0,0,0,0,0,0,0,0,0,0,0,0,0,0,null,0,0,0,0,0,0,0,0,0,0,0,0,0,0,0,0,0,0,0,0,0,0,0,0,0,null,"","","","","",{"$f":"IF(AND(BL43=1,CL43=1),DL$15&\", \",\"\")","v":""},"","","","","","","","","","","","","","","","","","","",null,"","","","","",{"$f":"IF(AND(BL43=1,CL43=0),EL$15&\", \",\"\")","v":""},"","","","","","","","","","","","","","","","","","","",null,"0 menunjukkan pemahaman dalam ",null,null,"0 membutuhkan bimbingan dalam "]
[null,null,28,{"$f":"'DATA SISWA'!F37","v":0},null,null,null,null,null,null,null,null,null,null,null,null,null,null,null,null,null,null,null,null,null,null,null,null,null,null,null,null,null,null,null,null,null,null,null,null,null,null,null,null,null,null,null,null,null,null,null,null,null,null,"0 menunjukkan pemahaman dalam ","0 membutuhkan bimbingan dalam ",null,null,0,0,0,0,0,0,0,0,0,0,0,0,0,0,0,0,0,0,0,0,0,0,0,0,0,null,0,0,0,0,0,0,0,0,0,0,0,0,0,0,0,0,0,0,0,0,0,0,0,0,0,null,{"$f":"IF(AND(BG44=1,CG44=1),DG$15&\", \",\"\")","v":""},"","","","","","","","","","","","","","","","","","","","","","","","",null,{"$f":"IF(AND(BG44=1,CG44=0),EG$15&\", \",\"\")","v":""},"","","","","","","","","","","","","","","","","","","","","","","","",null,"0 menunjukkan pemahaman dalam ",null,null,"0 membutuhkan bimbingan dalam "]
[null,null,29,{"$f":"'DATA SISWA'!F38","v":0},null,null,null,null,null,null,null,null,null,null,null,null,null,null,null,null,null,null,null,null,null,null,null,null,null,null,null,null,null,null,null,null,null,null,null,null,null,null,null,null,null,null,null,null,null,null,null,null,null,null,"0 menunjukkan pemahaman dalam ","0 membutuhkan bimbingan dalam ",null,null,0,0,0,0,0,0,0,0,0,0,0,0,0,0,0,0,0,0,0,0,0,0,0,0,0,null,0,0,0,0,0,0,0,0,0,0,0,0,0,0,0,0,0,0,0,0,0,0,0,0,0,null,"","","","","","","","","","","","","","","","","","","","","","","","","",null,"","","","","","","","","","","","","","","","","","","","","","","","","",null,"0 menunjukkan pemahaman dalam ",null,null,"0 membutuhkan bimbingan dalam "]
[null,null,30,{"$f":"'DATA SISWA'!F39","v":0},null,null,null,null,null,null,null,null,null,null,null,null,null,null,null,null,null,null,null,null,null,null,null,null,null,null,null,null,null,null,null,null,null,null,null,null,null,null,null,null,null,null,null,null,null,null,null,null,null,null,"0 menunjukkan pemahaman dalam ","0 membutuhkan bimbingan dalam ",null,null,0,0,0,0,0,0,0,0,0,0,0,0,0,0,0,0,0,0,0,0,0,0,0,0,0,null,0,0,0,0,0,0,0,0,0,0,0,0,0,0,0,0,0,0,0,0,0,0,0,0,0,null,"","","","","","","","","","","","","","","","","","","","","","","","","",null,"","","","","","","","","","","","","","","","","","","","","","","","","",null,"0 menunjukkan pemahaman dalam ",null,null,"0 membutuhkan bimbingan dalam "]
[null,null,31,{"$f":"'DATA SISWA'!F40","v":0},null,null,null,null,null,null,null,null,null,null,null,null,null,null,null,null,null,null,null,null,null,null,null,null,null,null,null,null,null,null,null,null,null,null,null,null,null,null,null,null,null,null,null,null,null,null,null,null,null,null,"0 menunjukkan pemahaman dalam ","0 membutuhkan bimbingan dalam ",null,null,0,0,0,0,0,0,0,0,0,0,0,0,0,0,0,0,0,0,0,0,0,0,0,0,0,null,0,0,0,0,0,0,0,0,0,0,0,0,0,0,0,0,0,0,0,0,0,0,0,0,0,null,"","","","","","","","","","","","","","","","","","","","","","","","","",null,"","","","","","","","","","","","","","","","","","","","","","","","","",null,"0 menunjukkan pemahaman dalam ",null,null,"0 membutuhkan bimbingan dalam "]
[null,null,32,{"$f":"'DATA SISWA'!F41","v":0},null,null,null,null,null,null,null,null,null,null,null,null,null,null,null,null,null,null,null,null,null,null,null,null,null,null,null,null,null,null,null,null,null,null,null,null,null,null,null,null,null,null,null,null,null,null,null,null,null,null,"0 menunjukkan pemahaman dalam ","0 membutuhkan bimbingan dalam ",null,null,0,0,0,0,0,0,0,0,0,0,0,0,0,0,0,0,0,0,0,0,0,0,0,0,0,null,0,0,0,0,0,0,0,0,0,0,0,0,0,0,0,0,0,0,0,0,0,0,0,0,0,null,"","","","","","","","","","","","","","","","","","","","","","","","","",null,"","","","","","","","","","","","","","","","","","","","","","","","","",null,"0 menunjukkan pemahaman dalam ",null,null,"0 membutuhkan bimbingan dalam "]
[null,null,33,{"$f":"'DATA SISWA'!F42","v":0},null,null,null,null,null,null,null,null,null,null,null,null,null,null,null,null,null,null,null,null,null,null,null,null,null,null,null,null,null,null,null,null,null,null,null,null,null,null,null,null,null,null,null,null,null,null,null,null,null,null,"0 menunjukkan pemahaman dalam ","0 membutuhkan bimbingan dalam ",null,null,0,0,0,0,0,0,0,0,0,0,0,0,0,0,0,0,0,0,0,0,0,0,0,0,0,null,0,0,0,0,0,0,0,0,0,0,0,0,0,0,0,0,0,0,0,0,0,0,0,0,0,null,"","","","","","","","","","","","","","","","","","","","","","","","","",null,"","","","","","","","","","","","","","","","","","","","","","","","","",null,"0 menunjukkan pemahaman dalam ",null,null,"0 membutuhkan bimbingan dalam "]
[null,null,34,{"$f":"'DATA SISWA'!F43","v":0},null,null,null,null,null,null,null,null,null,null,null,null,null,null,null,null,null,null,null,null,null,null,null,null,null,null,null,null,null,null,null,null,null,null,null,null,null,null,null,null,null,null,null,null,null,null,null,null,null,null,"0 menunjukkan pemahaman dalam ","0 membutuhkan bimbingan dalam ",null,null,0,0,0,0,0,0,0,0,0,0,0,0,0,0,0,0,0,0,0,0,0,0,0,0,0,null,0,0,0,0,0,0,0,0,0,0,0,0,0,0,0,0,0,0,0,0,0,0,0,0,0,null,"","","","","","","","","","","","","","","","","","","","","","","","","",null,"","","","","","","","","","","","","","","","","","","","","","","","","",null,"0 menunjukkan pemahaman dalam ",null,null,"0 membutuhkan bimbingan dalam "]
[null,null,35,{"$f":"'DATA SISWA'!F44","v":0},null,null,null,null,null,null,null,null,null,null,null,null,null,null,null,null,null,null,null,null,null,null,null,null,null,null,null,null,null,null,null,null,null,null,null,null,null,null,null,null,null,null,null,null,null,null,null,null,null,null,"0 menunjukkan pemahaman dalam ","0 membutuhkan bimbingan dalam ",null,null,0,0,0,0,0,0,0,0,0,0,0,0,0,0,0,0,0,0,0,0,0,0,0,0,0,null,0,0,0,0,0,0,0,0,0,0,0,0,0,0,0,0,0,0,0,0,0,0,0,0,0,null,"","","","","","","","","","","","","","","","","","","","","","","","","",null,"","","","","","","","","","","","","","","","","","","","","","","","","",null,"0 menunjukkan pemahaman dalam ",null,null,"0 membutuhkan bimbingan dalam "]
[null,null,36,{"$f":"'DATA SISWA'!F45","v":0},null,null,null,null,null,null,null,null,null,null,null,null,null,null,null,null,null,null,null,null,null,null,null,null,null,null,null,null,null,null,null,null,null,null,null,null,null,null,null,null,null,null,null,null,null,null,null,null,null,null,"0 menunjukkan pemahaman dalam ","0 membutuhkan bimbingan dalam ",null,null,0,0,0,0,0,0,0,0,0,0,0,0,0,0,0,0,0,0,0,0,0,0,0,0,0,null,0,0,0,0,0,0,0,0,0,0,0,0,0,0,0,0,0,0,0,0,0,0,0,0,0,null,"","","","","","","","","","","","","","","","","","","","","","","","","",null,"","","","","","","","","","","","","","","","","","","","","","","","","",null,"0 menunjukkan pemahaman dalam ",null,null,"0 membutuhkan bimbingan dalam "]
[null,null,37,{"$f":"'DATA SISWA'!F46","v":0},null,null,null,null,null,null,null,null,null,null,null,null,null,null,null,null,null,null,null,null,null,null,null,null,null,null,null,null,null,null,null,null,null,null,null,null,null,null,null,null,null,null,null,null,null,null,null,null,null,null,"0 menunjukkan pemahaman dalam ","0 membutuhkan bimbingan dalam ",null,null,0,0,0,0,0,0,0,0,0,0,0,0,0,0,0,0,0,0,0,0,0,0,0,0,0,null,0,0,0,0,0,0,0,0,0,0,0,0,0,0,0,0,0,0,0,0,0,0,0,0,0,null,"","","","","","","","","","","","","","","","","","","","","","","","","",null,"","","","","","","","","","","","","","","","","","","","","","","","","",null,"0 menunjukkan pemahaman dalam ",null,null,"0 membutuhkan bimbingan dalam "]
[null,null,38,{"$f":"'DATA SISWA'!F47","v":0},null,null,null,null,null,null,null,null,null,null,null,null,null,null,null,null,null,null,null,null,null,null,null,null,null,null,null,null,null,null,null,null,null,null,null,null,null,null,null,null,null,null,null,null,null,null,null,null,null,null,"0 menunjukkan pemahaman dalam ","0 membutuhkan bimbingan dalam ",null,null,0,0,0,0,0,0,0,0,0,0,0,0,0,0,0,0,0,0,0,0,0,0,0,0,0,null,0,0,0,0,0,0,0,0,0,0,0,0,0,0,0,0,0,0,0,0,0,0,0,0,0,null,"","","","","","","","","","","","","","","","","","","","","","","","","",null,"","","","","","","","","","","","","","","","","","","","","","","","","",null,"0 menunjukkan pemahaman dalam ",null,null,"0 membutuhkan bimbingan dalam "]
[null,null,39,{"$f":"'DATA SISWA'!F48","v":0},null,null,null,null,null,null,null,null,null,null,null,null,null,null,null,null,null,null,null,null,null,null,null,null,null,null,null,null,null,null,null,null,null,null,null,null,null,null,null,null,null,null,null,null,null,null,null,null,null,null,"0 menunjukkan pemahaman dalam ","0 membutuhkan bimbingan dalam ",null,null,0,0,0,0,0,0,0,0,0,0,0,0,0,0,0,0,0,0,0,0,0,0,0,0,0,null,0,0,0,0,0,0,0,0,0,0,0,0,0,0,0,0,0,0,0,0,0,0,0,0,0,null,"","","","","","","","","","","","","","","","","","","","","","","","","",null,"","","","","","","","","","","","","","","","","","","","","","","","","",null,"0 menunjukkan pemahaman dalam ",null,null,"0 membutuhkan bimbingan dalam "]
[null,null,40,{"$f":"'DATA SISWA'!F49","v":0},null,null,null,null,null,null,null,null,null,null,null,null,null,null,null,null,null,null,null,null,null,null,null,null,null,null,null,null,null,null,null,null,null,null,null,null,null,null,null,null,null,null,null,null,null,null,null,null,null,null,"0 menunjukkan pemahaman dalam ","0 membutuhkan bimbingan dalam ",null,null,0,0,0,0,0,0,0,0,0,0,0,0,0,0,0,0,0,0,0,0,0,0,0,0,0,null,0,0,0,0,0,0,0,0,0,0,0,0,0,0,0,0,0,0,0,0,0,0,0,0,0,null,"","","","","","","","","","","","","","","","","","","","","","","","","",null,"","","","","","","","","","","","","","","","","","","","","","","","","",null,"0 menunjukkan pemahaman dalam ",null,null,"0 membutuhkan bimbingan dalam "]

{"sheet":"F11","index":44,"n_rows":56,"n_cols":166,"rows_kept":56,"cut":false,"hidden":false,"merged":[[12,54,15,54],[12,55,15,55],[14,52,14,53],[14,40,14,41],[14,42,14,43],[14,44,14,45],[14,46,14,47],[14,48,14,49],[14,50,14,51],[13,48,13,49],[13,46,13,47],[14,38,14,39],[14,16,14,17],[14,18,14,19],[14,20,14,21],[14,22,14,23],[14,24,14,25],[14,26,14,27],[14,28,14,29],[14,30,14,31],[14,32,14,33],[14,34,14,35],[14,36,14,37],[13,152,13,153],[13,154,13,155],[13,156,13,157],[13,158,13,159],[14,4,14,5],[14,6,14,7],[14,8,14,9],[14,10,14,11],[14,12,14,13],[14,14,14,15],[13,50,13,51],[13,52,13,53],[13,144,13,145],[13,146,13,147],[13,148,13,149],[13,150,13,151],[13,26,13,27],[13,28,13,29],[13,30,13,31],[13,32,13,33],[13,34,13,35],[13,36,13,37],[13,38,13,39],[13,40,13,41],[13,42,13,43],[13,44,13,45],[13,24,13,25],[2,1,2,54],[4,1,4,54],[12,2,15,2],[12,3,15,3],[12,4,12,53],[13,4,13,5],[13,6,13,7],[13,8,13,9],[13,10,13,11],[13,12,13,13],[13,14,13,15],[13,16,13,17],[13,18,13,19],[13,20,13,21],[13,22,13,23]]}
[]
[]
[null,"INPUT ASESMEN FORMATIF"]
[]
[null,{"$f":"\"MATA PELAJARAN : \"&INTRAKURIKULER!D19","v":"MATA PELAJARAN : "}]
[null,"Petunjuk Pengisian :"]
[null,null,1,"Rapor ini berasumsi bahwa guru telah melakukan penilaian formatif dan direkap dalam lembar tersendiri"]
[null,null,2,"Pada Kolom KKTP, pilih '0' jika siswa tidak memenuhi KKTP, Pilih '1' jika siswa memenuhi KKTP. Bisa juga diketikkan langsung angka 1 atau 0"]
[null,null,3,"Pada Kolom Tampil/Tidak, pilih '0' jika tidak ingin menampilkan TP tersebut di deskripsi rapor, pilih '1' jika ingin menampilkan TP di deskripsi rapor. Bisa juga diketikkan langsung angka 1 atau 0",null,null,null,null,null,null,null,null,null,null,null,null,null,null,null,null,null,null,null,null,null,null,null,null,null,null,null,null,null,null,null,null,null,null,null,null,null,null,null,null,null,null,null,null,null,null,null,null,null,null,null,null,null,null,0]
[null,"Contoh :",null,"Pada TP 1, siswa mencapai KKTP tapi tidak ingin ditampilkan dalam rapor. Pilih KKTP = 1, dan Tampil/Tidak = 0.",null,null,null,null,null,null,null,null,null,null,null,null,null,null,null,"Isilah hanya pada TP yang diinginkan",null,null,null,null,null,null,null,null,null,null,null,null,null,null,null,null,null,null,null,null,null,null,null,null,null,null,null,null,null,null,null,null,null,null,null,null,null,null,1]
[null,null,null,"Pada TP 2, siswa tidak mencapai KKTP tapi ingin ditampilkan dalam rapor. Pilih KKTP = 0, dan Tampil/Tidak = 1.",null,null,null,null,null,null,null,null,null,null,null,null,null,null,null,"masuk dalam deskripsi rapor"]
[]
[null,null,"No","Nama Siswa","Tujuan Pembelajaran",null,null,null,null,null,null,null,null,null,null,null,null,null,null,null,null,null,null,null,null,null,null,null,null,null,null,null,null,null,null,null,null,null,null,null,null,null,null,null,null,null,null,null,null,null,null,null,null,null,"Deskripsi Capaian Tertinggi dalam Rapor","Deskripsi Capaian Terendah dalam Rapor"]
[null,null,null,null,"TP 1",null,"TP 2",null,"TP 3",null,"TP 4",null,"TP 5",null,"TP 6",null,"TP 7",null,"TP 8",null,"TP 9",null,"TP 10",null,"TP 11",null,"TP 12",null,"TP 13",null,"TP 14",null,"TP 15",null,"TP 16",null,"TP 17",null,"TP 18",null,"TP 19",null,"TP 20",null,"TP 21",null,"TP 22",null,"TP 23",null,"TP 24",null,"TP 25",null,null,null,null,null,null,null,null,null,null,null,null,null,null,null,null,null,null,null,null,null,null,null,null,null,null,null,null,null,null,null,null,null,null,null,null,null,null,null,null,null,null,null,null,null,null,null,null,null,null,null,null,null,null,null,null,null,"mencapai",null,null,null,null,null,null,null,null,null,null,null,null,null,null,null,null,null,null,null,null,null,null,null,null,null,"tidak mencapai"]
[null,null,null,null,{"$f":"'TP 11'!D8","v":1},null,{"$f":"'TP 11'!D9","v":2},null,{"$f":"'TP 11'!D10","v":3},null,{"$f":"'TP 11'!D11","v":4},null,{"$f":"'TP 11'!D12","v":5},null,{"$f":"'TP 11'!D13","v":6},null,{"$f":"'TP 11'!D14","v":7},null,{"$f":"'TP 11'!D15","v":8},null,{"$f":"'TP 11'!D16","v":9},null,{"$f":"'TP 11'!D17","v":10},null,{"$f":"'TP 11'!D18","v":11},null,{"$f":"'TP 11'!D19","v":12},null,{"$f":"'TP 11'!D20","v":13},null,{"$f":"'TP 11'!D21","v":14},null,{"$f":"'TP 11'!D22","v":15},null,{"$f":"'TP 11'!D23","v":16},null,{"$f":"'TP 11'!D24","v":17},null,{"$f":"'TP 11'!D25","v":18},null,{"$f":"'TP 11'!D26","v":19},null,{"$f":"'TP 11'!D27","v":20},null,{"$f":"'TP 11'!D28","v":21},null,{"$f":"'TP 11'!D29","v":22},null,{"$f":"'TP 11'!D30","v":23},null,{"$f":"'TP 11'!D31","v":24},null,{"$f":"'TP 11'!D32","v":25},null,null,null,null,null,1,2,3,4,5,6,7,8,9,10,11,12,13,14,15,16,17,18,19,20,21,22,23,24,25,null,1,2,3,4,5,6,7,8,9,10,11,12,13,14,15,16,17,18,19,20,21,22,23,24,25,null,{"$f":"E15","v":1},{"$f":"G15","v":2},{"$f":"I15","v":3},{"$f":"K15","v":4},{"$f":"M15","v":5},{"$f":"O15","v":6},{"$f":"Q15","v":7},{"$f":"S15","v":8},{"$f":"U15","v":9},{"$f":"W15","v":10},{"$f":"Y15","v":11},{"$f":"AA15","v":12},{"$f":"AC15","v":13},{"$f":"AE15","v":14},{"$f":"AG15","v":15},{"$f":"AI15","v":16},{"$f":"AK15","v":17},{"$f":"AM15","v":18},{"$f":"AO15","v":19},{"$f":"AQ15","v":20},{"$f":"AS15","v":21},{"$f":"AU15","v":22},{"$f":"AW15","v":23},{"$f":"AY15","v":24},{"$f":"BA15","v":25},null,{"$f":"DG15","v":1},{"$f":"DH15","v":2},3,4,5,6,7,8,9,10,11,12,13,14,15,16,17,18,19,20,21,22,23,24,25,null,"mencapai",null,null,"tidak mencapai"]
[null,null,null,null,"KKTP","Tampil/Tidak","KKTP","Tampil/Tidak","KKTP","Tampil/Tidak","KKTP","Tampil/Tidak","KKTP","Tampil/Tidak","KKTP","Tampil/Tidak","KKTP","Tampil/Tidak","KKTP","Tampil/Tidak","KKTP","Tampil/Tidak","KKTP","Tampil/Tidak","KKTP","Tampil/Tidak","KKTP","Tampil/Tidak","KKTP","Tampil/Tidak","KKTP","Tampil/Tidak","KKTP","Tampil/Tidak","KKTP","Tampil/Tidak","KKTP","Tampil/Tidak","KKTP","Tampil/Tidak","KKTP","Tampil/Tidak","KKTP","Tampil/Tidak","KKTP","Tampil/Tidak","KKTP","Tampil/Tidak","KKTP","Tampil/Tidak","KKTP","Tampil/Tidak","KKTP","Tampil/Tidak",null,null,null,null,null,null,null,null,null,null,null,null,null,null,null,null,null,null,null,null,null,null,null,null,null,null,null,null,null,null,"kktp",null,null,null,null,null,null,null,null,null,null,null,null,null,null,null,null,null,null,null,null,null,null,null,null,null,1,2,3,4,5,6,7,8,9,10,11,12,13,14,15,16,17,18,19,20,21,22,23,24,25,null,1,2,3,4,5,6,7,8,9,10,11,12,13,14,15,16,17,18,19,20,21,22,23,24,25]
[null,null,1,{"$f":"'DATA SISWA'!F10","v":0},null,null,null,null,null,null,null,null,null,null,null,null,null,null,null,null,null,null,null,null,null,null,null,null,null,null,null,null,null,null,null,null,null,null,null,null,null,null,null,null,null,null,null,null,null,null,null,null,null,null,{"$f":"FG17","v":"0 menunjukkan pemahaman dalam "},{"$f":"FJ17","v":"0 membutuhkan bimbingan dalam "},null,null,{"$f":"F17","v":0},{"$f":"H17","v":0},{"$f":"J17","v":0},{"$f":"L17","v":0},{"$f":"N17","v":0},{"$f":"P17","v":0},{"$f":"R17","v":0},{"$f":"T17","v":0},{"$f":"V17","v":0},{"$f":"X17","v":0},{"$f":"Z17","v":0},{"$f":"AB17","v":0},{"$f":"AD17","v":0},{"$f":"AF17","v":0},{"$f":"AH17","v":0},{"$f":"AJ17","v":0},{"$f":"AL17","v":0},{"$f":"AN17","v":0},{"$f":"AP17","v":0},{"$f":"AR17","v":0},{"$f":"AT17","v":0},{"$f":"AV17","v":0},{"$f":"AX17","v":0},{"$f":"AZ17","v":0},{"$f":"BB17","v":0},null,{"$f":"E17","v":0},{"$f":"G17","v":0},{"$f":"I17","v":0},{"$f":"K17","v":0},{"$f":"M17","v":0},{"$f":"O17","v":0},{"$f":"Q17","v":0},{"$f":"S17","v":0},{"$f":"U17","v":0},{"$f":"W17","v":0},{"$f":"Y17","v":0},{"$f":"AA17","v":0},{"$f":"AC17","v":0},{"$f":"AE17","v":0},{"$f":"AG17","v":0},{"$f":"AI17","v":0},{"$f":"AK17","v":0},{"$f":"AM17","v":0},{"$f":"AO17","v":0},{"$f":"AQ17","v":0},{"$f":"AS17","v":0},{"$f":"AU17","v":0},{"$f":"AW17","v":0},{"$f":"AY17","v":0},{"$f":"BA17","v":0},null,{"$f":"IF(AND(BG17=1,CG17=1),DG$15&\", \",\"\")","v":""},{"$f":"IF(AND(BH17=1,CH17=1),DH$15&\", \",\"\")","v":""},"","","","","","","","","","","","","","","",{"$f":"IF(AND(BX17=1,CX17=1),DX$15&\", \",\"\")","v":""},"","","","","","","",null,{"$f":"IF(AND(BG17=1,CG17=0),EG$15&\", \",\"\")","v":""},{"$f":"IF(AND(BH17=1,CH17=0),EH$15&\", \",\"\")","v":""},"","","","","","","","","","","","","","","",{"$f":"IF(AND(BX17=1,CX17=0),EX$15&\", \",\"\")","v":""},"","","","","","","",null,{"$f":"PROPER(D17)&\" menunjukkan pemahaman dalam \"&DG17&DH17&DI17&DJ17&DK17&DL17&DM17&DN17&DO17&DP17&DQ17&DR17&DS17&DT17&DU17&DV17&DW17&DX17&DY17&DZ17&EA17&EB17&EC17&ED17&EE17","v":"0 menunjukkan pemahaman dalam "},null,null,{"$f":"PROPER(D17)&\" membutuhkan bimbingan dalam \"&EG17&EH17&EI17&EJ17&EK17&EL17&EM17&EN17&EO17&EP17&EQ17&ER17&ES17&ET17&EU17&EV17&EW17&EX17&EY17&EZ17&FA17&FB17&FC17&FD17&FE17","v":"0 membutuhkan bimbingan dalam "}]
[null,null,2,{"$f":"'DATA SISWA'!F11","v":0},null,null,null,null,null,null,null,null,null,null,null,null,null,null,null,null,null,null,null,null,null,null,null,null,null,null,null,null,null,null,null,null,null,null,null,null,null,null,null,null,null,null,null,null,null,null,null,null,null,null,{"$f":"FG18","v":"0 menunjukkan pemahaman dalam "},{"$f":"FJ18","v":"0 membutuhkan bimbingan dalam "},null,null,{"$f":"F18","v":0},{"$f":"H18","v":0},{"$f":"J18","v":0},{"$f":"L18","v":0},{"$f":"N18","v":0},{"$f":"P18","v":0},{"$f":"R18","v":0},{"$f":"T18","v":0},{"$f":"V18","v":0},{"$f":"X18","v":0},{"$f":"Z18","v":0},{"$f":"AB18","v":0},{"$f":"AD18","v":0},{"$f":"AF18","v":0},{"$f":"AH18","v":0},{"$f":"AJ18","v":0},{"$f":"AL18","v":0},{"$f":"AN18","v":0},{"$f":"AP18","v":0},{"$f":"AR18","v":0},{"$f":"AT18","v":0},{"$f":"AV18","v":0},{"$f":"AX18","v":0},{"$f":"AZ18","v":0},{"$f":"BB18","v":0},null,{"$f":"E18","v":0},{"$f":"G18","v":0},{"$f":"I18","v":0},{"$f":"K18","v":0},{"$f":"M18","v":0},{"$f":"O18","v":0},{"$f":"Q18","v":0},{"$f":"S18","v":0},{"$f":"U18","v":0},{"$f":"W18","v":0},{"$f":"Y18","v":0},{"$f":"AA18","v":0},{"$f":"AC18","v":0},{"$f":"AE18","v":0},{"$f":"AG18","v":0},{"$f":"AI18","v":0},{"$f":"AK18","v":0},{"$f":"AM18","v":0},{"$f":"AO18","v":0},{"$f":"AQ18","v":0},{"$f":"AS18","v":0},{"$f":"AU18","v":0},{"$f":"AW18","v":0},{"$f":"AY18","v":0},{"$f":"BA18","v":0},null,{"$f":"IF(AND(BG18=1,CG18=1),DG$15&\", \",\"\")","v":""},"","","","","","","","","","","","","","","","","","","","","","","","",null,{"$f":"IF(AND(BG18=1,CG18=0),EG$15&\", \",\"\")","v":""},"","","","","","","","","","","","","","","","","","","","","","","","",null,{"$f":"PROPER(D18)&\" menunjukkan pemahaman dalam \"&DG18&DH18&DI18&DJ18&DK18&DL18&DM18&DN18&DO18&DP18&DQ18&DR18&DS18&DT18&DU18&DV18&DW18&DX18&DY18&DZ18&EA18&EB18&EC18&ED18&EE18","v":"0 menunjukkan pemahaman dalam "},null,null,{"$f":"PROPER(D18)&\" membutuhkan bimbingan dalam \"&EG18&EH18&EI18&EJ18&EK18&EL18&EM18&EN18&EO18&EP18&EQ18&ER18&ES18&ET18&EU18&EV18&EW18&EX18&EY18&EZ18&FA18&FB18&FC18&FD18&FE18","v":"0 membutuhkan bimbingan dalam "}]
[null,null,3,{"$f":"'DATA SISWA'!F12","v":0},null,null,null,null,null,null,null,null,null,null,null,null,null,null,null,null,null,null,null,null,null,null,null,null,null,null,null,null,null,null,null,null,null,null,null,null,null,null,null,null,null,null,null,null,null,null,null,null,null,null,"0 menunjukkan pemahaman dalam ","0 membutuhkan bimbingan dalam ",null,null,0,0,0,0,0,0,0,0,0,0,0,0,0,0,0,0,0,0,0,0,0,0,0,0,0,null,0,0,0,0,0,0,0,0,0,0,0,0,0,0,0,0,0,0,0,0,0,0,0,0,0,null,"","","","","","","","","","","","","","","","","","","","","","","","","",null,"","","","","","","","","","","","","","","","","","","","","","","","","",null,"0 menunjukkan pemahaman dalam ",null,null,"0 membutuhkan bimbingan dalam "]
[null,null,4,{"$f":"'DATA SISWA'!F13","v":0},null,null,null,null,null,null,null,null,null,null,null,null,null,null,null,null,null,null,null,null,null,null,null,null,null,null,null,null,null,null,null,null,null,null,null,null,null,null,null,null,null,null,null,null,null,null,null,null,null,null,"0 menunjukkan pemahaman dalam ","0 membutuhkan bimbingan dalam ",null,null,0,0,0,0,0,0,0,0,0,0,0,0,0,0,0,0,0,0,0,0,0,0,0,0,0,null,0,0,0,0,0,0,0,0,0,0,0,0,0,0,0,0,0,0,0,0,0,0,0,0,0,null,"","","","","","","","","","","","","","","","","","","","","","","","","",null,"","","","","","","","","","","","","","","","","","","","","","","","","",null,"0 menunjukkan pemahaman dalam ",null,null,"0 membutuhkan bimbingan dalam "]
[null,null,5,{"$f":"'DATA SISWA'!F14","v":0},null,null,null,null,null,null,null,null,null,null,null,null,null,null,null,null,null,null,null,null,null,null,null,null,null,null,null,null,null,null,null,null,null,null,null,null,null,null,null,null,null,null,null,null,null,null,null,null,null,null,"0 menunjukkan pemahaman dalam ","0 membutuhkan bimbingan dalam ",null,null,0,0,0,0,0,0,0,0,0,0,0,0,0,0,0,0,0,0,0,0,0,0,0,0,0,null,0,0,0,0,0,0,0,0,0,0,0,0,0,0,0,0,0,0,0,0,0,0,0,0,0,null,"","","","","","","","","","","","","","","","","","","","","","","","","",null,"","","","","","","","","","","","","","","","","","","","","","","","","",null,"0 menunjukkan pemahaman dalam ",null,null,"0 membutuhkan bimbingan dalam "]
[null,null,6,{"$f":"'DATA SISWA'!F15","v":0},null,null,null,null,null,null,null,null,null,null,null,null,null,null,null,null,null,null,null,null,null,null,null,null,null,null,null,null,null,null,null,null,null,null,null,null,null,null,null,null,null,null,null,null,null,null,null,null,null,null,"0 menunjukkan pemahaman dalam ","0 membutuhkan bimbingan dalam ",null,null,0,0,0,0,0,0,0,0,0,0,0,0,0,0,0,0,0,0,0,0,0,0,0,0,0,null,0,0,0,0,0,0,0,0,0,0,0,0,0,0,0,0,0,0,0,0,0,0,0,0,0,null,"","","","","","","","","","","","","","","","","","","","","","","","","",null,"","","","","","","","","","","","","","","","","","","","","","","","","",null,"0 menunjukkan pemahaman dalam ",null,null,"0 membutuhkan bimbingan dalam "]
[null,null,7,{"$f":"'DATA SISWA'!F16","v":0},null,null,null,null,null,null,null,null,null,null,null,null,null,null,null,null,null,null,null,null,null,null,null,null,null,null,null,null,null,null,null,null,null,null,null,null,null,null,null,null,null,null,null,null,null,null,null,null,null,null,"0 menunjukkan pemahaman dalam ","0 membutuhkan bimbingan dalam ",null,null,0,0,0,0,0,0,0,0,0,0,0,0,0,0,0,0,0,0,0,0,0,0,0,0,0,null,0,0,0,0,0,0,0,0,0,0,0,0,0,0,0,0,0,0,0,0,0,0,0,0,0,null,"","","","","","","","","","","","","","","","","","","","","","","","","",null,"","","","","","","","","","","","","","","","","","","","","","","","","",null,"0 menunjukkan pemahaman dalam ",null,null,"0 membutuhkan bimbingan dalam "]
[null,null,8,{"$f":"'DATA SISWA'!F17","v":0},null,null,null,null,null,null,null,null,null,null,null,null,null,null,null,null,null,null,null,null,null,null,null,null,null,null,null,null,null,null,null,null,null,null,null,null,null,null,null,null,null,null,null,null,null,null,null,null,null,null,"0 menunjukkan pemahaman dalam ","0 membutuhkan bimbingan dalam ",null,null,0,0,0,0,0,0,0,0,0,0,0,0,0,0,0,0,0,0,0,0,0,0,0,0,0,null,0,0,0,0,0,0,0,0,0,0,0,0,0,0,0,0,0,0,0,0,0,0,0,0,0,null,"","","","","","","","","","","","","","","","","","","","","","","","","",null,"","","","","","","","","","","","","","","","","","","","","","","","","",null,"0 menunjukkan pemahaman dalam ",null,null,"0 membutuhkan bimbingan dalam "]
[null,null,9,{"$f":"'DATA SISWA'!F18","v":0},null,null,null,null,null,null,null,null,null,null,null,null,null,null,null,null,null,null,null,null,null,null,null,null,null,null,null,null,null,null,null,null,null,null,null,null,null,null,null,null,null,null,null,null,null,null,null,null,null,null,"0 menunjukkan pemahaman dalam ","0 membutuhkan bimbingan dalam ",null,null,0,0,0,0,0,0,0,0,0,0,0,0,0,0,0,0,0,0,0,0,0,0,0,0,0,null,0,0,0,0,0,0,0,0,0,0,0,0,0,0,0,0,0,0,0,0,0,0,0,0,0,null,"","","","","","","","","","","","","","","","","","","","","","","","","",null,"","","","","","","","","","","","","","","","","","","","","","","","","",null,"0 menunjukkan pemahaman dalam ",null,null,"0 membutuhkan bimbingan dalam "]
[null,null,10,{"$f":"'DATA SISWA'!F19","v":0},null,null,null,null,null,null,null,null,null,null,null,null,null,null,null,null,null,null,null,null,null,null,null,null,null,null,null,null,null,null,null,null,null,null,null,null,null,null,null,null,null,null,null,null,null,null,null,null,null,null,"0 menunjukkan pemahaman dalam ","0 membutuhkan bimbingan dalam ",null,null,0,0,0,0,0,0,0,0,0,0,0,0,0,0,0,0,0,0,0,0,0,0,0,0,0,null,0,0,0,0,0,0,0,0,0,0,0,0,0,0,0,0,0,0,0,0,0,0,0,0,0,null,"","","","","","","","","","","","","","","","","","","","","","","","","",null,"","","","","","","","","","","","","","","","","","","","","","","","","",null,"0 menunjukkan pemahaman dalam ",null,null,"0 membutuhkan bimbingan dalam "]
[null,null,11,{"$f":"'DATA SISWA'!F20","v":0},null,null,null,null,null,null,null,null,null,null,null,null,null,null,null,null,null,null,null,null,null,null,null,null,null,null,null,null,null,null,null,null,null,null,null,null,null,null,null,null,null,null,null,null,null,null,null,null,null,null,"0 menunjukkan pemahaman dalam ","0 membutuhkan bimbingan dalam ",null,null,0,0,0,0,0,0,0,0,0,0,0,0,0,0,0,0,0,0,0,0,0,0,0,0,0,null,0,0,0,0,0,0,0,0,0,0,0,0,0,0,0,0,0,0,0,0,0,0,0,0,0,null,"","","","","","","","","","","","","","","","","","","","","","","","","",null,"","","","","","","","","","","","","","","","","","","","","","","","","",null,"0 menunjukkan pemahaman dalam ",null,null,"0 membutuhkan bimbingan dalam "]
[null,null,12,{"$f":"'DATA SISWA'!F21","v":0},null,null,null,null,null,null,null,null,null,null,null,null,null,null,null,null,null,null,null,null,null,null,null,null,null,null,null,null,null,null,null,null,null,null,null,null,null,null,null,null,null,null,null,null,null,null,null,null,null,null,"0 menunjukkan pemahaman dalam ","0 membutuhkan bimbingan dalam ",null,null,0,0,0,0,0,0,0,0,0,0,0,0,0,0,0,0,0,0,0,0,0,0,0,0,0,null,0,0,0,0,0,0,0,0,0,0,0,0,0,0,0,0,0,0,0,0,0,0,0,0,0,null,"","","","","","","","","","","","","","","","","","","","","","","","","",null,"","","","","","","","","","","","","","","","","","","","","","","","","",null,"0 menunjukkan pemahaman dalam ",null,null,"0 membutuhkan bimbingan dalam "]
[null,null,13,{"$f":"'DATA SISWA'!F22","v":0},null,null,null,null,null,null,null,null,null,null,null,null,null,null,null,null,null,null,null,null,null,null,null,null,null,null,null,null,null,null,null,null,null,null,null,null,null,null,null,null,null,null,null,null,null,null,null,null,null,null,"0 menunjukkan pemahaman dalam ","0 membutuhkan bimbingan dalam ",null,null,0,0,0,0,0,0,0,0,0,0,0,0,0,0,0,0,0,0,0,0,0,0,0,0,0,null,0,0,0,0,0,0,0,0,0,0,0,0,0,0,0,0,0,0,0,0,0,0,0,0,0,null,"","","","","","","","","","","","","","","","","","","","","","","","","",null,"","","","","","","","","","","","","","","","","","","","","","","","","",null,"0 menunjukkan pemahaman dalam ",null,null,"0 membutuhkan bimbingan dalam "]
[null,null,14,{"$f":"'DATA SISWA'!F23","v":0},null,null,null,null,null,null,null,null,null,null,null,null,null,null,null,null,null,null,null,null,null,null,null,null,null,null,null,null,null,null,null,null,null,null,null,null,null,null,null,null,null,null,null,null,null,null,null,null,null,null,"0 menunjukkan pemahaman dalam ","0 membutuhkan bimbingan dalam ",null,null,0,0,0,0,0,0,0,0,0,0,0,0,0,0,0,0,0,0,0,0,0,0,0,0,0,null,0,0,0,0,0,0,0,0,0,0,0,0,0,0,0,0,0,0,0,0,0,0,0,0,0,null,"","","","","","","","","","","","","","","","","","","","","","","","","",null,"","","","","","","","","","","","","","","","","","","","","","","","","",null,"0 menunjukkan pemahaman dalam ",null,null,"0 membutuhkan bimbingan dalam "]
[null,null,15,{"$f":"'DATA SISWA'!F24","v":0},null,null,null,null,null,null,null,null,null,null,null,null,null,null,null,null,null,null,null,null,null,null,null,null,null,null,null,null,null,null,null,null,null,null,null,null,null,null,null,null,null,null,null,null,null,null,null,null,null,null,"0 menunjukkan pemahaman dalam ","0 membutuhkan bimbingan dalam ",null,null,0,0,0,0,0,0,0,0,0,0,0,0,0,0,0,0,0,0,0,0,0,0,0,0,0,null,0,0,0,0,0,0,0,0,0,0,0,0,0,0,0,0,0,0,0,0,0,0,0,0,0,null,"","","","","","","","","","","","","","","","","","","","","","","","","",null,"","","","","","","","","","","","","","","","","","","","","","","","","",null,"0 menunjukkan pemahaman dalam ",null,null,"0 membutuhkan bimbingan dalam "]
[null,null,16,{"$f":"'DATA SISWA'!F25","v":0},null,null,null,null,null,null,null,null,null,null,null,null,null,null,null,null,null,null,null,null,null,null,null,null,null,null,null,null,null,null,null,null,null,null,null,null,null,null,null,null,null,null,null,null,null,null,null,null,null,null,"0 menunjukkan pemahaman dalam ","0 membutuhkan bimbingan dalam ",null,null,0,0,0,0,0,0,0,0,0,0,0,0,0,0,0,0,0,0,0,0,0,0,0,0,0,null,0,0,0,0,0,0,0,0,0,0,0,0,0,0,0,0,0,0,0,0,0,0,0,0,0,null,"","","","","","","","","","","","","","","","","","","","","","","","","",null,"","","","","","","","","","","","","","","","","","","","","","","","","",null,"0 menunjukkan pemahaman dalam ",null,null,"0 membutuhkan bimbingan dalam "]
[null,null,17,{"$f":"'DATA SISWA'!F26","v":0},null,null,null,null,null,null,null,null,null,null,null,null,null,null,null,null,null,null,null,null,null,null,null,null,null,null,null,null,null,null,null,null,null,null,null,null,null,null,null,null,null,null,null,null,null,null,null,null,null,null,"0 menunjukkan pemahaman dalam ","0 membutuhkan bimbingan dalam ",null,null,0,0,0,0,0,0,0,0,0,0,0,0,0,0,0,0,0,0,0,0,0,0,0,0,0,null,0,0,0,0,0,0,0,0,0,0,0,0,0,0,0,0,0,0,0,0,0,0,0,0,0,null,"","","","","","","","","","","","","","","","",{"$f":"IF(AND(BW33=1,CW33=1),DW$15&\", \",\"\")","v":""},"","","","","","","","",null,"","","","","","","","","","","","","","","","",{"$f":"IF(AND(BW33=1,CW33=0),EW$15&\", \",\"\")","v":""},"","","","","","","","",null,"0 menunjukkan pemahaman dalam ",null,null,"0 membutuhkan bimbingan dalam "]
[null,null,18,{"$f":"'DATA SISWA'!F27","v":0},null,null,null,null,null,null,null,null,null,null,null,null,null,null,null,null,null,null,null,null,null,null,null,null,null,null,null,null,null,null,null,null,null,null,null,null,null,null,null,null,null,null,null,null,null,null,null,null,null,null,"0 menunjukkan pemahaman dalam ","0 membutuhkan bimbingan dalam ",null,null,0,0,0,0,0,0,0,0,0,0,0,0,0,0,0,0,0,0,0,0,0,0,0,0,0,null,0,0,0,0,0,0,0,0,0,0,0,0,0,0,0,0,0,0,0,0,0,0,0,0,0,null,"","","","","","","","","","","","","","","","","","","","","","","","","",null,"","","","","","","","","","","","","","","","","","","","","","","","","",null,"0 menunjukkan pemahaman dalam ",null,null,"0 membutuhkan bimbingan dalam "]
[null,null,19,{"$f":"'DATA SISWA'!F28","v":0},null,null,null,null,null,null,null,null,null,null,null,null,null,null,null,null,null,null,null,null,null,null,null,null,null,null,null,null,null,null,null,null,null,null,null,null,null,null,null,null,null,null,null,null,null,null,null,null,null,null,"0 menunjukkan pemahaman dalam ","0 membutuhkan bimbingan dalam ",null,null,0,0,0,0,0,0,0,0,0,0,0,0,0,0,0,0,0,0,0,0,0,0,0,0,0,null,0,0,0,0,0,0,0,0,0,0,0,0,0,0,0,0,0,0,0,0,0,0,0,0,0,null,"","","","","","","","","","","","","","","","","","","","","","","","","",null,"","","","","","","","","","","","","","","","","","","","","","","","","",null,"0 menunjukkan pemahaman dalam ",null,null,"0 membutuhkan bimbingan dalam "]
[null,null,20,{"$f":"'DATA SISWA'!F29","v":0},null,null,null,null,null,null,null,null,null,null,null,null,null,null,null,null,null,null,null,null,null,null,null,null,null,null,null,null,null,null,null,null,null,null,null,null,null,null,null,null,null,null,null,null,null,null,null,null,null,null,"0 menunjukkan pemahaman dalam ","0 membutuhkan bimbingan dalam ",null,null,0,0,0,0,0,0,0,0,0,0,0,0,0,0,0,0,0,0,0,0,0,0,0,0,0,null,0,0,0,0,0,0,0,0,0,0,0,0,0,0,0,0,0,0,0,0,0,0,0,0,0,null,"","","","","","","","","","","","","","","","","","","","","","","","","",null,"","","","","","","","","","","","","","","","","","","","","","","","","",null,"0 menunjukkan pemahaman dalam ",null,null,"0 membutuhkan bimbingan dalam "]
[null,null,21,{"$f":"'DATA SISWA'!F30","v":0},null,null,null,null,null,null,null,null,null,null,null,null,null,null,null,null,null,null,null,null,null,null,null,null,null,null,null,null,null,null,null,null,null,null,null,null,null,null,null,null,null,null,null,null,null,null,null,null,null,null,"0 menunjukkan pemahaman dalam ","0 membutuhkan bimbingan dalam ",null,null,0,0,0,0,0,0,0,0,0,0,0,0,0,0,0,0,0,0,0,0,0,0,0,0,0,null,0,0,0,0,0,0,0,0,0,0,0,0,0,0,0,0,0,0,0,0,0,0,0,0,0,null,"","","","","","","","","","","","","","","","","","","","","","","","","",null,"","","","","","","","","","","","","","","","","","","","","","","","","",null,"0 menunjukkan pemahaman dalam ",null,null,"0 membutuhkan bimbingan dalam "]
[null,null,22,{"$f":"'DATA SISWA'!F31","v":0},null,null,null,null,null,null,null,null,null,null,null,null,null,null,null,null,null,null,null,null,null,null,null,null,null,null,null,null,null,null,null,null,null,null,null,null,null,null,null,null,null,null,null,null,null,null,null,null,null,null,"0 menunjukkan pemahaman dalam ","0 membutuhkan bimbingan dalam ",null,null,0,0,0,0,0,0,0,0,0,0,0,0,0,0,0,0,0,0,0,0,0,0,0,0,0,null,0,0,0,0,0,0,0,0,0,0,0,0,0,0,0,0,0,0,0,0,0,0,0,0,0,null,"","","","","","","","","","","","","","","","","","","","","","","","","",null,"","","","","","","","","","","","","","","","","","","","","","","","","",null,"0 menunjukkan pemahaman dalam ",null,null,"0 membutuhkan bimbingan dalam "]
[null,null,23,{"$f":"'DATA SISWA'!F32","v":0},null,null,null,null,null,null,null,null,null,null,null,null,null,null,null,null,null,null,null,null,null,null,null,null,null,null,null,null,null,null,null,null,null,null,null,null,null,null,null,null,null,null,null,null,null,null,null,null,null,null,"0 menunjukkan pemahaman dalam ","0 membutuhkan bimbingan dalam ",null,null,0,0,0,0,0,0,0,0,0,0,0,0,0,0,0,0,0,0,0,0,0,0,0,0,0,null,0,0,0,0,0,0,0,0,0,0,0,0,0,0,0,0,0,0,0,0,0,0,0,0,0,null,"","","","","","","","","","","","","","","","","","","","","","","","","",null,"","","","","","","","","","","","","","","","","","","","","","","","","",null,"0 menunjukkan pemahaman dalam ",null,null,"0 membutuhkan bimbingan dalam "]
[null,null,24,{"$f":"'DATA SISWA'!F33","v":0},null,null,null,null,null,null,null,null,null,null,null,null,null,null,null,null,null,null,null,null,null,null,null,null,null,null,null,null,null,null,null,null,null,null,null,null,null,null,null,null,null,null,null,null,null,null,null,null,null,null,"0 menunjukkan pemahaman dalam ","0 membutuhkan bimbingan dalam ",null,null,0,0,0,0,0,0,0,0,0,0,0,0,0,0,0,0,0,0,0,0,0,0,0,0,0,null,0,0,0,0,0,0,0,0,0,0,0,0,0,0,0,0,0,0,0,0,0,0,0,0,0,null,"","","","","","","","","","","","","","","","","","","","","","","","","",null,"","","","","","","","","","","","","","","","","","","","","","","","","",null,"0 menunjukkan pemahaman dalam ",null,null,"0 membutuhkan bimbingan dalam "]
[null,null,25,{"$f":"'DATA SISWA'!F34","v":0},null,null,null,null,null,null,null,null,null,null,null,null,null,null,null,null,null,null,null,null,null,null,null,null,null,null,null,null,null,null,null,null,null,null,null,null,null,null,null,null,null,null,null,null,null,null,null,null,null,null,"0 menunjukkan pemahaman dalam ","0 membutuhkan bimbingan dalam ",null,null,0,0,0,0,0,0,0,0,0,0,0,0,0,0,0,0,0,0,0,0,0,0,0,0,0,null,0,0,0,0,0,0,0,0,0,0,0,0,0,0,0,0,0,0,0,0,0,0,0,0,0,null,"","","","","","","","","","","","","","","","","","","","","","","","","",null,"","","","","","","","","","","","","","","","","","","","","","","","","",null,"0 menunjukkan pemahaman dalam ",null,null,"0 membutuhkan bimbingan dalam "]
[null,null,26,{"$f":"'DATA SISWA'!F35","v":0},null,null,null,null,null,null,null,null,null,null,null,null,null,null,null,null,null,null,null,null,null,null,null,null,null,null,null,null,null,null,null,null,null,null,null,null,null,null,null,null,null,null,null,null,null,null,null,null,null,null,"0 menunjukkan pemahaman dalam ","0 membutuhkan bimbingan dalam ",null,null,0,0,0,0,0,0,0,0,0,0,0,0,0,0,0,0,0,0,0,0,0,0,0,0,0,null,0,0,0,0,0,0,0,0,0,0,0,0,0,0,0,0,0,0,0,0,0,0,0,0,0,null,"","","","","","","","","","","","","","","","","","","","","","","","","",null,"","","","","","","","","","","","","","","","","","","","","","","","","",null,"0 menunjukkan pemahaman dalam ",null,null,"0 membutuhkan bimbingan dalam "]
[null,null,27,{"$f":"'DATA SISWA'!F36","v":0},null,null,null,null,null,null,null,null,null,null,null,null,null,null,null,null,null,null,null,null,null,null,null,null,null,null,null,null,null,null,null,null,null,null,null,null,null,null,null,null,null,null,null,null,null,null,null,null,null,null,"0 menunjukkan pemahaman dalam ","0 membutuhkan bimbingan dalam ",null,null,0,0,0,0,0,0,0,0,0,0,0,0,0,0,0,0,0,0,0,0,0,0,0,0,0,null,0,0,0,0,0,0,0,0,0,0,0,0,0,0,0,0,0,0,0,0,0,0,0,0,0,null,"","","","","",{"$f":"IF(AND(BL43=1,CL43=1),DL$15&\", \",\"\")","v":""},"","","","","","","","","","","","","","","","","","","",null,"","","","","",{"$f":"IF(AND(BL43=1,CL43=0),EL$15&\", \",\"\")","v":""},"","","","","","","","","","","","","","","","","","","",null,"0 menunjukkan pemahaman dalam ",null,null,"0 membutuhkan bimbingan dalam "]
[null,null,28,{"$f":"'DATA SISWA'!F37","v":0},null,null,null,null,null,null,null,null,null,null,null,null,null,null,null,null,null,null,null,null,null,null,null,null,null,null,null,null,null,null,null,null,null,null,null,null,null,null,null,null,null,null,null,null,null,null,null,null,null,null,"0 menunjukkan pemahaman dalam ","0 membutuhkan bimbingan dalam ",null,null,0,0,0,0,0,0,0,0,0,0,0,0,0,0,0,0,0,0,0,0,0,0,0,0,0,null,0,0,0,0,0,0,0,0,0,0,0,0,0,0,0,0,0,0,0,0,0,0,0,0,0,null,{"$f":"IF(AND(BG44=1,CG44=1),DG$15&\", \",\"\")","v":""},"","","","","","","","","","","","","","","","","","","","","","","","",null,{"$f":"IF(AND(BG44=1,CG44=0),EG$15&\", \",\"\")","v":""},"","","","","","","","","","","","","","","","","","","","","","","","",null,"0 menunjukkan pemahaman dalam ",null,null,"0 membutuhkan bimbingan dalam "]
[null,null,29,{"$f":"'DATA SISWA'!F38","v":0},null,null,null,null,null,null,null,null,null,null,null,null,null,null,null,null,null,null,null,null,null,null,null,null,null,null,null,null,null,null,null,null,null,null,null,null,null,null,null,null,null,null,null,null,null,null,null,null,null,null,"0 menunjukkan pemahaman dalam ","0 membutuhkan bimbingan dalam ",null,null,0,0,0,0,0,0,0,0,0,0,0,0,0,0,0,0,0,0,0,0,0,0,0,0,0,null,0,0,0,0,0,0,0,0,0,0,0,0,0,0,0,0,0,0,0,0,0,0,0,0,0,null,"","","","","","","","","","","","","","","","","","","","","","","","","",null,"","","","","","","","","","","","","","","","","","","","","","","","","",null,"0 menunjukkan pemahaman dalam ",null,null,"0 membutuhkan bimbingan dalam "]
[null,null,30,{"$f":"'DATA SISWA'!F39","v":0},null,null,null,null,null,null,null,null,null,null,null,null,null,null,null,null,null,null,null,null,null,null,null,null,null,null,null,null,null,null,null,null,null,null,null,null,null,null,null,null,null,null,null,null,null,null,null,null,null,null,"0 menunjukkan pemahaman dalam ","0 membutuhkan bimbingan dalam ",null,null,0,0,0,0,0,0,0,0,0,0,0,0,0,0,0,0,0,0,0,0,0,0,0,0,0,null,0,0,0,0,0,0,0,0,0,0,0,0,0,0,0,0,0,0,0,0,0,0,0,0,0,null,"","","","","","","","","","","","","","","","","","","","","","","","","",null,"","","","","","","","","","","","","","","","","","","","","","","","","",null,"0 menunjukkan pemahaman dalam ",null,null,"0 membutuhkan bimbingan dalam "]
[null,null,31,{"$f":"'DATA SISWA'!F40","v":0},null,null,null,null,null,null,null,null,null,null,null,null,null,null,null,null,null,null,null,null,null,null,null,null,null,null,null,null,null,null,null,null,null,null,null,null,null,null,null,null,null,null,null,null,null,null,null,null,null,null,"0 menunjukkan pemahaman dalam ","0 membutuhkan bimbingan dalam ",null,null,0,0,0,0,0,0,0,0,0,0,0,0,0,0,0,0,0,0,0,0,0,0,0,0,0,null,0,0,0,0,0,0,0,0,0,0,0,0,0,0,0,0,0,0,0,0,0,0,0,0,0,null,"","","","","","","","","","","","","","","","","","","","","","","","","",null,"","","","","","","","","","","","","","","","","","","","","","","","","",null,"0 menunjukkan pemahaman dalam ",null,null,"0 membutuhkan bimbingan dalam "]
[null,null,32,{"$f":"'DATA SISWA'!F41","v":0},null,null,null,null,null,null,null,null,null,null,null,null,null,null,null,null,null,null,null,null,null,null,null,null,null,null,null,null,null,null,null,null,null,null,null,null,null,null,null,null,null,null,null,null,null,null,null,null,null,null,"0 menunjukkan pemahaman dalam ","0 membutuhkan bimbingan dalam ",null,null,0,0,0,0,0,0,0,0,0,0,0,0,0,0,0,0,0,0,0,0,0,0,0,0,0,null,0,0,0,0,0,0,0,0,0,0,0,0,0,0,0,0,0,0,0,0,0,0,0,0,0,null,"","","","","","","","","","","","","","","","","","","","","","","","","",null,"","","","","","","","","","","","","","","","","","","","","","","","","",null,"0 menunjukkan pemahaman dalam ",null,null,"0 membutuhkan bimbingan dalam "]
[null,null,33,{"$f":"'DATA SISWA'!F42","v":0},null,null,null,null,null,null,null,null,null,null,null,null,null,null,null,null,null,null,null,null,null,null,null,null,null,null,null,null,null,null,null,null,null,null,null,null,null,null,null,null,null,null,null,null,null,null,null,null,null,null,"0 menunjukkan pemahaman dalam ","0 membutuhkan bimbingan dalam ",null,null,0,0,0,0,0,0,0,0,0,0,0,0,0,0,0,0,0,0,0,0,0,0,0,0,0,null,0,0,0,0,0,0,0,0,0,0,0,0,0,0,0,0,0,0,0,0,0,0,0,0,0,null,"","","","","","","","","","","","","","","","","","","","","","","","","",null,"","","","","","","","","","","","","","","","","","","","","","","","","",null,"0 menunjukkan pemahaman dalam ",null,null,"0 membutuhkan bimbingan dalam "]
[null,null,34,{"$f":"'DATA SISWA'!F43","v":0},null,null,null,null,null,null,null,null,null,null,null,null,null,null,null,null,null,null,null,null,null,null,null,null,null,null,null,null,null,null,null,null,null,null,null,null,null,null,null,null,null,null,null,null,null,null,null,null,null,null,"0 menunjukkan pemahaman dalam ","0 membutuhkan bimbingan dalam ",null,null,0,0,0,0,0,0,0,0,0,0,0,0,0,0,0,0,0,0,0,0,0,0,0,0,0,null,0,0,0,0,0,0,0,0,0,0,0,0,0,0,0,0,0,0,0,0,0,0,0,0,0,null,"","","","","","","","","","","","","","","","","","","","","","","","","",null,"","","","","","","","","","","","","","","","","","","","","","","","","",null,"0 menunjukkan pemahaman dalam ",null,null,"0 membutuhkan bimbingan dalam "]
[null,null,35,{"$f":"'DATA SISWA'!F44","v":0},null,null,null,null,null,null,null,null,null,null,null,null,null,null,null,null,null,null,null,null,null,null,null,null,null,null,null,null,null,null,null,null,null,null,null,null,null,null,null,null,null,null,null,null,null,null,null,null,null,null,"0 menunjukkan pemahaman dalam ","0 membutuhkan bimbingan dalam ",null,null,0,0,0,0,0,0,0,0,0,0,0,0,0,0,0,0,0,0,0,0,0,0,0,0,0,null,0,0,0,0,0,0,0,0,0,0,0,0,0,0,0,0,0,0,0,0,0,0,0,0,0,null,"","","","","","","","","","","","","","","","","","","","","","","","","",null,"","","","","","","","","","","","","","","","","","","","","","","","","",null,"0 menunjukkan pemahaman dalam ",null,null,"0 membutuhkan bimbingan dalam "]
[null,null,36,{"$f":"'DATA SISWA'!F45","v":0},null,null,null,null,null,null,null,null,null,null,null,null,null,null,null,null,null,null,null,null,null,null,null,null,null,null,null,null,null,null,null,null,null,null,null,null,null,null,null,null,null,null,null,null,null,null,null,null,null,null,"0 menunjukkan pemahaman dalam ","0 membutuhkan bimbingan dalam ",null,null,0,0,0,0,0,0,0,0,0,0,0,0,0,0,0,0,0,0,0,0,0,0,0,0,0,null,0,0,0,0,0,0,0,0,0,0,0,0,0,0,0,0,0,0,0,0,0,0,0,0,0,null,"","","","","","","","","","","","","","","","","","","","","","","","","",null,"","","","","","","","","","","","","","","","","","","","","","","","","",null,"0 menunjukkan pemahaman dalam ",null,null,"0 membutuhkan bimbingan dalam "]
[null,null,37,{"$f":"'DATA SISWA'!F46","v":0},null,null,null,null,null,null,null,null,null,null,null,null,null,null,null,null,null,null,null,null,null,null,null,null,null,null,null,null,null,null,null,null,null,null,null,null,null,null,null,null,null,null,null,null,null,null,null,null,null,null,"0 menunjukkan pemahaman dalam ","0 membutuhkan bimbingan dalam ",null,null,0,0,0,0,0,0,0,0,0,0,0,0,0,0,0,0,0,0,0,0,0,0,0,0,0,null,0,0,0,0,0,0,0,0,0,0,0,0,0,0,0,0,0,0,0,0,0,0,0,0,0,null,"","","","","","","","","","","","","","","","","","","","","","","","","",null,"","","","","","","","","","","","","","","","","","","","","","","","","",null,"0 menunjukkan pemahaman dalam ",null,null,"0 membutuhkan bimbingan dalam "]
[null,null,38,{"$f":"'DATA SISWA'!F47","v":0},null,null,null,null,null,null,null,null,null,null,null,null,null,null,null,null,null,null,null,null,null,null,null,null,null,null,null,null,null,null,null,null,null,null,null,null,null,null,null,null,null,null,null,null,null,null,null,null,null,null,"0 menunjukkan pemahaman dalam ","0 membutuhkan bimbingan dalam ",null,null,0,0,0,0,0,0,0,0,0,0,0,0,0,0,0,0,0,0,0,0,0,0,0,0,0,null,0,0,0,0,0,0,0,0,0,0,0,0,0,0,0,0,0,0,0,0,0,0,0,0,0,null,"","","","","","","","","","","","","","","","","","","","","","","","","",null,"","","","","","","","","","","","","","","","","","","","","","","","","",null,"0 menunjukkan pemahaman dalam ",null,null,"0 membutuhkan bimbingan dalam "]
[null,null,39,{"$f":"'DATA SISWA'!F48","v":0},null,null,null,null,null,null,null,null,null,null,null,null,null,null,null,null,null,null,null,null,null,null,null,null,null,null,null,null,null,null,null,null,null,null,null,null,null,null,null,null,null,null,null,null,null,null,null,null,null,null,"0 menunjukkan pemahaman dalam ","0 membutuhkan bimbingan dalam ",null,null,0,0,0,0,0,0,0,0,0,0,0,0,0,0,0,0,0,0,0,0,0,0,0,0,0,null,0,0,0,0,0,0,0,0,0,0,0,0,0,0,0,0,0,0,0,0,0,0,0,0,0,null,"","","","","","","","","","","","","","","","","","","","","","","","","",null,"","","","","","","","","","","","","","","","","","","","","","","","","",null,"0 menunjukkan pemahaman dalam ",null,null,"0 membutuhkan bimbingan dalam "]
[null,null,40,{"$f":"'DATA SISWA'!F49","v":0},null,null,null,null,null,null,null,null,null,null,null,null,null,null,null,null,null,null,null,null,null,null,null,null,null,null,null,null,null,null,null,null,null,null,null,null,null,null,null,null,null,null,null,null,null,null,null,null,null,null,"0 menunjukkan pemahaman dalam ","0 membutuhkan bimbingan dalam ",null,null,0,0,0,0,0,0,0,0,0,0,0,0,0,0,0,0,0,0,0,0,0,0,0,0,0,null,0,0,0,0,0,0,0,0,0,0,0,0,0,0,0,0,0,0,0,0,0,0,0,0,0,null,"","","","","","","","","","","","","","","","","","","","","","","","","",null,"","","","","","","","","","","","","","","","","","","","","","","","","",null,"0 menunjukkan pemahaman dalam ",null,null,"0 membutuhkan bimbingan dalam "]

{"sheet":"F12","index":45,"n_rows":56,"n_cols":166,"rows_kept":56,"cut":false,"hidden":false,"merged":[[12,54,15,54],[12,55,15,55],[14,52,14,53],[14,40,14,41],[14,42,14,43],[14,44,14,45],[14,46,14,47],[14,48,14,49],[14,50,14,51],[13,48,13,49],[13,46,13,47],[14,38,14,39],[14,16,14,17],[14,18,14,19],[14,20,14,21],[14,22,14,23],[14,24,14,25],[14,26,14,27],[14,28,14,29],[14,30,14,31],[14,32,14,33],[14,34,14,35],[14,36,14,37],[13,152,13,153],[13,154,13,155],[13,156,13,157],[13,158,13,159],[14,4,14,5],[14,6,14,7],[14,8,14,9],[14,10,14,11],[14,12,14,13],[14,14,14,15],[13,50,13,51],[13,52,13,53],[13,144,13,145],[13,146,13,147],[13,148,13,149],[13,150,13,151],[13,26,13,27],[13,28,13,29],[13,30,13,31],[13,32,13,33],[13,34,13,35],[13,36,13,37],[13,38,13,39],[13,40,13,41],[13,42,13,43],[13,44,13,45],[13,24,13,25],[2,1,2,54],[4,1,4,54],[12,2,15,2],[12,3,15,3],[12,4,12,53],[13,4,13,5],[13,6,13,7],[13,8,13,9],[13,10,13,11],[13,12,13,13],[13,14,13,15],[13,16,13,17],[13,18,13,19],[13,20,13,21],[13,22,13,23]]}
[]
[]
[null,"INPUT ASESMEN FORMATIF"]
[]
[null,{"$f":"\"MATA PELAJARAN : \"&INTRAKURIKULER!D20","v":"MATA PELAJARAN : "}]
[null,"Petunjuk Pengisian :"]
[null,null,1,"Rapor ini berasumsi bahwa guru telah melakukan penilaian formatif dan direkap dalam lembar tersendiri"]
[null,null,2,"Pada Kolom KKTP, pilih '0' jika siswa tidak memenuhi KKTP, Pilih '1' jika siswa memenuhi KKTP. Bisa juga diketikkan langsung angka 1 atau 0"]
[null,null,3,"Pada Kolom Tampil/Tidak, pilih '0' jika tidak ingin menampilkan TP tersebut di deskripsi rapor, pilih '1' jika ingin menampilkan TP di deskripsi rapor. Bisa juga diketikkan langsung angka 1 atau 0",null,null,null,null,null,null,null,null,null,null,null,null,null,null,null,null,null,null,null,null,null,null,null,null,null,null,null,null,null,null,null,null,null,null,null,null,null,null,null,null,null,null,null,null,null,null,null,null,null,null,null,null,null,null,0]
[null,"Contoh :",null,"Pada TP 1, siswa mencapai KKTP tapi tidak ingin ditampilkan dalam rapor. Pilih KKTP = 1, dan Tampil/Tidak = 0.",null,null,null,null,null,null,null,null,null,null,null,null,null,null,null,"Isilah hanya pada TP yang diinginkan",null,null,null,null,null,null,null,null,null,null,null,null,null,null,null,null,null,null,null,null,null,null,null,null,null,null,null,null,null,null,null,null,null,null,null,null,null,null,1]
[null,null,null,"Pada TP 2, siswa tidak mencapai KKTP tapi ingin ditampilkan dalam rapor. Pilih KKTP = 0, dan Tampil/Tidak = 1.",null,null,null,null,null,null,null,null,null,null,null,null,null,null,null,"masuk dalam deskripsi rapor"]
[]
[null,null,"No","Nama Siswa","Tujuan Pembelajaran",null,null,null,null,null,null,null,null,null,null,null,null,null,null,null,null,null,null,null,null,null,null,null,null,null,null,null,null,null,null,null,null,null,null,null,null,null,null,null,null,null,null,null,null,null,null,null,null,null,"Deskripsi Capaian Tertinggi dalam Rapor","Deskripsi Capaian Terendah dalam Rapor"]
[null,null,null,null,"TP 1",null,"TP 2",null,"TP 3",null,"TP 4",null,"TP 5",null,"TP 6",null,"TP 7",null,"TP 8",null,"TP 9",null,"TP 10",null,"TP 11",null,"TP 12",null,"TP 13",null,"TP 14",null,"TP 15",null,"TP 16",null,"TP 17",null,"TP 18",null,"TP 19",null,"TP 20",null,"TP 21",null,"TP 22",null,"TP 23",null,"TP 24",null,"TP 25",null,null,null,null,null,null,null,null,null,null,null,null,null,null,null,null,null,null,null,null,null,null,null,null,null,null,null,null,null,null,null,null,null,null,null,null,null,null,null,null,null,null,null,null,null,null,null,null,null,null,null,null,null,null,null,null,null,"mencapai",null,null,null,null,null,null,null,null,null,null,null,null,null,null,null,null,null,null,null,null,null,null,null,null,null,"tidak mencapai"]
[null,null,null,null,{"$f":"'TP 12'!D8","v":1},null,{"$f":"'TP 12'!D9","v":2},null,{"$f":"'TP 12'!D10","v":3},null,{"$f":"'TP 12'!D11","v":4},null,{"$f":"'TP 12'!D12","v":5},null,{"$f":"'TP 12'!D13","v":6},null,{"$f":"'TP 12'!D14","v":7},null,{"$f":"'TP 12'!D15","v":8},null,{"$f":"'TP 12'!D16","v":9},null,{"$f":"'TP 12'!D17","v":10},null,{"$f":"'TP 12'!D18","v":11},null,{"$f":"'TP 12'!D19","v":12},null,{"$f":"'TP 12'!D20","v":13},null,{"$f":"'TP 12'!D21","v":14},null,{"$f":"'TP 12'!D22","v":15},null,{"$f":"'TP 12'!D23","v":16},null,{"$f":"'TP 12'!D24","v":17},null,{"$f":"'TP 12'!D25","v":18},null,{"$f":"'TP 12'!D26","v":19},null,{"$f":"'TP 12'!D27","v":20},null,{"$f":"'TP 12'!D28","v":21},null,{"$f":"'TP 12'!D29","v":22},null,{"$f":"'TP 12'!D30","v":23},null,{"$f":"'TP 12'!D31","v":24},null,{"$f":"'TP 12'!D32","v":25},null,null,null,null,null,1,2,3,4,5,6,7,8,9,10,11,12,13,14,15,16,17,18,19,20,21,22,23,24,25,null,1,2,3,4,5,6,7,8,9,10,11,12,13,14,15,16,17,18,19,20,21,22,23,24,25,null,{"$f":"E15","v":1},{"$f":"G15","v":2},{"$f":"I15","v":3},{"$f":"K15","v":4},{"$f":"M15","v":5},{"$f":"O15","v":6},{"$f":"Q15","v":7},{"$f":"S15","v":8},{"$f":"U15","v":9},{"$f":"W15","v":10},{"$f":"Y15","v":11},{"$f":"AA15","v":12},{"$f":"AC15","v":13},{"$f":"AE15","v":14},{"$f":"AG15","v":15},{"$f":"AI15","v":16},{"$f":"AK15","v":17},{"$f":"AM15","v":18},{"$f":"AO15","v":19},{"$f":"AQ15","v":20},{"$f":"AS15","v":21},{"$f":"AU15","v":22},{"$f":"AW15","v":23},{"$f":"AY15","v":24},{"$f":"BA15","v":25},null,{"$f":"DG15","v":1},{"$f":"DH15","v":2},3,4,5,6,7,8,9,10,11,12,13,14,15,16,17,18,19,20,21,22,23,24,25,null,"mencapai",null,null,"tidak mencapai"]
[null,null,null,null,"KKTP","Tampil/Tidak","KKTP","Tampil/Tidak","KKTP","Tampil/Tidak","KKTP","Tampil/Tidak","KKTP","Tampil/Tidak","KKTP","Tampil/Tidak","KKTP","Tampil/Tidak","KKTP","Tampil/Tidak","KKTP","Tampil/Tidak","KKTP","Tampil/Tidak","KKTP","Tampil/Tidak","KKTP","Tampil/Tidak","KKTP","Tampil/Tidak","KKTP","Tampil/Tidak","KKTP","Tampil/Tidak","KKTP","Tampil/Tidak","KKTP","Tampil/Tidak","KKTP","Tampil/Tidak","KKTP","Tampil/Tidak","KKTP","Tampil/Tidak","KKTP","Tampil/Tidak","KKTP","Tampil/Tidak","KKTP","Tampil/Tidak","KKTP","Tampil/Tidak","KKTP","Tampil/Tidak",null,null,null,null,null,null,null,null,null,null,null,null,null,null,null,null,null,null,null,null,null,null,null,null,null,null,null,null,null,null,"kktp",null,null,null,null,null,null,null,null,null,null,null,null,null,null,null,null,null,null,null,null,null,null,null,null,null,1,2,3,4,5,6,7,8,9,10,11,12,13,14,15,16,17,18,19,20,21,22,23,24,25,null,1,2,3,4,5,6,7,8,9,10,11,12,13,14,15,16,17,18,19,20,21,22,23,24,25]
[null,null,1,{"$f":"'DATA SISWA'!F10","v":0},null,null,null,null,null,null,null,null,null,null,null,null,null,null,null,null,null,null,null,null,null,null,null,null,null,null,null,null,null,null,null,null,null,null,null,null,null,null,null,null,null,null,null,null,null,null,null,null,null,null,{"$f":"FG17","v":"0 menunjukkan pemahaman dalam "},{"$f":"FJ17","v":"0 membutuhkan bimbingan dalam "},null,null,{"$f":"F17","v":0},{"$f":"H17","v":0},{"$f":"J17","v":0},{"$f":"L17","v":0},{"$f":"N17","v":0},{"$f":"P17","v":0},{"$f":"R17","v":0},{"$f":"T17","v":0},{"$f":"V17","v":0},{"$f":"X17","v":0},{"$f":"Z17","v":0},{"$f":"AB17","v":0},{"$f":"AD17","v":0},{"$f":"AF17","v":0},{"$f":"AH17","v":0},{"$f":"AJ17","v":0},{"$f":"AL17","v":0},{"$f":"AN17","v":0},{"$f":"AP17","v":0},{"$f":"AR17","v":0},{"$f":"AT17","v":0},{"$f":"AV17","v":0},{"$f":"AX17","v":0},{"$f":"AZ17","v":0},{"$f":"BB17","v":0},null,{"$f":"E17","v":0},{"$f":"G17","v":0},{"$f":"I17","v":0},{"$f":"K17","v":0},{"$f":"M17","v":0},{"$f":"O17","v":0},{"$f":"Q17","v":0},{"$f":"S17","v":0},{"$f":"U17","v":0},{"$f":"W17","v":0},{"$f":"Y17","v":0},{"$f":"AA17","v":0},{"$f":"AC17","v":0},{"$f":"AE17","v":0},{"$f":"AG17","v":0},{"$f":"AI17","v":0},{"$f":"AK17","v":0},{"$f":"AM17","v":0},{"$f":"AO17","v":0},{"$f":"AQ17","v":0},{"$f":"AS17","v":0},{"$f":"AU17","v":0},{"$f":"AW17","v":0},{"$f":"AY17","v":0},{"$f":"BA17","v":0},null,{"$f":"IF(AND(BG17=1,CG17=1),DG$15&\", \",\"\")","v":""},{"$f":"IF(AND(BH17=1,CH17=1),DH$15&\", \",\"\")","v":""},"","","","","","","","","","","","","","","",{"$f":"IF(AND(BX17=1,CX17=1),DX$15&\", \",\"\")","v":""},"","","","","","","",null,{"$f":"IF(AND(BG17=1,CG17=0),EG$15&\", \",\"\")","v":""},{"$f":"IF(AND(BH17=1,CH17=0),EH$15&\", \",\"\")","v":""},"","","","","","","","","","","","","","","",{"$f":"IF(AND(BX17=1,CX17=0),EX$15&\", \",\"\")","v":""},"","","","","","","",null,{"$f":"PROPER(D17)&\" menunjukkan pemahaman dalam \"&DG17&DH17&DI17&DJ17&DK17&DL17&DM17&DN17&DO17&DP17&DQ17&DR17&DS17&DT17&DU17&DV17&DW17&DX17&DY17&DZ17&EA17&EB17&EC17&ED17&EE17","v":"0 menunjukkan pemahaman dalam "},null,null,{"$f":"PROPER(D17)&\" membutuhkan bimbingan dalam \"&EG17&EH17&EI17&EJ17&EK17&EL17&EM17&EN17&EO17&EP17&EQ17&ER17&ES17&ET17&EU17&EV17&EW17&EX17&EY17&EZ17&FA17&FB17&FC17&FD17&FE17","v":"0 membutuhkan bimbingan dalam "}]
[null,null,2,{"$f":"'DATA SISWA'!F11","v":0},null,null,null,null,null,null,null,null,null,null,null,null,null,null,null,null,null,null,null,null,null,null,null,null,null,null,null,null,null,null,null,null,null,null,null,null,null,null,null,null,null,null,null,null,null,null,null,null,null,null,{"$f":"FG18","v":"0 menunjukkan pemahaman dalam "},{"$f":"FJ18","v":"0 membutuhkan bimbingan dalam "},null,null,{"$f":"F18","v":0},{"$f":"H18","v":0},{"$f":"J18","v":0},{"$f":"L18","v":0},{"$f":"N18","v":0},{"$f":"P18","v":0},{"$f":"R18","v":0},{"$f":"T18","v":0},{"$f":"V18","v":0},{"$f":"X18","v":0},{"$f":"Z18","v":0},{"$f":"AB18","v":0},{"$f":"AD18","v":0},{"$f":"AF18","v":0},{"$f":"AH18","v":0},{"$f":"AJ18","v":0},{"$f":"AL18","v":0},{"$f":"AN18","v":0},{"$f":"AP18","v":0},{"$f":"AR18","v":0},{"$f":"AT18","v":0},{"$f":"AV18","v":0},{"$f":"AX18","v":0},{"$f":"AZ18","v":0},{"$f":"BB18","v":0},null,{"$f":"E18","v":0},{"$f":"G18","v":0},{"$f":"I18","v":0},{"$f":"K18","v":0},{"$f":"M18","v":0},{"$f":"O18","v":0},{"$f":"Q18","v":0},{"$f":"S18","v":0},{"$f":"U18","v":0},{"$f":"W18","v":0},{"$f":"Y18","v":0},{"$f":"AA18","v":0},{"$f":"AC18","v":0},{"$f":"AE18","v":0},{"$f":"AG18","v":0},{"$f":"AI18","v":0},{"$f":"AK18","v":0},{"$f":"AM18","v":0},{"$f":"AO18","v":0},{"$f":"AQ18","v":0},{"$f":"AS18","v":0},{"$f":"AU18","v":0},{"$f":"AW18","v":0},{"$f":"AY18","v":0},{"$f":"BA18","v":0},null,{"$f":"IF(AND(BG18=1,CG18=1),DG$15&\", \",\"\")","v":""},"","","","","","","","","","","","","","","","","","","","","","","","",null,{"$f":"IF(AND(BG18=1,CG18=0),EG$15&\", \",\"\")","v":""},"","","","","","","","","","","","","","","","","","","","","","","","",null,{"$f":"PROPER(D18)&\" menunjukkan pemahaman dalam \"&DG18&DH18&DI18&DJ18&DK18&DL18&DM18&DN18&DO18&DP18&DQ18&DR18&DS18&DT18&DU18&DV18&DW18&DX18&DY18&DZ18&EA18&EB18&EC18&ED18&EE18","v":"0 menunjukkan pemahaman dalam "},null,null,{"$f":"PROPER(D18)&\" membutuhkan bimbingan dalam \"&EG18&EH18&EI18&EJ18&EK18&EL18&EM18&EN18&EO18&EP18&EQ18&ER18&ES18&ET18&EU18&EV18&EW18&EX18&EY18&EZ18&FA18&FB18&FC18&FD18&FE18","v":"0 membutuhkan bimbingan dalam "}]
[null,null,3,{"$f":"'DATA SISWA'!F12","v":0},null,null,null,null,null,null,null,null,null,null,null,null,null,null,null,null,null,null,null,null,null,null,null,null,null,null,null,null,null,null,null,null,null,null,null,null,null,null,null,null,null,null,null,null,null,null,null,null,null,null,"0 menunjukkan pemahaman dalam ","0 membutuhkan bimbingan dalam ",null,null,0,0,0,0,0,0,0,0,0,0,0,0,0,0,0,0,0,0,0,0,0,0,0,0,0,null,0,0,0,0,0,0,0,0,0,0,0,0,0,0,0,0,0,0,0,0,0,0,0,0,0,null,"","","","","","","","","","","","","","","","","","","","","","","","","",null,"","","","","","","","","","","","","","","","","","","","","","","","","",null,"0 menunjukkan pemahaman dalam ",null,null,"0 membutuhkan bimbingan dalam "]
[null,null,4,{"$f":"'DATA SISWA'!F13","v":0},null,null,null,null,null,null,null,null,null,null,null,null,null,null,null,null,null,null,null,null,null,null,null,null,null,null,null,null,null,null,null,null,null,null,null,null,null,null,null,null,null,null,null,null,null,null,null,null,null,null,"0 menunjukkan pemahaman dalam ","0 membutuhkan bimbingan dalam ",null,null,0,0,0,0,0,0,0,0,0,0,0,0,0,0,0,0,0,0,0,0,0,0,0,0,0,null,0,0,0,0,0,0,0,0,0,0,0,0,0,0,0,0,0,0,0,0,0,0,0,0,0,null,"","","","","","","","","","","","","","","","","","","","","","","","","",null,"","","","","","","","","","","","","","","","","","","","","","","","","",null,"0 menunjukkan pemahaman dalam ",null,null,"0 membutuhkan bimbingan dalam "]
[null,null,5,{"$f":"'DATA SISWA'!F14","v":0},null,null,null,null,null,null,null,null,null,null,null,null,null,null,null,null,null,null,null,null,null,null,null,null,null,null,null,null,null,null,null,null,null,null,null,null,null,null,null,null,null,null,null,null,null,null,null,null,null,null,"0 menunjukkan pemahaman dalam ","0 membutuhkan bimbingan dalam ",null,null,0,0,0,0,0,0,0,0,0,0,0,0,0,0,0,0,0,0,0,0,0,0,0,0,0,null,0,0,0,0,0,0,0,0,0,0,0,0,0,0,0,0,0,0,0,0,0,0,0,0,0,null,"","","","","","","","","","","","","","","","","","","","","","","","","",null,"","","","","","","","","","","","","","","","","","","","","","","","","",null,"0 menunjukkan pemahaman dalam ",null,null,"0 membutuhkan bimbingan dalam "]
[null,null,6,{"$f":"'DATA SISWA'!F15","v":0},null,null,null,null,null,null,null,null,null,null,null,null,null,null,null,null,null,null,null,null,null,null,null,null,null,null,null,null,null,null,null,null,null,null,null,null,null,null,null,null,null,null,null,null,null,null,null,null,null,null,"0 menunjukkan pemahaman dalam ","0 membutuhkan bimbingan dalam ",null,null,0,0,0,0,0,0,0,0,0,0,0,0,0,0,0,0,0,0,0,0,0,0,0,0,0,null,0,0,0,0,0,0,0,0,0,0,0,0,0,0,0,0,0,0,0,0,0,0,0,0,0,null,"","","","","","","","","","","","","","","","","","","","","","","","","",null,"","","","","","","","","","","","","","","","","","","","","","","","","",null,"0 menunjukkan pemahaman dalam ",null,null,"0 membutuhkan bimbingan dalam "]
[null,null,7,{"$f":"'DATA SISWA'!F16","v":0},null,null,null,null,null,null,null,null,null,null,null,null,null,null,null,null,null,null,null,null,null,null,null,null,null,null,null,null,null,null,null,null,null,null,null,null,null,null,null,null,null,null,null,null,null,null,null,null,null,null,"0 menunjukkan pemahaman dalam ","0 membutuhkan bimbingan dalam ",null,null,0,0,0,0,0,0,0,0,0,0,0,0,0,0,0,0,0,0,0,0,0,0,0,0,0,null,0,0,0,0,0,0,0,0,0,0,0,0,0,0,0,0,0,0,0,0,0,0,0,0,0,null,"","","","","","","","","","","","","","","","","","","","","","","","","",null,"","","","","","","","","","","","","","","","","","","","","","","","","",null,"0 menunjukkan pemahaman dalam ",null,null,"0 membutuhkan bimbingan dalam "]
[null,null,8,{"$f":"'DATA SISWA'!F17","v":0},null,null,null,null,null,null,null,null,null,null,null,null,null,null,null,null,null,null,null,null,null,null,null,null,null,null,null,null,null,null,null,null,null,null,null,null,null,null,null,null,null,null,null,null,null,null,null,null,null,null,"0 menunjukkan pemahaman dalam ","0 membutuhkan bimbingan dalam ",null,null,0,0,0,0,0,0,0,0,0,0,0,0,0,0,0,0,0,0,0,0,0,0,0,0,0,null,0,0,0,0,0,0,0,0,0,0,0,0,0,0,0,0,0,0,0,0,0,0,0,0,0,null,"","","","","","","","","","","","","","","","","","","","","","","","","",null,"","","","","","","","","","","","","","","","","","","","","","","","","",null,"0 menunjukkan pemahaman dalam ",null,null,"0 membutuhkan bimbingan dalam "]
[null,null,9,{"$f":"'DATA SISWA'!F18","v":0},null,null,null,null,null,null,null,null,null,null,null,null,null,null,null,null,null,null,null,null,null,null,null,null,null,null,null,null,null,null,null,null,null,null,null,null,null,null,null,null,null,null,null,null,null,null,null,null,null,null,"0 menunjukkan pemahaman dalam ","0 membutuhkan bimbingan dalam ",null,null,0,0,0,0,0,0,0,0,0,0,0,0,0,0,0,0,0,0,0,0,0,0,0,0,0,null,0,0,0,0,0,0,0,0,0,0,0,0,0,0,0,0,0,0,0,0,0,0,0,0,0,null,"","","","","","","","","","","","","","","","","","","","","","","","","",null,"","","","","","","","","","","","","","","","","","","","","","","","","",null,"0 menunjukkan pemahaman dalam ",null,null,"0 membutuhkan bimbingan dalam "]
[null,null,10,{"$f":"'DATA SISWA'!F19","v":0},null,null,null,null,null,null,null,null,null,null,null,null,null,null,null,null,null,null,null,null,null,null,null,null,null,null,null,null,null,null,null,null,null,null,null,null,null,null,null,null,null,null,null,null,null,null,null,null,null,null,"0 menunjukkan pemahaman dalam ","0 membutuhkan bimbingan dalam ",null,null,0,0,0,0,0,0,0,0,0,0,0,0,0,0,0,0,0,0,0,0,0,0,0,0,0,null,0,0,0,0,0,0,0,0,0,0,0,0,0,0,0,0,0,0,0,0,0,0,0,0,0,null,"","","","","","","","","","","","","","","","","","","","","","","","","",null,"","","","","","","","","","","","","","","","","","","","","","","","","",null,"0 menunjukkan pemahaman dalam ",null,null,"0 membutuhkan bimbingan dalam "]
[null,null,11,{"$f":"'DATA SISWA'!F20","v":0},null,null,null,null,null,null,null,null,null,null,null,null,null,null,null,null,null,null,null,null,null,null,null,null,null,null,null,null,null,null,null,null,null,null,null,null,null,null,null,null,null,null,null,null,null,null,null,null,null,null,"0 menunjukkan pemahaman dalam ","0 membutuhkan bimbingan dalam ",null,null,0,0,0,0,0,0,0,0,0,0,0,0,0,0,0,0,0,0,0,0,0,0,0,0,0,null,0,0,0,0,0,0,0,0,0,0,0,0,0,0,0,0,0,0,0,0,0,0,0,0,0,null,"","","","","","","","","","","","","","","","","","","","","","","","","",null,"","","","","","","","","","","","","","","","","","","","","","","","","",null,"0 menunjukkan pemahaman dalam ",null,null,"0 membutuhkan bimbingan dalam "]
[null,null,12,{"$f":"'DATA SISWA'!F21","v":0},null,null,null,null,null,null,null,null,null,null,null,null,null,null,null,null,null,null,null,null,null,null,null,null,null,null,null,null,null,null,null,null,null,null,null,null,null,null,null,null,null,null,null,null,null,null,null,null,null,null,"0 menunjukkan pemahaman dalam ","0 membutuhkan bimbingan dalam ",null,null,0,0,0,0,0,0,0,0,0,0,0,0,0,0,0,0,0,0,0,0,0,0,0,0,0,null,0,0,0,0,0,0,0,0,0,0,0,0,0,0,0,0,0,0,0,0,0,0,0,0,0,null,"","","","","","","","","","","","","","","","","","","","","","","","","",null,"","","","","","","","","","","","","","","","","","","","","","","","","",null,"0 menunjukkan pemahaman dalam ",null,null,"0 membutuhkan bimbingan dalam "]
[null,null,13,{"$f":"'DATA SISWA'!F22","v":0},null,null,null,null,null,null,null,null,null,null,null,null,null,null,null,null,null,null,null,null,null,null,null,null,null,null,null,null,null,null,null,null,null,null,null,null,null,null,null,null,null,null,null,null,null,null,null,null,null,null,"0 menunjukkan pemahaman dalam ","0 membutuhkan bimbingan dalam ",null,null,0,0,0,0,0,0,0,0,0,0,0,0,0,0,0,0,0,0,0,0,0,0,0,0,0,null,0,0,0,0,0,0,0,0,0,0,0,0,0,0,0,0,0,0,0,0,0,0,0,0,0,null,"","","","","","","","","","","","","","","","","","","","","","","","","",null,"","","","","","","","","","","","","","","","","","","","","","","","","",null,"0 menunjukkan pemahaman dalam ",null,null,"0 membutuhkan bimbingan dalam "]
[null,null,14,{"$f":"'DATA SISWA'!F23","v":0},null,null,null,null,null,null,null,null,null,null,null,null,null,null,null,null,null,null,null,null,null,null,null,null,null,null,null,null,null,null,null,null,null,null,null,null,null,null,null,null,null,null,null,null,null,null,null,null,null,null,"0 menunjukkan pemahaman dalam ","0 membutuhkan bimbingan dalam ",null,null,0,0,0,0,0,0,0,0,0,0,0,0,0,0,0,0,0,0,0,0,0,0,0,0,0,null,0,0,0,0,0,0,0,0,0,0,0,0,0,0,0,0,0,0,0,0,0,0,0,0,0,null,"","","","","","","","","","","","","","","","","","","","","","","","","",null,"","","","","","","","","","","","","","","","","","","","","","","","","",null,"0 menunjukkan pemahaman dalam ",null,null,"0 membutuhkan bimbingan dalam "]
[null,null,15,{"$f":"'DATA SISWA'!F24","v":0},null,null,null,null,null,null,null,null,null,null,null,null,null,null,null,null,null,null,null,null,null,null,null,null,null,null,null,null,null,null,null,null,null,null,null,null,null,null,null,null,null,null,null,null,null,null,null,null,null,null,"0 menunjukkan pemahaman dalam ","0 membutuhkan bimbingan dalam ",null,null,0,0,0,0,0,0,0,0,0,0,0,0,0,0,0,0,0,0,0,0,0,0,0,0,0,null,0,0,0,0,0,0,0,0,0,0,0,0,0,0,0,0,0,0,0,0,0,0,0,0,0,null,"","","","","","","","","","","","","","","","","","","","","","","","","",null,"","","","","","","","","","","","","","","","","","","","","","","","","",null,"0 menunjukkan pemahaman dalam ",null,null,"0 membutuhkan bimbingan dalam "]
[null,null,16,{"$f":"'DATA SISWA'!F25","v":0},null,null,null,null,null,null,null,null,null,null,null,null,null,null,null,null,null,null,null,null,null,null,null,null,null,null,null,null,null,null,null,null,null,null,null,null,null,null,null,null,null,null,null,null,null,null,null,null,null,null,"0 menunjukkan pemahaman dalam ","0 membutuhkan bimbingan dalam ",null,null,0,0,0,0,0,0,0,0,0,0,0,0,0,0,0,0,0,0,0,0,0,0,0,0,0,null,0,0,0,0,0,0,0,0,0,0,0,0,0,0,0,0,0,0,0,0,0,0,0,0,0,null,"","","","","","","","","","","","","","","","","","","","","","","","","",null,"","","","","","","","","","","","","","","","","","","","","","","","","",null,"0 menunjukkan pemahaman dalam ",null,null,"0 membutuhkan bimbingan dalam "]
[null,null,17,{"$f":"'DATA SISWA'!F26","v":0},null,null,null,null,null,null,null,null,null,null,null,null,null,null,null,null,null,null,null,null,null,null,null,null,null,null,null,null,null,null,null,null,null,null,null,null,null,null,null,null,null,null,null,null,null,null,null,null,null,null,"0 menunjukkan pemahaman dalam ","0 membutuhkan bimbingan dalam ",null,null,0,0,0,0,0,0,0,0,0,0,0,0,0,0,0,0,0,0,0,0,0,0,0,0,0,null,0,0,0,0,0,0,0,0,0,0,0,0,0,0,0,0,0,0,0,0,0,0,0,0,0,null,"","","","","","","","","","","","","","","","",{"$f":"IF(AND(BW33=1,CW33=1),DW$15&\", \",\"\")","v":""},"","","","","","","","",null,"","","","","","","","","","","","","","","","",{"$f":"IF(AND(BW33=1,CW33=0),EW$15&\", \",\"\")","v":""},"","","","","","","","",null,"0 menunjukkan pemahaman dalam ",null,null,"0 membutuhkan bimbingan dalam "]
[null,null,18,{"$f":"'DATA SISWA'!F27","v":0},null,null,null,null,null,null,null,null,null,null,null,null,null,null,null,null,null,null,null,null,null,null,null,null,null,null,null,null,null,null,null,null,null,null,null,null,null,null,null,null,null,null,null,null,null,null,null,null,null,null,"0 menunjukkan pemahaman dalam ","0 membutuhkan bimbingan dalam ",null,null,0,0,0,0,0,0,0,0,0,0,0,0,0,0,0,0,0,0,0,0,0,0,0,0,0,null,0,0,0,0,0,0,0,0,0,0,0,0,0,0,0,0,0,0,0,0,0,0,0,0,0,null,"","","","","","","","","","","","","","","","","","","","","","","","","",null,"","","","","","","","","","","","","","","","","","","","","","","","","",null,"0 menunjukkan pemahaman dalam ",null,null,"0 membutuhkan bimbingan dalam "]
[null,null,19,{"$f":"'DATA SISWA'!F28","v":0},null,null,null,null,null,null,null,null,null,null,null,null,null,null,null,null,null,null,null,null,null,null,null,null,null,null,null,null,null,null,null,null,null,null,null,null,null,null,null,null,null,null,null,null,null,null,null,null,null,null,"0 menunjukkan pemahaman dalam ","0 membutuhkan bimbingan dalam ",null,null,0,0,0,0,0,0,0,0,0,0,0,0,0,0,0,0,0,0,0,0,0,0,0,0,0,null,0,0,0,0,0,0,0,0,0,0,0,0,0,0,0,0,0,0,0,0,0,0,0,0,0,null,"","","","","","","","","","","","","","","","","","","","","","","","","",null,"","","","","","","","","","","","","","","","","","","","","","","","","",null,"0 menunjukkan pemahaman dalam ",null,null,"0 membutuhkan bimbingan dalam "]
[null,null,20,{"$f":"'DATA SISWA'!F29","v":0},null,null,null,null,null,null,null,null,null,null,null,null,null,null,null,null,null,null,null,null,null,null,null,null,null,null,null,null,null,null,null,null,null,null,null,null,null,null,null,null,null,null,null,null,null,null,null,null,null,null,"0 menunjukkan pemahaman dalam ","0 membutuhkan bimbingan dalam ",null,null,0,0,0,0,0,0,0,0,0,0,0,0,0,0,0,0,0,0,0,0,0,0,0,0,0,null,0,0,0,0,0,0,0,0,0,0,0,0,0,0,0,0,0,0,0,0,0,0,0,0,0,null,"","","","","","","","","","","","","","","","","","","","","","","","","",null,"","","","","","","","","","","","","","","","","","","","","","","","","",null,"0 menunjukkan pemahaman dalam ",null,null,"0 membutuhkan bimbingan dalam "]
[null,null,21,{"$f":"'DATA SISWA'!F30","v":0},null,null,null,null,null,null,null,null,null,null,null,null,null,null,null,null,null,null,null,null,null,null,null,null,null,null,null,null,null,null,null,null,null,null,null,null,null,null,null,null,null,null,null,null,null,null,null,null,null,null,"0 menunjukkan pemahaman dalam ","0 membutuhkan bimbingan dalam ",null,null,0,0,0,0,0,0,0,0,0,0,0,0,0,0,0,0,0,0,0,0,0,0,0,0,0,null,0,0,0,0,0,0,0,0,0,0,0,0,0,0,0,0,0,0,0,0,0,0,0,0,0,null,"","","","","","","","","","","","","","","","","","","","","","","","","",null,"","","","","","","","","","","","","","","","","","","","","","","","","",null,"0 menunjukkan pemahaman dalam ",null,null,"0 membutuhkan bimbingan dalam "]
[null,null,22,{"$f":"'DATA SISWA'!F31","v":0},null,null,null,null,null,null,null,null,null,null,null,null,null,null,null,null,null,null,null,null,null,null,null,null,null,null,null,null,null,null,null,null,null,null,null,null,null,null,null,null,null,null,null,null,null,null,null,null,null,null,"0 menunjukkan pemahaman dalam ","0 membutuhkan bimbingan dalam ",null,null,0,0,0,0,0,0,0,0,0,0,0,0,0,0,0,0,0,0,0,0,0,0,0,0,0,null,0,0,0,0,0,0,0,0,0,0,0,0,0,0,0,0,0,0,0,0,0,0,0,0,0,null,"","","","","","","","","","","","","","","","","","","","","","","","","",null,"","","","","","","","","","","","","","","","","","","","","","","","","",null,"0 menunjukkan pemahaman dalam ",null,null,"0 membutuhkan bimbingan dalam "]
[null,null,23,{"$f":"'DATA SISWA'!F32","v":0},null,null,null,null,null,null,null,null,null,null,null,null,null,null,null,null,null,null,null,null,null,null,null,null,null,null,null,null,null,null,null,null,null,null,null,null,null,null,null,null,null,null,null,null,null,null,null,null,null,null,"0 menunjukkan pemahaman dalam ","0 membutuhkan bimbingan dalam ",null,null,0,0,0,0,0,0,0,0,0,0,0,0,0,0,0,0,0,0,0,0,0,0,0,0,0,null,0,0,0,0,0,0,0,0,0,0,0,0,0,0,0,0,0,0,0,0,0,0,0,0,0,null,"","","","","","","","","","","","","","","","","","","","","","","","","",null,"","","","","","","","","","","","","","","","","","","","","","","","","",null,"0 menunjukkan pemahaman dalam ",null,null,"0 membutuhkan bimbingan dalam "]
[null,null,24,{"$f":"'DATA SISWA'!F33","v":0},null,null,null,null,null,null,null,null,null,null,null,null,null,null,null,null,null,null,null,null,null,null,null,null,null,null,null,null,null,null,null,null,null,null,null,null,null,null,null,null,null,null,null,null,null,null,null,null,null,null,"0 menunjukkan pemahaman dalam ","0 membutuhkan bimbingan dalam ",null,null,0,0,0,0,0,0,0,0,0,0,0,0,0,0,0,0,0,0,0,0,0,0,0,0,0,null,0,0,0,0,0,0,0,0,0,0,0,0,0,0,0,0,0,0,0,0,0,0,0,0,0,null,"","","","","","","","","","","","","","","","","","","","","","","","","",null,"","","","","","","","","","","","","","","","","","","","","","","","","",null,"0 menunjukkan pemahaman dalam ",null,null,"0 membutuhkan bimbingan dalam "]
[null,null,25,{"$f":"'DATA SISWA'!F34","v":0},null,null,null,null,null,null,null,null,null,null,null,null,null,null,null,null,null,null,null,null,null,null,null,null,null,null,null,null,null,null,null,null,null,null,null,null,null,null,null,null,null,null,null,null,null,null,null,null,null,null,"0 menunjukkan pemahaman dalam ","0 membutuhkan bimbingan dalam ",null,null,0,0,0,0,0,0,0,0,0,0,0,0,0,0,0,0,0,0,0,0,0,0,0,0,0,null,0,0,0,0,0,0,0,0,0,0,0,0,0,0,0,0,0,0,0,0,0,0,0,0,0,null,"","","","","","","","","","","","","","","","","","","","","","","","","",null,"","","","","","","","","","","","","","","","","","","","","","","","","",null,"0 menunjukkan pemahaman dalam ",null,null,"0 membutuhkan bimbingan dalam "]
[null,null,26,{"$f":"'DATA SISWA'!F35","v":0},null,null,null,null,null,null,null,null,null,null,null,null,null,null,null,null,null,null,null,null,null,null,null,null,null,null,null,null,null,null,null,null,null,null,null,null,null,null,null,null,null,null,null,null,null,null,null,null,null,null,"0 menunjukkan pemahaman dalam ","0 membutuhkan bimbingan dalam ",null,null,0,0,0,0,0,0,0,0,0,0,0,0,0,0,0,0,0,0,0,0,0,0,0,0,0,null,0,0,0,0,0,0,0,0,0,0,0,0,0,0,0,0,0,0,0,0,0,0,0,0,0,null,"","","","","","","","","","","","","","","","","","","","","","","","","",null,"","","","","","","","","","","","","","","","","","","","","","","","","",null,"0 menunjukkan pemahaman dalam ",null,null,"0 membutuhkan bimbingan dalam "]
[null,null,27,{"$f":"'DATA SISWA'!F36","v":0},null,null,null,null,null,null,null,null,null,null,null,null,null,null,null,null,null,null,null,null,null,null,null,null,null,null,null,null,null,null,null,null,null,null,null,null,null,null,null,null,null,null,null,null,null,null,null,null,null,null,"0 menunjukkan pemahaman dalam ","0 membutuhkan bimbingan dalam ",null,null,0,0,0,0,0,0,0,0,0,0,0,0,0,0,0,0,0,0,0,0,0,0,0,0,0,null,0,0,0,0,0,0,0,0,0,0,0,0,0,0,0,0,0,0,0,0,0,0,0,0,0,null,"","","","","",{"$f":"IF(AND(BL43=1,CL43=1),DL$15&\", \",\"\")","v":""},"","","","","","","","","","","","","","","","","","","",null,"","","","","",{"$f":"IF(AND(BL43=1,CL43=0),EL$15&\", \",\"\")","v":""},"","","","","","","","","","","","","","","","","","","",null,"0 menunjukkan pemahaman dalam ",null,null,"0 membutuhkan bimbingan dalam "]
[null,null,28,{"$f":"'DATA SISWA'!F37","v":0},null,null,null,null,null,null,null,null,null,null,null,null,null,null,null,null,null,null,null,null,null,null,null,null,null,null,null,null,null,null,null,null,null,null,null,null,null,null,null,null,null,null,null,null,null,null,null,null,null,null,"0 menunjukkan pemahaman dalam ","0 membutuhkan bimbingan dalam ",null,null,0,0,0,0,0,0,0,0,0,0,0,0,0,0,0,0,0,0,0,0,0,0,0,0,0,null,0,0,0,0,0,0,0,0,0,0,0,0,0,0,0,0,0,0,0,0,0,0,0,0,0,null,{"$f":"IF(AND(BG44=1,CG44=1),DG$15&\", \",\"\")","v":""},"","","","","","","","","","","","","","","","","","","","","","","","",null,{"$f":"IF(AND(BG44=1,CG44=0),EG$15&\", \",\"\")","v":""},"","","","","","","","","","","","","","","","","","","","","","","","",null,"0 menunjukkan pemahaman dalam ",null,null,"0 membutuhkan bimbingan dalam "]
[null,null,29,{"$f":"'DATA SISWA'!F38","v":0},null,null,null,null,null,null,null,null,null,null,null,null,null,null,null,null,null,null,null,null,null,null,null,null,null,null,null,null,null,null,null,null,null,null,null,null,null,null,null,null,null,null,null,null,null,null,null,null,null,null,"0 menunjukkan pemahaman dalam ","0 membutuhkan bimbingan dalam ",null,null,0,0,0,0,0,0,0,0,0,0,0,0,0,0,0,0,0,0,0,0,0,0,0,0,0,null,0,0,0,0,0,0,0,0,0,0,0,0,0,0,0,0,0,0,0,0,0,0,0,0,0,null,"","","","","","","","","","","","","","","","","","","","","","","","","",null,"","","","","","","","","","","","","","","","","","","","","","","","","",null,"0 menunjukkan pemahaman dalam ",null,null,"0 membutuhkan bimbingan dalam "]
[null,null,30,{"$f":"'DATA SISWA'!F39","v":0},null,null,null,null,null,null,null,null,null,null,null,null,null,null,null,null,null,null,null,null,null,null,null,null,null,null,null,null,null,null,null,null,null,null,null,null,null,null,null,null,null,null,null,null,null,null,null,null,null,null,"0 menunjukkan pemahaman dalam ","0 membutuhkan bimbingan dalam ",null,null,0,0,0,0,0,0,0,0,0,0,0,0,0,0,0,0,0,0,0,0,0,0,0,0,0,null,0,0,0,0,0,0,0,0,0,0,0,0,0,0,0,0,0,0,0,0,0,0,0,0,0,null,"","","","","","","","","","","","","","","","","","","","","","","","","",null,"","","","","","","","","","","","","","","","","","","","","","","","","",null,"0 menunjukkan pemahaman dalam ",null,null,"0 membutuhkan bimbingan dalam "]
[null,null,31,{"$f":"'DATA SISWA'!F40","v":0},null,null,null,null,null,null,null,null,null,null,null,null,null,null,null,null,null,null,null,null,null,null,null,null,null,null,null,null,null,null,null,null,null,null,null,null,null,null,null,null,null,null,null,null,null,null,null,null,null,null,"0 menunjukkan pemahaman dalam ","0 membutuhkan bimbingan dalam ",null,null,0,0,0,0,0,0,0,0,0,0,0,0,0,0,0,0,0,0,0,0,0,0,0,0,0,null,0,0,0,0,0,0,0,0,0,0,0,0,0,0,0,0,0,0,0,0,0,0,0,0,0,null,"","","","","","","","","","","","","","","","","","","","","","","","","",null,"","","","","","","","","","","","","","","","","","","","","","","","","",null,"0 menunjukkan pemahaman dalam ",null,null,"0 membutuhkan bimbingan dalam "]
[null,null,32,{"$f":"'DATA SISWA'!F41","v":0},null,null,null,null,null,null,null,null,null,null,null,null,null,null,null,null,null,null,null,null,null,null,null,null,null,null,null,null,null,null,null,null,null,null,null,null,null,null,null,null,null,null,null,null,null,null,null,null,null,null,"0 menunjukkan pemahaman dalam ","0 membutuhkan bimbingan dalam ",null,null,0,0,0,0,0,0,0,0,0,0,0,0,0,0,0,0,0,0,0,0,0,0,0,0,0,null,0,0,0,0,0,0,0,0,0,0,0,0,0,0,0,0,0,0,0,0,0,0,0,0,0,null,"","","","","","","","","","","","","","","","","","","","","","","","","",null,"","","","","","","","","","","","","","","","","","","","","","","","","",null,"0 menunjukkan pemahaman dalam ",null,null,"0 membutuhkan bimbingan dalam "]
[null,null,33,{"$f":"'DATA SISWA'!F42","v":0},null,null,null,null,null,null,null,null,null,null,null,null,null,null,null,null,null,null,null,null,null,null,null,null,null,null,null,null,null,null,null,null,null,null,null,null,null,null,null,null,null,null,null,null,null,null,null,null,null,null,"0 menunjukkan pemahaman dalam ","0 membutuhkan bimbingan dalam ",null,null,0,0,0,0,0,0,0,0,0,0,0,0,0,0,0,0,0,0,0,0,0,0,0,0,0,null,0,0,0,0,0,0,0,0,0,0,0,0,0,0,0,0,0,0,0,0,0,0,0,0,0,null,"","","","","","","","","","","","","","","","","","","","","","","","","",null,"","","","","","","","","","","","","","","","","","","","","","","","","",null,"0 menunjukkan pemahaman dalam ",null,null,"0 membutuhkan bimbingan dalam "]
[null,null,34,{"$f":"'DATA SISWA'!F43","v":0},null,null,null,null,null,null,null,null,null,null,null,null,null,null,null,null,null,null,null,null,null,null,null,null,null,null,null,null,null,null,null,null,null,null,null,null,null,null,null,null,null,null,null,null,null,null,null,null,null,null,"0 menunjukkan pemahaman dalam ","0 membutuhkan bimbingan dalam ",null,null,0,0,0,0,0,0,0,0,0,0,0,0,0,0,0,0,0,0,0,0,0,0,0,0,0,null,0,0,0,0,0,0,0,0,0,0,0,0,0,0,0,0,0,0,0,0,0,0,0,0,0,null,"","","","","","","","","","","","","","","","","","","","","","","","","",null,"","","","","","","","","","","","","","","","","","","","","","","","","",null,"0 menunjukkan pemahaman dalam ",null,null,"0 membutuhkan bimbingan dalam "]
[null,null,35,{"$f":"'DATA SISWA'!F44","v":0},null,null,null,null,null,null,null,null,null,null,null,null,null,null,null,null,null,null,null,null,null,null,null,null,null,null,null,null,null,null,null,null,null,null,null,null,null,null,null,null,null,null,null,null,null,null,null,null,null,null,"0 menunjukkan pemahaman dalam ","0 membutuhkan bimbingan dalam ",null,null,0,0,0,0,0,0,0,0,0,0,0,0,0,0,0,0,0,0,0,0,0,0,0,0,0,null,0,0,0,0,0,0,0,0,0,0,0,0,0,0,0,0,0,0,0,0,0,0,0,0,0,null,"","","","","","","","","","","","","","","","","","","","","","","","","",null,"","","","","","","","","","","","","","","","","","","","","","","","","",null,"0 menunjukkan pemahaman dalam ",null,null,"0 membutuhkan bimbingan dalam "]
[null,null,36,{"$f":"'DATA SISWA'!F45","v":0},null,null,null,null,null,null,null,null,null,null,null,null,null,null,null,null,null,null,null,null,null,null,null,null,null,null,null,null,null,null,null,null,null,null,null,null,null,null,null,null,null,null,null,null,null,null,null,null,null,null,"0 menunjukkan pemahaman dalam ","0 membutuhkan bimbingan dalam ",null,null,0,0,0,0,0,0,0,0,0,0,0,0,0,0,0,0,0,0,0,0,0,0,0,0,0,null,0,0,0,0,0,0,0,0,0,0,0,0,0,0,0,0,0,0,0,0,0,0,0,0,0,null,"","","","","","","","","","","","","","","","","","","","","","","","","",null,"","","","","","","","","","","","","","","","","","","","","","","","","",null,"0 menunjukkan pemahaman dalam ",null,null,"0 membutuhkan bimbingan dalam "]
[null,null,37,{"$f":"'DATA SISWA'!F46","v":0},null,null,null,null,null,null,null,null,null,null,null,null,null,null,null,null,null,null,null,null,null,null,null,null,null,null,null,null,null,null,null,null,null,null,null,null,null,null,null,null,null,null,null,null,null,null,null,null,null,null,"0 menunjukkan pemahaman dalam ","0 membutuhkan bimbingan dalam ",null,null,0,0,0,0,0,0,0,0,0,0,0,0,0,0,0,0,0,0,0,0,0,0,0,0,0,null,0,0,0,0,0,0,0,0,0,0,0,0,0,0,0,0,0,0,0,0,0,0,0,0,0,null,"","","","","","","","","","","","","","","","","","","","","","","","","",null,"","","","","","","","","","","","","","","","","","","","","","","","","",null,"0 menunjukkan pemahaman dalam ",null,null,"0 membutuhkan bimbingan dalam "]
[null,null,38,{"$f":"'DATA SISWA'!F47","v":0},null,null,null,null,null,null,null,null,null,null,null,null,null,null,null,null,null,null,null,null,null,null,null,null,null,null,null,null,null,null,null,null,null,null,null,null,null,null,null,null,null,null,null,null,null,null,null,null,null,null,"0 menunjukkan pemahaman dalam ","0 membutuhkan bimbingan dalam ",null,null,0,0,0,0,0,0,0,0,0,0,0,0,0,0,0,0,0,0,0,0,0,0,0,0,0,null,0,0,0,0,0,0,0,0,0,0,0,0,0,0,0,0,0,0,0,0,0,0,0,0,0,null,"","","","","","","","","","","","","","","","","","","","","","","","","",null,"","","","","","","","","","","","","","","","","","","","","","","","","",null,"0 menunjukkan pemahaman dalam ",null,null,"0 membutuhkan bimbingan dalam "]
[null,null,39,{"$f":"'DATA SISWA'!F48","v":0},null,null,null,null,null,null,null,null,null,null,null,null,null,null,null,null,null,null,null,null,null,null,null,null,null,null,null,null,null,null,null,null,null,null,null,null,null,null,null,null,null,null,null,null,null,null,null,null,null,null,"0 menunjukkan pemahaman dalam ","0 membutuhkan bimbingan dalam ",null,null,0,0,0,0,0,0,0,0,0,0,0,0,0,0,0,0,0,0,0,0,0,0,0,0,0,null,0,0,0,0,0,0,0,0,0,0,0,0,0,0,0,0,0,0,0,0,0,0,0,0,0,null,"","","","","","","","","","","","","","","","","","","","","","","","","",null,"","","","","","","","","","","","","","","","","","","","","","","","","",null,"0 menunjukkan pemahaman dalam ",null,null,"0 membutuhkan bimbingan dalam "]
[null,null,40,{"$f":"'DATA SISWA'!F49","v":0},null,null,null,null,null,null,null,null,null,null,null,null,null,null,null,null,null,null,null,null,null,null,null,null,null,null,null,null,null,null,null,null,null,null,null,null,null,null,null,null,null,null,null,null,null,null,null,null,null,null,"0 menunjukkan pemahaman dalam ","0 membutuhkan bimbingan dalam ",null,null,0,0,0,0,0,0,0,0,0,0,0,0,0,0,0,0,0,0,0,0,0,0,0,0,0,null,0,0,0,0,0,0,0,0,0,0,0,0,0,0,0,0,0,0,0,0,0,0,0,0,0,null,"","","","","","","","","","","","","","","","","","","","","","","","","",null,"","","","","","","","","","","","","","","","","","","","","","","","","",null,"0 menunjukkan pemahaman dalam ",null,null,"0 membutuhkan bimbingan dalam "]

{"sheet":"F13","index":46,"n_rows":56,"n_cols":166,"rows_kept":56,"cut":false,"hidden":false,"merged":[[12,54,15,54],[12,55,15,55],[14,52,14,53],[14,40,14,41],[14,42,14,43],[14,44,14,45],[14,46,14,47],[14,48,14,49],[14,50,14,51],[13,48,13,49],[13,46,13,47],[14,38,14,39],[14,16,14,17],[14,18,14,19],[14,20,14,21],[14,22,14,23],[14,24,14,25],[14,26,14,27],[14,28,14,29],[14,30,14,31],[14,32,14,33],[14,34,14,35],[14,36,14,37],[13,152,13,153],[13,154,13,155],[13,156,13,157],[13,158,13,159],[14,4,14,5],[14,6,14,7],[14,8,14,9],[14,10,14,11],[14,12,14,13],[14,14,14,15],[13,50,13,51],[13,52,13,53],[13,144,13,145],[13,146,13,147],[13,148,13,149],[13,150,13,151],[13,26,13,27],[13,28,13,29],[13,30,13,31],[13,32,13,33],[13,34,13,35],[13,36,13,37],[13,38,13,39],[13,40,13,41],[13,42,13,43],[13,44,13,45],[13,24,13,25],[2,1,2,54],[4,1,4,54],[12,2,15,2],[12,3,15,3],[12,4,12,53],[13,4,13,5],[13,6,13,7],[13,8,13,9],[13,10,13,11],[13,12,13,13],[13,14,13,15],[13,16,13,17],[13,18,13,19],[13,20,13,21],[13,22,13,23]]}
[]
[]
[null,"INPUT ASESMEN FORMATIF"]
[]
[null,{"$f":"\"MATA PELAJARAN : \"&INTRAKURIKULER!D21","v":"MATA PELAJARAN : "}]
[null,"Petunjuk Pengisian :"]
[null,null,1,"Rapor ini berasumsi bahwa guru telah melakukan penilaian formatif dan direkap dalam lembar tersendiri"]
[null,null,2,"Pada Kolom KKTP, pilih '0' jika siswa tidak memenuhi KKTP, Pilih '1' jika siswa memenuhi KKTP. Bisa juga diketikkan langsung angka 1 atau 0"]
[null,null,3,"Pada Kolom Tampil/Tidak, pilih '0' jika tidak ingin menampilkan TP tersebut di deskripsi rapor, pilih '1' jika ingin menampilkan TP di deskripsi rapor. Bisa juga diketikkan langsung angka 1 atau 0",null,null,null,null,null,null,null,null,null,null,null,null,null,null,null,null,null,null,null,null,null,null,null,null,null,null,null,null,null,null,null,null,null,null,null,null,null,null,null,null,null,null,null,null,null,null,null,null,null,null,null,null,null,null,0]
[null,"Contoh :",null,"Pada TP 1, siswa mencapai KKTP tapi tidak ingin ditampilkan dalam rapor. Pilih KKTP = 1, dan Tampil/Tidak = 0.",null,null,null,null,null,null,null,null,null,null,null,null,null,null,null,"Isilah hanya pada TP yang diinginkan",null,null,null,null,null,null,null,null,null,null,null,null,null,null,null,null,null,null,null,null,null,null,null,null,null,null,null,null,null,null,null,null,null,null,null,null,null,null,1]
[null,null,null,"Pada TP 2, siswa tidak mencapai KKTP tapi ingin ditampilkan dalam rapor. Pilih KKTP = 0, dan Tampil/Tidak = 1.",null,null,null,null,null,null,null,null,null,null,null,null,null,null,null,"masuk dalam deskripsi rapor"]
[]
[null,null,"No","Nama Siswa","Tujuan Pembelajaran",null,null,null,null,null,null,null,null,null,null,null,null,null,null,null,null,null,null,null,null,null,null,null,null,null,null,null,null,null,null,null,null,null,null,null,null,null,null,null,null,null,null,null,null,null,null,null,null,null,"Deskripsi Capaian Tertinggi dalam Rapor","Deskripsi Capaian Terendah dalam Rapor"]
[null,null,null,null,"TP 1",null,"TP 2",null,"TP 3",null,"TP 4",null,"TP 5",null,"TP 6",null,"TP 7",null,"TP 8",null,"TP 9",null,"TP 10",null,"TP 11",null,"TP 12",null,"TP 13",null,"TP 14",null,"TP 15",null,"TP 16",null,"TP 17",null,"TP 18",null,"TP 19",null,"TP 20",null,"TP 21",null,"TP 22",null,"TP 23",null,"TP 24",null,"TP 25",null,null,null,null,null,null,null,null,null,null,null,null,null,null,null,null,null,null,null,null,null,null,null,null,null,null,null,null,null,null,null,null,null,null,null,null,null,null,null,null,null,null,null,null,null,null,null,null,null,null,null,null,null,null,null,null,null,"mencapai",null,null,null,null,null,null,null,null,null,null,null,null,null,null,null,null,null,null,null,null,null,null,null,null,null,"tidak mencapai"]
[null,null,null,null,{"$f":"'TP 13'!D8","v":1},null,{"$f":"'TP 13'!D9","v":2},null,{"$f":"'TP 13'!D10","v":3},null,{"$f":"'TP 13'!D11","v":4},null,{"$f":"'TP 13'!D12","v":5},null,{"$f":"'TP 13'!D13","v":6},null,{"$f":"'TP 13'!D14","v":7},null,{"$f":"'TP 13'!D15","v":8},null,{"$f":"'TP 13'!D16","v":9},null,{"$f":"'TP 13'!D17","v":10},null,{"$f":"'TP 13'!D18","v":11},null,{"$f":"'TP 13'!D19","v":12},null,{"$f":"'TP 13'!D20","v":13},null,{"$f":"'TP 13'!D21","v":14},null,{"$f":"'TP 13'!D22","v":15},null,{"$f":"'TP 13'!D23","v":16},null,{"$f":"'TP 13'!D24","v":17},null,{"$f":"'TP 13'!D25","v":18},null,{"$f":"'TP 13'!D26","v":19},null,{"$f":"'TP 13'!D27","v":20},null,{"$f":"'TP 13'!D28","v":21},null,{"$f":"'TP 13'!D29","v":22},null,{"$f":"'TP 13'!D30","v":23},null,{"$f":"'TP 13'!D31","v":24},null,{"$f":"'TP 13'!D32","v":25},null,null,null,null,null,1,2,3,4,5,6,7,8,9,10,11,12,13,14,15,16,17,18,19,20,21,22,23,24,25,null,1,2,3,4,5,6,7,8,9,10,11,12,13,14,15,16,17,18,19,20,21,22,23,24,25,null,{"$f":"E15","v":1},{"$f":"G15","v":2},{"$f":"I15","v":3},{"$f":"K15","v":4},{"$f":"M15","v":5},{"$f":"O15","v":6},{"$f":"Q15","v":7},{"$f":"S15","v":8},{"$f":"U15","v":9},{"$f":"W15","v":10},{"$f":"Y15","v":11},{"$f":"AA15","v":12},{"$f":"AC15","v":13},{"$f":"AE15","v":14},{"$f":"AG15","v":15},{"$f":"AI15","v":16},{"$f":"AK15","v":17},{"$f":"AM15","v":18},{"$f":"AO15","v":19},{"$f":"AQ15","v":20},{"$f":"AS15","v":21},{"$f":"AU15","v":22},{"$f":"AW15","v":23},{"$f":"AY15","v":24},{"$f":"BA15","v":25},null,{"$f":"DG15","v":1},{"$f":"DH15","v":2},3,4,5,6,7,8,9,10,11,12,13,14,15,16,17,18,19,20,21,22,23,24,25,null,"mencapai",null,null,"tidak mencapai"]
[null,null,null,null,"KKTP","Tampil/Tidak","KKTP","Tampil/Tidak","KKTP","Tampil/Tidak","KKTP","Tampil/Tidak","KKTP","Tampil/Tidak","KKTP","Tampil/Tidak","KKTP","Tampil/Tidak","KKTP","Tampil/Tidak","KKTP","Tampil/Tidak","KKTP","Tampil/Tidak","KKTP","Tampil/Tidak","KKTP","Tampil/Tidak","KKTP","Tampil/Tidak","KKTP","Tampil/Tidak","KKTP","Tampil/Tidak","KKTP","Tampil/Tidak","KKTP","Tampil/Tidak","KKTP","Tampil/Tidak","KKTP","Tampil/Tidak","KKTP","Tampil/Tidak","KKTP","Tampil/Tidak","KKTP","Tampil/Tidak","KKTP","Tampil/Tidak","KKTP","Tampil/Tidak","KKTP","Tampil/Tidak",null,null,null,null,null,null,null,null,null,null,null,null,null,null,null,null,null,null,null,null,null,null,null,null,null,null,null,null,null,null,"kktp",null,null,null,null,null,null,null,null,null,null,null,null,null,null,null,null,null,null,null,null,null,null,null,null,null,1,2,3,4,5,6,7,8,9,10,11,12,13,14,15,16,17,18,19,20,21,22,23,24,25,null,1,2,3,4,5,6,7,8,9,10,11,12,13,14,15,16,17,18,19,20,21,22,23,24,25]
[null,null,1,{"$f":"'DATA SISWA'!F10","v":0},null,null,null,null,null,null,null,null,null,null,null,null,null,null,null,null,null,null,null,null,null,null,null,null,null,null,null,null,null,null,null,null,null,null,null,null,null,null,null,null,null,null,null,null,null,null,null,null,null,null,{"$f":"FG17","v":"0 menunjukkan pemahaman dalam "},{"$f":"FJ17","v":"0 membutuhkan bimbingan dalam "},null,null,{"$f":"F17","v":0},{"$f":"H17","v":0},{"$f":"J17","v":0},{"$f":"L17","v":0},{"$f":"N17","v":0},{"$f":"P17","v":0},{"$f":"R17","v":0},{"$f":"T17","v":0},{"$f":"V17","v":0},{"$f":"X17","v":0},{"$f":"Z17","v":0},{"$f":"AB17","v":0},{"$f":"AD17","v":0},{"$f":"AF17","v":0},{"$f":"AH17","v":0},{"$f":"AJ17","v":0},{"$f":"AL17","v":0},{"$f":"AN17","v":0},{"$f":"AP17","v":0},{"$f":"AR17","v":0},{"$f":"AT17","v":0},{"$f":"AV17","v":0},{"$f":"AX17","v":0},{"$f":"AZ17","v":0},{"$f":"BB17","v":0},null,{"$f":"E17","v":0},{"$f":"G17","v":0},{"$f":"I17","v":0},{"$f":"K17","v":0},{"$f":"M17","v":0},{"$f":"O17","v":0},{"$f":"Q17","v":0},{"$f":"S17","v":0},{"$f":"U17","v":0},{"$f":"W17","v":0},{"$f":"Y17","v":0},{"$f":"AA17","v":0},{"$f":"AC17","v":0},{"$f":"AE17","v":0},{"$f":"AG17","v":0},{"$f":"AI17","v":0},{"$f":"AK17","v":0},{"$f":"AM17","v":0},{"$f":"AO17","v":0},{"$f":"AQ17","v":0},{"$f":"AS17","v":0},{"$f":"AU17","v":0},{"$f":"AW17","v":0},{"$f":"AY17","v":0},{"$f":"BA17","v":0},null,{"$f":"IF(AND(BG17=1,CG17=1),DG$15&\", \",\"\")","v":""},{"$f":"IF(AND(BH17=1,CH17=1),DH$15&\", \",\"\")","v":""},"","","","","","","","","","","","","","","",{"$f":"IF(AND(BX17=1,CX17=1),DX$15&\", \",\"\")","v":""},"","","","","","","",null,{"$f":"IF(AND(BG17=1,CG17=0),EG$15&\", \",\"\")","v":""},{"$f":"IF(AND(BH17=1,CH17=0),EH$15&\", \",\"\")","v":""},"","","","","","","","","","","","","","","",{"$f":"IF(AND(BX17=1,CX17=0),EX$15&\", \",\"\")","v":""},"","","","","","","",null,{"$f":"PROPER(D17)&\" menunjukkan pemahaman dalam \"&DG17&DH17&DI17&DJ17&DK17&DL17&DM17&DN17&DO17&DP17&DQ17&DR17&DS17&DT17&DU17&DV17&DW17&DX17&DY17&DZ17&EA17&EB17&EC17&ED17&EE17","v":"0 menunjukkan pemahaman dalam "},null,null,{"$f":"PROPER(D17)&\" membutuhkan bimbingan dalam \"&EG17&EH17&EI17&EJ17&EK17&EL17&EM17&EN17&EO17&EP17&EQ17&ER17&ES17&ET17&EU17&EV17&EW17&EX17&EY17&EZ17&FA17&FB17&FC17&FD17&FE17","v":"0 membutuhkan bimbingan dalam "}]
[null,null,2,{"$f":"'DATA SISWA'!F11","v":0},null,null,null,null,null,null,null,null,null,null,null,null,null,null,null,null,null,null,null,null,null,null,null,null,null,null,null,null,null,null,null,null,null,null,null,null,null,null,null,null,null,null,null,null,null,null,null,null,null,null,{"$f":"FG18","v":"0 menunjukkan pemahaman dalam "},{"$f":"FJ18","v":"0 membutuhkan bimbingan dalam "},null,null,0,0,0,0,0,0,0,0,0,0,0,0,0,0,0,0,0,0,0,0,0,0,0,0,0,null,0,0,0,0,0,0,0,0,0,0,0,0,0,0,0,0,0,0,0,0,0,0,0,0,0,null,{"$f":"IF(AND(BG18=1,CG18=1),DG$15&\", \",\"\")","v":""},"","","","","","","","","","","","","","","","","","","","","","","","",null,{"$f":"IF(AND(BG18=1,CG18=0),EG$15&\", \",\"\")","v":""},"","","","","","","","","","","","","","","","","","","","","","","","",null,"0 menunjukkan pemahaman dalam ",null,null,"0 membutuhkan bimbingan dalam "]
[null,null,3,{"$f":"'DATA SISWA'!F12","v":0},null,null,null,null,null,null,null,null,null,null,null,null,null,null,null,null,null,null,null,null,null,null,null,null,null,null,null,null,null,null,null,null,null,null,null,null,null,null,null,null,null,null,null,null,null,null,null,null,null,null,"0 menunjukkan pemahaman dalam ","0 membutuhkan bimbingan dalam ",null,null,0,0,0,0,0,0,0,0,0,0,0,0,0,0,0,0,0,0,0,0,0,0,0,0,0,null,0,0,0,0,0,0,0,0,0,0,0,0,0,0,0,0,0,0,0,0,0,0,0,0,0,null,"","","","","","","","","","","","","","","","","","","","","","","","","",null,"","","","","","","","","","","","","","","","","","","","","","","","","",null,"0 menunjukkan pemahaman dalam ",null,null,"0 membutuhkan bimbingan dalam "]
[null,null,4,{"$f":"'DATA SISWA'!F13","v":0},null,null,null,null,null,null,null,null,null,null,null,null,null,null,null,null,null,null,null,null,null,null,null,null,null,null,null,null,null,null,null,null,null,null,null,null,null,null,null,null,null,null,null,null,null,null,null,null,null,null,"0 menunjukkan pemahaman dalam ","0 membutuhkan bimbingan dalam ",null,null,0,0,0,0,0,0,0,0,0,0,0,0,0,0,0,0,0,0,0,0,0,0,0,0,0,null,0,0,0,0,0,0,0,0,0,0,0,0,0,0,0,0,0,0,0,0,0,0,0,0,0,null,"","","","","","","","","","","","","","","","","","","","","","","","","",null,"","","","","","","","","","","","","","","","","","","","","","","","","",null,"0 menunjukkan pemahaman dalam ",null,null,"0 membutuhkan bimbingan dalam "]
[null,null,5,{"$f":"'DATA SISWA'!F14","v":0},null,null,null,null,null,null,null,null,null,null,null,null,null,null,null,null,null,null,null,null,null,null,null,null,null,null,null,null,null,null,null,null,null,null,null,null,null,null,null,null,null,null,null,null,null,null,null,null,null,null,"0 menunjukkan pemahaman dalam ","0 membutuhkan bimbingan dalam ",null,null,0,0,0,0,0,0,0,0,0,0,0,0,0,0,0,0,0,0,0,0,0,0,0,0,0,null,0,0,0,0,0,0,0,0,0,0,0,0,0,0,0,0,0,0,0,0,0,0,0,0,0,null,"","","","","","","","","","","","","","","","","","","","","","","","","",null,"","","","","","","","","","","","","","","","","","","","","","","","","",null,"0 menunjukkan pemahaman dalam ",null,null,"0 membutuhkan bimbingan dalam "]
[null,null,6,{"$f":"'DATA SISWA'!F15","v":0},null,null,null,null,null,null,null,null,null,null,null,null,null,null,null,null,null,null,null,null,null,null,null,null,null,null,null,null,null,null,null,null,null,null,null,null,null,null,null,null,null,null,null,null,null,null,null,null,null,null,"0 menunjukkan pemahaman dalam ","0 membutuhkan bimbingan dalam ",null,null,0,0,0,0,0,0,0,0,0,0,0,0,0,0,0,0,0,0,0,0,0,0,0,0,0,null,0,0,0,0,0,0,0,0,0,0,0,0,0,0,0,0,0,0,0,0,0,0,0,0,0,null,"","","","","","","","","","","","","","","","","","","","","","","","","",null,"","","","","","","","","","","","","","","","","","","","","","","","","",null,"0 menunjukkan pemahaman dalam ",null,null,"0 membutuhkan bimbingan dalam "]
[null,null,7,{"$f":"'DATA SISWA'!F16","v":0},null,null,null,null,null,null,null,null,null,null,null,null,null,null,null,null,null,null,null,null,null,null,null,null,null,null,null,null,null,null,null,null,null,null,null,null,null,null,null,null,null,null,null,null,null,null,null,null,null,null,"0 menunjukkan pemahaman dalam ","0 membutuhkan bimbingan dalam ",null,null,0,0,0,0,0,0,0,0,0,0,0,0,0,0,0,0,0,0,0,0,0,0,0,0,0,null,0,0,0,0,0,0,0,0,0,0,0,0,0,0,0,0,0,0,0,0,0,0,0,0,0,null,"","","","","","","","","","","","","","","","","","","","","","","","","",null,"","","","","","","","","","","","","","","","","","","","","","","","","",null,"0 menunjukkan pemahaman dalam ",null,null,"0 membutuhkan bimbingan dalam "]
[null,null,8,{"$f":"'DATA SISWA'!F17","v":0},null,null,null,null,null,null,null,null,null,null,null,null,null,null,null,null,null,null,null,null,null,null,null,null,null,null,null,null,null,null,null,null,null,null,null,null,null,null,null,null,null,null,null,null,null,null,null,null,null,null,"0 menunjukkan pemahaman dalam ","0 membutuhkan bimbingan dalam ",null,null,0,0,0,0,0,0,0,0,0,0,0,0,0,0,0,0,0,0,0,0,0,0,0,0,0,null,0,0,0,0,0,0,0,0,0,0,0,0,0,0,0,0,0,0,0,0,0,0,0,0,0,null,"","","","","","","","","","","","","","","","","","","","","","","","","",null,"","","","","","","","","","","","","","","","","","","","","","","","","",null,"0 menunjukkan pemahaman dalam ",null,null,"0 membutuhkan bimbingan dalam "]
[null,null,9,{"$f":"'DATA SISWA'!F18","v":0},null,null,null,null,null,null,null,null,null,null,null,null,null,null,null,null,null,null,null,null,null,null,null,null,null,null,null,null,null,null,null,null,null,null,null,null,null,null,null,null,null,null,null,null,null,null,null,null,null,null,"0 menunjukkan pemahaman dalam ","0 membutuhkan bimbingan dalam ",null,null,0,0,0,0,0,0,0,0,0,0,0,0,0,0,0,0,0,0,0,0,0,0,0,0,0,null,0,0,0,0,0,0,0,0,0,0,0,0,0,0,0,0,0,0,0,0,0,0,0,0,0,null,"","","","","","","","","","","","","","","","","","","","","","","","","",null,"","","","","","","","","","","","","","","","","","","","","","","","","",null,"0 menunjukkan pemahaman dalam ",null,null,"0 membutuhkan bimbingan dalam "]
[null,null,10,{"$f":"'DATA SISWA'!F19","v":0},null,null,null,null,null,null,null,null,null,null,null,null,null,null,null,null,null,null,null,null,null,null,null,null,null,null,null,null,null,null,null,null,null,null,null,null,null,null,null,null,null,null,null,null,null,null,null,null,null,null,"0 menunjukkan pemahaman dalam ","0 membutuhkan bimbingan dalam ",null,null,0,0,0,0,0,0,0,0,0,0,0,0,0,0,0,0,0,0,0,0,0,0,0,0,0,null,0,0,0,0,0,0,0,0,0,0,0,0,0,0,0,0,0,0,0,0,0,0,0,0,0,null,"","","","","","","","","","","","","","","","","","","","","","","","","",null,"","","","","","","","","","","","","","","","","","","","","","","","","",null,"0 menunjukkan pemahaman dalam ",null,null,"0 membutuhkan bimbingan dalam "]
[null,null,11,{"$f":"'DATA SISWA'!F20","v":0},null,null,null,null,null,null,null,null,null,null,null,null,null,null,null,null,null,null,null,null,null,null,null,null,null,null,null,null,null,null,null,null,null,null,null,null,null,null,null,null,null,null,null,null,null,null,null,null,null,null,"0 menunjukkan pemahaman dalam ","0 membutuhkan bimbingan dalam ",null,null,0,0,0,0,0,0,0,0,0,0,0,0,0,0,0,0,0,0,0,0,0,0,0,0,0,null,0,0,0,0,0,0,0,0,0,0,0,0,0,0,0,0,0,0,0,0,0,0,0,0,0,null,"","","","","","","","","","","","","","","","","","","","","","","","","",null,"","","","","","","","","","","","","","","","","","","","","","","","","",null,"0 menunjukkan pemahaman dalam ",null,null,"0 membutuhkan bimbingan dalam "]
[null,null,12,{"$f":"'DATA SISWA'!F21","v":0},null,null,null,null,null,null,null,null,null,null,null,null,null,null,null,null,null,null,null,null,null,null,null,null,null,null,null,null,null,null,null,null,null,null,null,null,null,null,null,null,null,null,null,null,null,null,null,null,null,null,"0 menunjukkan pemahaman dalam ","0 membutuhkan bimbingan dalam ",null,null,0,0,0,0,0,0,0,0,0,0,0,0,0,0,0,0,0,0,0,0,0,0,0,0,0,null,0,0,0,0,0,0,0,0,0,0,0,0,0,0,0,0,0,0,0,0,0,0,0,0,0,null,"","","","","","","","","","","","","","","","","","","","","","","","","",null,"","","","","","","","","","","","","","","","","","","","","","","","","",null,"0 menunjukkan pemahaman dalam ",null,null,"0 membutuhkan bimbingan dalam "]
[null,null,13,{"$f":"'DATA SISWA'!F22","v":0},null,null,null,null,null,null,null,null,null,null,null,null,null,null,null,null,null,null,null,null,null,null,null,null,null,null,null,null,null,null,null,null,null,null,null,null,null,null,null,null,null,null,null,null,null,null,null,null,null,null,"0 menunjukkan pemahaman dalam ","0 membutuhkan bimbingan dalam ",null,null,0,0,0,0,0,0,0,0,0,0,0,0,0,0,0,0,0,0,0,0,0,0,0,0,0,null,0,0,0,0,0,0,0,0,0,0,0,0,0,0,0,0,0,0,0,0,0,0,0,0,0,null,"","","","","","","","","","","","","","","","","","","","","","","","","",null,"","","","","","","","","","","","","","","","","","","","","","","","","",null,"0 menunjukkan pemahaman dalam ",null,null,"0 membutuhkan bimbingan dalam "]
[null,null,14,{"$f":"'DATA SISWA'!F23","v":0},null,null,null,null,null,null,null,null,null,null,null,null,null,null,null,null,null,null,null,null,null,null,null,null,null,null,null,null,null,null,null,null,null,null,null,null,null,null,null,null,null,null,null,null,null,null,null,null,null,null,"0 menunjukkan pemahaman dalam ","0 membutuhkan bimbingan dalam ",null,null,0,0,0,0,0,0,0,0,0,0,0,0,0,0,0,0,0,0,0,0,0,0,0,0,0,null,0,0,0,0,0,0,0,0,0,0,0,0,0,0,0,0,0,0,0,0,0,0,0,0,0,null,"","","","","","","","","","","","","","","","","","","","","","","","","",null,"","","","","","","","","","","","","","","","","","","","","","","","","",null,"0 menunjukkan pemahaman dalam ",null,null,"0 membutuhkan bimbingan dalam "]
[null,null,15,{"$f":"'DATA SISWA'!F24","v":0},null,null,null,null,null,null,null,null,null,null,null,null,null,null,null,null,null,null,null,null,null,null,null,null,null,null,null,null,null,null,null,null,null,null,null,null,null,null,null,null,null,null,null,null,null,null,null,null,null,null,"0 menunjukkan pemahaman dalam ","0 membutuhkan bimbingan dalam ",null,null,0,0,0,0,0,0,0,0,0,0,0,0,0,0,0,0,0,0,0,0,0,0,0,0,0,null,0,0,0,0,0,0,0,0,0,0,0,0,0,0,0,0,0,0,0,0,0,0,0,0,0,null,"","","","","","","","","","","","","","","","","","","","","","","","","",null,"","","","","","","","","","","","","","","","","","","","","","","","","",null,"0 menunjukkan pemahaman dalam ",null,null,"0 membutuhkan bimbingan dalam "]
[null,null,16,{"$f":"'DATA SISWA'!F25","v":0},null,null,null,null,null,null,null,null,null,null,null,null,null,null,null,null,null,null,null,null,null,null,null,null,null,null,null,null,null,null,null,null,null,null,null,null,null,null,null,null,null,null,null,null,null,null,null,null,null,null,"0 menunjukkan pemahaman dalam ","0 membutuhkan bimbingan dalam ",null,null,0,0,0,0,0,0,0,0,0,0,0,0,0,0,0,0,0,0,0,0,0,0,0,0,0,null,0,0,0,0,0,0,0,0,0,0,0,0,0,0,0,0,0,0,0,0,0,0,0,0,0,null,"","","","","","","","","","","","","","","","","","","","","","","","","",null,"","","","","","","","","","","","","","","","","","","","","","","","","",null,"0 menunjukkan pemahaman dalam ",null,null,"0 membutuhkan bimbingan dalam "]
[null,null,17,{"$f":"'DATA SISWA'!F26","v":0},null,null,null,null,null,null,null,null,null,null,null,null,null,null,null,null,null,null,null,null,null,null,null,null,null,null,null,null,null,null,null,null,null,null,null,null,null,null,null,null,null,null,null,null,null,null,null,null,null,null,"0 menunjukkan pemahaman dalam ","0 membutuhkan bimbingan dalam ",null,null,0,0,0,0,0,0,0,0,0,0,0,0,0,0,0,0,0,0,0,0,0,0,0,0,0,null,0,0,0,0,0,0,0,0,0,0,0,0,0,0,0,0,0,0,0,0,0,0,0,0,0,null,"","","","","","","","","","","","","","","","",{"$f":"IF(AND(BW33=1,CW33=1),DW$15&\", \",\"\")","v":""},"","","","","","","","",null,"","","","","","","","","","","","","","","","",{"$f":"IF(AND(BW33=1,CW33=0),EW$15&\", \",\"\")","v":""},"","","","","","","","",null,"0 menunjukkan pemahaman dalam ",null,null,"0 membutuhkan bimbingan dalam "]
[null,null,18,{"$f":"'DATA SISWA'!F27","v":0},null,null,null,null,null,null,null,null,null,null,null,null,null,null,null,null,null,null,null,null,null,null,null,null,null,null,null,null,null,null,null,null,null,null,null,null,null,null,null,null,null,null,null,null,null,null,null,null,null,null,"0 menunjukkan pemahaman dalam ","0 membutuhkan bimbingan dalam ",null,null,0,0,0,0,0,0,0,0,0,0,0,0,0,0,0,0,0,0,0,0,0,0,0,0,0,null,0,0,0,0,0,0,0,0,0,0,0,0,0,0,0,0,0,0,0,0,0,0,0,0,0,null,"","","","","","","","","","","","","","","","","","","","","","","","","",null,"","","","","","","","","","","","","","","","","","","","","","","","","",null,"0 menunjukkan pemahaman dalam ",null,null,"0 membutuhkan bimbingan dalam "]
[null,null,19,{"$f":"'DATA SISWA'!F28","v":0},null,null,null,null,null,null,null,null,null,null,null,null,null,null,null,null,null,null,null,null,null,null,null,null,null,null,null,null,null,null,null,null,null,null,null,null,null,null,null,null,null,null,null,null,null,null,null,null,null,null,"0 menunjukkan pemahaman dalam ","0 membutuhkan bimbingan dalam ",null,null,0,0,0,0,0,0,0,0,0,0,0,0,0,0,0,0,0,0,0,0,0,0,0,0,0,null,0,0,0,0,0,0,0,0,0,0,0,0,0,0,0,0,0,0,0,0,0,0,0,0,0,null,"","","","","","","","","","","","","","","","","","","","","","","","","",null,"","","","","","","","","","","","","","","","","","","","","","","","","",null,"0 menunjukkan pemahaman dalam ",null,null,"0 membutuhkan bimbingan dalam "]
[null,null,20,{"$f":"'DATA SISWA'!F29","v":0},null,null,null,null,null,null,null,null,null,null,null,null,null,null,null,null,null,null,null,null,null,null,null,null,null,null,null,null,null,null,null,null,null,null,null,null,null,null,null,null,null,null,null,null,null,null,null,null,null,null,"0 menunjukkan pemahaman dalam ","0 membutuhkan bimbingan dalam ",null,null,0,0,0,0,0,0,0,0,0,0,0,0,0,0,0,0,0,0,0,0,0,0,0,0,0,null,0,0,0,0,0,0,0,0,0,0,0,0,0,0,0,0,0,0,0,0,0,0,0,0,0,null,"","","","","","","","","","","","","","","","","","","","","","","","","",null,"","","","","","","","","","","","","","","","","","","","","","","","","",null,"0 menunjukkan pemahaman dalam ",null,null,"0 membutuhkan bimbingan dalam "]
[null,null,21,{"$f":"'DATA SISWA'!F30","v":0},null,null,null,null,null,null,null,null,null,null,null,null,null,null,null,null,null,null,null,null,null,null,null,null,null,null,null,null,null,null,null,null,null,null,null,null,null,null,null,null,null,null,null,null,null,null,null,null,null,null,"0 menunjukkan pemahaman dalam ","0 membutuhkan bimbingan dalam ",null,null,0,0,0,0,0,0,0,0,0,0,0,0,0,0,0,0,0,0,0,0,0,0,0,0,0,null,0,0,0,0,0,0,0,0,0,0,0,0,0,0,0,0,0,0,0,0,0,0,0,0,0,null,"","","","","","","","","","","","","","","","","","","","","","","","","",null,"","","","","","","","","","","","","","","","","","","","","","","","","",null,"0 menunjukkan pemahaman dalam ",null,null,"0 membutuhkan bimbingan dalam "]
[null,null,22,{"$f":"'DATA SISWA'!F31","v":0},null,null,null,null,null,null,null,null,null,null,null,null,null,null,null,null,null,null,null,null,null,null,null,null,null,null,null,null,null,null,null,null,null,null,null,null,null,null,null,null,null,null,null,null,null,null,null,null,null,null,"0 menunjukkan pemahaman dalam ","0 membutuhkan bimbingan dalam ",null,null,0,0,0,0,0,0,0,0,0,0,0,0,0,0,0,0,0,0,0,0,0,0,0,0,0,null,0,0,0,0,0,0,0,0,0,0,0,0,0,0,0,0,0,0,0,0,0,0,0,0,0,null,"","","","","","","","","","","","","","","","","","","","","","","","","",null,"","","","","","","","","","","","","","","","","","","","","","","","","",null,"0 menunjukkan pemahaman dalam ",null,null,"0 membutuhkan bimbingan dalam "]
[null,null,23,{"$f":"'DATA SISWA'!F32","v":0},null,null,null,null,null,null,null,null,null,null,null,null,null,null,null,null,null,null,null,null,null,null,null,null,null,null,null,null,null,null,null,null,null,null,null,null,null,null,null,null,null,null,null,null,null,null,null,null,null,null,"0 menunjukkan pemahaman dalam ","0 membutuhkan bimbingan dalam ",null,null,0,0,0,0,0,0,0,0,0,0,0,0,0,0,0,0,0,0,0,0,0,0,0,0,0,null,0,0,0,0,0,0,0,0,0,0,0,0,0,0,0,0,0,0,0,0,0,0,0,0,0,null,"","","","","","","","","","","","","","","","","","","","","","","","","",null,"","","","","","","","","","","","","","","","","","","","","","","","","",null,"0 menunjukkan pemahaman dalam ",null,null,"0 membutuhkan bimbingan dalam "]
[null,null,24,{"$f":"'DATA SISWA'!F33","v":0},null,null,null,null,null,null,null,null,null,null,null,null,null,null,null,null,null,null,null,null,null,null,null,null,null,null,null,null,null,null,null,null,null,null,null,null,null,null,null,null,null,null,null,null,null,null,null,null,null,null,"0 menunjukkan pemahaman dalam ","0 membutuhkan bimbingan dalam ",null,null,0,0,0,0,0,0,0,0,0,0,0,0,0,0,0,0,0,0,0,0,0,0,0,0,0,null,0,0,0,0,0,0,0,0,0,0,0,0,0,0,0,0,0,0,0,0,0,0,0,0,0,null,"","","","","","","","","","","","","","","","","","","","","","","","","",null,"","","","","","","","","","","","","","","","","","","","","","","","","",null,"0 menunjukkan pemahaman dalam ",null,null,"0 membutuhkan bimbingan dalam "]
[null,null,25,{"$f":"'DATA SISWA'!F34","v":0},null,null,null,null,null,null,null,null,null,null,null,null,null,null,null,null,null,null,null,null,null,null,null,null,null,null,null,null,null,null,null,null,null,null,null,null,null,null,null,null,null,null,null,null,null,null,null,null,null,null,"0 menunjukkan pemahaman dalam ","0 membutuhkan bimbingan dalam ",null,null,0,0,0,0,0,0,0,0,0,0,0,0,0,0,0,0,0,0,0,0,0,0,0,0,0,null,0,0,0,0,0,0,0,0,0,0,0,0,0,0,0,0,0,0,0,0,0,0,0,0,0,null,"","","","","","","","","","","","","","","","","","","","","","","","","",null,"","","","","","","","","","","","","","","","","","","","","","","","","",null,"0 menunjukkan pemahaman dalam ",null,null,"0 membutuhkan bimbingan dalam "]
[null,null,26,{"$f":"'DATA SISWA'!F35","v":0},null,null,null,null,null,null,null,null,null,null,null,null,null,null,null,null,null,null,null,null,null,null,null,null,null,null,null,null,null,null,null,null,null,null,null,null,null,null,null,null,null,null,null,null,null,null,null,null,null,null,"0 menunjukkan pemahaman dalam ","0 membutuhkan bimbingan dalam ",null,null,0,0,0,0,0,0,0,0,0,0,0,0,0,0,0,0,0,0,0,0,0,0,0,0,0,null,0,0,0,0,0,0,0,0,0,0,0,0,0,0,0,0,0,0,0,0,0,0,0,0,0,null,"","","","","","","","","","","","","","","","","","","","","","","","","",null,"","","","","","","","","","","","","","","","","","","","","","","","","",null,"0 menunjukkan pemahaman dalam ",null,null,"0 membutuhkan bimbingan dalam "]
[null,null,27,{"$f":"'DATA SISWA'!F36","v":0},null,null,null,null,null,null,null,null,null,null,null,null,null,null,null,null,null,null,null,null,null,null,null,null,null,null,null,null,null,null,null,null,null,null,null,null,null,null,null,null,null,null,null,null,null,null,null,null,null,null,"0 menunjukkan pemahaman dalam ","0 membutuhkan bimbingan dalam ",null,null,0,0,0,0,0,0,0,0,0,0,0,0,0,0,0,0,0,0,0,0,0,0,0,0,0,null,0,0,0,0,0,0,0,0,0,0,0,0,0,0,0,0,0,0,0,0,0,0,0,0,0,null,"","","","","",{"$f":"IF(AND(BL43=1,CL43=1),DL$15&\", \",\"\")","v":""},"","","","","","","","","","","","","","","","","","","",null,"","","","","",{"$f":"IF(AND(BL43=1,CL43=0),EL$15&\", \",\"\")","v":""},"","","","","","","","","","","","","","","","","","","",null,"0 menunjukkan pemahaman dalam ",null,null,"0 membutuhkan bimbingan dalam "]
[null,null,28,{"$f":"'DATA SISWA'!F37","v":0},null,null,null,null,null,null,null,null,null,null,null,null,null,null,null,null,null,null,null,null,null,null,null,null,null,null,null,null,null,null,null,null,null,null,null,null,null,null,null,null,null,null,null,null,null,null,null,null,null,null,"0 menunjukkan pemahaman dalam ","0 membutuhkan bimbingan dalam ",null,null,0,0,0,0,0,0,0,0,0,0,0,0,0,0,0,0,0,0,0,0,0,0,0,0,0,null,0,0,0,0,0,0,0,0,0,0,0,0,0,0,0,0,0,0,0,0,0,0,0,0,0,null,{"$f":"IF(AND(BG44=1,CG44=1),DG$15&\", \",\"\")","v":""},"","","","","","","","","","","","","","","","","","","","","","","","",null,{"$f":"IF(AND(BG44=1,CG44=0),EG$15&\", \",\"\")","v":""},"","","","","","","","","","","","","","","","","","","","","","","","",null,"0 menunjukkan pemahaman dalam ",null,null,"0 membutuhkan bimbingan dalam "]
[null,null,29,{"$f":"'DATA SISWA'!F38","v":0},null,null,null,null,null,null,null,null,null,null,null,null,null,null,null,null,null,null,null,null,null,null,null,null,null,null,null,null,null,null,null,null,null,null,null,null,null,null,null,null,null,null,null,null,null,null,null,null,null,null,"0 menunjukkan pemahaman dalam ","0 membutuhkan bimbingan dalam ",null,null,0,0,0,0,0,0,0,0,0,0,0,0,0,0,0,0,0,0,0,0,0,0,0,0,0,null,0,0,0,0,0,0,0,0,0,0,0,0,0,0,0,0,0,0,0,0,0,0,0,0,0,null,"","","","","","","","","","","","","","","","","","","","","","","","","",null,"","","","","","","","","","","","","","","","","","","","","","","","","",null,"0 menunjukkan pemahaman dalam ",null,null,"0 membutuhkan bimbingan dalam "]
[null,null,30,{"$f":"'DATA SISWA'!F39","v":0},null,null,null,null,null,null,null,null,null,null,null,null,null,null,null,null,null,null,null,null,null,null,null,null,null,null,null,null,null,null,null,null,null,null,null,null,null,null,null,null,null,null,null,null,null,null,null,null,null,null,"0 menunjukkan pemahaman dalam ","0 membutuhkan bimbingan dalam ",null,null,0,0,0,0,0,0,0,0,0,0,0,0,0,0,0,0,0,0,0,0,0,0,0,0,0,null,0,0,0,0,0,0,0,0,0,0,0,0,0,0,0,0,0,0,0,0,0,0,0,0,0,null,"","","","","","","","","","","","","","","","","","","","","","","","","",null,"","","","","","","","","","","","","","","","","","","","","","","","","",null,"0 menunjukkan pemahaman dalam ",null,null,"0 membutuhkan bimbingan dalam "]
[null,null,31,{"$f":"'DATA SISWA'!F40","v":0},null,null,null,null,null,null,null,null,null,null,null,null,null,null,null,null,null,null,null,null,null,null,null,null,null,null,null,null,null,null,null,null,null,null,null,null,null,null,null,null,null,null,null,null,null,null,null,null,null,null,"0 menunjukkan pemahaman dalam ","0 membutuhkan bimbingan dalam ",null,null,0,0,0,0,0,0,0,0,0,0,0,0,0,0,0,0,0,0,0,0,0,0,0,0,0,null,0,0,0,0,0,0,0,0,0,0,0,0,0,0,0,0,0,0,0,0,0,0,0,0,0,null,"","","","","","","","","","","","","","","","","","","","","","","","","",null,"","","","","","","","","","","","","","","","","","","","","","","","","",null,"0 menunjukkan pemahaman dalam ",null,null,"0 membutuhkan bimbingan dalam "]
[null,null,32,{"$f":"'DATA SISWA'!F41","v":0},null,null,null,null,null,null,null,null,null,null,null,null,null,null,null,null,null,null,null,null,null,null,null,null,null,null,null,null,null,null,null,null,null,null,null,null,null,null,null,null,null,null,null,null,null,null,null,null,null,null,"0 menunjukkan pemahaman dalam ","0 membutuhkan bimbingan dalam ",null,null,0,0,0,0,0,0,0,0,0,0,0,0,0,0,0,0,0,0,0,0,0,0,0,0,0,null,0,0,0,0,0,0,0,0,0,0,0,0,0,0,0,0,0,0,0,0,0,0,0,0,0,null,"","","","","","","","","","","","","","","","","","","","","","","","","",null,"","","","","","","","","","","","","","","","","","","","","","","","","",null,"0 menunjukkan pemahaman dalam ",null,null,"0 membutuhkan bimbingan dalam "]
[null,null,33,{"$f":"'DATA SISWA'!F42","v":0},null,null,null,null,null,null,null,null,null,null,null,null,null,null,null,null,null,null,null,null,null,null,null,null,null,null,null,null,null,null,null,null,null,null,null,null,null,null,null,null,null,null,null,null,null,null,null,null,null,null,"0 menunjukkan pemahaman dalam ","0 membutuhkan bimbingan dalam ",null,null,0,0,0,0,0,0,0,0,0,0,0,0,0,0,0,0,0,0,0,0,0,0,0,0,0,null,0,0,0,0,0,0,0,0,0,0,0,0,0,0,0,0,0,0,0,0,0,0,0,0,0,null,"","","","","","","","","","","","","","","","","","","","","","","","","",null,"","","","","","","","","","","","","","","","","","","","","","","","","",null,"0 menunjukkan pemahaman dalam ",null,null,"0 membutuhkan bimbingan dalam "]
[null,null,34,{"$f":"'DATA SISWA'!F43","v":0},null,null,null,null,null,null,null,null,null,null,null,null,null,null,null,null,null,null,null,null,null,null,null,null,null,null,null,null,null,null,null,null,null,null,null,null,null,null,null,null,null,null,null,null,null,null,null,null,null,null,"0 menunjukkan pemahaman dalam ","0 membutuhkan bimbingan dalam ",null,null,0,0,0,0,0,0,0,0,0,0,0,0,0,0,0,0,0,0,0,0,0,0,0,0,0,null,0,0,0,0,0,0,0,0,0,0,0,0,0,0,0,0,0,0,0,0,0,0,0,0,0,null,"","","","","","","","","","","","","","","","","","","","","","","","","",null,"","","","","","","","","","","","","","","","","","","","","","","","","",null,"0 menunjukkan pemahaman dalam ",null,null,"0 membutuhkan bimbingan dalam "]
[null,null,35,{"$f":"'DATA SISWA'!F44","v":0},null,null,null,null,null,null,null,null,null,null,null,null,null,null,null,null,null,null,null,null,null,null,null,null,null,null,null,null,null,null,null,null,null,null,null,null,null,null,null,null,null,null,null,null,null,null,null,null,null,null,"0 menunjukkan pemahaman dalam ","0 membutuhkan bimbingan dalam ",null,null,0,0,0,0,0,0,0,0,0,0,0,0,0,0,0,0,0,0,0,0,0,0,0,0,0,null,0,0,0,0,0,0,0,0,0,0,0,0,0,0,0,0,0,0,0,0,0,0,0,0,0,null,"","","","","","","","","","","","","","","","","","","","","","","","","",null,"","","","","","","","","","","","","","","","","","","","","","","","","",null,"0 menunjukkan pemahaman dalam ",null,null,"0 membutuhkan bimbingan dalam "]
[null,null,36,{"$f":"'DATA SISWA'!F45","v":0},null,null,null,null,null,null,null,null,null,null,null,null,null,null,null,null,null,null,null,null,null,null,null,null,null,null,null,null,null,null,null,null,null,null,null,null,null,null,null,null,null,null,null,null,null,null,null,null,null,null,"0 menunjukkan pemahaman dalam ","0 membutuhkan bimbingan dalam ",null,null,0,0,0,0,0,0,0,0,0,0,0,0,0,0,0,0,0,0,0,0,0,0,0,0,0,null,0,0,0,0,0,0,0,0,0,0,0,0,0,0,0,0,0,0,0,0,0,0,0,0,0,null,"","","","","","","","","","","","","","","","","","","","","","","","","",null,"","","","","","","","","","","","","","","","","","","","","","","","","",null,"0 menunjukkan pemahaman dalam ",null,null,"0 membutuhkan bimbingan dalam "]
[null,null,37,{"$f":"'DATA SISWA'!F46","v":0},null,null,null,null,null,null,null,null,null,null,null,null,null,null,null,null,null,null,null,null,null,null,null,null,null,null,null,null,null,null,null,null,null,null,null,null,null,null,null,null,null,null,null,null,null,null,null,null,null,null,"0 menunjukkan pemahaman dalam ","0 membutuhkan bimbingan dalam ",null,null,0,0,0,0,0,0,0,0,0,0,0,0,0,0,0,0,0,0,0,0,0,0,0,0,0,null,0,0,0,0,0,0,0,0,0,0,0,0,0,0,0,0,0,0,0,0,0,0,0,0,0,null,"","","","","","","","","","","","","","","","","","","","","","","","","",null,"","","","","","","","","","","","","","","","","","","","","","","","","",null,"0 menunjukkan pemahaman dalam ",null,null,"0 membutuhkan bimbingan dalam "]
[null,null,38,{"$f":"'DATA SISWA'!F47","v":0},null,null,null,null,null,null,null,null,null,null,null,null,null,null,null,null,null,null,null,null,null,null,null,null,null,null,null,null,null,null,null,null,null,null,null,null,null,null,null,null,null,null,null,null,null,null,null,null,null,null,"0 menunjukkan pemahaman dalam ","0 membutuhkan bimbingan dalam ",null,null,0,0,0,0,0,0,0,0,0,0,0,0,0,0,0,0,0,0,0,0,0,0,0,0,0,null,0,0,0,0,0,0,0,0,0,0,0,0,0,0,0,0,0,0,0,0,0,0,0,0,0,null,"","","","","","","","","","","","","","","","","","","","","","","","","",null,"","","","","","","","","","","","","","","","","","","","","","","","","",null,"0 menunjukkan pemahaman dalam ",null,null,"0 membutuhkan bimbingan dalam "]
[null,null,39,{"$f":"'DATA SISWA'!F48","v":0},null,null,null,null,null,null,null,null,null,null,null,null,null,null,null,null,null,null,null,null,null,null,null,null,null,null,null,null,null,null,null,null,null,null,null,null,null,null,null,null,null,null,null,null,null,null,null,null,null,null,"0 menunjukkan pemahaman dalam ","0 membutuhkan bimbingan dalam ",null,null,0,0,0,0,0,0,0,0,0,0,0,0,0,0,0,0,0,0,0,0,0,0,0,0,0,null,0,0,0,0,0,0,0,0,0,0,0,0,0,0,0,0,0,0,0,0,0,0,0,0,0,null,"","","","","","","","","","","","","","","","","","","","","","","","","",null,"","","","","","","","","","","","","","","","","","","","","","","","","",null,"0 menunjukkan pemahaman dalam ",null,null,"0 membutuhkan bimbingan dalam "]
[null,null,40,{"$f":"'DATA SISWA'!F49","v":0},null,null,null,null,null,null,null,null,null,null,null,null,null,null,null,null,null,null,null,null,null,null,null,null,null,null,null,null,null,null,null,null,null,null,null,null,null,null,null,null,null,null,null,null,null,null,null,null,null,null,"0 menunjukkan pemahaman dalam ","0 membutuhkan bimbingan dalam ",null,null,0,0,0,0,0,0,0,0,0,0,0,0,0,0,0,0,0,0,0,0,0,0,0,0,0,null,0,0,0,0,0,0,0,0,0,0,0,0,0,0,0,0,0,0,0,0,0,0,0,0,0,null,"","","","","","","","","","","","","","","","","","","","","","","","","",null,"","","","","","","","","","","","","","","","","","","","","","","","","",null,"0 menunjukkan pemahaman dalam ",null,null,"0 membutuhkan bimbingan dalam "]

{"sheet":"F14","index":47,"n_rows":56,"n_cols":166,"rows_kept":56,"cut":false,"hidden":false,"merged":[[12,54,15,54],[12,55,15,55],[14,52,14,53],[14,40,14,41],[14,42,14,43],[14,44,14,45],[14,46,14,47],[14,48,14,49],[14,50,14,51],[13,48,13,49],[13,46,13,47],[14,38,14,39],[14,16,14,17],[14,18,14,19],[14,20,14,21],[14,22,14,23],[14,24,14,25],[14,26,14,27],[14,28,14,29],[14,30,14,31],[14,32,14,33],[14,34,14,35],[14,36,14,37],[13,152,13,153],[13,154,13,155],[13,156,13,157],[13,158,13,159],[14,4,14,5],[14,6,14,7],[14,8,14,9],[14,10,14,11],[14,12,14,13],[14,14,14,15],[13,50,13,51],[13,52,13,53],[13,144,13,145],[13,146,13,147],[13,148,13,149],[13,150,13,151],[13,26,13,27],[13,28,13,29],[13,30,13,31],[13,32,13,33],[13,34,13,35],[13,36,13,37],[13,38,13,39],[13,40,13,41],[13,42,13,43],[13,44,13,45],[13,24,13,25],[2,1,2,54],[4,1,4,54],[12,2,15,2],[12,3,15,3],[12,4,12,53],[13,4,13,5],[13,6,13,7],[13,8,13,9],[13,10,13,11],[13,12,13,13],[13,14,13,15],[13,16,13,17],[13,18,13,19],[13,20,13,21],[13,22,13,23]]}
[]
[]
[null,"INPUT ASESMEN FORMATIF"]
[]
[null,{"$f":"\"MATA PELAJARAN : \"&INTRAKURIKULER!D22","v":"MATA PELAJARAN : "}]
[null,"Petunjuk Pengisian :"]
[null,null,1,"Rapor ini berasumsi bahwa guru telah melakukan penilaian formatif dan direkap dalam lembar tersendiri"]
[null,null,2,"Pada Kolom KKTP, pilih '0' jika siswa tidak memenuhi KKTP, Pilih '1' jika siswa memenuhi KKTP. Bisa juga diketikkan langsung angka 1 atau 0"]
[null,null,3,"Pada Kolom Tampil/Tidak, pilih '0' jika tidak ingin menampilkan TP tersebut di deskripsi rapor, pilih '1' jika ingin menampilkan TP di deskripsi rapor. Bisa juga diketikkan langsung angka 1 atau 0",null,null,null,null,null,null,null,null,null,null,null,null,null,null,null,null,null,null,null,null,null,null,null,null,null,null,null,null,null,null,null,null,null,null,null,null,null,null,null,null,null,null,null,null,null,null,null,null,null,null,null,null,null,null,0]
[null,"Contoh :",null,"Pada TP 1, siswa mencapai KKTP tapi tidak ingin ditampilkan dalam rapor. Pilih KKTP = 1, dan Tampil/Tidak = 0.",null,null,null,null,null,null,null,null,null,null,null,null,null,null,null,"Isilah hanya pada TP yang diinginkan",null,null,null,null,null,null,null,null,null,null,null,null,null,null,null,null,null,null,null,null,null,null,null,null,null,null,null,null,null,null,null,null,null,null,null,null,null,null,1]
[null,null,null,"Pada TP 2, siswa tidak mencapai KKTP tapi ingin ditampilkan dalam rapor. Pilih KKTP = 0, dan Tampil/Tidak = 1.",null,null,null,null,null,null,null,null,null,null,null,null,null,null,null,"masuk dalam deskripsi rapor"]
[]
[null,null,"No","Nama Siswa","Tujuan Pembelajaran",null,null,null,null,null,null,null,null,null,null,null,null,null,null,null,null,null,null,null,null,null,null,null,null,null,null,null,null,null,null,null,null,null,null,null,null,null,null,null,null,null,null,null,null,null,null,null,null,null,"Deskripsi Capaian Tertinggi dalam Rapor","Deskripsi Capaian Terendah dalam Rapor"]
[null,null,null,null,"TP 1",null,"TP 2",null,"TP 3",null,"TP 4",null,"TP 5",null,"TP 6",null,"TP 7",null,"TP 8",null,"TP 9",null,"TP 10",null,"TP 11",null,"TP 12",null,"TP 13",null,"TP 14",null,"TP 15",null,"TP 16",null,"TP 17",null,"TP 18",null,"TP 19",null,"TP 20",null,"TP 21",null,"TP 22",null,"TP 23",null,"TP 24",null,"TP 25",null,null,null,null,null,null,null,null,null,null,null,null,null,null,null,null,null,null,null,null,null,null,null,null,null,null,null,null,null,null,null,null,null,null,null,null,null,null,null,null,null,null,null,null,null,null,null,null,null,null,null,null,null,null,null,null,null,"mencapai",null,null,null,null,null,null,null,null,null,null,null,null,null,null,null,null,null,null,null,null,null,null,null,null,null,"tidak mencapai"]
[null,null,null,null,{"$f":"'TP 14'!D8","v":1},null,{"$f":"'TP 14'!D9","v":2},null,{"$f":"'TP 14'!D10","v":3},null,{"$f":"'TP 14'!D11","v":4},null,{"$f":"'TP 14'!D12","v":5},null,{"$f":"'TP 14'!D13","v":6},null,{"$f":"'TP 14'!D14","v":7},null,{"$f":"'TP 14'!D15","v":8},null,{"$f":"'TP 14'!D16","v":9},null,{"$f":"'TP 14'!D17","v":10},null,{"$f":"'TP 14'!D18","v":11},null,{"$f":"'TP 14'!D19","v":12},null,{"$f":"'TP 14'!D20","v":13},null,{"$f":"'TP 14'!D21","v":14},null,{"$f":"'TP 14'!D22","v":15},null,{"$f":"'TP 14'!D23","v":16},null,{"$f":"'TP 14'!D24","v":17},null,{"$f":"'TP 14'!D25","v":18},null,{"$f":"'TP 14'!D26","v":19},null,{"$f":"'TP 14'!D27","v":20},null,{"$f":"'TP 14'!D28","v":21},null,{"$f":"'TP 14'!D29","v":22},null,{"$f":"'TP 14'!D30","v":23},null,{"$f":"'TP 14'!D31","v":24},null,{"$f":"'TP 14'!D32","v":25},null,null,null,null,null,1,2,3,4,5,6,7,8,9,10,11,12,13,14,15,16,17,18,19,20,21,22,23,24,25,null,1,2,3,4,5,6,7,8,9,10,11,12,13,14,15,16,17,18,19,20,21,22,23,24,25,null,{"$f":"E15","v":1},{"$f":"G15","v":2},{"$f":"I15","v":3},{"$f":"K15","v":4},{"$f":"M15","v":5},{"$f":"O15","v":6},{"$f":"Q15","v":7},{"$f":"S15","v":8},{"$f":"U15","v":9},{"$f":"W15","v":10},{"$f":"Y15","v":11},{"$f":"AA15","v":12},{"$f":"AC15","v":13},{"$f":"AE15","v":14},{"$f":"AG15","v":15},{"$f":"AI15","v":16},{"$f":"AK15","v":17},{"$f":"AM15","v":18},{"$f":"AO15","v":19},{"$f":"AQ15","v":20},{"$f":"AS15","v":21},{"$f":"AU15","v":22},{"$f":"AW15","v":23},{"$f":"AY15","v":24},{"$f":"BA15","v":25},null,{"$f":"DG15","v":1},{"$f":"DH15","v":2},3,4,5,6,7,8,9,10,11,12,13,14,15,16,17,18,19,20,21,22,23,24,25,null,"mencapai",null,null,"tidak mencapai"]
[null,null,null,null,"KKTP","Tampil/Tidak","KKTP","Tampil/Tidak","KKTP","Tampil/Tidak","KKTP","Tampil/Tidak","KKTP","Tampil/Tidak","KKTP","Tampil/Tidak","KKTP","Tampil/Tidak","KKTP","Tampil/Tidak","KKTP","Tampil/Tidak","KKTP","Tampil/Tidak","KKTP","Tampil/Tidak","KKTP","Tampil/Tidak","KKTP","Tampil/Tidak","KKTP","Tampil/Tidak","KKTP","Tampil/Tidak","KKTP","Tampil/Tidak","KKTP","Tampil/Tidak","KKTP","Tampil/Tidak","KKTP","Tampil/Tidak","KKTP","Tampil/Tidak","KKTP","Tampil/Tidak","KKTP","Tampil/Tidak","KKTP","Tampil/Tidak","KKTP","Tampil/Tidak","KKTP","Tampil/Tidak",null,null,null,null,null,null,null,null,null,null,null,null,null,null,null,null,null,null,null,null,null,null,null,null,null,null,null,null,null,null,"kktp",null,null,null,null,null,null,null,null,null,null,null,null,null,null,null,null,null,null,null,null,null,null,null,null,null,1,2,3,4,5,6,7,8,9,10,11,12,13,14,15,16,17,18,19,20,21,22,23,24,25,null,1,2,3,4,5,6,7,8,9,10,11,12,13,14,15,16,17,18,19,20,21,22,23,24,25]
[null,null,1,{"$f":"'DATA SISWA'!F10","v":0},null,null,null,null,null,null,null,null,null,null,null,null,null,null,null,null,null,null,null,null,null,null,null,null,null,null,null,null,null,null,null,null,null,null,null,null,null,null,null,null,null,null,null,null,null,null,null,null,null,null,{"$f":"FG17","v":"0 menunjukkan pemahaman dalam "},{"$f":"FG17","v":"0 menunjukkan pemahaman dalam "},null,null,{"$f":"F17","v":0},{"$f":"H17","v":0},{"$f":"J17","v":0},{"$f":"L17","v":0},{"$f":"N17","v":0},{"$f":"P17","v":0},{"$f":"R17","v":0},{"$f":"T17","v":0},{"$f":"V17","v":0},{"$f":"X17","v":0},{"$f":"Z17","v":0},{"$f":"AB17","v":0},{"$f":"AD17","v":0},{"$f":"AF17","v":0},{"$f":"AH17","v":0},{"$f":"AJ17","v":0},{"$f":"AL17","v":0},{"$f":"AN17","v":0},{"$f":"AP17","v":0},{"$f":"AR17","v":0},{"$f":"AT17","v":0},{"$f":"AV17","v":0},{"$f":"AX17","v":0},{"$f":"AZ17","v":0},{"$f":"BB17","v":0},null,{"$f":"E17","v":0},{"$f":"G17","v":0},{"$f":"I17","v":0},{"$f":"K17","v":0},{"$f":"M17","v":0},{"$f":"O17","v":0},{"$f":"Q17","v":0},{"$f":"S17","v":0},{"$f":"U17","v":0},{"$f":"W17","v":0},{"$f":"Y17","v":0},{"$f":"AA17","v":0},{"$f":"AC17","v":0},{"$f":"AE17","v":0},{"$f":"AG17","v":0},{"$f":"AI17","v":0},{"$f":"AK17","v":0},{"$f":"AM17","v":0},{"$f":"AO17","v":0},{"$f":"AQ17","v":0},{"$f":"AS17","v":0},{"$f":"AU17","v":0},{"$f":"AW17","v":0},{"$f":"AY17","v":0},{"$f":"BA17","v":0},null,{"$f":"IF(AND(BG17=1,CG17=1),DG$15&\", \",\"\")","v":""},{"$f":"IF(AND(BH17=1,CH17=1),DH$15&\", \",\"\")","v":""},"","","","","","","","","","","","","","","",{"$f":"IF(AND(BX17=1,CX17=1),DX$15&\", \",\"\")","v":""},"","","","","","","",null,{"$f":"IF(AND(BG17=1,CG17=0),EG$15&\", \",\"\")","v":""},{"$f":"IF(AND(BH17=1,CH17=0),EH$15&\", \",\"\")","v":""},"","","","","","","","","","","","","","","",{"$f":"IF(AND(BX17=1,CX17=0),EX$15&\", \",\"\")","v":""},"","","","","","","",null,{"$f":"PROPER(D17)&\" menunjukkan pemahaman dalam \"&DG17&DH17&DI17&DJ17&DK17&DL17&DM17&DN17&DO17&DP17&DQ17&DR17&DS17&DT17&DU17&DV17&DW17&DX17&DY17&DZ17&EA17&EB17&EC17&ED17&EE17","v":"0 menunjukkan pemahaman dalam "},null,null,{"$f":"PROPER(D17)&\" membutuhkan bimbingan dalam \"&EG17&EH17&EI17&EJ17&EK17&EL17&EM17&EN17&EO17&EP17&EQ17&ER17&ES17&ET17&EU17&EV17&EW17&EX17&EY17&EZ17&FA17&FB17&FC17&FD17&FE17","v":"0 membutuhkan bimbingan dalam "}]
[null,null,2,{"$f":"'DATA SISWA'!F11","v":0},null,null,null,null,null,null,null,null,null,null,null,null,null,null,null,null,null,null,null,null,null,null,null,null,null,null,null,null,null,null,null,null,null,null,null,null,null,null,null,null,null,null,null,null,null,null,null,null,null,null,{"$f":"FG18","v":"0 menunjukkan pemahaman dalam "},{"$f":"FG18","v":"0 menunjukkan pemahaman dalam "},null,null,{"$f":"F18","v":0},{"$f":"H18","v":0},{"$f":"J18","v":0},{"$f":"L18","v":0},{"$f":"N18","v":0},{"$f":"P18","v":0},{"$f":"R18","v":0},{"$f":"T18","v":0},{"$f":"V18","v":0},{"$f":"X18","v":0},{"$f":"Z18","v":0},{"$f":"AB18","v":0},{"$f":"AD18","v":0},{"$f":"AF18","v":0},{"$f":"AH18","v":0},{"$f":"AJ18","v":0},{"$f":"AL18","v":0},{"$f":"AN18","v":0},{"$f":"AP18","v":0},{"$f":"AR18","v":0},{"$f":"AT18","v":0},{"$f":"AV18","v":0},{"$f":"AX18","v":0},{"$f":"AZ18","v":0},{"$f":"BB18","v":0},null,{"$f":"E18","v":0},{"$f":"G18","v":0},{"$f":"I18","v":0},{"$f":"K18","v":0},{"$f":"M18","v":0},{"$f":"O18","v":0},{"$f":"Q18","v":0},{"$f":"S18","v":0},{"$f":"U18","v":0},{"$f":"W18","v":0},{"$f":"Y18","v":0},{"$f":"AA18","v":0},{"$f":"AC18","v":0},{"$f":"AE18","v":0},{"$f":"AG18","v":0},{"$f":"AI18","v":0},{"$f":"AK18","v":0},{"$f":"AM18","v":0},{"$f":"AO18","v":0},{"$f":"AQ18","v":0},{"$f":"AS18","v":0},{"$f":"AU18","v":0},{"$f":"AW18","v":0},{"$f":"AY18","v":0},{"$f":"BA18","v":0},null,{"$f":"IF(AND(BG18=1,CG18=1),DG$15&\", \",\"\")","v":""},"","","","","","","","","","","","","","","","","","","","","","","","",null,{"$f":"IF(AND(BG18=1,CG18=0),EG$15&\", \",\"\")","v":""},"","","","","","","","","","","","","","","","","","","","","","","","",null,{"$f":"PROPER(D18)&\" menunjukkan pemahaman dalam \"&DG18&DH18&DI18&DJ18&DK18&DL18&DM18&DN18&DO18&DP18&DQ18&DR18&DS18&DT18&DU18&DV18&DW18&DX18&DY18&DZ18&EA18&EB18&EC18&ED18&EE18","v":"0 menunjukkan pemahaman dalam "},null,null,{"$f":"PROPER(D18)&\" membutuhkan bimbingan dalam \"&EG18&EH18&EI18&EJ18&EK18&EL18&EM18&EN18&EO18&EP18&EQ18&ER18&ES18&ET18&EU18&EV18&EW18&EX18&EY18&EZ18&FA18&FB18&FC18&FD18&FE18","v":"0 membutuhkan bimbingan dalam "}]
[null,null,3,{"$f":"'DATA SISWA'!F12","v":0},null,null,null,null,null,null,null,null,null,null,null,null,null,null,null,null,null,null,null,null,null,null,null,null,null,null,null,null,null,null,null,null,null,null,null,null,null,null,null,null,null,null,null,null,null,null,null,null,null,null,"0 menunjukkan pemahaman dalam ","0 menunjukkan pemahaman dalam ",null,null,0,0,0,0,0,0,0,0,0,0,0,0,0,0,0,0,0,0,0,0,0,0,0,0,0,null,0,0,0,0,0,0,0,0,0,0,0,0,0,0,0,0,0,0,0,0,0,0,0,0,0,null,"","","","","","","","","","","","","","","","","","","","","","","","","",null,"","","","","","","","","","","","","","","","","","","","","","","","","",null,"0 menunjukkan pemahaman dalam ",null,null,"0 membutuhkan bimbingan dalam "]
[null,null,4,{"$f":"'DATA SISWA'!F13","v":0},null,null,null,null,null,null,null,null,null,null,null,null,null,null,null,null,null,null,null,null,null,null,null,null,null,null,null,null,null,null,null,null,null,null,null,null,null,null,null,null,null,null,null,null,null,null,null,null,null,null,"0 menunjukkan pemahaman dalam ","0 menunjukkan pemahaman dalam ",null,null,0,0,0,0,0,0,0,0,0,0,0,0,0,0,0,0,0,0,0,0,0,0,0,0,0,null,0,0,0,0,0,0,0,0,0,0,0,0,0,0,0,0,0,0,0,0,0,0,0,0,0,null,"","","","","","","","","","","","","","","","","","","","","","","","","",null,"","","","","","","","","","","","","","","","","","","","","","","","","",null,"0 menunjukkan pemahaman dalam ",null,null,"0 membutuhkan bimbingan dalam "]
[null,null,5,{"$f":"'DATA SISWA'!F14","v":0},null,null,null,null,null,null,null,null,null,null,null,null,null,null,null,null,null,null,null,null,null,null,null,null,null,null,null,null,null,null,null,null,null,null,null,null,null,null,null,null,null,null,null,null,null,null,null,null,null,null,"0 menunjukkan pemahaman dalam ","0 menunjukkan pemahaman dalam ",null,null,0,0,0,0,0,0,0,0,0,0,0,0,0,0,0,0,0,0,0,0,0,0,0,0,0,null,0,0,0,0,0,0,0,0,0,0,0,0,0,0,0,0,0,0,0,0,0,0,0,0,0,null,"","","","","","","","","","","","","","","","","","","","","","","","","",null,"","","","","","","","","","","","","","","","","","","","","","","","","",null,"0 menunjukkan pemahaman dalam ",null,null,"0 membutuhkan bimbingan dalam "]
[null,null,6,{"$f":"'DATA SISWA'!F15","v":0},null,null,null,null,null,null,null,null,null,null,null,null,null,null,null,null,null,null,null,null,null,null,null,null,null,null,null,null,null,null,null,null,null,null,null,null,null,null,null,null,null,null,null,null,null,null,null,null,null,null,"0 menunjukkan pemahaman dalam ","0 menunjukkan pemahaman dalam ",null,null,0,0,0,0,0,0,0,0,0,0,0,0,0,0,0,0,0,0,0,0,0,0,0,0,0,null,0,0,0,0,0,0,0,0,0,0,0,0,0,0,0,0,0,0,0,0,0,0,0,0,0,null,"","","","","","","","","","","","","","","","","","","","","","","","","",null,"","","","","","","","","","","","","","","","","","","","","","","","","",null,"0 menunjukkan pemahaman dalam ",null,null,"0 membutuhkan bimbingan dalam "]
[null,null,7,{"$f":"'DATA SISWA'!F16","v":0},null,null,null,null,null,null,null,null,null,null,null,null,null,null,null,null,null,null,null,null,null,null,null,null,null,null,null,null,null,null,null,null,null,null,null,null,null,null,null,null,null,null,null,null,null,null,null,null,null,null,"0 menunjukkan pemahaman dalam ","0 menunjukkan pemahaman dalam ",null,null,0,0,0,0,0,0,0,0,0,0,0,0,0,0,0,0,0,0,0,0,0,0,0,0,0,null,0,0,0,0,0,0,0,0,0,0,0,0,0,0,0,0,0,0,0,0,0,0,0,0,0,null,"","","","","","","","","","","","","","","","","","","","","","","","","",null,"","","","","","","","","","","","","","","","","","","","","","","","","",null,"0 menunjukkan pemahaman dalam ",null,null,"0 membutuhkan bimbingan dalam "]
[null,null,8,{"$f":"'DATA SISWA'!F17","v":0},null,null,null,null,null,null,null,null,null,null,null,null,null,null,null,null,null,null,null,null,null,null,null,null,null,null,null,null,null,null,null,null,null,null,null,null,null,null,null,null,null,null,null,null,null,null,null,null,null,null,"0 menunjukkan pemahaman dalam ","0 menunjukkan pemahaman dalam ",null,null,0,0,0,0,0,0,0,0,0,0,0,0,0,0,0,0,0,0,0,0,0,0,0,0,0,null,0,0,0,0,0,0,0,0,0,0,0,0,0,0,0,0,0,0,0,0,0,0,0,0,0,null,"","","","","","","","","","","","","","","","","","","","","","","","","",null,"","","","","","","","","","","","","","","","","","","","","","","","","",null,"0 menunjukkan pemahaman dalam ",null,null,"0 membutuhkan bimbingan dalam "]
[null,null,9,{"$f":"'DATA SISWA'!F18","v":0},null,null,null,null,null,null,null,null,null,null,null,null,null,null,null,null,null,null,null,null,null,null,null,null,null,null,null,null,null,null,null,null,null,null,null,null,null,null,null,null,null,null,null,null,null,null,null,null,null,null,"0 menunjukkan pemahaman dalam ","0 menunjukkan pemahaman dalam ",null,null,0,0,0,0,0,0,0,0,0,0,0,0,0,0,0,0,0,0,0,0,0,0,0,0,0,null,0,0,0,0,0,0,0,0,0,0,0,0,0,0,0,0,0,0,0,0,0,0,0,0,0,null,"","","","","","","","","","","","","","","","","","","","","","","","","",null,"","","","","","","","","","","","","","","","","","","","","","","","","",null,"0 menunjukkan pemahaman dalam ",null,null,"0 membutuhkan bimbingan dalam "]
[null,null,10,{"$f":"'DATA SISWA'!F19","v":0},null,null,null,null,null,null,null,null,null,null,null,null,null,null,null,null,null,null,null,null,null,null,null,null,null,null,null,null,null,null,null,null,null,null,null,null,null,null,null,null,null,null,null,null,null,null,null,null,null,null,"0 menunjukkan pemahaman dalam ","0 menunjukkan pemahaman dalam ",null,null,0,0,0,0,0,0,0,0,0,0,0,0,0,0,0,0,0,0,0,0,0,0,0,0,0,null,0,0,0,0,0,0,0,0,0,0,0,0,0,0,0,0,0,0,0,0,0,0,0,0,0,null,"","","","","","","","","","","","","","","","","","","","","","","","","",null,"","","","","","","","","","","","","","","","","","","","","","","","","",null,"0 menunjukkan pemahaman dalam ",null,null,"0 membutuhkan bimbingan dalam "]
[null,null,11,{"$f":"'DATA SISWA'!F20","v":0},null,null,null,null,null,null,null,null,null,null,null,null,null,null,null,null,null,null,null,null,null,null,null,null,null,null,null,null,null,null,null,null,null,null,null,null,null,null,null,null,null,null,null,null,null,null,null,null,null,null,"0 menunjukkan pemahaman dalam ","0 menunjukkan pemahaman dalam ",null,null,0,0,0,0,0,0,0,0,0,0,0,0,0,0,0,0,0,0,0,0,0,0,0,0,0,null,0,0,0,0,0,0,0,0,0,0,0,0,0,0,0,0,0,0,0,0,0,0,0,0,0,null,"","","","","","","","","","","","","","","","","","","","","","","","","",null,"","","","","","","","","","","","","","","","","","","","","","","","","",null,"0 menunjukkan pemahaman dalam ",null,null,"0 membutuhkan bimbingan dalam "]
[null,null,12,{"$f":"'DATA SISWA'!F21","v":0},null,null,null,null,null,null,null,null,null,null,null,null,null,null,null,null,null,null,null,null,null,null,null,null,null,null,null,null,null,null,null,null,null,null,null,null,null,null,null,null,null,null,null,null,null,null,null,null,null,null,"0 menunjukkan pemahaman dalam ","0 menunjukkan pemahaman dalam ",null,null,0,0,0,0,0,0,0,0,0,0,0,0,0,0,0,0,0,0,0,0,0,0,0,0,0,null,0,0,0,0,0,0,0,0,0,0,0,0,0,0,0,0,0,0,0,0,0,0,0,0,0,null,"","","","","","","","","","","","","","","","","","","","","","","","","",null,"","","","","","","","","","","","","","","","","","","","","","","","","",null,"0 menunjukkan pemahaman dalam ",null,null,"0 membutuhkan bimbingan dalam "]
[null,null,13,{"$f":"'DATA SISWA'!F22","v":0},null,null,null,null,null,null,null,null,null,null,null,null,null,null,null,null,null,null,null,null,null,null,null,null,null,null,null,null,null,null,null,null,null,null,null,null,null,null,null,null,null,null,null,null,null,null,null,null,null,null,"0 menunjukkan pemahaman dalam ","0 menunjukkan pemahaman dalam ",null,null,0,0,0,0,0,0,0,0,0,0,0,0,0,0,0,0,0,0,0,0,0,0,0,0,0,null,0,0,0,0,0,0,0,0,0,0,0,0,0,0,0,0,0,0,0,0,0,0,0,0,0,null,"","","","","","","","","","","","","","","","","","","","","","","","","",null,"","","","","","","","","","","","","","","","","","","","","","","","","",null,"0 menunjukkan pemahaman dalam ",null,null,"0 membutuhkan bimbingan dalam "]
[null,null,14,{"$f":"'DATA SISWA'!F23","v":0},null,null,null,null,null,null,null,null,null,null,null,null,null,null,null,null,null,null,null,null,null,null,null,null,null,null,null,null,null,null,null,null,null,null,null,null,null,null,null,null,null,null,null,null,null,null,null,null,null,null,"0 menunjukkan pemahaman dalam ","0 menunjukkan pemahaman dalam ",null,null,0,0,0,0,0,0,0,0,0,0,0,0,0,0,0,0,0,0,0,0,0,0,0,0,0,null,0,0,0,0,0,0,0,0,0,0,0,0,0,0,0,0,0,0,0,0,0,0,0,0,0,null,"","","","","","","","","","","","","","","","","","","","","","","","","",null,"","","","","","","","","","","","","","","","","","","","","","","","","",null,"0 menunjukkan pemahaman dalam ",null,null,"0 membutuhkan bimbingan dalam "]
[null,null,15,{"$f":"'DATA SISWA'!F24","v":0},null,null,null,null,null,null,null,null,null,null,null,null,null,null,null,null,null,null,null,null,null,null,null,null,null,null,null,null,null,null,null,null,null,null,null,null,null,null,null,null,null,null,null,null,null,null,null,null,null,null,"0 menunjukkan pemahaman dalam ","0 menunjukkan pemahaman dalam ",null,null,0,0,0,0,0,0,0,0,0,0,0,0,0,0,0,0,0,0,0,0,0,0,0,0,0,null,0,0,0,0,0,0,0,0,0,0,0,0,0,0,0,0,0,0,0,0,0,0,0,0,0,null,"","","","","","","","","","","","","","","","","","","","","","","","","",null,"","","","","","","","","","","","","","","","","","","","","","","","","",null,"0 menunjukkan pemahaman dalam ",null,null,"0 membutuhkan bimbingan dalam "]
[null,null,16,{"$f":"'DATA SISWA'!F25","v":0},null,null,null,null,null,null,null,null,null,null,null,null,null,null,null,null,null,null,null,null,null,null,null,null,null,null,null,null,null,null,null,null,null,null,null,null,null,null,null,null,null,null,null,null,null,null,null,null,null,null,"0 menunjukkan pemahaman dalam ","0 menunjukkan pemahaman dalam ",null,null,0,0,0,0,0,0,0,0,0,0,0,0,0,0,0,0,0,0,0,0,0,0,0,0,0,null,0,0,0,0,0,0,0,0,0,0,0,0,0,0,0,0,0,0,0,0,0,0,0,0,0,null,"","","","","","","","","","","","","","","","","","","","","","","","","",null,"","","","","","","","","","","","","","","","","","","","","","","","","",null,"0 menunjukkan pemahaman dalam ",null,null,"0 membutuhkan bimbingan dalam "]
[null,null,17,{"$f":"'DATA SISWA'!F26","v":0},null,null,null,null,null,null,null,null,null,null,null,null,null,null,null,null,null,null,null,null,null,null,null,null,null,null,null,null,null,null,null,null,null,null,null,null,null,null,null,null,null,null,null,null,null,null,null,null,null,null,"0 menunjukkan pemahaman dalam ","0 menunjukkan pemahaman dalam ",null,null,0,0,0,0,0,0,0,0,0,0,0,0,0,0,0,0,0,0,0,0,0,0,0,0,0,null,0,0,0,0,0,0,0,0,0,0,0,0,0,0,0,0,0,0,0,0,0,0,0,0,0,null,"","","","","","","","","","","","","","","","",{"$f":"IF(AND(BW33=1,CW33=1),DW$15&\", \",\"\")","v":""},"","","","","","","","",null,"","","","","","","","","","","","","","","","",{"$f":"IF(AND(BW33=1,CW33=0),EW$15&\", \",\"\")","v":""},"","","","","","","","",null,"0 menunjukkan pemahaman dalam ",null,null,"0 membutuhkan bimbingan dalam "]
[null,null,18,{"$f":"'DATA SISWA'!F27","v":0},null,null,null,null,null,null,null,null,null,null,null,null,null,null,null,null,null,null,null,null,null,null,null,null,null,null,null,null,null,null,null,null,null,null,null,null,null,null,null,null,null,null,null,null,null,null,null,null,null,null,"0 menunjukkan pemahaman dalam ","0 menunjukkan pemahaman dalam ",null,null,0,0,0,0,0,0,0,0,0,0,0,0,0,0,0,0,0,0,0,0,0,0,0,0,0,null,0,0,0,0,0,0,0,0,0,0,0,0,0,0,0,0,0,0,0,0,0,0,0,0,0,null,"","","","","","","","","","","","","","","","","","","","","","","","","",null,"","","","","","","","","","","","","","","","","","","","","","","","","",null,"0 menunjukkan pemahaman dalam ",null,null,"0 membutuhkan bimbingan dalam "]
[null,null,19,{"$f":"'DATA SISWA'!F28","v":0},null,null,null,null,null,null,null,null,null,null,null,null,null,null,null,null,null,null,null,null,null,null,null,null,null,null,null,null,null,null,null,null,null,null,null,null,null,null,null,null,null,null,null,null,null,null,null,null,null,null,"0 menunjukkan pemahaman dalam ","0 menunjukkan pemahaman dalam ",null,null,0,0,0,0,0,0,0,0,0,0,0,0,0,0,0,0,0,0,0,0,0,0,0,0,0,null,0,0,0,0,0,0,0,0,0,0,0,0,0,0,0,0,0,0,0,0,0,0,0,0,0,null,"","","","","","","","","","","","","","","","","","","","","","","","","",null,"","","","","","","","","","","","","","","","","","","","","","","","","",null,"0 menunjukkan pemahaman dalam ",null,null,"0 membutuhkan bimbingan dalam "]
[null,null,20,{"$f":"'DATA SISWA'!F29","v":0},null,null,null,null,null,null,null,null,null,null,null,null,null,null,null,null,null,null,null,null,null,null,null,null,null,null,null,null,null,null,null,null,null,null,null,null,null,null,null,null,null,null,null,null,null,null,null,null,null,null,"0 menunjukkan pemahaman dalam ","0 menunjukkan pemahaman dalam ",null,null,0,0,0,0,0,0,0,0,0,0,0,0,0,0,0,0,0,0,0,0,0,0,0,0,0,null,0,0,0,0,0,0,0,0,0,0,0,0,0,0,0,0,0,0,0,0,0,0,0,0,0,null,"","","","","","","","","","","","","","","","","","","","","","","","","",null,"","","","","","","","","","","","","","","","","","","","","","","","","",null,"0 menunjukkan pemahaman dalam ",null,null,"0 membutuhkan bimbingan dalam "]
[null,null,21,{"$f":"'DATA SISWA'!F30","v":0},null,null,null,null,null,null,null,null,null,null,null,null,null,null,null,null,null,null,null,null,null,null,null,null,null,null,null,null,null,null,null,null,null,null,null,null,null,null,null,null,null,null,null,null,null,null,null,null,null,null,"0 menunjukkan pemahaman dalam ","0 menunjukkan pemahaman dalam ",null,null,0,0,0,0,0,0,0,0,0,0,0,0,0,0,0,0,0,0,0,0,0,0,0,0,0,null,0,0,0,0,0,0,0,0,0,0,0,0,0,0,0,0,0,0,0,0,0,0,0,0,0,null,"","","","","","","","","","","","","","","","","","","","","","","","","",null,"","","","","","","","","","","","","","","","","","","","","","","","","",null,"0 menunjukkan pemahaman dalam ",null,null,"0 membutuhkan bimbingan dalam "]
[null,null,22,{"$f":"'DATA SISWA'!F31","v":0},null,null,null,null,null,null,null,null,null,null,null,null,null,null,null,null,null,null,null,null,null,null,null,null,null,null,null,null,null,null,null,null,null,null,null,null,null,null,null,null,null,null,null,null,null,null,null,null,null,null,"0 menunjukkan pemahaman dalam ","0 menunjukkan pemahaman dalam ",null,null,0,0,0,0,0,0,0,0,0,0,0,0,0,0,0,0,0,0,0,0,0,0,0,0,0,null,0,0,0,0,0,0,0,0,0,0,0,0,0,0,0,0,0,0,0,0,0,0,0,0,0,null,"","","","","","","","","","","","","","","","","","","","","","","","","",null,"","","","","","","","","","","","","","","","","","","","","","","","","",null,"0 menunjukkan pemahaman dalam ",null,null,"0 membutuhkan bimbingan dalam "]
[null,null,23,{"$f":"'DATA SISWA'!F32","v":0},null,null,null,null,null,null,null,null,null,null,null,null,null,null,null,null,null,null,null,null,null,null,null,null,null,null,null,null,null,null,null,null,null,null,null,null,null,null,null,null,null,null,null,null,null,null,null,null,null,null,"0 menunjukkan pemahaman dalam ","0 menunjukkan pemahaman dalam ",null,null,0,0,0,0,0,0,0,0,0,0,0,0,0,0,0,0,0,0,0,0,0,0,0,0,0,null,0,0,0,0,0,0,0,0,0,0,0,0,0,0,0,0,0,0,0,0,0,0,0,0,0,null,"","","","","","","","","","","","","","","","","","","","","","","","","",null,"","","","","","","","","","","","","","","","","","","","","","","","","",null,"0 menunjukkan pemahaman dalam ",null,null,"0 membutuhkan bimbingan dalam "]
[null,null,24,{"$f":"'DATA SISWA'!F33","v":0},null,null,null,null,null,null,null,null,null,null,null,null,null,null,null,null,null,null,null,null,null,null,null,null,null,null,null,null,null,null,null,null,null,null,null,null,null,null,null,null,null,null,null,null,null,null,null,null,null,null,"0 menunjukkan pemahaman dalam ","0 menunjukkan pemahaman dalam ",null,null,0,0,0,0,0,0,0,0,0,0,0,0,0,0,0,0,0,0,0,0,0,0,0,0,0,null,0,0,0,0,0,0,0,0,0,0,0,0,0,0,0,0,0,0,0,0,0,0,0,0,0,null,"","","","","","","","","","","","","","","","","","","","","","","","","",null,"","","","","","","","","","","","","","","","","","","","","","","","","",null,"0 menunjukkan pemahaman dalam ",null,null,"0 membutuhkan bimbingan dalam "]
[null,null,25,{"$f":"'DATA SISWA'!F34","v":0},null,null,null,null,null,null,null,null,null,null,null,null,null,null,null,null,null,null,null,null,null,null,null,null,null,null,null,null,null,null,null,null,null,null,null,null,null,null,null,null,null,null,null,null,null,null,null,null,null,null,"0 menunjukkan pemahaman dalam ","0 menunjukkan pemahaman dalam ",null,null,0,0,0,0,0,0,0,0,0,0,0,0,0,0,0,0,0,0,0,0,0,0,0,0,0,null,0,0,0,0,0,0,0,0,0,0,0,0,0,0,0,0,0,0,0,0,0,0,0,0,0,null,"","","","","","","","","","","","","","","","","","","","","","","","","",null,"","","","","","","","","","","","","","","","","","","","","","","","","",null,"0 menunjukkan pemahaman dalam ",null,null,"0 membutuhkan bimbingan dalam "]
[null,null,26,{"$f":"'DATA SISWA'!F35","v":0},null,null,null,null,null,null,null,null,null,null,null,null,null,null,null,null,null,null,null,null,null,null,null,null,null,null,null,null,null,null,null,null,null,null,null,null,null,null,null,null,null,null,null,null,null,null,null,null,null,null,"0 menunjukkan pemahaman dalam ","0 menunjukkan pemahaman dalam ",null,null,0,0,0,0,0,0,0,0,0,0,0,0,0,0,0,0,0,0,0,0,0,0,0,0,0,null,0,0,0,0,0,0,0,0,0,0,0,0,0,0,0,0,0,0,0,0,0,0,0,0,0,null,"","","","","","","","","","","","","","","","","","","","","","","","","",null,"","","","","","","","","","","","","","","","","","","","","","","","","",null,"0 menunjukkan pemahaman dalam ",null,null,"0 membutuhkan bimbingan dalam "]
[null,null,27,{"$f":"'DATA SISWA'!F36","v":0},null,null,null,null,null,null,null,null,null,null,null,null,null,null,null,null,null,null,null,null,null,null,null,null,null,null,null,null,null,null,null,null,null,null,null,null,null,null,null,null,null,null,null,null,null,null,null,null,null,null,"0 menunjukkan pemahaman dalam ","0 menunjukkan pemahaman dalam ",null,null,0,0,0,0,0,0,0,0,0,0,0,0,0,0,0,0,0,0,0,0,0,0,0,0,0,null,0,0,0,0,0,0,0,0,0,0,0,0,0,0,0,0,0,0,0,0,0,0,0,0,0,null,"","","","","",{"$f":"IF(AND(BL43=1,CL43=1),DL$15&\", \",\"\")","v":""},"","","","","","","","","","","","","","","","","","","",null,"","","","","",{"$f":"IF(AND(BL43=1,CL43=0),EL$15&\", \",\"\")","v":""},"","","","","","","","","","","","","","","","","","","",null,"0 menunjukkan pemahaman dalam ",null,null,"0 membutuhkan bimbingan dalam "]
[null,null,28,{"$f":"'DATA SISWA'!F37","v":0},null,null,null,null,null,null,null,null,null,null,null,null,null,null,null,null,null,null,null,null,null,null,null,null,null,null,null,null,null,null,null,null,null,null,null,null,null,null,null,null,null,null,null,null,null,null,null,null,null,null,"0 menunjukkan pemahaman dalam ","0 menunjukkan pemahaman dalam ",null,null,0,0,0,0,0,0,0,0,0,0,0,0,0,0,0,0,0,0,0,0,0,0,0,0,0,null,0,0,0,0,0,0,0,0,0,0,0,0,0,0,0,0,0,0,0,0,0,0,0,0,0,null,{"$f":"IF(AND(BG44=1,CG44=1),DG$15&\", \",\"\")","v":""},"","","","","","","","","","","","","","","","","","","","","","","","",null,{"$f":"IF(AND(BG44=1,CG44=0),EG$15&\", \",\"\")","v":""},"","","","","","","","","","","","","","","","","","","","","","","","",null,"0 menunjukkan pemahaman dalam ",null,null,"0 membutuhkan bimbingan dalam "]
[null,null,29,{"$f":"'DATA SISWA'!F38","v":0},null,null,null,null,null,null,null,null,null,null,null,null,null,null,null,null,null,null,null,null,null,null,null,null,null,null,null,null,null,null,null,null,null,null,null,null,null,null,null,null,null,null,null,null,null,null,null,null,null,null,"0 menunjukkan pemahaman dalam ","0 menunjukkan pemahaman dalam ",null,null,0,0,0,0,0,0,0,0,0,0,0,0,0,0,0,0,0,0,0,0,0,0,0,0,0,null,0,0,0,0,0,0,0,0,0,0,0,0,0,0,0,0,0,0,0,0,0,0,0,0,0,null,"","","","","","","","","","","","","","","","","","","","","","","","","",null,"","","","","","","","","","","","","","","","","","","","","","","","","",null,"0 menunjukkan pemahaman dalam ",null,null,"0 membutuhkan bimbingan dalam "]
[null,null,30,{"$f":"'DATA SISWA'!F39","v":0},null,null,null,null,null,null,null,null,null,null,null,null,null,null,null,null,null,null,null,null,null,null,null,null,null,null,null,null,null,null,null,null,null,null,null,null,null,null,null,null,null,null,null,null,null,null,null,null,null,null,"0 menunjukkan pemahaman dalam ","0 menunjukkan pemahaman dalam ",null,null,0,0,0,0,0,0,0,0,0,0,0,0,0,0,0,0,0,0,0,0,0,0,0,0,0,null,0,0,0,0,0,0,0,0,0,0,0,0,0,0,0,0,0,0,0,0,0,0,0,0,0,null,"","","","","","","","","","","","","","","","","","","","","","","","","",null,"","","","","","","","","","","","","","","","","","","","","","","","","",null,"0 menunjukkan pemahaman dalam ",null,null,"0 membutuhkan bimbingan dalam "]
[null,null,31,{"$f":"'DATA SISWA'!F40","v":0},null,null,null,null,null,null,null,null,null,null,null,null,null,null,null,null,null,null,null,null,null,null,null,null,null,null,null,null,null,null,null,null,null,null,null,null,null,null,null,null,null,null,null,null,null,null,null,null,null,null,"0 menunjukkan pemahaman dalam ","0 menunjukkan pemahaman dalam ",null,null,0,0,0,0,0,0,0,0,0,0,0,0,0,0,0,0,0,0,0,0,0,0,0,0,0,null,0,0,0,0,0,0,0,0,0,0,0,0,0,0,0,0,0,0,0,0,0,0,0,0,0,null,"","","","","","","","","","","","","","","","","","","","","","","","","",null,"","","","","","","","","","","","","","","","","","","","","","","","","",null,"0 menunjukkan pemahaman dalam ",null,null,"0 membutuhkan bimbingan dalam "]
[null,null,32,{"$f":"'DATA SISWA'!F41","v":0},null,null,null,null,null,null,null,null,null,null,null,null,null,null,null,null,null,null,null,null,null,null,null,null,null,null,null,null,null,null,null,null,null,null,null,null,null,null,null,null,null,null,null,null,null,null,null,null,null,null,"0 menunjukkan pemahaman dalam ","0 menunjukkan pemahaman dalam ",null,null,0,0,0,0,0,0,0,0,0,0,0,0,0,0,0,0,0,0,0,0,0,0,0,0,0,null,0,0,0,0,0,0,0,0,0,0,0,0,0,0,0,0,0,0,0,0,0,0,0,0,0,null,"","","","","","","","","","","","","","","","","","","","","","","","","",null,"","","","","","","","","","","","","","","","","","","","","","","","","",null,"0 menunjukkan pemahaman dalam ",null,null,"0 membutuhkan bimbingan dalam "]
[null,null,33,{"$f":"'DATA SISWA'!F42","v":0},null,null,null,null,null,null,null,null,null,null,null,null,null,null,null,null,null,null,null,null,null,null,null,null,null,null,null,null,null,null,null,null,null,null,null,null,null,null,null,null,null,null,null,null,null,null,null,null,null,null,"0 menunjukkan pemahaman dalam ","0 menunjukkan pemahaman dalam ",null,null,0,0,0,0,0,0,0,0,0,0,0,0,0,0,0,0,0,0,0,0,0,0,0,0,0,null,0,0,0,0,0,0,0,0,0,0,0,0,0,0,0,0,0,0,0,0,0,0,0,0,0,null,"","","","","","","","","","","","","","","","","","","","","","","","","",null,"","","","","","","","","","","","","","","","","","","","","","","","","",null,"0 menunjukkan pemahaman dalam ",null,null,"0 membutuhkan bimbingan dalam "]
[null,null,34,{"$f":"'DATA SISWA'!F43","v":0},null,null,null,null,null,null,null,null,null,null,null,null,null,null,null,null,null,null,null,null,null,null,null,null,null,null,null,null,null,null,null,null,null,null,null,null,null,null,null,null,null,null,null,null,null,null,null,null,null,null,"0 menunjukkan pemahaman dalam ","0 menunjukkan pemahaman dalam ",null,null,0,0,0,0,0,0,0,0,0,0,0,0,0,0,0,0,0,0,0,0,0,0,0,0,0,null,0,0,0,0,0,0,0,0,0,0,0,0,0,0,0,0,0,0,0,0,0,0,0,0,0,null,"","","","","","","","","","","","","","","","","","","","","","","","","",null,"","","","","","","","","","","","","","","","","","","","","","","","","",null,"0 menunjukkan pemahaman dalam ",null,null,"0 membutuhkan bimbingan dalam "]
[null,null,35,{"$f":"'DATA SISWA'!F44","v":0},null,null,null,null,null,null,null,null,null,null,null,null,null,null,null,null,null,null,null,null,null,null,null,null,null,null,null,null,null,null,null,null,null,null,null,null,null,null,null,null,null,null,null,null,null,null,null,null,null,null,"0 menunjukkan pemahaman dalam ","0 menunjukkan pemahaman dalam ",null,null,0,0,0,0,0,0,0,0,0,0,0,0,0,0,0,0,0,0,0,0,0,0,0,0,0,null,0,0,0,0,0,0,0,0,0,0,0,0,0,0,0,0,0,0,0,0,0,0,0,0,0,null,"","","","","","","","","","","","","","","","","","","","","","","","","",null,"","","","","","","","","","","","","","","","","","","","","","","","","",null,"0 menunjukkan pemahaman dalam ",null,null,"0 membutuhkan bimbingan dalam "]
[null,null,36,{"$f":"'DATA SISWA'!F45","v":0},null,null,null,null,null,null,null,null,null,null,null,null,null,null,null,null,null,null,null,null,null,null,null,null,null,null,null,null,null,null,null,null,null,null,null,null,null,null,null,null,null,null,null,null,null,null,null,null,null,null,"0 menunjukkan pemahaman dalam ","0 menunjukkan pemahaman dalam ",null,null,0,0,0,0,0,0,0,0,0,0,0,0,0,0,0,0,0,0,0,0,0,0,0,0,0,null,0,0,0,0,0,0,0,0,0,0,0,0,0,0,0,0,0,0,0,0,0,0,0,0,0,null,"","","","","","","","","","","","","","","","","","","","","","","","","",null,"","","","","","","","","","","","","","","","","","","","","","","","","",null,"0 menunjukkan pemahaman dalam ",null,null,"0 membutuhkan bimbingan dalam "]
[null,null,37,{"$f":"'DATA SISWA'!F46","v":0},null,null,null,null,null,null,null,null,null,null,null,null,null,null,null,null,null,null,null,null,null,null,null,null,null,null,null,null,null,null,null,null,null,null,null,null,null,null,null,null,null,null,null,null,null,null,null,null,null,null,"0 menunjukkan pemahaman dalam ","0 menunjukkan pemahaman dalam ",null,null,0,0,0,0,0,0,0,0,0,0,0,0,0,0,0,0,0,0,0,0,0,0,0,0,0,null,0,0,0,0,0,0,0,0,0,0,0,0,0,0,0,0,0,0,0,0,0,0,0,0,0,null,"","","","","","","","","","","","","","","","","","","","","","","","","",null,"","","","","","","","","","","","","","","","","","","","","","","","","",null,"0 menunjukkan pemahaman dalam ",null,null,"0 membutuhkan bimbingan dalam "]
[null,null,38,{"$f":"'DATA SISWA'!F47","v":0},null,null,null,null,null,null,null,null,null,null,null,null,null,null,null,null,null,null,null,null,null,null,null,null,null,null,null,null,null,null,null,null,null,null,null,null,null,null,null,null,null,null,null,null,null,null,null,null,null,null,"0 menunjukkan pemahaman dalam ","0 menunjukkan pemahaman dalam ",null,null,0,0,0,0,0,0,0,0,0,0,0,0,0,0,0,0,0,0,0,0,0,0,0,0,0,null,0,0,0,0,0,0,0,0,0,0,0,0,0,0,0,0,0,0,0,0,0,0,0,0,0,null,"","","","","","","","","","","","","","","","","","","","","","","","","",null,"","","","","","","","","","","","","","","","","","","","","","","","","",null,"0 menunjukkan pemahaman dalam ",null,null,"0 membutuhkan bimbingan dalam "]
[null,null,39,{"$f":"'DATA SISWA'!F48","v":0},null,null,null,null,null,null,null,null,null,null,null,null,null,null,null,null,null,null,null,null,null,null,null,null,null,null,null,null,null,null,null,null,null,null,null,null,null,null,null,null,null,null,null,null,null,null,null,null,null,null,"0 menunjukkan pemahaman dalam ","0 menunjukkan pemahaman dalam ",null,null,0,0,0,0,0,0,0,0,0,0,0,0,0,0,0,0,0,0,0,0,0,0,0,0,0,null,0,0,0,0,0,0,0,0,0,0,0,0,0,0,0,0,0,0,0,0,0,0,0,0,0,null,"","","","","","","","","","","","","","","","","","","","","","","","","",null,"","","","","","","","","","","","","","","","","","","","","","","","","",null,"0 menunjukkan pemahaman dalam ",null,null,"0 membutuhkan bimbingan dalam "]
[null,null,40,{"$f":"'DATA SISWA'!F49","v":0},null,null,null,null,null,null,null,null,null,null,null,null,null,null,null,null,null,null,null,null,null,null,null,null,null,null,null,null,null,null,null,null,null,null,null,null,null,null,null,null,null,null,null,null,null,null,null,null,null,null,"0 menunjukkan pemahaman dalam ","0 menunjukkan pemahaman dalam ",null,null,0,0,0,0,0,0,0,0,0,0,0,0,0,0,0,0,0,0,0,0,0,0,0,0,0,null,0,0,0,0,0,0,0,0,0,0,0,0,0,0,0,0,0,0,0,0,0,0,0,0,0,null,"","","","","","","","","","","","","","","","","","","","","","","","","",null,"","","","","","","","","","","","","","","","","","","","","","","","","",null,"0 menunjukkan pemahaman dalam ",null,null,"0 membutuhkan bimbingan dalam "]

{"sheet":"F15","index":48,"n_rows":56,"n_cols":166,"rows_kept":56,"cut":false,"hidden":false,"merged":[[12,54,15,54],[12,55,15,55],[14,52,14,53],[14,40,14,41],[14,42,14,43],[14,44,14,45],[14,46,14,47],[14,48,14,49],[14,50,14,51],[13,48,13,49],[13,46,13,47],[14,38,14,39],[14,16,14,17],[14,18,14,19],[14,20,14,21],[14,22,14,23],[14,24,14,25],[14,26,14,27],[14,28,14,29],[14,30,14,31],[14,32,14,33],[14,34,14,35],[14,36,14,37],[13,152,13,153],[13,154,13,155],[13,156,13,157],[13,158,13,159],[14,4,14,5],[14,6,14,7],[14,8,14,9],[14,10,14,11],[14,12,14,13],[14,14,14,15],[13,50,13,51],[13,52,13,53],[13,144,13,145],[13,146,13,147],[13,148,13,149],[13,150,13,151],[13,26,13,27],[13,28,13,29],[13,30,13,31],[13,32,13,33],[13,34,13,35],[13,36,13,37],[13,38,13,39],[13,40,13,41],[13,42,13,43],[13,44,13,45],[13,24,13,25],[2,1,2,54],[4,1,4,54],[12,2,15,2],[12,3,15,3],[12,4,12,53],[13,4,13,5],[13,6,13,7],[13,8,13,9],[13,10,13,11],[13,12,13,13],[13,14,13,15],[13,16,13,17],[13,18,13,19],[13,20,13,21],[13,22,13,23]]}
[]
[]
[null,"INPUT ASESMEN FORMATIF"]
[]
[null,{"$f":"\"MATA PELAJARAN : \"&INTRAKURIKULER!D23","v":"MATA PELAJARAN : "}]
[null,"Petunjuk Pengisian :"]
[null,null,1,"Rapor ini berasumsi bahwa guru telah melakukan penilaian formatif dan direkap dalam lembar tersendiri"]
[null,null,2,"Pada Kolom KKTP, pilih '0' jika siswa tidak memenuhi KKTP, Pilih '1' jika siswa memenuhi KKTP. Bisa juga diketikkan langsung angka 1 atau 0"]
[null,null,3,"Pada Kolom Tampil/Tidak, pilih '0' jika tidak ingin menampilkan TP tersebut di deskripsi rapor, pilih '1' jika ingin menampilkan TP di deskripsi rapor. Bisa juga diketikkan langsung angka 1 atau 0",null,null,null,null,null,null,null,null,null,null,null,null,null,null,null,null,null,null,null,null,null,null,null,null,null,null,null,null,null,null,null,null,null,null,null,null,null,null,null,null,null,null,null,null,null,null,null,null,null,null,null,null,null,null,0]
[null,"Contoh :",null,"Pada TP 1, siswa mencapai KKTP tapi tidak ingin ditampilkan dalam rapor. Pilih KKTP = 1, dan Tampil/Tidak = 0.",null,null,null,null,null,null,null,null,null,null,null,null,null,null,null,"Isilah hanya pada TP yang diinginkan",null,null,null,null,null,null,null,null,null,null,null,null,null,null,null,null,null,null,null,null,null,null,null,null,null,null,null,null,null,null,null,null,null,null,null,null,null,null,1]
[null,null,null,"Pada TP 2, siswa tidak mencapai KKTP tapi ingin ditampilkan dalam rapor. Pilih KKTP = 0, dan Tampil/Tidak = 1.",null,null,null,null,null,null,null,null,null,null,null,null,null,null,null,"masuk dalam deskripsi rapor"]
[]
[null,null,"No","Nama Siswa","Tujuan Pembelajaran",null,null,null,null,null,null,null,null,null,null,null,null,null,null,null,null,null,null,null,null,null,null,null,null,null,null,null,null,null,null,null,null,null,null,null,null,null,null,null,null,null,null,null,null,null,null,null,null,null,"Deskripsi Capaian Tertinggi dalam Rapor","Deskripsi Capaian Terendah dalam Rapor"]
[null,null,null,null,"TP 1",null,"TP 2",null,"TP 3",null,"TP 4",null,"TP 5",null,"TP 6",null,"TP 7",null,"TP 8",null,"TP 9",null,"TP 10",null,"TP 11",null,"TP 12",null,"TP 13",null,"TP 14",null,"TP 15",null,"TP 16",null,"TP 17",null,"TP 18",null,"TP 19",null,"TP 20",null,"TP 21",null,"TP 22",null,"TP 23",null,"TP 24",null,"TP 25",null,null,null,null,null,null,null,null,null,null,null,null,null,null,null,null,null,null,null,null,null,null,null,null,null,null,null,null,null,null,null,null,null,null,null,null,null,null,null,null,null,null,null,null,null,null,null,null,null,null,null,null,null,null,null,null,null,"mencapai",null,null,null,null,null,null,null,null,null,null,null,null,null,null,null,null,null,null,null,null,null,null,null,null,null,"tidak mencapai"]
[null,null,null,null,{"$f":"'TP 15'!D8","v":1},null,{"$f":"'TP 15'!D9","v":2},null,{"$f":"'TP 15'!D10","v":3},null,{"$f":"'TP 15'!D11","v":4},null,{"$f":"'TP 15'!D12","v":5},null,{"$f":"'TP 15'!D13","v":6},null,{"$f":"'TP 15'!D14","v":7},null,{"$f":"'TP 15'!D15","v":8},null,{"$f":"'TP 15'!D16","v":9},null,{"$f":"'TP 15'!D17","v":10},null,{"$f":"'TP 15'!D18","v":11},null,{"$f":"'TP 15'!D19","v":12},null,{"$f":"'TP 15'!D20","v":13},null,{"$f":"'TP 15'!D21","v":14},null,{"$f":"'TP 15'!D22","v":15},null,{"$f":"'TP 15'!D23","v":16},null,{"$f":"'TP 15'!D24","v":17},null,{"$f":"'TP 15'!D25","v":18},null,{"$f":"'TP 15'!D26","v":19},null,{"$f":"'TP 15'!D27","v":20},null,{"$f":"'TP 15'!D28","v":21},null,{"$f":"'TP 15'!D29","v":22},null,{"$f":"'TP 15'!D30","v":23},null,{"$f":"'TP 15'!D31","v":24},null,{"$f":"'TP 15'!D32","v":25},null,null,null,null,null,1,2,3,4,5,6,7,8,9,10,11,12,13,14,15,16,17,18,19,20,21,22,23,24,25,null,1,2,3,4,5,6,7,8,9,10,11,12,13,14,15,16,17,18,19,20,21,22,23,24,25,null,{"$f":"E15","v":1},{"$f":"G15","v":2},{"$f":"I15","v":3},{"$f":"K15","v":4},{"$f":"M15","v":5},{"$f":"O15","v":6},{"$f":"Q15","v":7},{"$f":"S15","v":8},{"$f":"U15","v":9},{"$f":"W15","v":10},{"$f":"Y15","v":11},{"$f":"AA15","v":12},{"$f":"AC15","v":13},{"$f":"AE15","v":14},{"$f":"AG15","v":15},{"$f":"AI15","v":16},{"$f":"AK15","v":17},{"$f":"AM15","v":18},{"$f":"AO15","v":19},{"$f":"AQ15","v":20},{"$f":"AS15","v":21},{"$f":"AU15","v":22},{"$f":"AW15","v":23},{"$f":"AY15","v":24},{"$f":"BA15","v":25},null,{"$f":"DG15","v":1},{"$f":"DH15","v":2},3,4,5,6,7,8,9,10,11,12,13,14,15,16,17,18,19,20,21,22,23,24,25,null,"mencapai",null,null,"tidak mencapai"]
[null,null,null,null,"KKTP","Tampil/Tidak","KKTP","Tampil/Tidak","KKTP","Tampil/Tidak","KKTP","Tampil/Tidak","KKTP","Tampil/Tidak","KKTP","Tampil/Tidak","KKTP","Tampil/Tidak","KKTP","Tampil/Tidak",null,"Tampil/Tidak","KKTP","Tampil/Tidak","KKTP","Tampil/Tidak","KKTP","Tampil/Tidak","KKTP","Tampil/Tidak","KKTP","Tampil/Tidak","KKTP","Tampil/Tidak","KKTP","Tampil/Tidak","KKTP","Tampil/Tidak","KKTP","Tampil/Tidak","KKTP","Tampil/Tidak","KKTP","Tampil/Tidak","KKTP","Tampil/Tidak","KKTP","Tampil/Tidak","KKTP","Tampil/Tidak","KKTP","Tampil/Tidak","KKTP","Tampil/Tidak",null,null,null,null,null,null,null,null,null,null,null,null,null,null,null,null,null,null,null,null,null,null,null,null,null,null,null,null,null,null,"kktp",null,null,null,null,null,null,null,null,null,null,null,null,null,null,null,null,null,null,null,null,null,null,null,null,null,1,2,3,4,5,6,7,8,9,10,11,12,13,14,15,16,17,18,19,20,21,22,23,24,25,null,1,2,3,4,5,6,7,8,9,10,11,12,13,14,15,16,17,18,19,20,21,22,23,24,25]
[null,null,1,{"$f":"'DATA SISWA'!F10","v":0},null,null,null,null,null,null,null,null,null,null,null,null,null,null,null,null,null,null,null,null,null,null,null,null,null,null,null,null,null,null,null,null,null,null,null,null,null,null,null,null,null,null,null,null,null,null,null,null,null,null,{"$f":"FG17","v":"0 menunjukkan pemahaman dalam "},{"$f":"FJ17","v":"0 membutuhkan bimbingan dalam "},null,null,{"$f":"F17","v":0},{"$f":"H17","v":0},{"$f":"J17","v":0},{"$f":"L17","v":0},{"$f":"N17","v":0},{"$f":"P17","v":0},{"$f":"R17","v":0},{"$f":"T17","v":0},{"$f":"V17","v":0},{"$f":"X17","v":0},{"$f":"Z17","v":0},{"$f":"AB17","v":0},{"$f":"AD17","v":0},{"$f":"AF17","v":0},{"$f":"AH17","v":0},{"$f":"AJ17","v":0},{"$f":"AL17","v":0},{"$f":"AN17","v":0},{"$f":"AP17","v":0},{"$f":"AR17","v":0},{"$f":"AT17","v":0},{"$f":"AV17","v":0},{"$f":"AX17","v":0},{"$f":"AZ17","v":0},{"$f":"BB17","v":0},null,{"$f":"E17","v":0},{"$f":"G17","v":0},{"$f":"I17","v":0},{"$f":"K17","v":0},{"$f":"M17","v":0},{"$f":"O17","v":0},{"$f":"Q17","v":0},{"$f":"S17","v":0},{"$f":"U17","v":0},{"$f":"W17","v":0},{"$f":"Y17","v":0},{"$f":"AA17","v":0},{"$f":"AC17","v":0},{"$f":"AE17","v":0},{"$f":"AG17","v":0},{"$f":"AI17","v":0},{"$f":"AK17","v":0},{"$f":"AM17","v":0},{"$f":"AO17","v":0},{"$f":"AQ17","v":0},{"$f":"AS17","v":0},{"$f":"AU17","v":0},{"$f":"AW17","v":0},{"$f":"AY17","v":0},{"$f":"BA17","v":0},null,{"$f":"IF(AND(BG17=1,CG17=1),DG$15&\", \",\"\")","v":""},{"$f":"IF(AND(BH17=1,CH17=1),DH$15&\", \",\"\")","v":""},"","","","","","","","","","","","","","","",{"$f":"IF(AND(BX17=1,CX17=1),DX$15&\", \",\"\")","v":""},"","","","","","","",null,{"$f":"IF(AND(BG17=1,CG17=0),EG$15&\", \",\"\")","v":""},{"$f":"IF(AND(BH17=1,CH17=0),EH$15&\", \",\"\")","v":""},"","","","","","","","","","","","","","","",{"$f":"IF(AND(BX17=1,CX17=0),EX$15&\", \",\"\")","v":""},"","","","","","","",null,{"$f":"PROPER(D17)&\" menunjukkan pemahaman dalam \"&DG17&DH17&DI17&DJ17&DK17&DL17&DM17&DN17&DO17&DP17&DQ17&DR17&DS17&DT17&DU17&DV17&DW17&DX17&DY17&DZ17&EA17&EB17&EC17&ED17&EE17","v":"0 menunjukkan pemahaman dalam "},null,null,{"$f":"PROPER(D17)&\" membutuhkan bimbingan dalam \"&EG17&EH17&EI17&EJ17&EK17&EL17&EM17&EN17&EO17&EP17&EQ17&ER17&ES17&ET17&EU17&EV17&EW17&EX17&EY17&EZ17&FA17&FB17&FC17&FD17&FE17","v":"0 membutuhkan bimbingan dalam "}]
[null,null,2,{"$f":"'DATA SISWA'!F11","v":0},null,null,null,null,null,null,null,null,null,null,null,null,null,null,null,null,null,null,null,null,null,null,null,null,null,null,null,null,null,null,null,null,null,null,null,null,null,null,null,null,null,null,null,null,null,null,null,null,null,null,{"$f":"FG18","v":"0 menunjukkan pemahaman dalam "},{"$f":"FJ18","v":"0 membutuhkan bimbingan dalam "},null,null,{"$f":"F18","v":0},{"$f":"H18","v":0},{"$f":"J18","v":0},{"$f":"L18","v":0},{"$f":"N18","v":0},{"$f":"P18","v":0},{"$f":"R18","v":0},{"$f":"T18","v":0},{"$f":"V18","v":0},{"$f":"X18","v":0},{"$f":"Z18","v":0},{"$f":"AB18","v":0},{"$f":"AD18","v":0},{"$f":"AF18","v":0},{"$f":"AH18","v":0},{"$f":"AJ18","v":0},{"$f":"AL18","v":0},{"$f":"AN18","v":0},{"$f":"AP18","v":0},{"$f":"AR18","v":0},{"$f":"AT18","v":0},{"$f":"AV18","v":0},{"$f":"AX18","v":0},{"$f":"AZ18","v":0},{"$f":"BB18","v":0},null,{"$f":"E18","v":0},{"$f":"G18","v":0},{"$f":"I18","v":0},{"$f":"K18","v":0},{"$f":"M18","v":0},{"$f":"O18","v":0},{"$f":"Q18","v":0},{"$f":"S18","v":0},{"$f":"U18","v":0},{"$f":"W18","v":0},{"$f":"Y18","v":0},{"$f":"AA18","v":0},{"$f":"AC18","v":0},{"$f":"AE18","v":0},{"$f":"AG18","v":0},{"$f":"AI18","v":0},{"$f":"AK18","v":0},{"$f":"AM18","v":0},{"$f":"AO18","v":0},{"$f":"AQ18","v":0},{"$f":"AS18","v":0},{"$f":"AU18","v":0},{"$f":"AW18","v":0},{"$f":"AY18","v":0},{"$f":"BA18","v":0},null,{"$f":"IF(AND(BG18=1,CG18=1),DG$15&\", \",\"\")","v":""},"","","","","","","","","","","","","","","","","","","","","","","","",null,{"$f":"IF(AND(BG18=1,CG18=0),EG$15&\", \",\"\")","v":""},"","","","","","","","","","","","","","","","","","","","","","","","",null,{"$f":"PROPER(D18)&\" menunjukkan pemahaman dalam \"&DG18&DH18&DI18&DJ18&DK18&DL18&DM18&DN18&DO18&DP18&DQ18&DR18&DS18&DT18&DU18&DV18&DW18&DX18&DY18&DZ18&EA18&EB18&EC18&ED18&EE18","v":"0 menunjukkan pemahaman dalam "},null,null,{"$f":"PROPER(D18)&\" membutuhkan bimbingan dalam \"&EG18&EH18&EI18&EJ18&EK18&EL18&EM18&EN18&EO18&EP18&EQ18&ER18&ES18&ET18&EU18&EV18&EW18&EX18&EY18&EZ18&FA18&FB18&FC18&FD18&FE18","v":"0 membutuhkan bimbingan dalam "}]
[null,null,3,{"$f":"'DATA SISWA'!F12","v":0},null,null,null,null,null,null,null,null,null,null,null,null,null,null,null,null,null,null,null,null,null,null,null,null,null,null,null,null,null,null,null,null,null,null,null,null,null,null,null,null,null,null,null,null,null,null,null,null,null,null,"0 menunjukkan pemahaman dalam ","0 membutuhkan bimbingan dalam ",null,null,0,0,0,0,0,0,0,0,0,0,0,0,0,0,0,0,0,0,0,0,0,0,0,0,0,null,0,0,0,0,0,0,0,0,0,0,0,0,0,0,0,0,0,0,0,0,0,0,0,0,0,null,"","","","","","","","","","","","","","","","","","","","","","","","","",null,"","","","","","","","","","","","","","","","","","","","","","","","","",null,"0 menunjukkan pemahaman dalam ",null,null,"0 membutuhkan bimbingan dalam "]
[null,null,4,{"$f":"'DATA SISWA'!F13","v":0},null,null,null,null,null,null,null,null,null,null,null,null,null,null,null,null,null,null,null,null,null,null,null,null,null,null,null,null,null,null,null,null,null,null,null,null,null,null,null,null,null,null,null,null,null,null,null,null,null,null,"0 menunjukkan pemahaman dalam ","0 membutuhkan bimbingan dalam ",null,null,0,0,0,0,0,0,0,0,0,0,0,0,0,0,0,0,0,0,0,0,0,0,0,0,0,null,0,0,0,0,0,0,0,0,0,0,0,0,0,0,0,0,0,0,0,0,0,0,0,0,0,null,"","","","","","","","","","","","","","","","","","","","","","","","","",null,"","","","","","","","","","","","","","","","","","","","","","","","","",null,"0 menunjukkan pemahaman dalam ",null,null,"0 membutuhkan bimbingan dalam "]
[null,null,5,{"$f":"'DATA SISWA'!F14","v":0},null,null,null,null,null,null,null,null,null,null,null,null,null,null,null,null,null,null,null,null,null,null,null,null,null,null,null,null,null,null,null,null,null,null,null,null,null,null,null,null,null,null,null,null,null,null,null,null,null,null,"0 menunjukkan pemahaman dalam ","0 membutuhkan bimbingan dalam ",null,null,0,0,0,0,0,0,0,0,0,0,0,0,0,0,0,0,0,0,0,0,0,0,0,0,0,null,0,0,0,0,0,0,0,0,0,0,0,0,0,0,0,0,0,0,0,0,0,0,0,0,0,null,"","","","","","","","","","","","","","","","","","","","","","","","","",null,"","","","","","","","","","","","","","","","","","","","","","","","","",null,"0 menunjukkan pemahaman dalam ",null,null,"0 membutuhkan bimbingan dalam "]
[null,null,6,{"$f":"'DATA SISWA'!F15","v":0},null,null,null,null,null,null,null,null,null,null,null,null,null,null,null,null,null,null,null,null,null,null,null,null,null,null,null,null,null,null,null,null,null,null,null,null,null,null,null,null,null,null,null,null,null,null,null,null,null,null,"0 menunjukkan pemahaman dalam ","0 membutuhkan bimbingan dalam ",null,null,0,0,0,0,0,0,0,0,0,0,0,0,0,0,0,0,0,0,0,0,0,0,0,0,0,null,0,0,0,0,0,0,0,0,0,0,0,0,0,0,0,0,0,0,0,0,0,0,0,0,0,null,"","","","","","","","","","","","","","","","","","","","","","","","","",null,"","","","","","","","","","","","","","","","","","","","","","","","","",null,"0 menunjukkan pemahaman dalam ",null,null,"0 membutuhkan bimbingan dalam "]
[null,null,7,{"$f":"'DATA SISWA'!F16","v":0},null,null,null,null,null,null,null,null,null,null,null,null,null,null,null,null,null,null,null,null,null,null,null,null,null,null,null,null,null,null,null,null,null,null,null,null,null,null,null,null,null,null,null,null,null,null,null,null,null,null,"0 menunjukkan pemahaman dalam ","0 membutuhkan bimbingan dalam ",null,null,0,0,0,0,0,0,0,0,0,0,0,0,0,0,0,0,0,0,0,0,0,0,0,0,0,null,0,0,0,0,0,0,0,0,0,0,0,0,0,0,0,0,0,0,0,0,0,0,0,0,0,null,"","","","","","","","","","","","","","","","","","","","","","","","","",null,"","","","","","","","","","","","","","","","","","","","","","","","","",null,"0 menunjukkan pemahaman dalam ",null,null,"0 membutuhkan bimbingan dalam "]
[null,null,8,{"$f":"'DATA SISWA'!F17","v":0},null,null,null,null,null,null,null,null,null,null,null,null,null,null,null,null,null,null,null,null,null,null,null,null,null,null,null,null,null,null,null,null,null,null,null,null,null,null,null,null,null,null,null,null,null,null,null,null,null,null,"0 menunjukkan pemahaman dalam ","0 membutuhkan bimbingan dalam ",null,null,0,0,0,0,0,0,0,0,0,0,0,0,0,0,0,0,0,0,0,0,0,0,0,0,0,null,0,0,0,0,0,0,0,0,0,0,0,0,0,0,0,0,0,0,0,0,0,0,0,0,0,null,"","","","","","","","","","","","","","","","","","","","","","","","","",null,"","","","","","","","","","","","","","","","","","","","","","","","","",null,"0 menunjukkan pemahaman dalam ",null,null,"0 membutuhkan bimbingan dalam "]
[null,null,9,{"$f":"'DATA SISWA'!F18","v":0},null,null,null,null,null,null,null,null,null,null,null,null,null,null,null,null,null,null,null,null,null,null,null,null,null,null,null,null,null,null,null,null,null,null,null,null,null,null,null,null,null,null,null,null,null,null,null,null,null,null,"0 menunjukkan pemahaman dalam ","0 membutuhkan bimbingan dalam ",null,null,0,0,0,0,0,0,0,0,0,0,0,0,0,0,0,0,0,0,0,0,0,0,0,0,0,null,0,0,0,0,0,0,0,0,0,0,0,0,0,0,0,0,0,0,0,0,0,0,0,0,0,null,"","","","","","","","","","","","","","","","","","","","","","","","","",null,"","","","","","","","","","","","","","","","","","","","","","","","","",null,"0 menunjukkan pemahaman dalam ",null,null,"0 membutuhkan bimbingan dalam "]
[null,null,10,{"$f":"'DATA SISWA'!F19","v":0},null,null,null,null,null,null,null,null,null,null,null,null,null,null,null,null,null,null,null,null,null,null,null,null,null,null,null,null,null,null,null,null,null,null,null,null,null,null,null,null,null,null,null,null,null,null,null,null,null,null,"0 menunjukkan pemahaman dalam ","0 membutuhkan bimbingan dalam ",null,null,0,0,0,0,0,0,0,0,0,0,0,0,0,0,0,0,0,0,0,0,0,0,0,0,0,null,0,0,0,0,0,0,0,0,0,0,0,0,0,0,0,0,0,0,0,0,0,0,0,0,0,null,"","","","","","","","","","","","","","","","","","","","","","","","","",null,"","","","","","","","","","","","","","","","","","","","","","","","","",null,"0 menunjukkan pemahaman dalam ",null,null,"0 membutuhkan bimbingan dalam "]
[null,null,11,{"$f":"'DATA SISWA'!F20","v":0},null,null,null,null,null,null,null,null,null,null,null,null,null,null,null,null,null,null,null,null,null,null,null,null,null,null,null,null,null,null,null,null,null,null,null,null,null,null,null,null,null,null,null,null,null,null,null,null,null,null,"0 menunjukkan pemahaman dalam ","0 membutuhkan bimbingan dalam ",null,null,0,0,0,0,0,0,0,0,0,0,0,0,0,0,0,0,0,0,0,0,0,0,0,0,0,null,0,0,0,0,0,0,0,0,0,0,0,0,0,0,0,0,0,0,0,0,0,0,0,0,0,null,"","","","","","","","","","","","","","","","","","","","","","","","","",null,"","","","","","","","","","","","","","","","","","","","","","","","","",null,"0 menunjukkan pemahaman dalam ",null,null,"0 membutuhkan bimbingan dalam "]
[null,null,12,{"$f":"'DATA SISWA'!F21","v":0},null,null,null,null,null,null,null,null,null,null,null,null,null,null,null,null,null,null,null,null,null,null,null,null,null,null,null,null,null,null,null,null,null,null,null,null,null,null,null,null,null,null,null,null,null,null,null,null,null,null,"0 menunjukkan pemahaman dalam ","0 membutuhkan bimbingan dalam ",null,null,0,0,0,0,0,0,0,0,0,0,0,0,0,0,0,0,0,0,0,0,0,0,0,0,0,null,0,0,0,0,0,0,0,0,0,0,0,0,0,0,0,0,0,0,0,0,0,0,0,0,0,null,"","","","","","","","","","","","","","","","","","","","","","","","","",null,"","","","","","","","","","","","","","","","","","","","","","","","","",null,"0 menunjukkan pemahaman dalam ",null,null,"0 membutuhkan bimbingan dalam "]
[null,null,13,{"$f":"'DATA SISWA'!F22","v":0},null,null,null,null,null,null,null,null,null,null,null,null,null,null,null,null,null,null,null,null,null,null,null,null,null,null,null,null,null,null,null,null,null,null,null,null,null,null,null,null,null,null,null,null,null,null,null,null,null,null,"0 menunjukkan pemahaman dalam ","0 membutuhkan bimbingan dalam ",null,null,0,0,0,0,0,0,0,0,0,0,0,0,0,0,0,0,0,0,0,0,0,0,0,0,0,null,0,0,0,0,0,0,0,0,0,0,0,0,0,0,0,0,0,0,0,0,0,0,0,0,0,null,"","","","","","","","","","","","","","","","","","","","","","","","","",null,"","","","","","","","","","","","","","","","","","","","","","","","","",null,"0 menunjukkan pemahaman dalam ",null,null,"0 membutuhkan bimbingan dalam "]
[null,null,14,{"$f":"'DATA SISWA'!F23","v":0},null,null,null,null,null,null,null,null,null,null,null,null,null,null,null,null,null,null,null,null,null,null,null,null,null,null,null,null,null,null,null,null,null,null,null,null,null,null,null,null,null,null,null,null,null,null,null,null,null,null,"0 menunjukkan pemahaman dalam ","0 membutuhkan bimbingan dalam ",null,null,0,0,0,0,0,0,0,0,0,0,0,0,0,0,0,0,0,0,0,0,0,0,0,0,0,null,0,0,0,0,0,0,0,0,0,0,0,0,0,0,0,0,0,0,0,0,0,0,0,0,0,null,"","","","","","","","","","","","","","","","","","","","","","","","","",null,"","","","","","","","","","","","","","","","","","","","","","","","","",null,"0 menunjukkan pemahaman dalam ",null,null,"0 membutuhkan bimbingan dalam "]
[null,null,15,{"$f":"'DATA SISWA'!F24","v":0},null,null,null,null,null,null,null,null,null,null,null,null,null,null,null,null,null,null,null,null,null,null,null,null,null,null,null,null,null,null,null,null,null,null,null,null,null,null,null,null,null,null,null,null,null,null,null,null,null,null,"0 menunjukkan pemahaman dalam ","0 membutuhkan bimbingan dalam ",null,null,0,0,0,0,0,0,0,0,0,0,0,0,0,0,0,0,0,0,0,0,0,0,0,0,0,null,0,0,0,0,0,0,0,0,0,0,0,0,0,0,0,0,0,0,0,0,0,0,0,0,0,null,"","","","","","","","","","","","","","","","","","","","","","","","","",null,"","","","","","","","","","","","","","","","","","","","","","","","","",null,"0 menunjukkan pemahaman dalam ",null,null,"0 membutuhkan bimbingan dalam "]
[null,null,16,{"$f":"'DATA SISWA'!F25","v":0},null,null,null,null,null,null,null,null,null,null,null,null,null,null,null,null,null,null,null,null,null,null,null,null,null,null,null,null,null,null,null,null,null,null,null,null,null,null,null,null,null,null,null,null,null,null,null,null,null,null,"0 menunjukkan pemahaman dalam ","0 membutuhkan bimbingan dalam ",null,null,0,0,0,0,0,0,0,0,0,0,0,0,0,0,0,0,0,0,0,0,0,0,0,0,0,null,0,0,0,0,0,0,0,0,0,0,0,0,0,0,0,0,0,0,0,0,0,0,0,0,0,null,"","","","","","","","","","","","","","","","","","","","","","","","","",null,"","","","","","","","","","","","","","","","","","","","","","","","","",null,"0 menunjukkan pemahaman dalam ",null,null,"0 membutuhkan bimbingan dalam "]
[null,null,17,{"$f":"'DATA SISWA'!F26","v":0},null,null,null,null,null,null,null,null,null,null,null,null,null,null,null,null,null,null,null,null,null,null,null,null,null,null,null,null,null,null,null,null,null,null,null,null,null,null,null,null,null,null,null,null,null,null,null,null,null,null,"0 menunjukkan pemahaman dalam ","0 membutuhkan bimbingan dalam ",null,null,0,0,0,0,0,0,0,0,0,0,0,0,0,0,0,0,0,0,0,0,0,0,0,0,0,null,0,0,0,0,0,0,0,0,0,0,0,0,0,0,0,0,0,0,0,0,0,0,0,0,0,null,"","","","","","","","","","","","","","","","",{"$f":"IF(AND(BW33=1,CW33=1),DW$15&\", \",\"\")","v":""},"","","","","","","","",null,"","","","","","","","","","","","","","","","",{"$f":"IF(AND(BW33=1,CW33=0),EW$15&\", \",\"\")","v":""},"","","","","","","","",null,"0 menunjukkan pemahaman dalam ",null,null,"0 membutuhkan bimbingan dalam "]
[null,null,18,{"$f":"'DATA SISWA'!F27","v":0},null,null,null,null,null,null,null,null,null,null,null,null,null,null,null,null,null,null,null,null,null,null,null,null,null,null,null,null,null,null,null,null,null,null,null,null,null,null,null,null,null,null,null,null,null,null,null,null,null,null,"0 menunjukkan pemahaman dalam ","0 membutuhkan bimbingan dalam ",null,null,0,0,0,0,0,0,0,0,0,0,0,0,0,0,0,0,0,0,0,0,0,0,0,0,0,null,0,0,0,0,0,0,0,0,0,0,0,0,0,0,0,0,0,0,0,0,0,0,0,0,0,null,"","","","","","","","","","","","","","","","","","","","","","","","","",null,"","","","","","","","","","","","","","","","","","","","","","","","","",null,"0 menunjukkan pemahaman dalam ",null,null,"0 membutuhkan bimbingan dalam "]
[null,null,19,{"$f":"'DATA SISWA'!F28","v":0},null,null,null,null,null,null,null,null,null,null,null,null,null,null,null,null,null,null,null,null,null,null,null,null,null,null,null,null,null,null,null,null,null,null,null,null,null,null,null,null,null,null,null,null,null,null,null,null,null,null,"0 menunjukkan pemahaman dalam ","0 membutuhkan bimbingan dalam ",null,null,0,0,0,0,0,0,0,0,0,0,0,0,0,0,0,0,0,0,0,0,0,0,0,0,0,null,0,0,0,0,0,0,0,0,0,0,0,0,0,0,0,0,0,0,0,0,0,0,0,0,0,null,"","","","","","","","","","","","","","","","","","","","","","","","","",null,"","","","","","","","","","","","","","","","","","","","","","","","","",null,"0 menunjukkan pemahaman dalam ",null,null,"0 membutuhkan bimbingan dalam "]
[null,null,20,{"$f":"'DATA SISWA'!F29","v":0},null,null,null,null,null,null,null,null,null,null,null,null,null,null,null,null,null,null,null,null,null,null,null,null,null,null,null,null,null,null,null,null,null,null,null,null,null,null,null,null,null,null,null,null,null,null,null,null,null,null,"0 menunjukkan pemahaman dalam ","0 membutuhkan bimbingan dalam ",null,null,0,0,0,0,0,0,0,0,0,0,0,0,0,0,0,0,0,0,0,0,0,0,0,0,0,null,0,0,0,0,0,0,0,0,0,0,0,0,0,0,0,0,0,0,0,0,0,0,0,0,0,null,"","","","","","","","","","","","","","","","","","","","","","","","","",null,"","","","","","","","","","","","","","","","","","","","","","","","","",null,"0 menunjukkan pemahaman dalam ",null,null,"0 membutuhkan bimbingan dalam "]
[null,null,21,{"$f":"'DATA SISWA'!F30","v":0},null,null,null,null,null,null,null,null,null,null,null,null,null,null,null,null,null,null,null,null,null,null,null,null,null,null,null,null,null,null,null,null,null,null,null,null,null,null,null,null,null,null,null,null,null,null,null,null,null,null,"0 menunjukkan pemahaman dalam ","0 membutuhkan bimbingan dalam ",null,null,0,0,0,0,0,0,0,0,0,0,0,0,0,0,0,0,0,0,0,0,0,0,0,0,0,null,0,0,0,0,0,0,0,0,0,0,0,0,0,0,0,0,0,0,0,0,0,0,0,0,0,null,"","","","","","","","","","","","","","","","","","","","","","","","","",null,"","","","","","","","","","","","","","","","","","","","","","","","","",null,"0 menunjukkan pemahaman dalam ",null,null,"0 membutuhkan bimbingan dalam "]
[null,null,22,{"$f":"'DATA SISWA'!F31","v":0},null,null,null,null,null,null,null,null,null,null,null,null,null,null,null,null,null,null,null,null,null,null,null,null,null,null,null,null,null,null,null,null,null,null,null,null,null,null,null,null,null,null,null,null,null,null,null,null,null,null,"0 menunjukkan pemahaman dalam ","0 membutuhkan bimbingan dalam ",null,null,0,0,0,0,0,0,0,0,0,0,0,0,0,0,0,0,0,0,0,0,0,0,0,0,0,null,0,0,0,0,0,0,0,0,0,0,0,0,0,0,0,0,0,0,0,0,0,0,0,0,0,null,"","","","","","","","","","","","","","","","","","","","","","","","","",null,"","","","","","","","","","","","","","","","","","","","","","","","","",null,"0 menunjukkan pemahaman dalam ",null,null,"0 membutuhkan bimbingan dalam "]
[null,null,23,{"$f":"'DATA SISWA'!F32","v":0},null,null,null,null,null,null,null,null,null,null,null,null,null,null,null,null,null,null,null,null,null,null,null,null,null,null,null,null,null,null,null,null,null,null,null,null,null,null,null,null,null,null,null,null,null,null,null,null,null,null,"0 menunjukkan pemahaman dalam ","0 membutuhkan bimbingan dalam ",null,null,0,0,0,0,0,0,0,0,0,0,0,0,0,0,0,0,0,0,0,0,0,0,0,0,0,null,0,0,0,0,0,0,0,0,0,0,0,0,0,0,0,0,0,0,0,0,0,0,0,0,0,null,"","","","","","","","","","","","","","","","","","","","","","","","","",null,"","","","","","","","","","","","","","","","","","","","","","","","","",null,"0 menunjukkan pemahaman dalam ",null,null,"0 membutuhkan bimbingan dalam "]
[null,null,24,{"$f":"'DATA SISWA'!F33","v":0},null,null,null,null,null,null,null,null,null,null,null,null,null,null,null,null,null,null,null,null,null,null,null,null,null,null,null,null,null,null,null,null,null,null,null,null,null,null,null,null,null,null,null,null,null,null,null,null,null,null,"0 menunjukkan pemahaman dalam ","0 membutuhkan bimbingan dalam ",null,null,0,0,0,0,0,0,0,0,0,0,0,0,0,0,0,0,0,0,0,0,0,0,0,0,0,null,0,0,0,0,0,0,0,0,0,0,0,0,0,0,0,0,0,0,0,0,0,0,0,0,0,null,"","","","","","","","","","","","","","","","","","","","","","","","","",null,"","","","","","","","","","","","","","","","","","","","","","","","","",null,"0 menunjukkan pemahaman dalam ",null,null,"0 membutuhkan bimbingan dalam "]
[null,null,25,{"$f":"'DATA SISWA'!F34","v":0},null,null,null,null,null,null,null,null,null,null,null,null,null,null,null,null,null,null,null,null,null,null,null,null,null,null,null,null,null,null,null,null,null,null,null,null,null,null,null,null,null,null,null,null,null,null,null,null,null,null,"0 menunjukkan pemahaman dalam ","0 membutuhkan bimbingan dalam ",null,null,0,0,0,0,0,0,0,0,0,0,0,0,0,0,0,0,0,0,0,0,0,0,0,0,0,null,0,0,0,0,0,0,0,0,0,0,0,0,0,0,0,0,0,0,0,0,0,0,0,0,0,null,"","","","","","","","","","","","","","","","","","","","","","","","","",null,"","","","","","","","","","","","","","","","","","","","","","","","","",null,"0 menunjukkan pemahaman dalam ",null,null,"0 membutuhkan bimbingan dalam "]
[null,null,26,{"$f":"'DATA SISWA'!F35","v":0},null,null,null,null,null,null,null,null,null,null,null,null,null,null,null,null,null,null,null,null,null,null,null,null,null,null,null,null,null,null,null,null,null,null,null,null,null,null,null,null,null,null,null,null,null,null,null,null,null,null,"0 menunjukkan pemahaman dalam ","0 membutuhkan bimbingan dalam ",null,null,0,0,0,0,0,0,0,0,0,0,0,0,0,0,0,0,0,0,0,0,0,0,0,0,0,null,0,0,0,0,0,0,0,0,0,0,0,0,0,0,0,0,0,0,0,0,0,0,0,0,0,null,"","","","","","","","","","","","","","","","","","","","","","","","","",null,"","","","","","","","","","","","","","","","","","","","","","","","","",null,"0 menunjukkan pemahaman dalam ",null,null,"0 membutuhkan bimbingan dalam "]
[null,null,27,{"$f":"'DATA SISWA'!F36","v":0},null,null,null,null,null,null,null,null,null,null,null,null,null,null,null,null,null,null,null,null,null,null,null,null,null,null,null,null,null,null,null,null,null,null,null,null,null,null,null,null,null,null,null,null,null,null,null,null,null,null,"0 menunjukkan pemahaman dalam ","0 membutuhkan bimbingan dalam ",null,null,0,0,0,0,0,0,0,0,0,0,0,0,0,0,0,0,0,0,0,0,0,0,0,0,0,null,0,0,0,0,0,0,0,0,0,0,0,0,0,0,0,0,0,0,0,0,0,0,0,0,0,null,"","","","","",{"$f":"IF(AND(BL43=1,CL43=1),DL$15&\", \",\"\")","v":""},"","","","","","","","","","","","","","","","","","","",null,"","","","","",{"$f":"IF(AND(BL43=1,CL43=0),EL$15&\", \",\"\")","v":""},"","","","","","","","","","","","","","","","","","","",null,"0 menunjukkan pemahaman dalam ",null,null,"0 membutuhkan bimbingan dalam "]
[null,null,28,{"$f":"'DATA SISWA'!F37","v":0},null,null,null,null,null,null,null,null,null,null,null,null,null,null,null,null,null,null,null,null,null,null,null,null,null,null,null,null,null,null,null,null,null,null,null,null,null,null,null,null,null,null,null,null,null,null,null,null,null,null,"0 menunjukkan pemahaman dalam ","0 membutuhkan bimbingan dalam ",null,null,0,0,0,0,0,0,0,0,0,0,0,0,0,0,0,0,0,0,0,0,0,0,0,0,0,null,0,0,0,0,0,0,0,0,0,0,0,0,0,0,0,0,0,0,0,0,0,0,0,0,0,null,{"$f":"IF(AND(BG44=1,CG44=1),DG$15&\", \",\"\")","v":""},"","","","","","","","","","","","","","","","","","","","","","","","",null,{"$f":"IF(AND(BG44=1,CG44=0),EG$15&\", \",\"\")","v":""},"","","","","","","","","","","","","","","","","","","","","","","","",null,"0 menunjukkan pemahaman dalam ",null,null,"0 membutuhkan bimbingan dalam "]
[null,null,29,{"$f":"'DATA SISWA'!F38","v":0},null,null,null,null,null,null,null,null,null,null,null,null,null,null,null,null,null,null,null,null,null,null,null,null,null,null,null,null,null,null,null,null,null,null,null,null,null,null,null,null,null,null,null,null,null,null,null,null,null,null,"0 menunjukkan pemahaman dalam ","0 membutuhkan bimbingan dalam ",null,null,0,0,0,0,0,0,0,0,0,0,0,0,0,0,0,0,0,0,0,0,0,0,0,0,0,null,0,0,0,0,0,0,0,0,0,0,0,0,0,0,0,0,0,0,0,0,0,0,0,0,0,null,"","","","","","","","","","","","","","","","","","","","","","","","","",null,"","","","","","","","","","","","","","","","","","","","","","","","","",null,"0 menunjukkan pemahaman dalam ",null,null,"0 membutuhkan bimbingan dalam "]
[null,null,30,{"$f":"'DATA SISWA'!F39","v":0},null,null,null,null,null,null,null,null,null,null,null,null,null,null,null,null,null,null,null,null,null,null,null,null,null,null,null,null,null,null,null,null,null,null,null,null,null,null,null,null,null,null,null,null,null,null,null,null,null,null,"0 menunjukkan pemahaman dalam ","0 membutuhkan bimbingan dalam ",null,null,0,0,0,0,0,0,0,0,0,0,0,0,0,0,0,0,0,0,0,0,0,0,0,0,0,null,0,0,0,0,0,0,0,0,0,0,0,0,0,0,0,0,0,0,0,0,0,0,0,0,0,null,"","","","","","","","","","","","","","","","","","","","","","","","","",null,"","","","","","","","","","","","","","","","","","","","","","","","","",null,"0 menunjukkan pemahaman dalam ",null,null,"0 membutuhkan bimbingan dalam "]
[null,null,31,{"$f":"'DATA SISWA'!F40","v":0},null,null,null,null,null,null,null,null,null,null,null,null,null,null,null,null,null,null,null,null,null,null,null,null,null,null,null,null,null,null,null,null,null,null,null,null,null,null,null,null,null,null,null,null,null,null,null,null,null,null,"0 menunjukkan pemahaman dalam ","0 membutuhkan bimbingan dalam ",null,null,0,0,0,0,0,0,0,0,0,0,0,0,0,0,0,0,0,0,0,0,0,0,0,0,0,null,0,0,0,0,0,0,0,0,0,0,0,0,0,0,0,0,0,0,0,0,0,0,0,0,0,null,"","","","","","","","","","","","","","","","","","","","","","","","","",null,"","","","","","","","","","","","","","","","","","","","","","","","","",null,"0 menunjukkan pemahaman dalam ",null,null,"0 membutuhkan bimbingan dalam "]
[null,null,32,{"$f":"'DATA SISWA'!F41","v":0},null,null,null,null,null,null,null,null,null,null,null,null,null,null,null,null,null,null,null,null,null,null,null,null,null,null,null,null,null,null,null,null,null,null,null,null,null,null,null,null,null,null,null,null,null,null,null,null,null,null,"0 menunjukkan pemahaman dalam ","0 membutuhkan bimbingan dalam ",null,null,0,0,0,0,0,0,0,0,0,0,0,0,0,0,0,0,0,0,0,0,0,0,0,0,0,null,0,0,0,0,0,0,0,0,0,0,0,0,0,0,0,0,0,0,0,0,0,0,0,0,0,null,"","","","","","","","","","","","","","","","","","","","","","","","","",null,"","","","","","","","","","","","","","","","","","","","","","","","","",null,"0 menunjukkan pemahaman dalam ",null,null,"0 membutuhkan bimbingan dalam "]
[null,null,33,{"$f":"'DATA SISWA'!F42","v":0},null,null,null,null,null,null,null,null,null,null,null,null,null,null,null,null,null,null,null,null,null,null,null,null,null,null,null,null,null,null,null,null,null,null,null,null,null,null,null,null,null,null,null,null,null,null,null,null,null,null,"0 menunjukkan pemahaman dalam ","0 membutuhkan bimbingan dalam ",null,null,0,0,0,0,0,0,0,0,0,0,0,0,0,0,0,0,0,0,0,0,0,0,0,0,0,null,0,0,0,0,0,0,0,0,0,0,0,0,0,0,0,0,0,0,0,0,0,0,0,0,0,null,"","","","","","","","","","","","","","","","","","","","","","","","","",null,"","","","","","","","","","","","","","","","","","","","","","","","","",null,"0 menunjukkan pemahaman dalam ",null,null,"0 membutuhkan bimbingan dalam "]
[null,null,34,{"$f":"'DATA SISWA'!F43","v":0},null,null,null,null,null,null,null,null,null,null,null,null,null,null,null,null,null,null,null,null,null,null,null,null,null,null,null,null,null,null,null,null,null,null,null,null,null,null,null,null,null,null,null,null,null,null,null,null,null,null,"0 menunjukkan pemahaman dalam ","0 membutuhkan bimbingan dalam ",null,null,0,0,0,0,0,0,0,0,0,0,0,0,0,0,0,0,0,0,0,0,0,0,0,0,0,null,0,0,0,0,0,0,0,0,0,0,0,0,0,0,0,0,0,0,0,0,0,0,0,0,0,null,"","","","","","","","","","","","","","","","","","","","","","","","","",null,"","","","","","","","","","","","","","","","","","","","","","","","","",null,"0 menunjukkan pemahaman dalam ",null,null,"0 membutuhkan bimbingan dalam "]
[null,null,35,{"$f":"'DATA SISWA'!F44","v":0},null,null,null,null,null,null,null,null,null,null,null,null,null,null,null,null,null,null,null,null,null,null,null,null,null,null,null,null,null,null,null,null,null,null,null,null,null,null,null,null,null,null,null,null,null,null,null,null,null,null,"0 menunjukkan pemahaman dalam ","0 membutuhkan bimbingan dalam ",null,null,0,0,0,0,0,0,0,0,0,0,0,0,0,0,0,0,0,0,0,0,0,0,0,0,0,null,0,0,0,0,0,0,0,0,0,0,0,0,0,0,0,0,0,0,0,0,0,0,0,0,0,null,"","","","","","","","","","","","","","","","","","","","","","","","","",null,"","","","","","","","","","","","","","","","","","","","","","","","","",null,"0 menunjukkan pemahaman dalam ",null,null,"0 membutuhkan bimbingan dalam "]
[null,null,36,{"$f":"'DATA SISWA'!F45","v":0},null,null,null,null,null,null,null,null,null,null,null,null,null,null,null,null,null,null,null,null,null,null,null,null,null,null,null,null,null,null,null,null,null,null,null,null,null,null,null,null,null,null,null,null,null,null,null,null,null,null,"0 menunjukkan pemahaman dalam ","0 membutuhkan bimbingan dalam ",null,null,0,0,0,0,0,0,0,0,0,0,0,0,0,0,0,0,0,0,0,0,0,0,0,0,0,null,0,0,0,0,0,0,0,0,0,0,0,0,0,0,0,0,0,0,0,0,0,0,0,0,0,null,"","","","","","","","","","","","","","","","","","","","","","","","","",null,"","","","","","","","","","","","","","","","","","","","","","","","","",null,"0 menunjukkan pemahaman dalam ",null,null,"0 membutuhkan bimbingan dalam "]
[null,null,37,{"$f":"'DATA SISWA'!F46","v":0},null,null,null,null,null,null,null,null,null,null,null,null,null,null,null,null,null,null,null,null,null,null,null,null,null,null,null,null,null,null,null,null,null,null,null,null,null,null,null,null,null,null,null,null,null,null,null,null,null,null,"0 menunjukkan pemahaman dalam ","0 membutuhkan bimbingan dalam ",null,null,0,0,0,0,0,0,0,0,0,0,0,0,0,0,0,0,0,0,0,0,0,0,0,0,0,null,0,0,0,0,0,0,0,0,0,0,0,0,0,0,0,0,0,0,0,0,0,0,0,0,0,null,"","","","","","","","","","","","","","","","","","","","","","","","","",null,"","","","","","","","","","","","","","","","","","","","","","","","","",null,"0 menunjukkan pemahaman dalam ",null,null,"0 membutuhkan bimbingan dalam "]
[null,null,38,{"$f":"'DATA SISWA'!F47","v":0},null,null,null,null,null,null,null,null,null,null,null,null,null,null,null,null,null,null,null,null,null,null,null,null,null,null,null,null,null,null,null,null,null,null,null,null,null,null,null,null,null,null,null,null,null,null,null,null,null,null,"0 menunjukkan pemahaman dalam ","0 membutuhkan bimbingan dalam ",null,null,0,0,0,0,0,0,0,0,0,0,0,0,0,0,0,0,0,0,0,0,0,0,0,0,0,null,0,0,0,0,0,0,0,0,0,0,0,0,0,0,0,0,0,0,0,0,0,0,0,0,0,null,"","","","","","","","","","","","","","","","","","","","","","","","","",null,"","","","","","","","","","","","","","","","","","","","","","","","","",null,"0 menunjukkan pemahaman dalam ",null,null,"0 membutuhkan bimbingan dalam "]
[null,null,39,{"$f":"'DATA SISWA'!F48","v":0},null,null,null,null,null,null,null,null,null,null,null,null,null,null,null,null,null,null,null,null,null,null,null,null,null,null,null,null,null,null,null,null,null,null,null,null,null,null,null,null,null,null,null,null,null,null,null,null,null,null,"0 menunjukkan pemahaman dalam ","0 membutuhkan bimbingan dalam ",null,null,0,0,0,0,0,0,0,0,0,0,0,0,0,0,0,0,0,0,0,0,0,0,0,0,0,null,0,0,0,0,0,0,0,0,0,0,0,0,0,0,0,0,0,0,0,0,0,0,0,0,0,null,"","","","","","","","","","","","","","","","","","","","","","","","","",null,"","","","","","","","","","","","","","","","","","","","","","","","","",null,"0 menunjukkan pemahaman dalam ",null,null,"0 membutuhkan bimbingan dalam "]
[null,null,40,{"$f":"'DATA SISWA'!F49","v":0},null,null,null,null,null,null,null,null,null,null,null,null,null,null,null,null,null,null,null,null,null,null,null,null,null,null,null,null,null,null,null,null,null,null,null,null,null,null,null,null,null,null,null,null,null,null,null,null,null,null,"0 menunjukkan pemahaman dalam ","0 membutuhkan bimbingan dalam ",null,null,0,0,0,0,0,0,0,0,0,0,0,0,0,0,0,0,0,0,0,0,0,0,0,0,0,null,0,0,0,0,0,0,0,0,0,0,0,0,0,0,0,0,0,0,0,0,0,0,0,0,0,null,"","","","","","","","","","","","","","","","","","","","","","","","","",null,"","","","","","","","","","","","","","","","","","","","","","","","","",null,"0 menunjukkan pemahaman dalam ",null,null,"0 membutuhkan bimbingan dalam "]

{"sheet":"SUMATIF","index":49,"n_rows":20,"n_cols":11,"rows_kept":20,"cut":false,"hidden":false,"merged":[[19,2,20,4],[19,6,20,8],[19,10,20,12],[13,2,14,4],[13,6,14,8],[13,10,14,12],[16,2,17,4],[16,6,17,8],[16,10,17,12],[2,1,2,14],[7,2,8,4],[7,6,8,8],[7,10,8,12],[10,2,11,4],[10,6,11,8],[10,10,11,12]]}
[]
[]
[null,"ASESMEN SUMATIF"]
[]
[null,"Asesmen Sumatif bertujuan untuk mengevaluasi hasil belajar siswa pada tiap lingkup materi. Hasil asesmen sumatif digunakan"]
[null,"untuk pengolahan nilai pada laporan hasil belajar siswa (rapor). "]
[]
[null,null,{"$f":"INTRAKURIKULER!$D$9","v":0},null,null,null,{"$f":"INTRAKURIKULER!D14","v":0},null,null,null,{"$f":"INTRAKURIKULER!D19","v":0}]
[]
[]
[null,null,{"$f":"INTRAKURIKULER!$D$10","v":0},null,null,null,{"$f":"INTRAKURIKULER!D15","v":0},null,null,null,{"$f":"INTRAKURIKULER!D20","v":0}]
[]
[]
[null,null,{"$f":"INTRAKURIKULER!$D$11","v":0},null,null,null,{"$f":"INTRAKURIKULER!D16","v":0},null,null,null,{"$f":"INTRAKURIKULER!D21","v":0}]
[]
[]
[null,null,{"$f":"INTRAKURIKULER!$D$12","v":0},null,null,null,{"$f":"INTRAKURIKULER!D17","v":0},null,null,null,{"$f":"INTRAKURIKULER!D22","v":0}]
[]
[]
[null,null,{"$f":"INTRAKURIKULER!$D$13","v":0},null,null,null,{"$f":"INTRAKURIKULER!D18","v":0},null,null,null,{"$f":"INTRAKURIKULER!D23","v":0}]

{"sheet":"S1","index":50,"n_rows":55,"n_cols":19,"rows_kept":55,"cut":false,"hidden":false,"merged":[[2,1,2,19],[4,1,4,19],[12,4,12,14],[12,18,14,18],[12,15,13,17],[12,2,14,2],[12,3,14,3],[13,14,14,14]]}
[]
[]
[null,"ASESMEN SUMATIF"]
[]
[null,{"$f":"\"MATA PELAJARAN \"&INTRAKURIKULER!D9","v":"MATA PELAJARAN "}]
[]
[null,"Petunjuk Pengisian :"]
[null,null,1,"Asesmen Sumatif dilaksanakan tiap akhir lingkup materi dan/atau akhir semester."]
[null,null,2,"Asesmen Sumatif Akhir Semester tidak wajib untuk dilakukan, kewenangan diserahkan pada sekolah."]
[null,null,3,"Isilah dengan nilai kuantitatif sejumlah asesmen sumatif yang sudah dilakukan (tidak harus diisi semua)"]
[null,null,4,"Bentuk asesmen sumatif tidak hanya tes tulis saja bisa beragam (proyek, unjuk kerja, observasi, dll.)"]
[]
[null,null,"No","Nama Siswa","Sumatif Akhir Lingkup Materi (Wajib)",null,null,null,null,null,null,null,null,null,null,"Sumatif Akhir         Semester (Tidak Wajib)",null,null,"Nilai Rapor"]
[null,null,null,null,"Sumatif     1","Sumatif 2","Sumatif 3","Sumatif 4","Sumatif 5","Sumatif 6","Sumatif 7","Sumatif 8","Sumatif 9","Sumatif 10","NA Sumatif Lingkup Materi"]
[null,null,null,null,{"$f":"'LM 1'!D8","v":"A"},{"$f":"'LM 1'!D9","v":"B"},{"$f":"'LM 1'!D10","v":"C"},{"$f":"'LM 1'!D11","v":"D"},{"$f":"'LM 1'!D12","v":"E"},{"$f":"'LM 1'!D13","v":"F"},{"$f":"'LM 1'!D14","v":"G"},{"$f":"'LM 1'!D15","v":"H"},{"$f":"'LM 1'!D16","v":"I"},{"$f":"'LM 1'!D17","v":"J"},null,"Non Tes","Tes","NA Sumatif Akhir Semester"]
[null,null,1,{"$f":"'DATA SISWA'!F10","v":0},null,null,null,null,null,null,null,null,null,null,{"$f":"IFERROR(AVERAGE(E16:N16),\"-\")","v":"-"},null,null,{"$f":"IFERROR(AVERAGE(P16:Q16),\"-\")","v":"-"},{"$f":"IFERROR(AVERAGE(O16,R16),\"-\")","v":"-"}]
[null,null,2,{"$f":"'DATA SISWA'!F11","v":0},null,null,null,null,null,null,null,null,null,null,{"$f":"IFERROR(AVERAGE(E17:N17),\"-\")","v":"-"},null,null,{"$f":"IFERROR(AVERAGE(P17:Q17),\"-\")","v":"-"},{"$f":"IFERROR(AVERAGE(O17,R17),\"-\")","v":"-"}]
[null,null,3,{"$f":"'DATA SISWA'!F12","v":0},null,null,null,null,null,null,null,null,null,null,"-",null,null,"-","-"]
[null,null,4,{"$f":"'DATA SISWA'!F13","v":0},null,null,null,null,null,null,null,null,null,null,"-",null,null,"-","-"]
[null,null,5,{"$f":"'DATA SISWA'!F14","v":0},null,null,null,null,null,null,null,null,null,null,"-",null,null,"-","-"]
[null,null,6,{"$f":"'DATA SISWA'!F15","v":0},null,null,null,null,null,null,null,null,null,null,"-",null,null,"-","-"]
[null,null,7,{"$f":"'DATA SISWA'!F16","v":0},null,null,null,null,null,null,null,null,null,null,"-",null,null,"-","-"]
[null,null,8,{"$f":"'DATA SISWA'!F17","v":0},null,null,null,null,null,null,null,null,null,null,"-",null,null,"-","-"]
[null,null,9,{"$f":"'DATA SISWA'!F18","v":0},null,null,null,null,null,null,null,null,null,null,"-",null,null,"-","-"]
[null,null,10,{"$f":"'DATA SISWA'!F19","v":0},null,null,null,null,null,null,null,null,null,null,"-",null,null,"-","-"]
[null,null,11,{"$f":"'DATA SISWA'!F20","v":0},null,null,null,null,null,null,null,null,null,null,"-",null,null,"-","-"]
[null,null,12,{"$f":"'DATA SISWA'!F21","v":0},null,null,null,null,null,null,null,null,null,null,"-",null,null,"-","-"]
[null,null,13,{"$f":"'DATA SISWA'!F22","v":0},null,null,null,null,null,null,null,null,null,null,"-",null,null,"-","-"]
[null,null,14,{"$f":"'DATA SISWA'!F23","v":0},null,null,null,null,null,null,null,null,null,null,"-",null,null,"-","-"]
[null,null,15,{"$f":"'DATA SISWA'!F24","v":0},null,null,null,null,null,null,null,null,null,null,"-",null,null,"-","-"]
[null,null,16,{"$f":"'DATA SISWA'!F25","v":0},null,null,null,null,null,null,null,null,null,null,"-",null,null,"-","-"]
[null,null,17,{"$f":"'DATA SISWA'!F26","v":0},null,null,null,null,null,null,null,null,null,null,"-",null,null,"-","-"]
[null,null,18,{"$f":"'DATA SISWA'!F27","v":0},null,null,null,null,null,null,null,null,null,null,"-",null,null,"-","-"]
[null,null,19,{"$f":"'DATA SISWA'!F28","v":0},null,null,null,null,null,null,null,null,null,null,"-",null,null,"-","-"]
[null,null,20,{"$f":"'DATA SISWA'!F29","v":0},null,null,null,null,null,null,null,null,null,null,"-",null,null,"-","-"]
[null,null,21,{"$f":"'DATA SISWA'!F30","v":0},null,null,null,null,null,null,null,null,null,null,"-",null,null,"-","-"]
[null,null,22,{"$f":"'DATA SISWA'!F31","v":0},null,null,null,null,null,null,null,null,null,null,"-",null,null,"-","-"]
[null,null,23,{"$f":"'DATA SISWA'!F32","v":0},null,null,null,null,null,null,null,null,null,null,"-",null,null,"-","-"]
[null,null,24,{"$f":"'DATA SISWA'!F33","v":0},null,null,null,null,null,null,null,null,null,null,"-",null,null,"-","-"]
[null,null,25,{"$f":"'DATA SISWA'!F34","v":0},null,null,null,null,null,null,null,null,null,null,"-",null,null,"-","-"]
[null,null,26,{"$f":"'DATA SISWA'!F35","v":0},null,null,null,null,null,null,null,null,null,null,"-",null,null,"-","-"]
[null,null,27,{"$f":"'DATA SISWA'!F36","v":0},null,null,null,null,null,null,null,null,null,null,"-",null,null,"-","-"]
[null,null,28,{"$f":"'DATA SISWA'!F37","v":0},null,null,null,null,null,null,null,null,null,null,"-",null,null,"-","-"]
[null,null,29,{"$f":"'DATA SISWA'!F38","v":0},null,null,null,null,null,null,null,null,null,null,"-",null,null,"-","-"]
[null,null,30,{"$f":"'DATA SISWA'!F39","v":0},null,null,null,null,null,null,null,null,null,null,"-",null,null,"-","-"]
[null,null,31,{"$f":"'DATA SISWA'!F40","v":0},null,null,null,null,null,null,null,null,null,null,"-",null,null,"-","-"]
[null,null,32,{"$f":"'DATA SISWA'!F41","v":0},null,null,null,null,null,null,null,null,null,null,"-",null,null,"-","-"]
[null,null,33,{"$f":"'DATA SISWA'!F42","v":0},null,null,null,null,null,null,null,null,null,null,"-",null,null,"-","-"]
[null,null,34,{"$f":"'DATA SISWA'!F43","v":0},null,null,null,null,null,null,null,null,null,null,"-",null,null,"-","-"]
[null,null,35,{"$f":"'DATA SISWA'!F44","v":0},null,null,null,null,null,null,null,null,null,null,"-",null,null,"-","-"]
[null,null,36,{"$f":"'DATA SISWA'!F45","v":0},null,null,null,null,null,null,null,null,null,null,"-",null,null,"-","-"]
[null,null,37,{"$f":"'DATA SISWA'!F46","v":0},null,null,null,null,null,null,null,null,null,null,"-",null,null,"-","-"]
[null,null,38,{"$f":"'DATA SISWA'!F47","v":0},null,null,null,null,null,null,null,null,null,null,"-",null,null,"-","-"]
[null,null,39,{"$f":"'DATA SISWA'!F48","v":0},null,null,null,null,null,null,null,null,null,null,"-",null,null,"-","-"]
[null,null,40,{"$f":"'DATA SISWA'!F49","v":0},null,null,null,null,null,null,null,null,null,null,"-",null,null,"-","-"]

{"sheet":"S2","index":51,"n_rows":55,"n_cols":19,"rows_kept":55,"cut":false,"hidden":false,"merged":[[2,1,2,19],[4,1,4,19],[12,2,14,2],[12,3,14,3],[12,4,12,14],[12,15,13,17],[12,18,14,18],[13,14,14,14]]}
[]
[]
[null,"ASESMEN SUMATIF"]
[]
[null,{"$f":"\"MATA PELAJARAN \"&INTRAKURIKULER!D10","v":"MATA PELAJARAN "}]
[]
[null,"Petunjuk Pengisian :"]
[null,null,1,"Asesmen Sumatif dilaksanakan tiap akhir lingkup materi dan/atau akhir semester."]
[null,null,2,"Asesmen Sumatif Akhir Semester tidak wajib untuk dilakukan, kewenangan diserahkan pada sekolah. Bisa dilakukan salah 1 atau keduanya (tes/non tes)"]
[null,null,3,"Isilah dengan nilai kuantitatif sejumlah asesmen sumatif yang sudah dilakukan (tidak harus diisi semua)"]
[null,null,4,"Bentuk asesmen sumatif tidak hanya tes tulis saja bisa beragam (proyek, unjuk kerja, observasi, dll.)"]
[]
[null,null,"No","Nama Siswa","Sumatif Akhir Lingkup Materi (Wajib)",null,null,null,null,null,null,null,null,null,null,"Sumatif Akhir         Semester (Tidak Wajib)",null,null,"Nilai Rapor"]
[null,null,null,null,"Sumatif     1","Sumatif 2","Sumatif 3","Sumatif 4","Sumatif 5","Sumatif 6","Sumatif 7","Sumatif 8","Sumatif 9","Sumatif 10","NA Sumatif Lingkup Materi"]
[null,null,null,null,{"$f":"'LM 2'!D8","v":"A"},{"$f":"'LM 2'!D9","v":"B"},{"$f":"'LM 2'!D10","v":"C"},{"$f":"'LM 2'!D11","v":"D"},{"$f":"'LM 2'!D12","v":"E"},{"$f":"'LM 2'!D13","v":"F"},{"$f":"'LM 2'!D14","v":"G"},{"$f":"'LM 2'!D15","v":"H"},{"$f":"'LM 2'!D16","v":"I"},{"$f":"'LM 2'!D17","v":"J"},null,"Non Tes","Tes","NA Sumatif Akhir Semester"]
[null,null,1,{"$f":"'DATA SISWA'!F10","v":0},null,null,null,null,null,null,null,null,null,null,{"$f":"IFERROR(AVERAGE(E16:N16),\"-\")","v":"-"},null,null,{"$f":"IFERROR(AVERAGE(P16:Q16),\"-\")","v":"-"},{"$f":"IFERROR(AVERAGE(O16,R16),\"-\")","v":"-"}]
[null,null,2,{"$f":"'DATA SISWA'!F11","v":0},null,null,null,null,null,null,null,null,null,null,{"$f":"IFERROR(AVERAGE(E17:N17),\"-\")","v":"-"},null,null,{"$f":"IFERROR(AVERAGE(P17:Q17),\"-\")","v":"-"},{"$f":"IFERROR(AVERAGE(O17,R17),\"-\")","v":"-"}]
[null,null,3,{"$f":"'DATA SISWA'!F12","v":0},null,null,null,null,null,null,null,null,null,null,"-",null,null,"-","-"]
[null,null,4,{"$f":"'DATA SISWA'!F13","v":0},null,null,null,null,null,null,null,null,null,null,"-",null,null,"-","-"]
[null,null,5,{"$f":"'DATA SISWA'!F14","v":0},null,null,null,null,null,null,null,null,null,null,"-",null,null,"-","-"]
[null,null,6,{"$f":"'DATA SISWA'!F15","v":0},null,null,null,null,null,null,null,null,null,null,"-",null,null,"-","-"]
[null,null,7,{"$f":"'DATA SISWA'!F16","v":0},null,null,null,null,null,null,null,null,null,null,"-",null,null,"-","-"]
[null,null,8,{"$f":"'DATA SISWA'!F17","v":0},null,null,null,null,null,null,null,null,null,null,"-",null,null,"-","-"]
[null,null,9,{"$f":"'DATA SISWA'!F18","v":0},null,null,null,null,null,null,null,null,null,null,"-",null,null,"-","-"]
[null,null,10,{"$f":"'DATA SISWA'!F19","v":0},null,null,null,null,null,null,null,null,null,null,"-",null,null,"-","-"]
[null,null,11,{"$f":"'DATA SISWA'!F20","v":0},null,null,null,null,null,null,null,null,null,null,"-",null,null,"-","-"]
[null,null,12,{"$f":"'DATA SISWA'!F21","v":0},null,null,null,null,null,null,null,null,null,null,"-",null,null,"-","-"]
[null,null,13,{"$f":"'DATA SISWA'!F22","v":0},null,null,null,null,null,null,null,null,null,null,"-",null,null,"-","-"]
[null,null,14,{"$f":"'DATA SISWA'!F23","v":0},null,null,null,null,null,null,null,null,null,null,"-",null,null,"-","-"]
[null,null,15,{"$f":"'DATA SISWA'!F24","v":0},null,null,null,null,null,null,null,null,null,null,"-",null,null,"-","-"]
[null,null,16,{"$f":"'DATA SISWA'!F25","v":0},null,null,null,null,null,null,null,null,null,null,"-",null,null,"-","-"]
[null,null,17,{"$f":"'DATA SISWA'!F26","v":0},null,null,null,null,null,null,null,null,null,null,"-",null,null,"-","-"]
[null,null,18,{"$f":"'DATA SISWA'!F27","v":0},null,null,null,null,null,null,null,null,null,null,"-",null,null,"-","-"]
[null,null,19,{"$f":"'DATA SISWA'!F28","v":0},null,null,null,null,null,null,null,null,null,null,"-",null,null,"-","-"]
[null,null,20,{"$f":"'DATA SISWA'!F29","v":0},null,null,null,null,null,null,null,null,null,null,"-",null,null,"-","-"]
[null,null,21,{"$f":"'DATA SISWA'!F30","v":0},null,null,null,null,null,null,null,null,null,null,"-",null,null,"-","-"]
[null,null,22,{"$f":"'DATA SISWA'!F31","v":0},null,null,null,null,null,null,null,null,null,null,"-",null,null,"-","-"]
[null,null,23,{"$f":"'DATA SISWA'!F32","v":0},null,null,null,null,null,null,null,null,null,null,"-",null,null,"-","-"]
[null,null,24,{"$f":"'DATA SISWA'!F33","v":0},null,null,null,null,null,null,null,null,null,null,"-",null,null,"-","-"]
[null,null,25,{"$f":"'DATA SISWA'!F34","v":0},null,null,null,null,null,null,null,null,null,null,"-",null,null,"-","-"]
[null,null,26,{"$f":"'DATA SISWA'!F35","v":0},null,null,null,null,null,null,null,null,null,null,"-",null,null,"-","-"]
[null,null,27,{"$f":"'DATA SISWA'!F36","v":0},null,null,null,null,null,null,null,null,null,null,"-",null,null,"-","-"]
[null,null,28,{"$f":"'DATA SISWA'!F37","v":0},null,null,null,null,null,null,null,null,null,null,"-",null,null,"-","-"]
[null,null,29,{"$f":"'DATA SISWA'!F38","v":0},null,null,null,null,null,null,null,null,null,null,"-",null,null,"-","-"]
[null,null,30,{"$f":"'DATA SISWA'!F39","v":0},null,null,null,null,null,null,null,null,null,null,"-",null,null,"-","-"]
[null,null,31,{"$f":"'DATA SISWA'!F40","v":0},null,null,null,null,null,null,null,null,null,null,"-",null,null,"-","-"]
[null,null,32,{"$f":"'DATA SISWA'!F41","v":0},null,null,null,null,null,null,null,null,null,null,"-",null,null,"-","-"]
[null,null,33,{"$f":"'DATA SISWA'!F42","v":0},null,null,null,null,null,null,null,null,null,null,"-",null,null,"-","-"]
[null,null,34,{"$f":"'DATA SISWA'!F43","v":0},null,null,null,null,null,null,null,null,null,null,"-",null,null,"-","-"]
[null,null,35,{"$f":"'DATA SISWA'!F44","v":0},null,null,null,null,null,null,null,null,null,null,"-",null,null,"-","-"]
[null,null,36,{"$f":"'DATA SISWA'!F45","v":0},null,null,null,null,null,null,null,null,null,null,"-",null,null,"-","-"]
[null,null,37,{"$f":"'DATA SISWA'!F46","v":0},null,null,null,null,null,null,null,null,null,null,"-",null,null,"-","-"]
[null,null,38,{"$f":"'DATA SISWA'!F47","v":0},null,null,null,null,null,null,null,null,null,null,"-",null,null,"-","-"]
[null,null,39,{"$f":"'DATA SISWA'!F48","v":0},null,null,null,null,null,null,null,null,null,null,"-",null,null,"-","-"]
[null,null,40,{"$f":"'DATA SISWA'!F49","v":0},null,null,null,null,null,null,null,null,null,null,"-",null,null,"-","-"]

{"sheet":"S3","index":52,"n_rows":55,"n_cols":19,"rows_kept":55,"cut":false,"hidden":false,"merged":[[2,1,2,19],[4,1,4,19],[12,2,14,2],[12,3,14,3],[12,4,12,14],[12,15,13,17],[12,18,14,18],[13,14,14,14]]}
[]
[]
[null,"ASESMEN SUMATIF"]
[]
[null,{"$f":"\"MATA PELAJARAN \"&INTRAKURIKULER!D11","v":"MATA PELAJARAN "}]
[]
[null,"Petunjuk Pengisian :"]
[null,null,1,"Asesmen Sumatif dilaksanakan tiap akhir lingkup materi dan/atau akhir semester."]
[null,null,2,"Asesmen Sumatif Akhir Semester tidak wajib untuk dilakukan, kewenangan diserahkan pada sekolah."]
[null,null,3,"Isilah dengan nilai kuantitatif sejumlah asesmen sumatif yang sudah dilakukan (tidak harus diisi semua)"]
[null,null,4,"Bentuk asesmen sumatif tidak hanya tes tulis saja bisa beragam (proyek, unjuk kerja, observasi, dll.)"]
[]
[null,null,"No","Nama Siswa","Sumatif Akhir Lingkup Materi (Wajib)",null,null,null,null,null,null,null,null,null,null,"Sumatif Akhir         Semester (Tidak Wajib)",null,null,"Nilai Rapor"]
[null,null,null,null,"Sumatif     1","Sumatif 2","Sumatif 3","Sumatif 4","Sumatif 5","Sumatif 6","Sumatif 7","Sumatif 8","Sumatif 9","Sumatif 10","NA Sumatif Lingkup Materi"]
[null,null,null,null,{"$f":"'LM 3'!D8","v":"A"},{"$f":"'LM 3'!D9","v":"B"},{"$f":"'LM 3'!D10","v":"C"},{"$f":"'LM 3'!D11","v":"D"},{"$f":"'LM 3'!D12","v":"E"},{"$f":"'LM 3'!D13","v":"F"},{"$f":"'LM 3'!D14","v":"G"},{"$f":"'LM 3'!D15","v":"H"},{"$f":"'LM 3'!D16","v":"I"},{"$f":"'LM 3'!D17","v":"J"},null,"Non Tes","Tes","NA Sumatif Akhir Semester"]
[null,null,1,{"$f":"'DATA SISWA'!F10","v":0},null,null,null,null,null,null,null,null,null,null,{"$f":"IFERROR(AVERAGE(E16:N16),\"-\")","v":"-"},null,null,{"$f":"IFERROR(AVERAGE(P16:Q16),\"-\")","v":"-"},{"$f":"IFERROR(AVERAGE(O16,R16),\"-\")","v":"-"}]
[null,null,2,{"$f":"'DATA SISWA'!F11","v":0},null,null,null,null,null,null,null,null,null,null,{"$f":"IFERROR(AVERAGE(E17:N17),\"-\")","v":"-"},null,null,{"$f":"IFERROR(AVERAGE(P17:Q17),\"-\")","v":"-"},{"$f":"IFERROR(AVERAGE(O17,R17),\"-\")","v":"-"}]
[null,null,3,{"$f":"'DATA SISWA'!F12","v":0},null,null,null,null,null,null,null,null,null,null,"-",null,null,"-","-"]
[null,null,4,{"$f":"'DATA SISWA'!F13","v":0},null,null,null,null,null,null,null,null,null,null,"-",null,null,"-","-"]
[null,null,5,{"$f":"'DATA SISWA'!F14","v":0},null,null,null,null,null,null,null,null,null,null,"-",null,null,"-","-"]
[null,null,6,{"$f":"'DATA SISWA'!F15","v":0},null,null,null,null,null,null,null,null,null,null,"-",null,null,"-","-"]
[null,null,7,{"$f":"'DATA SISWA'!F16","v":0},null,null,null,null,null,null,null,null,null,null,"-",null,null,"-","-"]
[null,null,8,{"$f":"'DATA SISWA'!F17","v":0},null,null,null,null,null,null,null,null,null,null,"-",null,null,"-","-"]
[null,null,9,{"$f":"'DATA SISWA'!F18","v":0},null,null,null,null,null,null,null,null,null,null,"-",null,null,"-","-"]
[null,null,10,{"$f":"'DATA SISWA'!F19","v":0},null,null,null,null,null,null,null,null,null,null,"-",null,null,"-","-"]
[null,null,11,{"$f":"'DATA SISWA'!F20","v":0},null,null,null,null,null,null,null,null,null,null,"-",null,null,"-","-"]
[null,null,12,{"$f":"'DATA SISWA'!F21","v":0},null,null,null,null,null,null,null,null,null,null,"-",null,null,"-","-"]
[null,null,13,{"$f":"'DATA SISWA'!F22","v":0},null,null,null,null,null,null,null,null,null,null,"-",null,null,"-","-"]
[null,null,14,{"$f":"'DATA SISWA'!F23","v":0},null,null,null,null,null,null,null,null,null,null,"-",null,null,"-","-"]
[null,null,15,{"$f":"'DATA SISWA'!F24","v":0},null,null,null,null,null,null,null,null,null,null,"-",null,null,"-","-"]
[null,null,16,{"$f":"'DATA SISWA'!F25","v":0},null,null,null,null,null,null,null,null,null,null,"-",null,null,"-","-"]
[null,null,17,{"$f":"'DATA SISWA'!F26","v":0},null,null,null,null,null,null,null,null,null,null,"-",null,null,"-","-"]
[null,null,18,{"$f":"'DATA SISWA'!F27","v":0},null,null,null,null,null,null,null,null,null,null,"-",null,null,"-","-"]
[null,null,19,{"$f":"'DATA SISWA'!F28","v":0},null,null,null,null,null,null,null,null,null,null,"-",null,null,"-","-"]
[null,null,20,{"$f":"'DATA SISWA'!F29","v":0},null,null,null,null,null,null,null,null,null,null,"-",null,null,"-","-"]
[null,null,21,{"$f":"'DATA SISWA'!F30","v":0},null,null,null,null,null,null,null,null,null,null,"-",null,null,"-","-"]
[null,null,22,{"$f":"'DATA SISWA'!F31","v":0},null,null,null,null,null,null,null,null,null,null,"-",null,null,"-","-"]
[null,null,23,{"$f":"'DATA SISWA'!F32","v":0},null,null,null,null,null,null,null,null,null,null,"-",null,null,"-","-"]
[null,null,24,{"$f":"'DATA SISWA'!F33","v":0},null,null,null,null,null,null,null,null,null,null,"-",null,null,"-","-"]
[null,null,25,{"$f":"'DATA SISWA'!F34","v":0},null,null,null,null,null,null,null,null,null,null,"-",null,null,"-","-"]
[null,null,26,{"$f":"'DATA SISWA'!F35","v":0},null,null,null,null,null,null,null,null,null,null,"-",null,null,"-","-"]
[null,null,27,{"$f":"'DATA SISWA'!F36","v":0},null,null,null,null,null,null,null,null,null,null,"-",null,null,"-","-"]
[null,null,28,{"$f":"'DATA SISWA'!F37","v":0},null,null,null,null,null,null,null,null,null,null,"-",null,null,"-","-"]
[null,null,29,{"$f":"'DATA SISWA'!F38","v":0},null,null,null,null,null,null,null,null,null,null,"-",null,null,"-","-"]
[null,null,30,{"$f":"'DATA SISWA'!F39","v":0},null,null,null,null,null,null,null,null,null,null,"-",null,null,"-","-"]
[null,null,31,{"$f":"'DATA SISWA'!F40","v":0},null,null,null,null,null,null,null,null,null,null,"-",null,null,"-","-"]
[null,null,32,{"$f":"'DATA SISWA'!F41","v":0},null,null,null,null,null,null,null,null,null,null,"-",null,null,"-","-"]
[null,null,33,{"$f":"'DATA SISWA'!F42","v":0},null,null,null,null,null,null,null,null,null,null,"-",null,null,"-","-"]
[null,null,34,{"$f":"'DATA SISWA'!F43","v":0},null,null,null,null,null,null,null,null,null,null,"-",null,null,"-","-"]
[null,null,35,{"$f":"'DATA SISWA'!F44","v":0},null,null,null,null,null,null,null,null,null,null,"-",null,null,"-","-"]
[null,null,36,{"$f":"'DATA SISWA'!F45","v":0},null,null,null,null,null,null,null,null,null,null,"-",null,null,"-","-"]
[null,null,37,{"$f":"'DATA SISWA'!F46","v":0},null,null,null,null,null,null,null,null,null,null,"-",null,null,"-","-"]
[null,null,38,{"$f":"'DATA SISWA'!F47","v":0},null,null,null,null,null,null,null,null,null,null,"-",null,null,"-","-"]
[null,null,39,{"$f":"'DATA SISWA'!F48","v":0},null,null,null,null,null,null,null,null,null,null,"-",null,null,"-","-"]
[null,null,40,{"$f":"'DATA SISWA'!F49","v":0},null,null,null,null,null,null,null,null,null,null,"-",null,null,"-","-"]

{"sheet":"S4","index":53,"n_rows":55,"n_cols":19,"rows_kept":55,"cut":false,"hidden":false,"merged":[[2,1,2,19],[4,1,4,19],[12,2,14,2],[12,3,14,3],[12,4,12,14],[12,15,13,17],[12,18,14,18],[13,14,14,14]]}
[]
[]
[null,"ASESMEN SUMATIF"]
[]
[null,{"$f":"\"MATA PELAJARAN \"&INTRAKURIKULER!D12","v":"MATA PELAJARAN "}]
[]
[null,"Petunjuk Pengisian :"]
[null,null,1,"Asesmen Sumatif dilaksanakan tiap akhir lingkup materi dan/atau akhir semester."]
[null,null,2,"Asesmen Sumatif Akhir Semester tidak wajib untuk dilakukan, kewenangan diserahkan pada sekolah."]
[null,null,3,"Isilah dengan nilai kuantitatif sejumlah asesmen sumatif yang sudah dilakukan (tidak harus diisi semua)"]
[null,null,4,"Bentuk asesmen sumatif tidak hanya tes tulis saja bisa beragam (proyek, unjuk kerja, observasi, dll.)"]
[]
[null,null,"No","Nama Siswa","Sumatif Akhir Lingkup Materi (Wajib)",null,null,null,null,null,null,null,null,null,null,"Sumatif Akhir         Semester (Tidak Wajib)",null,null,"Nilai Rapor"]
[null,null,null,null,"Sumatif     1","Sumatif 2","Sumatif 3","Sumatif 4","Sumatif 5","Sumatif 6","Sumatif 7","Sumatif 8","Sumatif 9","Sumatif 10","NA Sumatif Lingkup Materi"]
[null,null,null,null,{"$f":"'LM 4'!D8","v":"A"},{"$f":"'LM 4'!D9","v":"B"},{"$f":"'LM 4'!D10","v":"C"},{"$f":"'LM 4'!D11","v":"D"},{"$f":"'LM 4'!D12","v":"E"},{"$f":"'LM 4'!D13","v":"F"},{"$f":"'LM 4'!D14","v":"G"},{"$f":"'LM 4'!D15","v":"H"},{"$f":"'LM 4'!D16","v":"I"},{"$f":"'LM 4'!D17","v":"J"},null,"Non Tes","Tes","NA Sumatif Akhir Semester"]
[null,null,1,{"$f":"'DATA SISWA'!F10","v":0},null,null,null,null,null,null,null,null,null,null,{"$f":"IFERROR(AVERAGE(E16:N16),\"-\")","v":"-"},null,null,{"$f":"IFERROR(AVERAGE(P16:Q16),\"-\")","v":"-"},{"$f":"IFERROR(AVERAGE(O16,R16),\"-\")","v":"-"}]
[null,null,2,{"$f":"'DATA SISWA'!F11","v":0},null,null,null,null,null,null,null,null,null,null,{"$f":"IFERROR(AVERAGE(E17:N17),\"-\")","v":"-"},null,null,{"$f":"IFERROR(AVERAGE(P17:Q17),\"-\")","v":"-"},{"$f":"IFERROR(AVERAGE(O17,R17),\"-\")","v":"-"}]
[null,null,3,{"$f":"'DATA SISWA'!F12","v":0},null,null,null,null,null,null,null,null,null,null,"-",null,null,"-","-"]
[null,null,4,{"$f":"'DATA SISWA'!F13","v":0},null,null,null,null,null,null,null,null,null,null,"-",null,null,"-","-"]
[null,null,5,{"$f":"'DATA SISWA'!F14","v":0},null,null,null,null,null,null,null,null,null,null,"-",null,null,"-","-"]
[null,null,6,{"$f":"'DATA SISWA'!F15","v":0},null,null,null,null,null,null,null,null,null,null,"-",null,null,"-","-"]
[null,null,7,{"$f":"'DATA SISWA'!F16","v":0},null,null,null,null,null,null,null,null,null,null,"-",null,null,"-","-"]
[null,null,8,{"$f":"'DATA SISWA'!F17","v":0},null,null,null,null,null,null,null,null,null,null,"-",null,null,"-","-"]
[null,null,9,{"$f":"'DATA SISWA'!F18","v":0},null,null,null,null,null,null,null,null,null,null,"-",null,null,"-","-"]
[null,null,10,{"$f":"'DATA SISWA'!F19","v":0},null,null,null,null,null,null,null,null,null,null,"-",null,null,"-","-"]
[null,null,11,{"$f":"'DATA SISWA'!F20","v":0},null,null,null,null,null,null,null,null,null,null,"-",null,null,"-","-"]
[null,null,12,{"$f":"'DATA SISWA'!F21","v":0},null,null,null,null,null,null,null,null,null,null,"-",null,null,"-","-"]
[null,null,13,{"$f":"'DATA SISWA'!F22","v":0},null,null,null,null,null,null,null,null,null,null,"-",null,null,"-","-"]
[null,null,14,{"$f":"'DATA SISWA'!F23","v":0},null,null,null,null,null,null,null,null,null,null,"-",null,null,"-","-"]
[null,null,15,{"$f":"'DATA SISWA'!F24","v":0},null,null,null,null,null,null,null,null,null,null,"-",null,null,"-","-"]
[null,null,16,{"$f":"'DATA SISWA'!F25","v":0},null,null,null,null,null,null,null,null,null,null,"-",null,null,"-","-"]
[null,null,17,{"$f":"'DATA SISWA'!F26","v":0},null,null,null,null,null,null,null,null,null,null,"-",null,null,"-","-"]
[null,null,18,{"$f":"'DATA SISWA'!F27","v":0},null,null,null,null,null,null,null,null,null,null,"-",null,null,"-","-"]
[null,null,19,{"$f":"'DATA SISWA'!F28","v":0},null,null,null,null,null,null,null,null,null,null,"-",null,null,"-","-"]
[null,null,20,{"$f":"'DATA SISWA'!F29","v":0},null,null,null,null,null,null,null,null,null,null,"-",null,null,"-","-"]
[null,null,21,{"$f":"'DATA SISWA'!F30","v":0},null,null,null,null,null,null,null,null,null,null,"-",null,null,"-","-"]
[null,null,22,{"$f":"'DATA SISWA'!F31","v":0},null,null,null,null,null,null,null,null,null,null,"-",null,null,"-","-"]
[null,null,23,{"$f":"'DATA SISWA'!F32","v":0},null,null,null,null,null,null,null,null,null,null,"-",null,null,"-","-"]
[null,null,24,{"$f":"'DATA SISWA'!F33","v":0},null,null,null,null,null,null,null,null,null,null,"-",null,null,"-","-"]
[null,null,25,{"$f":"'DATA SISWA'!F34","v":0},null,null,null,null,null,null,null,null,null,null,"-",null,null,"-","-"]
[null,null,26,{"$f":"'DATA SISWA'!F35","v":0},null,null,null,null,null,null,null,null,null,null,"-",null,null,"-","-"]
[null,null,27,{"$f":"'DATA SISWA'!F36","v":0},null,null,null,null,null,null,null,null,null,null,"-",null,null,"-","-"]
[null,null,28,{"$f":"'DATA SISWA'!F37","v":0},null,null,null,null,null,null,null,null,null,null,"-",null,null,"-","-"]
[null,null,29,{"$f":"'DATA SISWA'!F38","v":0},null,null,null,null,null,null,null,null,null,null,"-",null,null,"-","-"]
[null,null,30,{"$f":"'DATA SISWA'!F39","v":0},null,null,null,null,null,null,null,null,null,null,"-",null,null,"-","-"]
[null,null,31,{"$f":"'DATA SISWA'!F40","v":0},null,null,null,null,null,null,null,null,null,null,"-",null,null,"-","-"]
[null,null,32,{"$f":"'DATA SISWA'!F41","v":0},null,null,null,null,null,null,null,null,null,null,"-",null,null,"-","-"]
[null,null,33,{"$f":"'DATA SISWA'!F42","v":0},null,null,null,null,null,null,null,null,null,null,"-",null,null,"-","-"]
[null,null,34,{"$f":"'DATA SISWA'!F43","v":0},null,null,null,null,null,null,null,null,null,null,"-",null,null,"-","-"]
[null,null,35,{"$f":"'DATA SISWA'!F44","v":0},null,null,null,null,null,null,null,null,null,null,"-",null,null,"-","-"]
[null,null,36,{"$f":"'DATA SISWA'!F45","v":0},null,null,null,null,null,null,null,null,null,null,"-",null,null,"-","-"]
[null,null,37,{"$f":"'DATA SISWA'!F46","v":0},null,null,null,null,null,null,null,null,null,null,"-",null,null,"-","-"]
[null,null,38,{"$f":"'DATA SISWA'!F47","v":0},null,null,null,null,null,null,null,null,null,null,"-",null,null,"-","-"]
[null,null,39,{"$f":"'DATA SISWA'!F48","v":0},null,null,null,null,null,null,null,null,null,null,"-",null,null,"-","-"]
[null,null,40,{"$f":"'DATA SISWA'!F49","v":0},null,null,null,null,null,null,null,null,null,null,"-",null,null,"-","-"]

{"sheet":"S5","index":54,"n_rows":55,"n_cols":19,"rows_kept":55,"cut":false,"hidden":false,"merged":[[2,1,2,19],[4,1,4,19],[12,2,14,2],[12,3,14,3],[12,4,12,14],[12,15,13,17],[12,18,14,18],[13,14,14,14]]}
[]
[]
[null,"ASESMEN SUMATIF"]
[]
[null,{"$f":"\"MATA PELAJARAN \"&INTRAKURIKULER!D13","v":"MATA PELAJARAN "}]
[]
[null,"Petunjuk Pengisian :"]
[null,null,1,"Asesmen Sumatif dilaksanakan tiap akhir lingkup materi dan/atau akhir semester."]
[null,null,2,"Asesmen Sumatif Akhir Semester tidak wajib untuk dilakukan, kewenangan diserahkan pada sekolah."]
[null,null,3,"Isilah dengan nilai kuantitatif sejumlah asesmen sumatif yang sudah dilakukan (tidak harus diisi semua)"]
[null,null,4,"Bentuk asesmen sumatif tidak hanya tes tulis saja bisa beragam (proyek, unjuk kerja, observasi, dll.)"]
[]
[null,null,"No","Nama Siswa","Sumatif Akhir Lingkup Materi (Wajib)",null,null,null,null,null,null,null,null,null,null,"Sumatif Akhir         Semester (Tidak Wajib)",null,null,"Nilai Rapor"]
[null,null,null,null,"Sumatif     1","Sumatif 2","Sumatif 3","Sumatif 4","Sumatif 5","Sumatif 6","Sumatif 7","Sumatif 8","Sumatif 9","Sumatif 10","NA Sumatif Lingkup Materi"]
[null,null,null,null,{"$f":"'LM 5'!D8","v":"A"},{"$f":"'LM 5'!D9","v":"B"},{"$f":"'LM 5'!D10","v":"C"},{"$f":"'LM 5'!D11","v":"D"},{"$f":"'LM 5'!D12","v":"E"},{"$f":"'LM 5'!D13","v":"F"},{"$f":"'LM 5'!D14","v":"G"},{"$f":"'LM 5'!D15","v":"H"},{"$f":"'LM 5'!D16","v":"I"},{"$f":"'LM 5'!D17","v":"J"},null,"Non Tes","Tes","NA Sumatif Akhir Semester"]
[null,null,1,{"$f":"'DATA SISWA'!F10","v":0},null,null,null,null,null,null,null,null,null,null,{"$f":"IFERROR(AVERAGE(E16:N16),\"-\")","v":"-"},null,null,{"$f":"IFERROR(AVERAGE(P16:Q16),\"-\")","v":"-"},{"$f":"IFERROR(AVERAGE(O16,R16),\"-\")","v":"-"}]
[null,null,2,{"$f":"'DATA SISWA'!F11","v":0},null,null,null,null,null,null,null,null,null,null,{"$f":"IFERROR(AVERAGE(E17:N17),\"-\")","v":"-"},null,null,{"$f":"IFERROR(AVERAGE(P17:Q17),\"-\")","v":"-"},{"$f":"IFERROR(AVERAGE(O17,R17),\"-\")","v":"-"}]
[null,null,3,{"$f":"'DATA SISWA'!F12","v":0},null,null,null,null,null,null,null,null,null,null,"-",null,null,"-","-"]
[null,null,4,{"$f":"'DATA SISWA'!F13","v":0},null,null,null,null,null,null,null,null,null,null,"-",null,null,"-","-"]
[null,null,5,{"$f":"'DATA SISWA'!F14","v":0},null,null,null,null,null,null,null,null,null,null,"-",null,null,"-","-"]
[null,null,6,{"$f":"'DATA SISWA'!F15","v":0},null,null,null,null,null,null,null,null,null,null,"-",null,null,"-","-"]
[null,null,7,{"$f":"'DATA SISWA'!F16","v":0},null,null,null,null,null,null,null,null,null,null,"-",null,null,"-","-"]
[null,null,8,{"$f":"'DATA SISWA'!F17","v":0},null,null,null,null,null,null,null,null,null,null,"-",null,null,"-","-"]
[null,null,9,{"$f":"'DATA SISWA'!F18","v":0},null,null,null,null,null,null,null,null,null,null,"-",null,null,"-","-"]
[null,null,10,{"$f":"'DATA SISWA'!F19","v":0},null,null,null,null,null,null,null,null,null,null,"-",null,null,"-","-"]
[null,null,11,{"$f":"'DATA SISWA'!F20","v":0},null,null,null,null,null,null,null,null,null,null,"-",null,null,"-","-"]
[null,null,12,{"$f":"'DATA SISWA'!F21","v":0},null,null,null,null,null,null,null,null,null,null,"-",null,null,"-","-"]
[null,null,13,{"$f":"'DATA SISWA'!F22","v":0},null,null,null,null,null,null,null,null,null,null,"-",null,null,"-","-"]
[null,null,14,{"$f":"'DATA SISWA'!F23","v":0},null,null,null,null,null,null,null,null,null,null,"-",null,null,"-","-"]
[null,null,15,{"$f":"'DATA SISWA'!F24","v":0},null,null,null,null,null,null,null,null,null,null,"-",null,null,"-","-"]
[null,null,16,{"$f":"'DATA SISWA'!F25","v":0},null,null,null,null,null,null,null,null,null,null,"-",null,null,"-","-"]
[null,null,17,{"$f":"'DATA SISWA'!F26","v":0},null,null,null,null,null,null,null,null,null,null,"-",null,null,"-","-"]
[null,null,18,{"$f":"'DATA SISWA'!F27","v":0},null,null,null,null,null,null,null,null,null,null,"-",null,null,"-","-"]
[null,null,19,{"$f":"'DATA SISWA'!F28","v":0},null,null,null,null,null,null,null,null,null,null,"-",null,null,"-","-"]
[null,null,20,{"$f":"'DATA SISWA'!F29","v":0},null,null,null,null,null,null,null,null,null,null,"-",null,null,"-","-"]
[null,null,21,{"$f":"'DATA SISWA'!F30","v":0},null,null,null,null,null,null,null,null,null,null,"-",null,null,"-","-"]
[null,null,22,{"$f":"'DATA SISWA'!F31","v":0},null,null,null,null,null,null,null,null,null,null,"-",null,null,"-","-"]
[null,null,23,{"$f":"'DATA SISWA'!F32","v":0},null,null,null,null,null,null,null,null,null,null,"-",null,null,"-","-"]
[null,null,24,{"$f":"'DATA SISWA'!F33","v":0},null,null,null,null,null,null,null,null,null,null,"-",null,null,"-","-"]
[null,null,25,{"$f":"'DATA SISWA'!F34","v":0},null,null,null,null,null,null,null,null,null,null,"-",null,null,"-","-"]
[null,null,26,{"$f":"'DATA SISWA'!F35","v":0},null,null,null,null,null,null,null,null,null,null,"-",null,null,"-","-"]
[null,null,27,{"$f":"'DATA SISWA'!F36","v":0},null,null,null,null,null,null,null,null,null,null,"-",null,null,"-","-"]
[null,null,28,{"$f":"'DATA SISWA'!F37","v":0},null,null,null,null,null,null,null,null,null,null,"-",null,null,"-","-"]
[null,null,29,{"$f":"'DATA SISWA'!F38","v":0},null,null,null,null,null,null,null,null,null,null,"-",null,null,"-","-"]
[null,null,30,{"$f":"'DATA SISWA'!F39","v":0},null,null,null,null,null,null,null,null,null,null,"-",null,null,"-","-"]
[null,null,31,{"$f":"'DATA SISWA'!F40","v":0},null,null,null,null,null,null,null,null,null,null,"-",null,null,"-","-"]
[null,null,32,{"$f":"'DATA SISWA'!F41","v":0},null,null,null,null,null,null,null,null,null,null,"-",null,null,"-","-"]
[null,null,33,{"$f":"'DATA SISWA'!F42","v":0},null,null,null,null,null,null,null,null,null,null,"-",null,null,"-","-"]
[null,null,34,{"$f":"'DATA SISWA'!F43","v":0},null,null,null,null,null,null,null,null,null,null,"-",null,null,"-","-"]
[null,null,35,{"$f":"'DATA SISWA'!F44","v":0},null,null,null,null,null,null,null,null,null,null,"-",null,null,"-","-"]
[null,null,36,{"$f":"'DATA SISWA'!F45","v":0},null,null,null,null,null,null,null,null,null,null,"-",null,null,"-","-"]
[null,null,37,{"$f":"'DATA SISWA'!F46","v":0},null,null,null,null,null,null,null,null,null,null,"-",null,null,"-","-"]
[null,null,38,{"$f":"'DATA SISWA'!F47","v":0},null,null,null,null,null,null,null,null,null,null,"-",null,null,"-","-"]
[null,null,39,{"$f":"'DATA SISWA'!F48","v":0},null,null,null,null,null,null,null,null,null,null,"-",null,null,"-","-"]
[null,null,40,{"$f":"'DATA SISWA'!F49","v":0},null,null,null,null,null,null,null,null,null,null,"-",null,null,"-","-"]

{"sheet":"S6","index":55,"n_rows":55,"n_cols":19,"rows_kept":55,"cut":false,"hidden":false,"merged":[[2,1,2,19],[4,1,4,19],[12,2,14,2],[12,3,14,3],[12,4,12,14],[12,15,13,17],[12,18,14,18],[13,14,14,14]]}
[]
[]
[null,"ASESMEN SUMATIF"]
[]
[null,{"$f":"\"MATA PELAJARAN \"&INTRAKURIKULER!D14","v":"MATA PELAJARAN "}]
[]
[null,"Petunjuk Pengisian :"]
[null,null,1,"Asesmen Sumatif dilaksanakan tiap akhir lingkup materi dan/atau akhir semester."]
[null,null,2,"Asesmen Sumatif Akhir Semester tidak wajib untuk dilakukan, kewenangan diserahkan pada sekolah."]
[null,null,3,"Isilah dengan nilai kuantitatif sejumlah asesmen sumatif yang sudah dilakukan (tidak harus diisi semua)"]
[null,null,4,"Bentuk asesmen sumatif tidak hanya tes tulis saja bisa beragam (proyek, unjuk kerja, observasi, dll.)"]
[]
[null,null,"No","Nama Siswa","Sumatif Akhir Lingkup Materi (Wajib)",null,null,null,null,null,null,null,null,null,null,"Sumatif Akhir         Semester (Tidak Wajib)",null,null,"Nilai Rapor"]
[null,null,null,null,"Sumatif     1","Sumatif 2","Sumatif 3","Sumatif 4","Sumatif 5","Sumatif 6","Sumatif 7","Sumatif 8","Sumatif 9","Sumatif 10","NA Sumatif Lingkup Materi"]
[null,null,null,null,{"$f":"'LM 6'!D8","v":"A"},{"$f":"'LM 6'!D9","v":"B"},{"$f":"'LM 6'!D10","v":"C"},{"$f":"'LM 6'!D11","v":"D"},{"$f":"'LM 6'!D12","v":"E"},{"$f":"'LM 6'!D13","v":"F"},{"$f":"'LM 6'!D14","v":"G"},{"$f":"'LM 6'!D15","v":"H"},{"$f":"'LM 6'!D16","v":"I"},{"$f":"'LM 6'!D17","v":"J"},null,"Non Tes","Tes","NA Sumatif Akhir Semester"]
[null,null,1,{"$f":"'DATA SISWA'!F10","v":0},null,null,null,null,null,null,null,null,null,null,{"$f":"IFERROR(AVERAGE(E16:N16),\"-\")","v":"-"},null,null,{"$f":"IFERROR(AVERAGE(P16:Q16),\"-\")","v":"-"},{"$f":"IFERROR(AVERAGE(O16,R16),\"-\")","v":"-"}]
[null,null,2,{"$f":"'DATA SISWA'!F11","v":0},null,null,null,null,null,null,null,null,null,null,{"$f":"IFERROR(AVERAGE(E17:N17),\"-\")","v":"-"},null,null,{"$f":"IFERROR(AVERAGE(P17:Q17),\"-\")","v":"-"},{"$f":"IFERROR(AVERAGE(O17,R17),\"-\")","v":"-"}]
[null,null,3,{"$f":"'DATA SISWA'!F12","v":0},null,null,null,null,null,null,null,null,null,null,"-",null,null,"-","-"]
[null,null,4,{"$f":"'DATA SISWA'!F13","v":0},null,null,null,null,null,null,null,null,null,null,"-",null,null,"-","-"]
[null,null,5,{"$f":"'DATA SISWA'!F14","v":0},null,null,null,null,null,null,null,null,null,null,"-",null,null,"-","-"]
[null,null,6,{"$f":"'DATA SISWA'!F15","v":0},null,null,null,null,null,null,null,null,null,null,"-",null,null,"-","-"]
[null,null,7,{"$f":"'DATA SISWA'!F16","v":0},null,null,null,null,null,null,null,null,null,null,"-",null,null,"-","-"]
[null,null,8,{"$f":"'DATA SISWA'!F17","v":0},null,null,null,null,null,null,null,null,null,null,"-",null,null,"-","-"]
[null,null,9,{"$f":"'DATA SISWA'!F18","v":0},null,null,null,null,null,null,null,null,null,null,"-",null,null,"-","-"]
[null,null,10,{"$f":"'DATA SISWA'!F19","v":0},null,null,null,null,null,null,null,null,null,null,"-",null,null,"-","-"]
[null,null,11,{"$f":"'DATA SISWA'!F20","v":0},null,null,null,null,null,null,null,null,null,null,"-",null,null,"-","-"]
[null,null,12,{"$f":"'DATA SISWA'!F21","v":0},null,null,null,null,null,null,null,null,null,null,"-",null,null,"-","-"]
[null,null,13,{"$f":"'DATA SISWA'!F22","v":0},null,null,null,null,null,null,null,null,null,null,"-",null,null,"-","-"]
[null,null,14,{"$f":"'DATA SISWA'!F23","v":0},null,null,null,null,null,null,null,null,null,null,"-",null,null,"-","-"]
[null,null,15,{"$f":"'DATA SISWA'!F24","v":0},null,null,null,null,null,null,null,null,null,null,"-",null,null,"-","-"]
[null,null,16,{"$f":"'DATA SISWA'!F25","v":0},null,null,null,null,null,null,null,null,null,null,"-",null,null,"-","-"]
[null,null,17,{"$f":"'DATA SISWA'!F26","v":0},null,null,null,null,null,null,null,null,null,null,"-",null,null,"-","-"]
[null,null,18,{"$f":"'DATA SISWA'!F27","v":0},null,null,null,null,null,null,null,null,null,null,"-",null,null,"-","-"]
[null,null,19,{"$f":"'DATA SISWA'!F28","v":0},null,null,null,null,null,null,null,null,null,null,"-",null,null,"-","-"]
[null,null,20,{"$f":"'DATA SISWA'!F29","v":0},null,null,null,null,null,null,null,null,null,null,"-",null,null,"-","-"]
[null,null,21,{"$f":"'DATA SISWA'!F30","v":0},null,null,null,null,null,null,null,null,null,null,"-",null,null,"-","-"]
[null,null,22,{"$f":"'DATA SISWA'!F31","v":0},null,null,null,null,null,null,null,null,null,null,"-",null,null,"-","-"]
[null,null,23,{"$f":"'DATA SISWA'!F32","v":0},null,null,null,null,null,null,null,null,null,null,"-",null,null,"-","-"]
[null,null,24,{"$f":"'DATA SISWA'!F33","v":0},null,null,null,null,null,null,null,null,null,null,"-",null,null,"-","-"]
[null,null,25,{"$f":"'DATA SISWA'!F34","v":0},null,null,null,null,null,null,null,null,null,null,"-",null,null,"-","-"]
[null,null,26,{"$f":"'DATA SISWA'!F35","v":0},null,null,null,null,null,null,null,null,null,null,"-",null,null,"-","-"]
[null,null,27,{"$f":"'DATA SISWA'!F36","v":0},null,null,null,null,null,null,null,null,null,null,"-",null,null,"-","-"]
[null,null,28,{"$f":"'DATA SISWA'!F37","v":0},null,null,null,null,null,null,null,null,null,null,"-",null,null,"-","-"]
[null,null,29,{"$f":"'DATA SISWA'!F38","v":0},null,null,null,null,null,null,null,null,null,null,"-",null,null,"-","-"]
[null,null,30,{"$f":"'DATA SISWA'!F39","v":0},null,null,null,null,null,null,null,null,null,null,"-",null,null,"-","-"]
[null,null,31,{"$f":"'DATA SISWA'!F40","v":0},null,null,null,null,null,null,null,null,null,null,"-",null,null,"-","-"]
[null,null,32,{"$f":"'DATA SISWA'!F41","v":0},null,null,null,null,null,null,null,null,null,null,"-",null,null,"-","-"]
[null,null,33,{"$f":"'DATA SISWA'!F42","v":0},null,null,null,null,null,null,null,null,null,null,"-",null,null,"-","-"]
[null,null,34,{"$f":"'DATA SISWA'!F43","v":0},null,null,null,null,null,null,null,null,null,null,"-",null,null,"-","-"]
[null,null,35,{"$f":"'DATA SISWA'!F44","v":0},null,null,null,null,null,null,null,null,null,null,"-",null,null,"-","-"]
[null,null,36,{"$f":"'DATA SISWA'!F45","v":0},null,null,null,null,null,null,null,null,null,null,"-",null,null,"-","-"]
[null,null,37,{"$f":"'DATA SISWA'!F46","v":0},null,null,null,null,null,null,null,null,null,null,"-",null,null,"-","-"]
[null,null,38,{"$f":"'DATA SISWA'!F47","v":0},null,null,null,null,null,null,null,null,null,null,"-",null,null,"-","-"]
[null,null,39,{"$f":"'DATA SISWA'!F48","v":0},null,null,null,null,null,null,null,null,null,null,"-",null,null,"-","-"]
[null,null,40,{"$f":"'DATA SISWA'!F49","v":0},null,null,null,null,null,null,null,null,null,null,"-",null,null,"-","-"]

{"sheet":"S7","index":56,"n_rows":55,"n_cols":19,"rows_kept":55,"cut":false,"hidden":false,"merged":[[2,1,2,19],[4,1,4,19],[12,2,14,2],[12,3,14,3],[12,4,12,14],[12,15,13,17],[12,18,14,18],[13,14,14,14]]}
[]
[]
[null,"ASESMEN SUMATIF"]
[]
[null,{"$f":"\"MATA PELAJARAN \"&INTRAKURIKULER!D15","v":"MATA PELAJARAN "}]
[]
[null,"Petunjuk Pengisian :"]
[null,null,1,"Asesmen Sumatif dilaksanakan tiap akhir lingkup materi dan/atau akhir semester."]
[null,null,2,"Asesmen Sumatif Akhir Semester tidak wajib untuk dilakukan, kewenangan diserahkan pada sekolah."]
[null,null,3,"Isilah dengan nilai kuantitatif sejumlah asesmen sumatif yang sudah dilakukan (tidak harus diisi semua)"]
[null,null,4,"Bentuk asesmen sumatif tidak hanya tes tulis saja bisa beragam (proyek, unjuk kerja, observasi, dll.)"]
[]
[null,null,"No","Nama Siswa","Sumatif Akhir Lingkup Materi (Wajib)",null,null,null,null,null,null,null,null,null,null,"Sumatif Akhir         Semester (Tidak Wajib)",null,null,"Nilai Rapor"]
[null,null,null,null,"Sumatif     1","Sumatif 2","Sumatif 3","Sumatif 4","Sumatif 5","Sumatif 6","Sumatif 7","Sumatif 8","Sumatif 9","Sumatif 10","NA Sumatif Lingkup Materi"]
[null,null,null,null,{"$f":"'LM 7'!D8","v":"A"},{"$f":"'LM 7'!D9","v":"B"},{"$f":"'LM 7'!D10","v":"C"},{"$f":"'LM 7'!D11","v":"D"},{"$f":"'LM 7'!D12","v":"E"},{"$f":"'LM 7'!D13","v":"F"},{"$f":"'LM 7'!D14","v":"G"},{"$f":"'LM 7'!D15","v":"H"},{"$f":"'LM 7'!D16","v":"I"},{"$f":"'LM 7'!D17","v":"J"},null,"Non Tes","Tes","NA Sumatif Akhir Semester"]
[null,null,1,{"$f":"'DATA SISWA'!F10","v":0},null,null,null,null,null,null,null,null,null,null,{"$f":"IFERROR(AVERAGE(E16:N16),\"-\")","v":"-"},null,null,{"$f":"IFERROR(AVERAGE(P16:Q16),\"-\")","v":"-"},{"$f":"IFERROR(AVERAGE(O16,R16),\"-\")","v":"-"}]
[null,null,2,{"$f":"'DATA SISWA'!F11","v":0},null,null,null,null,null,null,null,null,null,null,{"$f":"IFERROR(AVERAGE(E17:N17),\"-\")","v":"-"},null,null,{"$f":"IFERROR(AVERAGE(P17:Q17),\"-\")","v":"-"},{"$f":"IFERROR(AVERAGE(O17,R17),\"-\")","v":"-"}]
[null,null,3,{"$f":"'DATA SISWA'!F12","v":0},null,null,null,null,null,null,null,null,null,null,"-",null,null,"-","-"]
[null,null,4,{"$f":"'DATA SISWA'!F13","v":0},null,null,null,null,null,null,null,null,null,null,"-",null,null,"-","-"]
[null,null,5,{"$f":"'DATA SISWA'!F14","v":0},null,null,null,null,null,null,null,null,null,null,"-",null,null,"-","-"]
[null,null,6,{"$f":"'DATA SISWA'!F15","v":0},null,null,null,null,null,null,null,null,null,null,"-",null,null,"-","-"]
[null,null,7,{"$f":"'DATA SISWA'!F16","v":0},null,null,null,null,null,null,null,null,null,null,"-",null,null,"-","-"]
[null,null,8,{"$f":"'DATA SISWA'!F17","v":0},null,null,null,null,null,null,null,null,null,null,"-",null,null,"-","-"]
[null,null,9,{"$f":"'DATA SISWA'!F18","v":0},null,null,null,null,null,null,null,null,null,null,"-",null,null,"-","-"]
[null,null,10,{"$f":"'DATA SISWA'!F19","v":0},null,null,null,null,null,null,null,null,null,null,"-",null,null,"-","-"]
[null,null,11,{"$f":"'DATA SISWA'!F20","v":0},null,null,null,null,null,null,null,null,null,null,"-",null,null,"-","-"]
[null,null,12,{"$f":"'DATA SISWA'!F21","v":0},null,null,null,null,null,null,null,null,null,null,"-",null,null,"-","-"]
[null,null,13,{"$f":"'DATA SISWA'!F22","v":0},null,null,null,null,null,null,null,null,null,null,"-",null,null,"-","-"]
[null,null,14,{"$f":"'DATA SISWA'!F23","v":0},null,null,null,null,null,null,null,null,null,null,"-",null,null,"-","-"]
[null,null,15,{"$f":"'DATA SISWA'!F24","v":0},null,null,null,null,null,null,null,null,null,null,"-",null,null,"-","-"]
[null,null,16,{"$f":"'DATA SISWA'!F25","v":0},null,null,null,null,null,null,null,null,null,null,"-",null,null,"-","-"]
[null,null,17,{"$f":"'DATA SISWA'!F26","v":0},null,null,null,null,null,null,null,null,null,null,"-",null,null,"-","-"]
[null,null,18,{"$f":"'DATA SISWA'!F27","v":0},null,null,null,null,null,null,null,null,null,null,"-",null,null,"-","-"]
[null,null,19,{"$f":"'DATA SISWA'!F28","v":0},null,null,null,null,null,null,null,null,null,null,"-",null,null,"-","-"]
[null,null,20,{"$f":"'DATA SISWA'!F29","v":0},null,null,null,null,null,null,null,null,null,null,"-",null,null,"-","-"]
[null,null,21,{"$f":"'DATA SISWA'!F30","v":0},null,null,null,null,null,null,null,null,null,null,"-",null,null,"-","-"]
[null,null,22,{"$f":"'DATA SISWA'!F31","v":0},null,null,null,null,null,null,null,null,null,null,"-",null,null,"-","-"]
[null,null,23,{"$f":"'DATA SISWA'!F32","v":0},null,null,null,null,null,null,null,null,null,null,"-",null,null,"-","-"]
[null,null,24,{"$f":"'DATA SISWA'!F33","v":0},null,null,null,null,null,null,null,null,null,null,"-",null,null,"-","-"]
[null,null,25,{"$f":"'DATA SISWA'!F34","v":0},null,null,null,null,null,null,null,null,null,null,"-",null,null,"-","-"]
[null,null,26,{"$f":"'DATA SISWA'!F35","v":0},null,null,null,null,null,null,null,null,null,null,"-",null,null,"-","-"]
[null,null,27,{"$f":"'DATA SISWA'!F36","v":0},null,null,null,null,null,null,null,null,null,null,"-",null,null,"-","-"]
[null,null,28,{"$f":"'DATA SISWA'!F37","v":0},null,null,null,null,null,null,null,null,null,null,"-",null,null,"-","-"]
[null,null,29,{"$f":"'DATA SISWA'!F38","v":0},null,null,null,null,null,null,null,null,null,null,"-",null,null,"-","-"]
[null,null,30,{"$f":"'DATA SISWA'!F39","v":0},null,null,null,null,null,null,null,null,null,null,"-",null,null,"-","-"]
[null,null,31,{"$f":"'DATA SISWA'!F40","v":0},null,null,null,null,null,null,null,null,null,null,"-",null,null,"-","-"]
[null,null,32,{"$f":"'DATA SISWA'!F41","v":0},null,null,null,null,null,null,null,null,null,null,"-",null,null,"-","-"]
[null,null,33,{"$f":"'DATA SISWA'!F42","v":0},null,null,null,null,null,null,null,null,null,null,"-",null,null,"-","-"]
[null,null,34,{"$f":"'DATA SISWA'!F43","v":0},null,null,null,null,null,null,null,null,null,null,"-",null,null,"-","-"]
[null,null,35,{"$f":"'DATA SISWA'!F44","v":0},null,null,null,null,null,null,null,null,null,null,"-",null,null,"-","-"]
[null,null,36,{"$f":"'DATA SISWA'!F45","v":0},null,null,null,null,null,null,null,null,null,null,"-",null,null,"-","-"]
[null,null,37,{"$f":"'DATA SISWA'!F46","v":0},null,null,null,null,null,null,null,null,null,null,"-",null,null,"-","-"]
[null,null,38,{"$f":"'DATA SISWA'!F47","v":0},null,null,null,null,null,null,null,null,null,null,"-",null,null,"-","-"]
[null,null,39,{"$f":"'DATA SISWA'!F48","v":0},null,null,null,null,null,null,null,null,null,null,"-",null,null,"-","-"]
[null,null,40,{"$f":"'DATA SISWA'!F49","v":0},null,null,null,null,null,null,null,null,null,null,"-",null,null,"-","-"]

{"sheet":"S8","index":57,"n_rows":55,"n_cols":19,"rows_kept":55,"cut":false,"hidden":false,"merged":[[2,1,2,19],[4,1,4,19],[12,2,14,2],[12,3,14,3],[12,4,12,14],[12,15,13,17],[12,18,14,18],[13,14,14,14]]}
[]
[]
[null,"ASESMEN SUMATIF"]
[]
[null,{"$f":"\"MATA PELAJARAN \"&INTRAKURIKULER!D16","v":"MATA PELAJARAN "}]
[]
[null,"Petunjuk Pengisian :"]
[null,null,1,"Asesmen Sumatif dilaksanakan tiap akhir lingkup materi dan/atau akhir semester."]
[null,null,2,"Asesmen Sumatif Akhir Semester tidak wajib untuk dilakukan, kewenangan diserahkan pada sekolah."]
[null,null,3,"Isilah dengan nilai kuantitatif sejumlah asesmen sumatif yang sudah dilakukan (tidak harus diisi semua)"]
[null,null,4,"Bentuk asesmen sumatif tidak hanya tes tulis saja bisa beragam (proyek, unjuk kerja, observasi, dll.)"]
[]
[null,null,"No","Nama Siswa","Sumatif Akhir Lingkup Materi (Wajib)",null,null,null,null,null,null,null,null,null,null,"Sumatif Akhir         Semester (Tidak Wajib)",null,null,"Nilai Rapor"]
[null,null,null,null,"Sumatif     1","Sumatif 2","Sumatif 3","Sumatif 4","Sumatif 5","Sumatif 6","Sumatif 7","Sumatif 8","Sumatif 9","Sumatif 10","NA Sumatif Lingkup Materi"]
[null,null,null,null,{"$f":"'LM 8'!D8","v":"A"},{"$f":"'LM 8'!D9","v":"B"},{"$f":"'LM 8'!D10","v":"C"},{"$f":"'LM 8'!D11","v":"D"},{"$f":"'LM 8'!D12","v":"E"},{"$f":"'LM 8'!D13","v":"F"},{"$f":"'LM 8'!D14","v":"G"},{"$f":"'LM 8'!D15","v":"H"},{"$f":"'LM 8'!D16","v":"I"},{"$f":"'LM 8'!D17","v":"J"},null,"Non Tes","Tes","NA Sumatif Akhir Semester"]
[null,null,1,{"$f":"'DATA SISWA'!F10","v":0},null,null,null,null,null,null,null,null,null,null,{"$f":"IFERROR(AVERAGE(E16:N16),\"-\")","v":"-"},null,null,{"$f":"IFERROR(AVERAGE(P16:Q16),\"-\")","v":"-"},{"$f":"IFERROR(AVERAGE(O16,R16),\"-\")","v":"-"}]
[null,null,2,{"$f":"'DATA SISWA'!F11","v":0},null,null,null,null,null,null,null,null,null,null,{"$f":"IFERROR(AVERAGE(E17:N17),\"-\")","v":"-"},null,null,{"$f":"IFERROR(AVERAGE(P17:Q17),\"-\")","v":"-"},{"$f":"IFERROR(AVERAGE(O17,R17),\"-\")","v":"-"}]
[null,null,3,{"$f":"'DATA SISWA'!F12","v":0},null,null,null,null,null,null,null,null,null,null,"-",null,null,"-","-"]
[null,null,4,{"$f":"'DATA SISWA'!F13","v":0},null,null,null,null,null,null,null,null,null,null,"-",null,null,"-","-"]
[null,null,5,{"$f":"'DATA SISWA'!F14","v":0},null,null,null,null,null,null,null,null,null,null,"-",null,null,"-","-"]
[null,null,6,{"$f":"'DATA SISWA'!F15","v":0},null,null,null,null,null,null,null,null,null,null,"-",null,null,"-","-"]
[null,null,7,{"$f":"'DATA SISWA'!F16","v":0},null,null,null,null,null,null,null,null,null,null,"-",null,null,"-","-"]
[null,null,8,{"$f":"'DATA SISWA'!F17","v":0},null,null,null,null,null,null,null,null,null,null,"-",null,null,"-","-"]
[null,null,9,{"$f":"'DATA SISWA'!F18","v":0},null,null,null,null,null,null,null,null,null,null,"-",null,null,"-","-"]
[null,null,10,{"$f":"'DATA SISWA'!F19","v":0},null,null,null,null,null,null,null,null,null,null,"-",null,null,"-","-"]
[null,null,11,{"$f":"'DATA SISWA'!F20","v":0},null,null,null,null,null,null,null,null,null,null,"-",null,null,"-","-"]
[null,null,12,{"$f":"'DATA SISWA'!F21","v":0},null,null,null,null,null,null,null,null,null,null,"-",null,null,"-","-"]
[null,null,13,{"$f":"'DATA SISWA'!F22","v":0},null,null,null,null,null,null,null,null,null,null,"-",null,null,"-","-"]
[null,null,14,{"$f":"'DATA SISWA'!F23","v":0},null,null,null,null,null,null,null,null,null,null,"-",null,null,"-","-"]
[null,null,15,{"$f":"'DATA SISWA'!F24","v":0},null,null,null,null,null,null,null,null,null,null,"-",null,null,"-","-"]
[null,null,16,{"$f":"'DATA SISWA'!F25","v":0},null,null,null,null,null,null,null,null,null,null,"-",null,null,"-","-"]
[null,null,17,{"$f":"'DATA SISWA'!F26","v":0},null,null,null,null,null,null,null,null,null,null,"-",null,null,"-","-"]
[null,null,18,{"$f":"'DATA SISWA'!F27","v":0},null,null,null,null,null,null,null,null,null,null,"-",null,null,"-","-"]
[null,null,19,{"$f":"'DATA SISWA'!F28","v":0},null,null,null,null,null,null,null,null,null,null,"-",null,null,"-","-"]
[null,null,20,{"$f":"'DATA SISWA'!F29","v":0},null,null,null,null,null,null,null,null,null,null,"-",null,null,"-","-"]
[null,null,21,{"$f":"'DATA SISWA'!F30","v":0},null,null,null,null,null,null,null,null,null,null,"-",null,null,"-","-"]
[null,null,22,{"$f":"'DATA SISWA'!F31","v":0},null,null,null,null,null,null,null,null,null,null,"-",null,null,"-","-"]
[null,null,23,{"$f":"'DATA SISWA'!F32","v":0},null,null,null,null,null,null,null,null,null,null,"-",null,null,"-","-"]
[null,null,24,{"$f":"'DATA SISWA'!F33","v":0},null,null,null,null,null,null,null,null,null,null,"-",null,null,"-","-"]
[null,null,25,{"$f":"'DATA SISWA'!F34","v":0},null,null,null,null,null,null,null,null,null,null,"-",null,null,"-","-"]
[null,null,26,{"$f":"'DATA SISWA'!F35","v":0},null,null,null,null,null,null,null,null,null,null,"-",null,null,"-","-"]
[null,null,27,{"$f":"'DATA SISWA'!F36","v":0},null,null,null,null,null,null,null,null,null,null,"-",null,null,"-","-"]
[null,null,28,{"$f":"'DATA SISWA'!F37","v":0},null,null,null,null,null,null,null,null,null,null,"-",null,null,"-","-"]
[null,null,29,{"$f":"'DATA SISWA'!F38","v":0},null,null,null,null,null,null,null,null,null,null,"-",null,null,"-","-"]
[null,null,30,{"$f":"'DATA SISWA'!F39","v":0},null,null,null,null,null,null,null,null,null,null,"-",null,null,"-","-"]
[null,null,31,{"$f":"'DATA SISWA'!F40","v":0},null,null,null,null,null,null,null,null,null,null,"-",null,null,"-","-"]
[null,null,32,{"$f":"'DATA SISWA'!F41","v":0},null,null,null,null,null,null,null,null,null,null,"-",null,null,"-","-"]
[null,null,33,{"$f":"'DATA SISWA'!F42","v":0},null,null,null,null,null,null,null,null,null,null,"-",null,null,"-","-"]
[null,null,34,{"$f":"'DATA SISWA'!F43","v":0},null,null,null,null,null,null,null,null,null,null,"-",null,null,"-","-"]
[null,null,35,{"$f":"'DATA SISWA'!F44","v":0},null,null,null,null,null,null,null,null,null,null,"-",null,null,"-","-"]
[null,null,36,{"$f":"'DATA SISWA'!F45","v":0},null,null,null,null,null,null,null,null,null,null,"-",null,null,"-","-"]
[null,null,37,{"$f":"'DATA SISWA'!F46","v":0},null,null,null,null,null,null,null,null,null,null,"-",null,null,"-","-"]
[null,null,38,{"$f":"'DATA SISWA'!F47","v":0},null,null,null,null,null,null,null,null,null,null,"-",null,null,"-","-"]
[null,null,39,{"$f":"'DATA SISWA'!F48","v":0},null,null,null,null,null,null,null,null,null,null,"-",null,null,"-","-"]
[null,null,40,{"$f":"'DATA SISWA'!F49","v":0},null,null,null,null,null,null,null,null,null,null,"-",null,null,"-","-"]

{"sheet":"S9","index":58,"n_rows":55,"n_cols":19,"rows_kept":55,"cut":false,"hidden":false,"merged":[[2,1,2,19],[4,1,4,19],[12,2,14,2],[12,3,14,3],[12,4,12,14],[12,15,13,17],[12,18,14,18],[13,14,14,14]]}
[]
[]
[null,"ASESMEN SUMATIF"]
[]
[null,{"$f":"\"MATA PELAJARAN \"&INTRAKURIKULER!D17","v":"MATA PELAJARAN "}]
[]
[null,"Petunjuk Pengisian :"]
[null,null,1,"Asesmen Sumatif dilaksanakan tiap akhir lingkup materi dan/atau akhir semester."]
[null,null,2,"Asesmen Sumatif Akhir Semester tidak wajib untuk dilakukan, kewenangan diserahkan pada sekolah."]
[null,null,3,"Isilah dengan nilai kuantitatif sejumlah asesmen sumatif yang sudah dilakukan (tidak harus diisi semua)"]
[null,null,4,"Bentuk asesmen sumatif tidak hanya tes tulis saja bisa beragam (proyek, unjuk kerja, observasi, dll.)"]
[]
[null,null,"No","Nama Siswa","Sumatif Akhir Lingkup Materi (Wajib)",null,null,null,null,null,null,null,null,null,null,"Sumatif Akhir         Semester (Tidak Wajib)",null,null,"Nilai Rapor"]
[null,null,null,null,"Sumatif     1","Sumatif 2","Sumatif 3","Sumatif 4","Sumatif 5","Sumatif 6","Sumatif 7","Sumatif 8","Sumatif 9","Sumatif 10","NA Sumatif Lingkup Materi"]
[null,null,null,null,{"$f":"'LM 9'!D8","v":"A"},{"$f":"'LM 9'!D9","v":"B"},{"$f":"'LM 9'!D10","v":"C"},{"$f":"'LM 9'!D11","v":"D"},{"$f":"'LM 9'!D12","v":"E"},{"$f":"'LM 9'!D13","v":"F"},{"$f":"'LM 9'!D14","v":"G"},{"$f":"'LM 9'!D15","v":"H"},{"$f":"'LM 9'!D16","v":"I"},{"$f":"'LM 9'!D17","v":"J"},null,"Non Tes","Tes","NA Sumatif Akhir Semester"]
[null,null,1,{"$f":"'DATA SISWA'!F10","v":0},null,null,null,null,null,null,null,null,null,null,{"$f":"IFERROR(AVERAGE(E16:N16),\"-\")","v":"-"},null,null,{"$f":"IFERROR(AVERAGE(P16:Q16),\"-\")","v":"-"},{"$f":"IFERROR(AVERAGE(O16,R16),\"-\")","v":"-"}]
[null,null,2,{"$f":"'DATA SISWA'!F11","v":0},null,null,null,null,null,null,null,null,null,null,{"$f":"IFERROR(AVERAGE(E17:N17),\"-\")","v":"-"},null,null,{"$f":"IFERROR(AVERAGE(P17:Q17),\"-\")","v":"-"},{"$f":"IFERROR(AVERAGE(O17,R17),\"-\")","v":"-"}]
[null,null,3,{"$f":"'DATA SISWA'!F12","v":0},null,null,null,null,null,null,null,null,null,null,"-",null,null,"-","-"]
[null,null,4,{"$f":"'DATA SISWA'!F13","v":0},null,null,null,null,null,null,null,null,null,null,"-",null,null,"-","-"]
[null,null,5,{"$f":"'DATA SISWA'!F14","v":0},null,null,null,null,null,null,null,null,null,null,"-",null,null,"-","-"]
[null,null,6,{"$f":"'DATA SISWA'!F15","v":0},null,null,null,null,null,null,null,null,null,null,"-",null,null,"-","-"]
[null,null,7,{"$f":"'DATA SISWA'!F16","v":0},null,null,null,null,null,null,null,null,null,null,"-",null,null,"-","-"]
[null,null,8,{"$f":"'DATA SISWA'!F17","v":0},null,null,null,null,null,null,null,null,null,null,"-",null,null,"-","-"]
[null,null,9,{"$f":"'DATA SISWA'!F18","v":0},null,null,null,null,null,null,null,null,null,null,"-",null,null,"-","-"]
[null,null,10,{"$f":"'DATA SISWA'!F19","v":0},null,null,null,null,null,null,null,null,null,null,"-",null,null,"-","-"]
[null,null,11,{"$f":"'DATA SISWA'!F20","v":0},null,null,null,null,null,null,null,null,null,null,"-",null,null,"-","-"]
[null,null,12,{"$f":"'DATA SISWA'!F21","v":0},null,null,null,null,null,null,null,null,null,null,"-",null,null,"-","-"]
[null,null,13,{"$f":"'DATA SISWA'!F22","v":0},null,null,null,null,null,null,null,null,null,null,"-",null,null,"-","-"]
[null,null,14,{"$f":"'DATA SISWA'!F23","v":0},null,null,null,null,null,null,null,null,null,null,"-",null,null,"-","-"]
[null,null,15,{"$f":"'DATA SISWA'!F24","v":0},null,null,null,null,null,null,null,null,null,null,"-",null,null,"-","-"]
[null,null,16,{"$f":"'DATA SISWA'!F25","v":0},null,null,null,null,null,null,null,null,null,null,"-",null,null,"-","-"]
[null,null,17,{"$f":"'DATA SISWA'!F26","v":0},null,null,null,null,null,null,null,null,null,null,"-",null,null,"-","-"]
[null,null,18,{"$f":"'DATA SISWA'!F27","v":0},null,null,null,null,null,null,null,null,null,null,"-",null,null,"-","-"]
[null,null,19,{"$f":"'DATA SISWA'!F28","v":0},null,null,null,null,null,null,null,null,null,null,"-",null,null,"-","-"]
[null,null,20,{"$f":"'DATA SISWA'!F29","v":0},null,null,null,null,null,null,null,null,null,null,"-",null,null,"-","-"]
[null,null,21,{"$f":"'DATA SISWA'!F30","v":0},null,null,null,null,null,null,null,null,null,null,"-",null,null,"-","-"]
[null,null,22,{"$f":"'DATA SISWA'!F31","v":0},null,null,null,null,null,null,null,null,null,null,"-",null,null,"-","-"]
[null,null,23,{"$f":"'DATA SISWA'!F32","v":0},null,null,null,null,null,null,null,null,null,null,"-",null,null,"-","-"]
[null,null,24,{"$f":"'DATA SISWA'!F33","v":0},null,null,null,null,null,null,null,null,null,null,"-",null,null,"-","-"]
[null,null,25,{"$f":"'DATA SISWA'!F34","v":0},null,null,null,null,null,null,null,null,null,null,"-",null,null,"-","-"]
[null,null,26,{"$f":"'DATA SISWA'!F35","v":0},null,null,null,null,null,null,null,null,null,null,"-",null,null,"-","-"]
[null,null,27,{"$f":"'DATA SISWA'!F36","v":0},null,null,null,null,null,null,null,null,null,null,"-",null,null,"-","-"]
[null,null,28,{"$f":"'DATA SISWA'!F37","v":0},null,null,null,null,null,null,null,null,null,null,"-",null,null,"-","-"]
[null,null,29,{"$f":"'DATA SISWA'!F38","v":0},null,null,null,null,null,null,null,null,null,null,"-",null,null,"-","-"]
[null,null,30,{"$f":"'DATA SISWA'!F39","v":0},null,null,null,null,null,null,null,null,null,null,"-",null,null,"-","-"]
[null,null,31,{"$f":"'DATA SISWA'!F40","v":0},null,null,null,null,null,null,null,null,null,null,"-",null,null,"-","-"]
[null,null,32,{"$f":"'DATA SISWA'!F41","v":0},null,null,null,null,null,null,null,null,null,null,"-",null,null,"-","-"]
[null,null,33,{"$f":"'DATA SISWA'!F42","v":0},null,null,null,null,null,null,null,null,null,null,"-",null,null,"-","-"]
[null,null,34,{"$f":"'DATA SISWA'!F43","v":0},null,null,null,null,null,null,null,null,null,null,"-",null,null,"-","-"]
[null,null,35,{"$f":"'DATA SISWA'!F44","v":0},null,null,null,null,null,null,null,null,null,null,"-",null,null,"-","-"]
[null,null,36,{"$f":"'DATA SISWA'!F45","v":0},null,null,null,null,null,null,null,null,null,null,"-",null,null,"-","-"]
[null,null,37,{"$f":"'DATA SISWA'!F46","v":0},null,null,null,null,null,null,null,null,null,null,"-",null,null,"-","-"]
[null,null,38,{"$f":"'DATA SISWA'!F47","v":0},null,null,null,null,null,null,null,null,null,null,"-",null,null,"-","-"]
[null,null,39,{"$f":"'DATA SISWA'!F48","v":0},null,null,null,null,null,null,null,null,null,null,"-",null,null,"-","-"]
[null,null,40,{"$f":"'DATA SISWA'!F49","v":0},null,null,null,null,null,null,null,null,null,null,"-",null,null,"-","-"]

{"sheet":"S10","index":59,"n_rows":55,"n_cols":19,"rows_kept":55,"cut":false,"hidden":false,"merged":[[2,1,2,19],[4,1,4,19],[12,2,14,2],[12,3,14,3],[12,4,12,14],[12,15,13,17],[12,18,14,18],[13,14,14,14]]}
[]
[]
[null,"ASESMEN SUMATIF"]
[]
[null,{"$f":"\"MATA PELAJARAN \"&INTRAKURIKULER!D18","v":"MATA PELAJARAN "}]
[]
[null,"Petunjuk Pengisian :"]
[null,null,1,"Asesmen Sumatif dilaksanakan tiap akhir lingkup materi dan/atau akhir semester."]
[null,null,2,"Asesmen Sumatif Akhir Semester tidak wajib untuk dilakukan, kewenangan diserahkan pada sekolah."]
[null,null,3,"Isilah dengan nilai kuantitatif sejumlah asesmen sumatif yang sudah dilakukan (tidak harus diisi semua)"]
[null,null,4,"Bentuk asesmen sumatif tidak hanya tes tulis saja bisa beragam (proyek, unjuk kerja, observasi, dll.)"]
[]
[null,null,"No","Nama Siswa","Sumatif Akhir Lingkup Materi (Wajib)",null,null,null,null,null,null,null,null,null,null,"Sumatif Akhir         Semester (Tidak Wajib)",null,null,"Nilai Rapor"]
[null,null,null,null,"Sumatif     1","Sumatif 2","Sumatif 3","Sumatif 4","Sumatif 5","Sumatif 6","Sumatif 7","Sumatif 8","Sumatif 9","Sumatif 10","NA Sumatif Lingkup Materi"]
[null,null,null,null,{"$f":"'LM 10'!D8","v":"A"},{"$f":"'LM 10'!D9","v":"B"},{"$f":"'LM 10'!D10","v":"C"},{"$f":"'LM 10'!D11","v":"D"},{"$f":"'LM 10'!D12","v":"E"},{"$f":"'LM 10'!D13","v":"F"},{"$f":"'LM 10'!D14","v":"G"},{"$f":"'LM 10'!D15","v":"H"},{"$f":"'LM 10'!D16","v":"I"},{"$f":"'LM 10'!D17","v":"J"},null,"Non Tes","Tes","NA Sumatif Akhir Semester"]
[null,null,1,{"$f":"'DATA SISWA'!F10","v":0},null,null,null,null,null,null,null,null,null,null,{"$f":"IFERROR(AVERAGE(E16:N16),\"-\")","v":"-"},null,null,{"$f":"IFERROR(AVERAGE(P16:Q16),\"-\")","v":"-"},{"$f":"IFERROR(AVERAGE(O16,R16),\"-\")","v":"-"}]
[null,null,2,{"$f":"'DATA SISWA'!F11","v":0},null,null,null,null,null,null,null,null,null,null,{"$f":"IFERROR(AVERAGE(E17:N17),\"-\")","v":"-"},null,null,{"$f":"IFERROR(AVERAGE(P17:Q17),\"-\")","v":"-"},{"$f":"IFERROR(AVERAGE(O17,R17),\"-\")","v":"-"}]
[null,null,3,{"$f":"'DATA SISWA'!F12","v":0},null,null,null,null,null,null,null,null,null,null,"-",null,null,"-","-"]
[null,null,4,{"$f":"'DATA SISWA'!F13","v":0},null,null,null,null,null,null,null,null,null,null,"-",null,null,"-","-"]
[null,null,5,{"$f":"'DATA SISWA'!F14","v":0},null,null,null,null,null,null,null,null,null,null,"-",null,null,"-","-"]
[null,null,6,{"$f":"'DATA SISWA'!F15","v":0},null,null,null,null,null,null,null,null,null,null,"-",null,null,"-","-"]
[null,null,7,{"$f":"'DATA SISWA'!F16","v":0},null,null,null,null,null,null,null,null,null,null,"-",null,null,"-","-"]
[null,null,8,{"$f":"'DATA SISWA'!F17","v":0},null,null,null,null,null,null,null,null,null,null,"-",null,null,"-","-"]
[null,null,9,{"$f":"'DATA SISWA'!F18","v":0},null,null,null,null,null,null,null,null,null,null,"-",null,null,"-","-"]
[null,null,10,{"$f":"'DATA SISWA'!F19","v":0},null,null,null,null,null,null,null,null,null,null,"-",null,null,"-","-"]
[null,null,11,{"$f":"'DATA SISWA'!F20","v":0},null,null,null,null,null,null,null,null,null,null,"-",null,null,"-","-"]
[null,null,12,{"$f":"'DATA SISWA'!F21","v":0},null,null,null,null,null,null,null,null,null,null,"-",null,null,"-","-"]
[null,null,13,{"$f":"'DATA SISWA'!F22","v":0},null,null,null,null,null,null,null,null,null,null,"-",null,null,"-","-"]
[null,null,14,{"$f":"'DATA SISWA'!F23","v":0},null,null,null,null,null,null,null,null,null,null,"-",null,null,"-","-"]
[null,null,15,{"$f":"'DATA SISWA'!F24","v":0},null,null,null,null,null,null,null,null,null,null,"-",null,null,"-","-"]
[null,null,16,{"$f":"'DATA SISWA'!F25","v":0},null,null,null,null,null,null,null,null,null,null,"-",null,null,"-","-"]
[null,null,17,{"$f":"'DATA SISWA'!F26","v":0},null,null,null,null,null,null,null,null,null,null,"-",null,null,"-","-"]
[null,null,18,{"$f":"'DATA SISWA'!F27","v":0},null,null,null,null,null,null,null,null,null,null,"-",null,null,"-","-"]
[null,null,19,{"$f":"'DATA SISWA'!F28","v":0},null,null,null,null,null,null,null,null,null,null,"-",null,null,"-","-"]
[null,null,20,{"$f":"'DATA SISWA'!F29","v":0},null,null,null,null,null,null,null,null,null,null,"-",null,null,"-","-"]
[null,null,21,{"$f":"'DATA SISWA'!F30","v":0},null,null,null,null,null,null,null,null,null,null,"-",null,null,"-","-"]
[null,null,22,{"$f":"'DATA SISWA'!F31","v":0},null,null,null,null,null,null,null,null,null,null,"-",null,null,"-","-"]
[null,null,23,{"$f":"'DATA SISWA'!F32","v":0},null,null,null,null,null,null,null,null,null,null,"-",null,null,"-","-"]
[null,null,24,{"$f":"'DATA SISWA'!F33","v":0},null,null,null,null,null,null,null,null,null,null,"-",null,null,"-","-"]
[null,null,25,{"$f":"'DATA SISWA'!F34","v":0},null,null,null,null,null,null,null,null,null,null,"-",null,null,"-","-"]
[null,null,26,{"$f":"'DATA SISWA'!F35","v":0},null,null,null,null,null,null,null,null,null,null,"-",null,null,"-","-"]
[null,null,27,{"$f":"'DATA SISWA'!F36","v":0},null,null,null,null,null,null,null,null,null,null,"-",null,null,"-","-"]
[null,null,28,{"$f":"'DATA SISWA'!F37","v":0},null,null,null,null,null,null,null,null,null,null,"-",null,null,"-","-"]
[null,null,29,{"$f":"'DATA SISWA'!F38","v":0},null,null,null,null,null,null,null,null,null,null,"-",null,null,"-","-"]
[null,null,30,{"$f":"'DATA SISWA'!F39","v":0},null,null,null,null,null,null,null,null,null,null,"-",null,null,"-","-"]
[null,null,31,{"$f":"'DATA SISWA'!F40","v":0},null,null,null,null,null,null,null,null,null,null,"-",null,null,"-","-"]
[null,null,32,{"$f":"'DATA SISWA'!F41","v":0},null,null,null,null,null,null,null,null,null,null,"-",null,null,"-","-"]
[null,null,33,{"$f":"'DATA SISWA'!F42","v":0},null,null,null,null,null,null,null,null,null,null,"-",null,null,"-","-"]
[null,null,34,{"$f":"'DATA SISWA'!F43","v":0},null,null,null,null,null,null,null,null,null,null,"-",null,null,"-","-"]
[null,null,35,{"$f":"'DATA SISWA'!F44","v":0},null,null,null,null,null,null,null,null,null,null,"-",null,null,"-","-"]
[null,null,36,{"$f":"'DATA SISWA'!F45","v":0},null,null,null,null,null,null,null,null,null,null,"-",null,null,"-","-"]
[null,null,37,{"$f":"'DATA SISWA'!F46","v":0},null,null,null,null,null,null,null,null,null,null,"-",null,null,"-","-"]
[null,null,38,{"$f":"'DATA SISWA'!F47","v":0},null,null,null,null,null,null,null,null,null,null,"-",null,null,"-","-"]
[null,null,39,{"$f":"'DATA SISWA'!F48","v":0},null,null,null,null,null,null,null,null,null,null,"-",null,null,"-","-"]
[null,null,40,{"$f":"'DATA SISWA'!F49","v":0},null,null,null,null,null,null,null,null,null,null,"-",null,null,"-","-"]

{"sheet":"S11","index":60,"n_rows":55,"n_cols":19,"rows_kept":55,"cut":false,"hidden":false,"merged":[[2,1,2,19],[4,1,4,19],[12,2,14,2],[12,3,14,3],[12,4,12,14],[12,15,13,17],[12,18,14,18],[13,14,14,14]]}
[]
[]
[null,"ASESMEN SUMATIF"]
[]
[null,{"$f":"\"MATA PELAJARAN \"&INTRAKURIKULER!D19","v":"MATA PELAJARAN "}]
[]
[null,"Petunjuk Pengisian :"]
[null,null,1,"Asesmen Sumatif dilaksanakan tiap akhir lingkup materi dan/atau akhir semester."]
[null,null,2,"Asesmen Sumatif Akhir Semester tidak wajib untuk dilakukan, kewenangan diserahkan pada sekolah."]
[null,null,3,"Isilah dengan nilai kuantitatif sejumlah asesmen sumatif yang sudah dilakukan (tidak harus diisi semua)"]
[null,null,4,"Bentuk asesmen sumatif tidak hanya tes tulis saja bisa beragam (proyek, unjuk kerja, observasi, dll.)"]
[]
[null,null,"No","Nama Siswa","Sumatif Akhir Lingkup Materi (Wajib)",null,null,null,null,null,null,null,null,null,null,"Sumatif Akhir         Semester (Tidak Wajib)",null,null,"Nilai Rapor"]
[null,null,null,null,"Sumatif     1","Sumatif 2","Sumatif 3","Sumatif 4","Sumatif 5","Sumatif 6","Sumatif 7","Sumatif 8","Sumatif 9","Sumatif 10","NA Sumatif Lingkup Materi"]
[null,null,null,null,{"$f":"'LM 11'!D8","v":"A"},{"$f":"'LM 11'!D9","v":"B"},{"$f":"'LM 11'!D10","v":"C"},{"$f":"'LM 11'!D11","v":"D"},{"$f":"'LM 11'!D12","v":"E"},{"$f":"'LM 11'!D13","v":"F"},{"$f":"'LM 11'!D14","v":"G"},{"$f":"'LM 11'!D15","v":"H"},{"$f":"'LM 11'!D16","v":"I"},{"$f":"'LM 11'!D17","v":"J"},null,"Non Tes","Tes","NA Sumatif Akhir Semester"]
[null,null,1,{"$f":"'DATA SISWA'!F10","v":0},null,null,null,null,null,null,null,null,null,null,{"$f":"IFERROR(AVERAGE(E16:N16),\"-\")","v":"-"},null,null,{"$f":"IFERROR(AVERAGE(P16:Q16),\"-\")","v":"-"},{"$f":"IFERROR(AVERAGE(O16,R16),\"-\")","v":"-"}]
[null,null,2,{"$f":"'DATA SISWA'!F11","v":0},null,null,null,null,null,null,null,null,null,null,{"$f":"IFERROR(AVERAGE(E17:N17),\"-\")","v":"-"},null,null,{"$f":"IFERROR(AVERAGE(P17:Q17),\"-\")","v":"-"},{"$f":"IFERROR(AVERAGE(O17,R17),\"-\")","v":"-"}]
[null,null,3,{"$f":"'DATA SISWA'!F12","v":0},null,null,null,null,null,null,null,null,null,null,"-",null,null,"-","-"]
[null,null,4,{"$f":"'DATA SISWA'!F13","v":0},null,null,null,null,null,null,null,null,null,null,"-",null,null,"-","-"]
[null,null,5,{"$f":"'DATA SISWA'!F14","v":0},null,null,null,null,null,null,null,null,null,null,"-",null,null,"-","-"]
[null,null,6,{"$f":"'DATA SISWA'!F15","v":0},null,null,null,null,null,null,null,null,null,null,"-",null,null,"-","-"]
[null,null,7,{"$f":"'DATA SISWA'!F16","v":0},null,null,null,null,null,null,null,null,null,null,"-",null,null,"-","-"]
[null,null,8,{"$f":"'DATA SISWA'!F17","v":0},null,null,null,null,null,null,null,null,null,null,"-",null,null,"-","-"]
[null,null,9,{"$f":"'DATA SISWA'!F18","v":0},null,null,null,null,null,null,null,null,null,null,"-",null,null,"-","-"]
[null,null,10,{"$f":"'DATA SISWA'!F19","v":0},null,null,null,null,null,null,null,null,null,null,"-",null,null,"-","-"]
[null,null,11,{"$f":"'DATA SISWA'!F20","v":0},null,null,null,null,null,null,null,null,null,null,"-",null,null,"-","-"]
[null,null,12,{"$f":"'DATA SISWA'!F21","v":0},null,null,null,null,null,null,null,null,null,null,"-",null,null,"-","-"]
[null,null,13,{"$f":"'DATA SISWA'!F22","v":0},null,null,null,null,null,null,null,null,null,null,"-",null,null,"-","-"]
[null,null,14,{"$f":"'DATA SISWA'!F23","v":0},null,null,null,null,null,null,null,null,null,null,"-",null,null,"-","-"]
[null,null,15,{"$f":"'DATA SISWA'!F24","v":0},null,null,null,null,null,null,null,null,null,null,"-",null,null,"-","-"]
[null,null,16,{"$f":"'DATA SISWA'!F25","v":0},null,null,null,null,null,null,null,null,null,null,"-",null,null,"-","-"]
[null,null,17,{"$f":"'DATA SISWA'!F26","v":0},null,null,null,null,null,null,null,null,null,null,"-",null,null,"-","-"]
[null,null,18,{"$f":"'DATA SISWA'!F27","v":0},null,null,null,null,null,null,null,null,null,null,"-",null,null,"-","-"]
[null,null,19,{"$f":"'DATA SISWA'!F28","v":0},null,null,null,null,null,null,null,null,null,null,"-",null,null,"-","-"]
[null,null,20,{"$f":"'DATA SISWA'!F29","v":0},null,null,null,null,null,null,null,null,null,null,"-",null,null,"-","-"]
[null,null,21,{"$f":"'DATA SISWA'!F30","v":0},null,null,null,null,null,null,null,null,null,null,"-",null,null,"-","-"]
[null,null,22,{"$f":"'DATA SISWA'!F31","v":0},null,null,null,null,null,null,null,null,null,null,"-",null,null,"-","-"]
[null,null,23,{"$f":"'DATA SISWA'!F32","v":0},null,null,null,null,null,null,null,null,null,null,"-",null,null,"-","-"]
[null,null,24,{"$f":"'DATA SISWA'!F33","v":0},null,null,null,null,null,null,null,null,null,null,"-",null,null,"-","-"]
[null,null,25,{"$f":"'DATA SISWA'!F34","v":0},null,null,null,null,null,null,null,null,null,null,"-",null,null,"-","-"]
[null,null,26,{"$f":"'DATA SISWA'!F35","v":0},null,null,null,null,null,null,null,null,null,null,"-",null,null,"-","-"]
[null,null,27,{"$f":"'DATA SISWA'!F36","v":0},null,null,null,null,null,null,null,null,null,null,"-",null,null,"-","-"]
[null,null,28,{"$f":"'DATA SISWA'!F37","v":0},null,null,null,null,null,null,null,null,null,null,"-",null,null,"-","-"]
[null,null,29,{"$f":"'DATA SISWA'!F38","v":0},null,null,null,null,null,null,null,null,null,null,"-",null,null,"-","-"]
[null,null,30,{"$f":"'DATA SISWA'!F39","v":0},null,null,null,null,null,null,null,null,null,null,"-",null,null,"-","-"]
[null,null,31,{"$f":"'DATA SISWA'!F40","v":0},null,null,null,null,null,null,null,null,null,null,"-",null,null,"-","-"]
[null,null,32,{"$f":"'DATA SISWA'!F41","v":0},null,null,null,null,null,null,null,null,null,null,"-",null,null,"-","-"]
[null,null,33,{"$f":"'DATA SISWA'!F42","v":0},null,null,null,null,null,null,null,null,null,null,"-",null,null,"-","-"]
[null,null,34,{"$f":"'DATA SISWA'!F43","v":0},null,null,null,null,null,null,null,null,null,null,"-",null,null,"-","-"]
[null,null,35,{"$f":"'DATA SISWA'!F44","v":0},null,null,null,null,null,null,null,null,null,null,"-",null,null,"-","-"]
[null,null,36,{"$f":"'DATA SISWA'!F45","v":0},null,null,null,null,null,null,null,null,null,null,"-",null,null,"-","-"]
[null,null,37,{"$f":"'DATA SISWA'!F46","v":0},null,null,null,null,null,null,null,null,null,null,"-",null,null,"-","-"]
[null,null,38,{"$f":"'DATA SISWA'!F47","v":0},null,null,null,null,null,null,null,null,null,null,"-",null,null,"-","-"]
[null,null,39,{"$f":"'DATA SISWA'!F48","v":0},null,null,null,null,null,null,null,null,null,null,"-",null,null,"-","-"]
[null,null,40,{"$f":"'DATA SISWA'!F49","v":0},null,null,null,null,null,null,null,null,null,null,"-",null,null,"-","-"]

{"sheet":"S12","index":61,"n_rows":55,"n_cols":19,"rows_kept":55,"cut":false,"hidden":false,"merged":[[2,1,2,19],[4,1,4,19],[12,2,14,2],[12,3,14,3],[12,4,12,14],[12,15,13,17],[12,18,14,18],[13,14,14,14]]}
[]
[]
[null,"ASESMEN SUMATIF"]
[]
[null,{"$f":"\"MATA PELAJARAN \"&INTRAKURIKULER!D20","v":"MATA PELAJARAN "}]
[]
[null,"Petunjuk Pengisian :"]
[null,null,1,"Asesmen Sumatif dilaksanakan tiap akhir lingkup materi dan/atau akhir semester."]
[null,null,2,"Asesmen Sumatif Akhir Semester tidak wajib untuk dilakukan, kewenangan diserahkan pada sekolah."]
[null,null,3,"Isilah dengan nilai kuantitatif sejumlah asesmen sumatif yang sudah dilakukan (tidak harus diisi semua)"]
[null,null,4,"Bentuk asesmen sumatif tidak hanya tes tulis saja bisa beragam (proyek, unjuk kerja, observasi, dll.)"]
[]
[null,null,"No","Nama Siswa","Sumatif Akhir Lingkup Materi (Wajib)",null,null,null,null,null,null,null,null,null,null,"Sumatif Akhir         Semester (Tidak Wajib)",null,null,"Nilai Rapor"]
[null,null,null,null,"Sumatif     1","Sumatif 2","Sumatif 3","Sumatif 4","Sumatif 5","Sumatif 6","Sumatif 7","Sumatif 8","Sumatif 9","Sumatif 10","NA Sumatif Lingkup Materi"]
[null,null,null,null,{"$f":"'LM 12'!D8","v":"A"},{"$f":"'LM 12'!D9","v":"B"},{"$f":"'LM 12'!D10","v":"C"},{"$f":"'LM 12'!D11","v":"D"},{"$f":"'LM 12'!D12","v":"E"},{"$f":"'LM 12'!D13","v":"F"},{"$f":"'LM 12'!D14","v":"G"},{"$f":"'LM 12'!D15","v":"H"},{"$f":"'LM 12'!D16","v":"I"},{"$f":"'LM 12'!D17","v":"J"},null,"Non Tes","Tes","NA Sumatif Akhir Semester"]
[null,null,1,{"$f":"'DATA SISWA'!F10","v":0},null,null,null,null,null,null,null,null,null,null,{"$f":"IFERROR(AVERAGE(E16:N16),\"-\")","v":"-"},null,null,{"$f":"IFERROR(AVERAGE(P16:Q16),\"-\")","v":"-"},{"$f":"IFERROR(AVERAGE(O16,R16),\"-\")","v":"-"}]
[null,null,2,{"$f":"'DATA SISWA'!F11","v":0},null,null,null,null,null,null,null,null,null,null,{"$f":"IFERROR(AVERAGE(E17:N17),\"-\")","v":"-"},null,null,{"$f":"IFERROR(AVERAGE(P17:Q17),\"-\")","v":"-"},{"$f":"IFERROR(AVERAGE(O17,R17),\"-\")","v":"-"}]
[null,null,3,{"$f":"'DATA SISWA'!F12","v":0},null,null,null,null,null,null,null,null,null,null,"-",null,null,"-","-"]
[null,null,4,{"$f":"'DATA SISWA'!F13","v":0},null,null,null,null,null,null,null,null,null,null,"-",null,null,"-","-"]
[null,null,5,{"$f":"'DATA SISWA'!F14","v":0},null,null,null,null,null,null,null,null,null,null,"-",null,null,"-","-"]
[null,null,6,{"$f":"'DATA SISWA'!F15","v":0},null,null,null,null,null,null,null,null,null,null,"-",null,null,"-","-"]
[null,null,7,{"$f":"'DATA SISWA'!F16","v":0},null,null,null,null,null,null,null,null,null,null,"-",null,null,"-","-"]
[null,null,8,{"$f":"'DATA SISWA'!F17","v":0},null,null,null,null,null,null,null,null,null,null,"-",null,null,"-","-"]
[null,null,9,{"$f":"'DATA SISWA'!F18","v":0},null,null,null,null,null,null,null,null,null,null,"-",null,null,"-","-"]
[null,null,10,{"$f":"'DATA SISWA'!F19","v":0},null,null,null,null,null,null,null,null,null,null,"-",null,null,"-","-"]
[null,null,11,{"$f":"'DATA SISWA'!F20","v":0},null,null,null,null,null,null,null,null,null,null,"-",null,null,"-","-"]
[null,null,12,{"$f":"'DATA SISWA'!F21","v":0},null,null,null,null,null,null,null,null,null,null,"-",null,null,"-","-"]
[null,null,13,{"$f":"'DATA SISWA'!F22","v":0},null,null,null,null,null,null,null,null,null,null,"-",null,null,"-","-"]
[null,null,14,{"$f":"'DATA SISWA'!F23","v":0},null,null,null,null,null,null,null,null,null,null,"-",null,null,"-","-"]
[null,null,15,{"$f":"'DATA SISWA'!F24","v":0},null,null,null,null,null,null,null,null,null,null,"-",null,null,"-","-"]
[null,null,16,{"$f":"'DATA SISWA'!F25","v":0},null,null,null,null,null,null,null,null,null,null,"-",null,null,"-","-"]
[null,null,17,{"$f":"'DATA SISWA'!F26","v":0},null,null,null,null,null,null,null,null,null,null,"-",null,null,"-","-"]
[null,null,18,{"$f":"'DATA SISWA'!F27","v":0},null,null,null,null,null,null,null,null,null,null,"-",null,null,"-","-"]
[null,null,19,{"$f":"'DATA SISWA'!F28","v":0},null,null,null,null,null,null,null,null,null,null,"-",null,null,"-","-"]
[null,null,20,{"$f":"'DATA SISWA'!F29","v":0},null,null,null,null,null,null,null,null,null,null,"-",null,null,"-","-"]
[null,null,21,{"$f":"'DATA SISWA'!F30","v":0},null,null,null,null,null,null,null,null,null,null,"-",null,null,"-","-"]
[null,null,22,{"$f":"'DATA SISWA'!F31","v":0},null,null,null,null,null,null,null,null,null,null,"-",null,null,"-","-"]
[null,null,23,{"$f":"'DATA SISWA'!F32","v":0},null,null,null,null,null,null,null,null,null,null,"-",null,null,"-","-"]
[null,null,24,{"$f":"'DATA SISWA'!F33","v":0},null,null,null,null,null,null,null,null,null,null,"-",null,null,"-","-"]
[null,null,25,{"$f":"'DATA SISWA'!F34","v":0},null,null,null,null,null,null,null,null,null,null,"-",null,null,"-","-"]
[null,null,26,{"$f":"'DATA SISWA'!F35","v":0},null,null,null,null,null,null,null,null,null,null,"-",null,null,"-","-"]
[null,null,27,{"$f":"'DATA SISWA'!F36","v":0},null,null,null,null,null,null,null,null,null,null,"-",null,null,"-","-"]
[null,null,28,{"$f":"'DATA SISWA'!F37","v":0},null,null,null,null,null,null,null,null,null,null,"-",null,null,"-","-"]
[null,null,29,{"$f":"'DATA SISWA'!F38","v":0},null,null,null,null,null,null,null,null,null,null,"-",null,null,"-","-"]
[null,null,30,{"$f":"'DATA SISWA'!F39","v":0},null,null,null,null,null,null,null,null,null,null,"-",null,null,"-","-"]
[null,null,31,{"$f":"'DATA SISWA'!F40","v":0},null,null,null,null,null,null,null,null,null,null,"-",null,null,"-","-"]
[null,null,32,{"$f":"'DATA SISWA'!F41","v":0},null,null,null,null,null,null,null,null,null,null,"-",null,null,"-","-"]
[null,null,33,{"$f":"'DATA SISWA'!F42","v":0},null,null,null,null,null,null,null,null,null,null,"-",null,null,"-","-"]
[null,null,34,{"$f":"'DATA SISWA'!F43","v":0},null,null,null,null,null,null,null,null,null,null,"-",null,null,"-","-"]
[null,null,35,{"$f":"'DATA SISWA'!F44","v":0},null,null,null,null,null,null,null,null,null,null,"-",null,null,"-","-"]
[null,null,36,{"$f":"'DATA SISWA'!F45","v":0},null,null,null,null,null,null,null,null,null,null,"-",null,null,"-","-"]
[null,null,37,{"$f":"'DATA SISWA'!F46","v":0},null,null,null,null,null,null,null,null,null,null,"-",null,null,"-","-"]
[null,null,38,{"$f":"'DATA SISWA'!F47","v":0},null,null,null,null,null,null,null,null,null,null,"-",null,null,"-","-"]
[null,null,39,{"$f":"'DATA SISWA'!F48","v":0},null,null,null,null,null,null,null,null,null,null,"-",null,null,"-","-"]
[null,null,40,{"$f":"'DATA SISWA'!F49","v":0},null,null,null,null,null,null,null,null,null,null,"-",null,null,"-","-"]

{"sheet":"S13","index":62,"n_rows":55,"n_cols":19,"rows_kept":55,"cut":false,"hidden":false,"merged":[[2,1,2,19],[4,1,4,19],[12,2,14,2],[12,3,14,3],[12,4,12,14],[12,15,13,17],[12,18,14,18],[13,14,14,14]]}
[]
[]
[null,"ASESMEN SUMATIF"]
[]
[null,{"$f":"\"MATA PELAJARAN \"&INTRAKURIKULER!D21","v":"MATA PELAJARAN "}]
[]
[null,"Petunjuk Pengisian :"]
[null,null,1,"Asesmen Sumatif dilaksanakan tiap akhir lingkup materi dan/atau akhir semester."]
[null,null,2,"Asesmen Sumatif Akhir Semester tidak wajib untuk dilakukan, kewenangan diserahkan pada sekolah."]
[null,null,3,"Isilah dengan nilai kuantitatif sejumlah asesmen sumatif yang sudah dilakukan (tidak harus diisi semua)"]
[null,null,4,"Bentuk asesmen sumatif tidak hanya tes tulis saja bisa beragam (proyek, unjuk kerja, observasi, dll.)"]
[]
[null,null,"No","Nama Siswa","Sumatif Akhir Lingkup Materi (Wajib)",null,null,null,null,null,null,null,null,null,null,"Sumatif Akhir         Semester (Tidak Wajib)",null,null,"Nilai Rapor"]
[null,null,null,null,"Sumatif     1","Sumatif 2","Sumatif 3","Sumatif 4","Sumatif 5","Sumatif 6","Sumatif 7","Sumatif 8","Sumatif 9","Sumatif 10","NA Sumatif Lingkup Materi"]
[null,null,null,null,{"$f":"'LM 13'!D8","v":"A"},{"$f":"'LM 13'!D9","v":"B"},{"$f":"'LM 13'!D10","v":"C"},{"$f":"'LM 13'!D11","v":"D"},{"$f":"'LM 13'!D12","v":"E"},{"$f":"'LM 13'!D13","v":"F"},{"$f":"'LM 13'!D14","v":"G"},{"$f":"'LM 13'!D15","v":"H"},{"$f":"'LM 13'!D16","v":"I"},{"$f":"'LM 13'!D17","v":"J"},null,"Non Tes","Tes","NA Sumatif Akhir Semester"]
[null,null,1,{"$f":"'DATA SISWA'!F10","v":0},null,null,null,null,null,null,null,null,null,null,{"$f":"IFERROR(AVERAGE(E16:N16),\"-\")","v":"-"},null,null,{"$f":"IFERROR(AVERAGE(P16:Q16),\"-\")","v":"-"},{"$f":"IFERROR(AVERAGE(O16,R16),\"-\")","v":"-"}]
[null,null,2,{"$f":"'DATA SISWA'!F11","v":0},null,null,null,null,null,null,null,null,null,null,{"$f":"IFERROR(AVERAGE(E17:N17),\"-\")","v":"-"},null,null,{"$f":"IFERROR(AVERAGE(P17:Q17),\"-\")","v":"-"},{"$f":"IFERROR(AVERAGE(O17,R17),\"-\")","v":"-"}]
[null,null,3,{"$f":"'DATA SISWA'!F12","v":0},null,null,null,null,null,null,null,null,null,null,"-",null,null,"-","-"]
[null,null,4,{"$f":"'DATA SISWA'!F13","v":0},null,null,null,null,null,null,null,null,null,null,"-",null,null,"-","-"]
[null,null,5,{"$f":"'DATA SISWA'!F14","v":0},null,null,null,null,null,null,null,null,null,null,"-",null,null,"-","-"]
[null,null,6,{"$f":"'DATA SISWA'!F15","v":0},null,null,null,null,null,null,null,null,null,null,"-",null,null,"-","-"]
[null,null,7,{"$f":"'DATA SISWA'!F16","v":0},null,null,null,null,null,null,null,null,null,null,"-",null,null,"-","-"]
[null,null,8,{"$f":"'DATA SISWA'!F17","v":0},null,null,null,null,null,null,null,null,null,null,"-",null,null,"-","-"]
[null,null,9,{"$f":"'DATA SISWA'!F18","v":0},null,null,null,null,null,null,null,null,null,null,"-",null,null,"-","-"]
[null,null,10,{"$f":"'DATA SISWA'!F19","v":0},null,null,null,null,null,null,null,null,null,null,"-",null,null,"-","-"]
[null,null,11,{"$f":"'DATA SISWA'!F20","v":0},null,null,null,null,null,null,null,null,null,null,"-",null,null,"-","-"]
[null,null,12,{"$f":"'DATA SISWA'!F21","v":0},null,null,null,null,null,null,null,null,null,null,"-",null,null,"-","-"]
[null,null,13,{"$f":"'DATA SISWA'!F22","v":0},null,null,null,null,null,null,null,null,null,null,"-",null,null,"-","-"]
[null,null,14,{"$f":"'DATA SISWA'!F23","v":0},null,null,null,null,null,null,null,null,null,null,"-",null,null,"-","-"]
[null,null,15,{"$f":"'DATA SISWA'!F24","v":0},null,null,null,null,null,null,null,null,null,null,"-",null,null,"-","-"]
[null,null,16,{"$f":"'DATA SISWA'!F25","v":0},null,null,null,null,null,null,null,null,null,null,"-",null,null,"-","-"]
[null,null,17,{"$f":"'DATA SISWA'!F26","v":0},null,null,null,null,null,null,null,null,null,null,"-",null,null,"-","-"]
[null,null,18,{"$f":"'DATA SISWA'!F27","v":0},null,null,null,null,null,null,null,null,null,null,"-",null,null,"-","-"]
[null,null,19,{"$f":"'DATA SISWA'!F28","v":0},null,null,null,null,null,null,null,null,null,null,"-",null,null,"-","-"]
[null,null,20,{"$f":"'DATA SISWA'!F29","v":0},null,null,null,null,null,null,null,null,null,null,"-",null,null,"-","-"]
[null,null,21,{"$f":"'DATA SISWA'!F30","v":0},null,null,null,null,null,null,null,null,null,null,"-",null,null,"-","-"]
[null,null,22,{"$f":"'DATA SISWA'!F31","v":0},null,null,null,null,null,null,null,null,null,null,"-",null,null,"-","-"]
[null,null,23,{"$f":"'DATA SISWA'!F32","v":0},null,null,null,null,null,null,null,null,null,null,"-",null,null,"-","-"]
[null,null,24,{"$f":"'DATA SISWA'!F33","v":0},null,null,null,null,null,null,null,null,null,null,"-",null,null,"-","-"]
[null,null,25,{"$f":"'DATA SISWA'!F34","v":0},null,null,null,null,null,null,null,null,null,null,"-",null,null,"-","-"]
[null,null,26,{"$f":"'DATA SISWA'!F35","v":0},null,null,null,null,null,null,null,null,null,null,"-",null,null,"-","-"]
[null,null,27,{"$f":"'DATA SISWA'!F36","v":0},null,null,null,null,null,null,null,null,null,null,"-",null,null,"-","-"]
[null,null,28,{"$f":"'DATA SISWA'!F37","v":0},null,null,null,null,null,null,null,null,null,null,"-",null,null,"-","-"]
[null,null,29,{"$f":"'DATA SISWA'!F38","v":0},null,null,null,null,null,null,null,null,null,null,"-",null,null,"-","-"]
[null,null,30,{"$f":"'DATA SISWA'!F39","v":0},null,null,null,null,null,null,null,null,null,null,"-",null,null,"-","-"]
[null,null,31,{"$f":"'DATA SISWA'!F40","v":0},null,null,null,null,null,null,null,null,null,null,"-",null,null,"-","-"]
[null,null,32,{"$f":"'DATA SISWA'!F41","v":0},null,null,null,null,null,null,null,null,null,null,"-",null,null,"-","-"]
[null,null,33,{"$f":"'DATA SISWA'!F42","v":0},null,null,null,null,null,null,null,null,null,null,"-",null,null,"-","-"]
[null,null,34,{"$f":"'DATA SISWA'!F43","v":0},null,null,null,null,null,null,null,null,null,null,"-",null,null,"-","-"]
[null,null,35,{"$f":"'DATA SISWA'!F44","v":0},null,null,null,null,null,null,null,null,null,null,"-",null,null,"-","-"]
[null,null,36,{"$f":"'DATA SISWA'!F45","v":0},null,null,null,null,null,null,null,null,null,null,"-",null,null,"-","-"]
[null,null,37,{"$f":"'DATA SISWA'!F46","v":0},null,null,null,null,null,null,null,null,null,null,"-",null,null,"-","-"]
[null,null,38,{"$f":"'DATA SISWA'!F47","v":0},null,null,null,null,null,null,null,null,null,null,"-",null,null,"-","-"]
[null,null,39,{"$f":"'DATA SISWA'!F48","v":0},null,null,null,null,null,null,null,null,null,null,"-",null,null,"-","-"]
[null,null,40,{"$f":"'DATA SISWA'!F49","v":0},null,null,null,null,null,null,null,null,null,null,"-",null,null,"-","-"]

{"sheet":"S14","index":63,"n_rows":55,"n_cols":19,"rows_kept":55,"cut":false,"hidden":false,"merged":[[2,1,2,19],[4,1,4,19],[12,2,14,2],[12,3,14,3],[12,4,12,14],[12,15,13,17],[12,18,14,18],[13,14,14,14]]}
[]
[]
[null,"ASESMEN SUMATIF"]
[]
[null,{"$f":"\"MATA PELAJARAN \"&INTRAKURIKULER!D22","v":"MATA PELAJARAN "}]
[]
[null,"Petunjuk Pengisian :"]
[null,null,1,"Asesmen Sumatif dilaksanakan tiap akhir lingkup materi dan/atau akhir semester."]
[null,null,2,"Asesmen Sumatif Akhir Semester tidak wajib untuk dilakukan, kewenangan diserahkan pada sekolah."]
[null,null,3,"Isilah dengan nilai kuantitatif sejumlah asesmen sumatif yang sudah dilakukan (tidak harus diisi semua)"]
[null,null,4,"Bentuk asesmen sumatif tidak hanya tes tulis saja bisa beragam (proyek, unjuk kerja, observasi, dll.)"]
[]
[null,null,"No","Nama Siswa","Sumatif Akhir Lingkup Materi (Wajib)",null,null,null,null,null,null,null,null,null,null,"Sumatif Akhir         Semester (Tidak Wajib)",null,null,"Nilai Rapor"]
[null,null,null,null,"Sumatif     1","Sumatif 2","Sumatif 3","Sumatif 4","Sumatif 5","Sumatif 6","Sumatif 7","Sumatif 8","Sumatif 9","Sumatif 10","NA Sumatif Lingkup Materi"]
[null,null,null,null,{"$f":"'LM 14'!D8","v":"A"},{"$f":"'LM 14'!D9","v":"B"},{"$f":"'LM 14'!D10","v":"C"},{"$f":"'LM 14'!D11","v":"D"},{"$f":"'LM 14'!D12","v":"E"},{"$f":"'LM 14'!D13","v":"F"},{"$f":"'LM 14'!D14","v":"G"},{"$f":"'LM 14'!D15","v":"H"},{"$f":"'LM 14'!D16","v":"I"},{"$f":"'LM 14'!D17","v":"J"},null,"Non Tes","Tes","NA Sumatif Akhir Semester"]
[null,null,1,{"$f":"'DATA SISWA'!F10","v":0},null,null,null,null,null,null,null,null,null,null,{"$f":"IFERROR(AVERAGE(E16:N16),\"-\")","v":"-"},null,null,{"$f":"IFERROR(AVERAGE(P16:Q16),\"-\")","v":"-"},{"$f":"IFERROR(AVERAGE(O16,R16),\"-\")","v":"-"}]
[null,null,2,{"$f":"'DATA SISWA'!F11","v":0},null,null,null,null,null,null,null,null,null,null,{"$f":"IFERROR(AVERAGE(E17:N17),\"-\")","v":"-"},null,null,{"$f":"IFERROR(AVERAGE(P17:Q17),\"-\")","v":"-"},{"$f":"IFERROR(AVERAGE(O17,R17),\"-\")","v":"-"}]
[null,null,3,{"$f":"'DATA SISWA'!F12","v":0},null,null,null,null,null,null,null,null,null,null,"-",null,null,"-","-"]
[null,null,4,{"$f":"'DATA SISWA'!F13","v":0},null,null,null,null,null,null,null,null,null,null,"-",null,null,"-","-"]
[null,null,5,{"$f":"'DATA SISWA'!F14","v":0},null,null,null,null,null,null,null,null,null,null,"-",null,null,"-","-"]
[null,null,6,{"$f":"'DATA SISWA'!F15","v":0},null,null,null,null,null,null,null,null,null,null,"-",null,null,"-","-"]
[null,null,7,{"$f":"'DATA SISWA'!F16","v":0},null,null,null,null,null,null,null,null,null,null,"-",null,null,"-","-"]
[null,null,8,{"$f":"'DATA SISWA'!F17","v":0},null,null,null,null,null,null,null,null,null,null,"-",null,null,"-","-"]
[null,null,9,{"$f":"'DATA SISWA'!F18","v":0},null,null,null,null,null,null,null,null,null,null,"-",null,null,"-","-"]
[null,null,10,{"$f":"'DATA SISWA'!F19","v":0},null,null,null,null,null,null,null,null,null,null,"-",null,null,"-","-"]
[null,null,11,{"$f":"'DATA SISWA'!F20","v":0},null,null,null,null,null,null,null,null,null,null,"-",null,null,"-","-"]
[null,null,12,{"$f":"'DATA SISWA'!F21","v":0},null,null,null,null,null,null,null,null,null,null,"-",null,null,"-","-"]
[null,null,13,{"$f":"'DATA SISWA'!F22","v":0},null,null,null,null,null,null,null,null,null,null,"-",null,null,"-","-"]
[null,null,14,{"$f":"'DATA SISWA'!F23","v":0},null,null,null,null,null,null,null,null,null,null,"-",null,null,"-","-"]
[null,null,15,{"$f":"'DATA SISWA'!F24","v":0},null,null,null,null,null,null,null,null,null,null,"-",null,null,"-","-"]
[null,null,16,{"$f":"'DATA SISWA'!F25","v":0},null,null,null,null,null,null,null,null,null,null,"-",null,null,"-","-"]
[null,null,17,{"$f":"'DATA SISWA'!F26","v":0},null,null,null,null,null,null,null,null,null,null,"-",null,null,"-","-"]
[null,null,18,{"$f":"'DATA SISWA'!F27","v":0},null,null,null,null,null,null,null,null,null,null,"-",null,null,"-","-"]
[null,null,19,{"$f":"'DATA SISWA'!F28","v":0},null,null,null,null,null,null,null,null,null,null,"-",null,null,"-","-"]
[null,null,20,{"$f":"'DATA SISWA'!F29","v":0},null,null,null,null,null,null,null,null,null,null,"-",null,null,"-","-"]
[null,null,21,{"$f":"'DATA SISWA'!F30","v":0},null,null,null,null,null,null,null,null,null,null,"-",null,null,"-","-"]
[null,null,22,{"$f":"'DATA SISWA'!F31","v":0},null,null,null,null,null,null,null,null,null,null,"-",null,null,"-","-"]
[null,null,23,{"$f":"'DATA SISWA'!F32","v":0},null,null,null,null,null,null,null,null,null,null,"-",null,null,"-","-"]
[null,null,24,{"$f":"'DATA SISWA'!F33","v":0},null,null,null,null,null,null,null,null,null,null,"-",null,null,"-","-"]
[null,null,25,{"$f":"'DATA SISWA'!F34","v":0},null,null,null,null,null,null,null,null,null,null,"-",null,null,"-","-"]
[null,null,26,{"$f":"'DATA SISWA'!F35","v":0},null,null,null,null,null,null,null,null,null,null,"-",null,null,"-","-"]
[null,null,27,{"$f":"'DATA SISWA'!F36","v":0},null,null,null,null,null,null,null,null,null,null,"-",null,null,"-","-"]
[null,null,28,{"$f":"'DATA SISWA'!F37","v":0},null,null,null,null,null,null,null,null,null,null,"-",null,null,"-","-"]
[null,null,29,{"$f":"'DATA SISWA'!F38","v":0},null,null,null,null,null,null,null,null,null,null,"-",null,null,"-","-"]
[null,null,30,{"$f":"'DATA SISWA'!F39","v":0},null,null,null,null,null,null,null,null,null,null,"-",null,null,"-","-"]
[null,null,31,{"$f":"'DATA SISWA'!F40","v":0},null,null,null,null,null,null,null,null,null,null,"-",null,null,"-","-"]
[null,null,32,{"$f":"'DATA SISWA'!F41","v":0},null,null,null,null,null,null,null,null,null,null,"-",null,null,"-","-"]
[null,null,33,{"$f":"'DATA SISWA'!F42","v":0},null,null,null,null,null,null,null,null,null,null,"-",null,null,"-","-"]
[null,null,34,{"$f":"'DATA SISWA'!F43","v":0},null,null,null,null,null,null,null,null,null,null,"-",null,null,"-","-"]
[null,null,35,{"$f":"'DATA SISWA'!F44","v":0},null,null,null,null,null,null,null,null,null,null,"-",null,null,"-","-"]
[null,null,36,{"$f":"'DATA SISWA'!F45","v":0},null,null,null,null,null,null,null,null,null,null,"-",null,null,"-","-"]
[null,null,37,{"$f":"'DATA SISWA'!F46","v":0},null,null,null,null,null,null,null,null,null,null,"-",null,null,"-","-"]
[null,null,38,{"$f":"'DATA SISWA'!F47","v":0},null,null,null,null,null,null,null,null,null,null,"-",null,null,"-","-"]
[null,null,39,{"$f":"'DATA SISWA'!F48","v":0},null,null,null,null,null,null,null,null,null,null,"-",null,null,"-","-"]
[null,null,40,{"$f":"'DATA SISWA'!F49","v":0},null,null,null,null,null,null,null,null,null,null,"-",null,null,"-","-"]

{"sheet":"S15","index":64,"n_rows":55,"n_cols":19,"rows_kept":55,"cut":false,"hidden":false,"merged":[[2,1,2,19],[4,1,4,19],[12,2,14,2],[12,3,14,3],[12,4,12,14],[12,15,13,17],[12,18,14,18],[13,14,14,14]]}
[]
[]
[null,"ASESMEN SUMATIF"]
[]
[null,{"$f":"\"MATA PELAJARAN \"&INTRAKURIKULER!D23","v":"MATA PELAJARAN "}]
[]
[null,"Petunjuk Pengisian :"]
[null,null,1,"Asesmen Sumatif dilaksanakan tiap akhir lingkup materi dan/atau akhir semester."]
[null,null,2,"Asesmen Sumatif Akhir Semester tidak wajib untuk dilakukan, kewenangan diserahkan pada sekolah."]
[null,null,3,"Isilah dengan nilai kuantitatif sejumlah asesmen sumatif yang sudah dilakukan (tidak harus diisi semua)"]
[null,null,4,"Bentuk asesmen sumatif tidak hanya tes tulis saja bisa beragam (proyek, unjuk kerja, observasi, dll.)"]
[]
[null,null,"No","Nama Siswa","Sumatif Akhir Lingkup Materi (Wajib)",null,null,null,null,null,null,null,null,null,null,"Sumatif Akhir         Semester (Tidak Wajib)",null,null,"Nilai Rapor"]
[null,null,null,null,"Sumatif     1","Sumatif 2","Sumatif 3","Sumatif 4","Sumatif 5","Sumatif 6","Sumatif 7","Sumatif 8","Sumatif 9","Sumatif 10","NA Sumatif Lingkup Materi"]
[null,null,null,null,{"$f":"'LM 15'!D8","v":"A"},{"$f":"'LM 15'!D9","v":"B"},{"$f":"'LM 15'!D10","v":"C"},{"$f":"'LM 15'!D11","v":"D"},{"$f":"'LM 15'!D12","v":"E"},{"$f":"'LM 15'!D13","v":"F"},{"$f":"'LM 15'!D14","v":"G"},{"$f":"'LM 15'!D15","v":"H"},{"$f":"'LM 15'!D16","v":"I"},{"$f":"'LM 15'!D17","v":"J"},null,"Non Tes","Tes","NA Sumatif Akhir Semester"]
[null,null,1,{"$f":"'DATA SISWA'!F10","v":0},null,null,null,null,null,null,null,null,null,null,{"$f":"IFERROR(AVERAGE(E16:N16),\"-\")","v":"-"},null,null,{"$f":"IFERROR(AVERAGE(P16:Q16),\"-\")","v":"-"},{"$f":"IFERROR(AVERAGE(O16,R16),\"-\")","v":"-"}]
[null,null,2,{"$f":"'DATA SISWA'!F11","v":0},null,null,null,null,null,null,null,null,null,null,{"$f":"IFERROR(AVERAGE(E17:N17),\"-\")","v":"-"},null,null,{"$f":"IFERROR(AVERAGE(P17:Q17),\"-\")","v":"-"},{"$f":"IFERROR(AVERAGE(O17,R17),\"-\")","v":"-"}]
[null,null,3,{"$f":"'DATA SISWA'!F12","v":0},null,null,null,null,null,null,null,null,null,null,"-",null,null,"-","-"]
[null,null,4,{"$f":"'DATA SISWA'!F13","v":0},null,null,null,null,null,null,null,null,null,null,"-",null,null,"-","-"]
[null,null,5,{"$f":"'DATA SISWA'!F14","v":0},null,null,null,null,null,null,null,null,null,null,"-",null,null,"-","-"]
[null,null,6,{"$f":"'DATA SISWA'!F15","v":0},null,null,null,null,null,null,null,null,null,null,"-",null,null,"-","-"]
[null,null,7,{"$f":"'DATA SISWA'!F16","v":0},null,null,null,null,null,null,null,null,null,null,"-",null,null,"-","-"]
[null,null,8,{"$f":"'DATA SISWA'!F17","v":0},null,null,null,null,null,null,null,null,null,null,"-",null,null,"-","-"]
[null,null,9,{"$f":"'DATA SISWA'!F18","v":0},null,null,null,null,null,null,null,null,null,null,"-",null,null,"-","-"]
[null,null,10,{"$f":"'DATA SISWA'!F19","v":0},null,null,null,null,null,null,null,null,null,null,"-",null,null,"-","-"]
[null,null,11,{"$f":"'DATA SISWA'!F20","v":0},null,null,null,null,null,null,null,null,null,null,"-",null,null,"-","-"]
[null,null,12,{"$f":"'DATA SISWA'!F21","v":0},null,null,null,null,null,null,null,null,null,null,"-",null,null,"-","-"]
[null,null,13,{"$f":"'DATA SISWA'!F22","v":0},null,null,null,null,null,null,null,null,null,null,"-",null,null,"-","-"]
[null,null,14,{"$f":"'DATA SISWA'!F23","v":0},null,null,null,null,null,null,null,null,null,null,"-",null,null,"-","-"]
[null,null,15,{"$f":"'DATA SISWA'!F24","v":0},null,null,null,null,null,null,null,null,null,null,"-",null,null,"-","-"]
[null,null,16,{"$f":"'DATA SISWA'!F25","v":0},null,null,null,null,null,null,null,null,null,null,"-",null,null,"-","-"]
[null,null,17,{"$f":"'DATA SISWA'!F26","v":0},null,null,null,null,null,null,null,null,null,null,"-",null,null,"-","-"]
[null,null,18,{"$f":"'DATA SISWA'!F27","v":0},null,null,null,null,null,null,null,null,null,null,"-",null,null,"-","-"]
[null,null,19,{"$f":"'DATA SISWA'!F28","v":0},null,null,null,null,null,null,null,null,null,null,"-",null,null,"-","-"]
[null,null,20,{"$f":"'DATA SISWA'!F29","v":0},null,null,null,null,null,null,null,null,null,null,"-",null,null,"-","-"]
[null,null,21,{"$f":"'DATA SISWA'!F30","v":0},null,null,null,null,null,null,null,null,null,null,"-",null,null,"-","-"]
[null,null,22,{"$f":"'DATA SISWA'!F31","v":0},null,null,null,null,null,null,null,null,null,null,"-",null,null,"-","-"]
[null,null,23,{"$f":"'DATA SISWA'!F32","v":0},null,null,null,null,null,null,null,null,null,null,"-",null,null,"-","-"]
[null,null,24,{"$f":"'DATA SISWA'!F33","v":0},null,null,null,null,null,null,null,null,null,null,"-",null,null,"-","-"]
[null,null,25,{"$f":"'DATA SISWA'!F34","v":0},null,null,null,null,null,null,null,null,null,null,"-",null,null,"-","-"]
[null,null,26,{"$f":"'DATA SISWA'!F35","v":0},null,null,null,null,null,null,null,null,null,null,"-",null,null,"-","-"]
[null,null,27,{"$f":"'DATA SISWA'!F36","v":0},null,null,null,null,null,null,null,null,null,null,"-",null,null,"-","-"]
[null,null,28,{"$f":"'DATA SISWA'!F37","v":0},null,null,null,null,null,null,null,null,null,null,"-",null,null,"-","-"]
[null,null,29,{"$f":"'DATA SISWA'!F38","v":0},null,null,null,null,null,null,null,null,null,null,"-",null,null,"-","-"]
[null,null,30,{"$f":"'DATA SISWA'!F39","v":0},null,null,null,null,null,null,null,null,null,null,"-",null,null,"-","-"]
[null,null,31,{"$f":"'DATA SISWA'!F40","v":0},null,null,null,null,null,null,null,null,null,null,"-",null,null,"-","-"]
[null,null,32,{"$f":"'DATA SISWA'!F41","v":0},null,null,null,null,null,null,null,null,null,null,"-",null,null,"-","-"]
[null,null,33,{"$f":"'DATA SISWA'!F42","v":0},null,null,null,null,null,null,null,null,null,null,"-",null,null,"-","-"]
[null,null,34,{"$f":"'DATA SISWA'!F43","v":0},null,null,null,null,null,null,null,null,null,null,"-",null,null,"-","-"]
[null,null,35,{"$f":"'DATA SISWA'!F44","v":0},null,null,null,null,null,null,null,null,null,null,"-",null,null,"-","-"]
[null,null,36,{"$f":"'DATA SISWA'!F45","v":0},null,null,null,null,null,null,null,null,null,null,"-",null,null,"-","-"]
[null,null,37,{"$f":"'DATA SISWA'!F46","v":0},null,null,null,null,null,null,null,null,null,null,"-",null,null,"-","-"]
[null,null,38,{"$f":"'DATA SISWA'!F47","v":0},null,null,null,null,null,null,null,null,null,null,"-",null,null,"-","-"]
[null,null,39,{"$f":"'DATA SISWA'!F48","v":0},null,null,null,null,null,null,null,null,null,null,"-",null,null,"-","-"]
[null,null,40,{"$f":"'DATA SISWA'!F49","v":0},null,null,null,null,null,null,null,null,null,null,"-",null,null,"-","-"]

{"sheet":"NA","index":65,"n_rows":50,"n_cols":19,"rows_kept":50,"cut":false,"hidden":false,"merged":[[2,1,2,19],[47,2,47,3],[48,2,48,3],[49,2,49,3]]}
[]
[]
[null,"NILAI AKHIR ASESMEN SUMATIF"]
[]
[null,null,"Ini adalah rangkuman hasil penilaian asesmen sumatif akhir lingkup materi dan/atau sumatif akhir semester. Tidak perlu dilakukan perubahan apapun."]
[]
[null,null,"No","Nama",{"$f":"INTRAKURIKULER!D9","v":0},{"$f":"INTRAKURIKULER!D10","v":0},{"$f":"INTRAKURIKULER!D11","v":0},{"$f":"INTRAKURIKULER!D12","v":0},{"$f":"INTRAKURIKULER!D13","v":0},{"$f":"INTRAKURIKULER!D14","v":0},{"$f":"INTRAKURIKULER!D15","v":0},{"$f":"INTRAKURIKULER!D16","v":0},{"$f":"INTRAKURIKULER!D17","v":0},{"$f":"INTRAKURIKULER!D18","v":0},{"$f":"INTRAKURIKULER!D19","v":0},{"$f":"INTRAKURIKULER!D20","v":0},{"$f":"INTRAKURIKULER!D21","v":0},{"$f":"INTRAKURIKULER!D22","v":0},{"$f":"INTRAKURIKULER!D23","v":0}]
[null,null,1,{"$f":"'DATA SISWA'!F10","v":0},{"$f":"'S1'!S16","v":"-"},{"$f":"'S2'!S16","v":"-"},{"$f":"'S3'!S16","v":"-"},{"$f":"'S4'!S16","v":"-"},{"$f":"'S5'!S16","v":"-"},{"$f":"'S6'!S16","v":"-"},{"$f":"'S7'!S16","v":"-"},{"$f":"'S8'!S16","v":"-"},{"$f":"'S9'!S16","v":"-"},{"$f":"'S10'!S16","v":"-"},{"$f":"'S11'!S16","v":"-"},{"$f":"'S12'!S16","v":"-"},{"$f":"'S13'!S16","v":"-"},{"$f":"'S14'!S16","v":"-"},{"$f":"'S15'!S16","v":"-"}]
[null,null,2,{"$f":"'DATA SISWA'!F11","v":0},{"$f":"'S1'!S17","v":"-"},{"$f":"'S2'!S17","v":"-"},{"$f":"'S3'!S17","v":"-"},{"$f":"'S4'!S17","v":"-"},{"$f":"'S5'!S17","v":"-"},{"$f":"'S6'!S17","v":"-"},{"$f":"'S7'!S17","v":"-"},{"$f":"'S8'!S17","v":"-"},{"$f":"'S9'!S17","v":"-"},{"$f":"'S10'!S17","v":"-"},{"$f":"'S11'!S17","v":"-"},{"$f":"'S12'!S17","v":"-"},{"$f":"'S13'!S17","v":"-"},{"$f":"'S14'!S17","v":"-"},{"$f":"'S15'!S17","v":"-"}]
[null,null,3,{"$f":"'DATA SISWA'!F12","v":0},{"$f":"'S1'!S18","v":"-"},{"$f":"'S2'!S18","v":"-"},{"$f":"'S3'!S18","v":"-"},{"$f":"'S4'!S18","v":"-"},{"$f":"'S5'!S18","v":"-"},{"$f":"'S6'!S18","v":"-"},{"$f":"'S7'!S18","v":"-"},{"$f":"'S8'!S18","v":"-"},{"$f":"'S9'!S18","v":"-"},{"$f":"'S10'!S18","v":"-"},{"$f":"'S11'!S18","v":"-"},{"$f":"'S12'!S18","v":"-"},{"$f":"'S13'!S18","v":"-"},{"$f":"'S14'!S18","v":"-"},{"$f":"'S15'!S18","v":"-"}]
[null,null,4,{"$f":"'DATA SISWA'!F13","v":0},{"$f":"'S1'!S19","v":"-"},{"$f":"'S2'!S19","v":"-"},{"$f":"'S3'!S19","v":"-"},{"$f":"'S4'!S19","v":"-"},{"$f":"'S5'!S19","v":"-"},{"$f":"'S6'!S19","v":"-"},{"$f":"'S7'!S19","v":"-"},{"$f":"'S8'!S19","v":"-"},{"$f":"'S9'!S19","v":"-"},{"$f":"'S10'!S19","v":"-"},{"$f":"'S11'!S19","v":"-"},{"$f":"'S12'!S19","v":"-"},{"$f":"'S13'!S19","v":"-"},{"$f":"'S14'!S19","v":"-"},{"$f":"'S15'!S19","v":"-"}]
[null,null,5,{"$f":"'DATA SISWA'!F14","v":0},{"$f":"'S1'!S20","v":"-"},{"$f":"'S2'!S20","v":"-"},{"$f":"'S3'!S20","v":"-"},{"$f":"'S4'!S20","v":"-"},{"$f":"'S5'!S20","v":"-"},{"$f":"'S6'!S20","v":"-"},{"$f":"'S7'!S20","v":"-"},{"$f":"'S8'!S20","v":"-"},{"$f":"'S9'!S20","v":"-"},{"$f":"'S10'!S20","v":"-"},{"$f":"'S11'!S20","v":"-"},{"$f":"'S12'!S20","v":"-"},{"$f":"'S13'!S20","v":"-"},{"$f":"'S14'!S20","v":"-"},{"$f":"'S15'!S20","v":"-"}]
[null,null,6,{"$f":"'DATA SISWA'!F15","v":0},{"$f":"'S1'!S21","v":"-"},{"$f":"'S2'!S21","v":"-"},{"$f":"'S3'!S21","v":"-"},{"$f":"'S4'!S21","v":"-"},{"$f":"'S5'!S21","v":"-"},{"$f":"'S6'!S21","v":"-"},{"$f":"'S7'!S21","v":"-"},{"$f":"'S8'!S21","v":"-"},{"$f":"'S9'!S21","v":"-"},{"$f":"'S10'!S21","v":"-"},{"$f":"'S11'!S21","v":"-"},{"$f":"'S12'!S21","v":"-"},{"$f":"'S13'!S21","v":"-"},{"$f":"'S14'!S21","v":"-"},{"$f":"'S15'!S21","v":"-"}]
[null,null,7,{"$f":"'DATA SISWA'!F16","v":0},{"$f":"'S1'!S22","v":"-"},{"$f":"'S2'!S22","v":"-"},{"$f":"'S3'!S22","v":"-"},{"$f":"'S4'!S22","v":"-"},{"$f":"'S5'!S22","v":"-"},{"$f":"'S6'!S22","v":"-"},{"$f":"'S7'!S22","v":"-"},{"$f":"'S8'!S22","v":"-"},{"$f":"'S9'!S22","v":"-"},{"$f":"'S10'!S22","v":"-"},{"$f":"'S11'!S22","v":"-"},{"$f":"'S12'!S22","v":"-"},{"$f":"'S13'!S22","v":"-"},{"$f":"'S14'!S22","v":"-"},{"$f":"'S15'!S22","v":"-"}]
[null,null,8,{"$f":"'DATA SISWA'!F17","v":0},{"$f":"'S1'!S23","v":"-"},{"$f":"'S2'!S23","v":"-"},{"$f":"'S3'!S23","v":"-"},{"$f":"'S4'!S23","v":"-"},{"$f":"'S5'!S23","v":"-"},{"$f":"'S6'!S23","v":"-"},{"$f":"'S7'!S23","v":"-"},{"$f":"'S8'!S23","v":"-"},{"$f":"'S9'!S23","v":"-"},{"$f":"'S10'!S23","v":"-"},{"$f":"'S11'!S23","v":"-"},{"$f":"'S12'!S23","v":"-"},{"$f":"'S13'!S23","v":"-"},{"$f":"'S14'!S23","v":"-"},{"$f":"'S15'!S23","v":"-"}]
[null,null,9,{"$f":"'DATA SISWA'!F18","v":0},{"$f":"'S1'!S24","v":"-"},{"$f":"'S2'!S24","v":"-"},{"$f":"'S3'!S24","v":"-"},{"$f":"'S4'!S24","v":"-"},{"$f":"'S5'!S24","v":"-"},{"$f":"'S6'!S24","v":"-"},{"$f":"'S7'!S24","v":"-"},{"$f":"'S8'!S24","v":"-"},{"$f":"'S9'!S24","v":"-"},{"$f":"'S10'!S24","v":"-"},{"$f":"'S11'!S24","v":"-"},{"$f":"'S12'!S24","v":"-"},{"$f":"'S13'!S24","v":"-"},{"$f":"'S14'!S24","v":"-"},{"$f":"'S15'!S24","v":"-"}]
[null,null,10,{"$f":"'DATA SISWA'!F19","v":0},{"$f":"'S1'!S25","v":"-"},{"$f":"'S2'!S25","v":"-"},{"$f":"'S3'!S25","v":"-"},{"$f":"'S4'!S25","v":"-"},{"$f":"'S5'!S25","v":"-"},{"$f":"'S6'!S25","v":"-"},{"$f":"'S7'!S25","v":"-"},{"$f":"'S8'!S25","v":"-"},{"$f":"'S9'!S25","v":"-"},{"$f":"'S10'!S25","v":"-"},{"$f":"'S11'!S25","v":"-"},{"$f":"'S12'!S25","v":"-"},{"$f":"'S13'!S25","v":"-"},{"$f":"'S14'!S25","v":"-"},{"$f":"'S15'!S25","v":"-"}]
[null,null,11,{"$f":"'DATA SISWA'!F20","v":0},{"$f":"'S1'!S26","v":"-"},{"$f":"'S2'!S26","v":"-"},{"$f":"'S3'!S26","v":"-"},{"$f":"'S4'!S26","v":"-"},{"$f":"'S5'!S26","v":"-"},{"$f":"'S6'!S26","v":"-"},{"$f":"'S7'!S26","v":"-"},{"$f":"'S8'!S26","v":"-"},{"$f":"'S9'!S26","v":"-"},{"$f":"'S10'!S26","v":"-"},{"$f":"'S11'!S26","v":"-"},{"$f":"'S12'!S26","v":"-"},{"$f":"'S13'!S26","v":"-"},{"$f":"'S14'!S26","v":"-"},{"$f":"'S15'!S26","v":"-"}]
[null,null,12,{"$f":"'DATA SISWA'!F21","v":0},{"$f":"'S1'!S27","v":"-"},{"$f":"'S2'!S27","v":"-"},{"$f":"'S3'!S27","v":"-"},{"$f":"'S4'!S27","v":"-"},{"$f":"'S5'!S27","v":"-"},{"$f":"'S6'!S27","v":"-"},{"$f":"'S7'!S27","v":"-"},{"$f":"'S8'!S27","v":"-"},{"$f":"'S9'!S27","v":"-"},{"$f":"'S10'!S27","v":"-"},{"$f":"'S11'!S27","v":"-"},{"$f":"'S12'!S27","v":"-"},{"$f":"'S13'!S27","v":"-"},{"$f":"'S14'!S27","v":"-"},{"$f":"'S15'!S27","v":"-"}]
[null,null,13,{"$f":"'DATA SISWA'!F22","v":0},{"$f":"'S1'!S28","v":"-"},{"$f":"'S2'!S28","v":"-"},{"$f":"'S3'!S28","v":"-"},{"$f":"'S4'!S28","v":"-"},{"$f":"'S5'!S28","v":"-"},{"$f":"'S6'!S28","v":"-"},{"$f":"'S7'!S28","v":"-"},{"$f":"'S8'!S28","v":"-"},{"$f":"'S9'!S28","v":"-"},{"$f":"'S10'!S28","v":"-"},{"$f":"'S11'!S28","v":"-"},{"$f":"'S12'!S28","v":"-"},{"$f":"'S13'!S28","v":"-"},{"$f":"'S14'!S28","v":"-"},{"$f":"'S15'!S28","v":"-"}]
[null,null,14,{"$f":"'DATA SISWA'!F23","v":0},{"$f":"'S1'!S29","v":"-"},{"$f":"'S2'!S29","v":"-"},{"$f":"'S3'!S29","v":"-"},{"$f":"'S4'!S29","v":"-"},{"$f":"'S5'!S29","v":"-"},{"$f":"'S6'!S29","v":"-"},{"$f":"'S7'!S29","v":"-"},{"$f":"'S8'!S29","v":"-"},{"$f":"'S9'!S29","v":"-"},{"$f":"'S10'!S29","v":"-"},{"$f":"'S11'!S29","v":"-"},{"$f":"'S12'!S29","v":"-"},{"$f":"'S13'!S29","v":"-"},{"$f":"'S14'!S29","v":"-"},{"$f":"'S15'!S29","v":"-"}]
[null,null,15,{"$f":"'DATA SISWA'!F24","v":0},{"$f":"'S1'!S30","v":"-"},{"$f":"'S2'!S30","v":"-"},{"$f":"'S3'!S30","v":"-"},{"$f":"'S4'!S30","v":"-"},{"$f":"'S5'!S30","v":"-"},{"$f":"'S6'!S30","v":"-"},{"$f":"'S7'!S30","v":"-"},{"$f":"'S8'!S30","v":"-"},{"$f":"'S9'!S30","v":"-"},{"$f":"'S10'!S30","v":"-"},{"$f":"'S11'!S30","v":"-"},{"$f":"'S12'!S30","v":"-"},{"$f":"'S13'!S30","v":"-"},{"$f":"'S14'!S30","v":"-"},{"$f":"'S15'!S30","v":"-"}]
[null,null,16,{"$f":"'DATA SISWA'!F25","v":0},{"$f":"'S1'!S31","v":"-"},{"$f":"'S2'!S31","v":"-"},{"$f":"'S3'!S31","v":"-"},{"$f":"'S4'!S31","v":"-"},{"$f":"'S5'!S31","v":"-"},{"$f":"'S6'!S31","v":"-"},{"$f":"'S7'!S31","v":"-"},{"$f":"'S8'!S31","v":"-"},{"$f":"'S9'!S31","v":"-"},{"$f":"'S10'!S31","v":"-"},{"$f":"'S11'!S31","v":"-"},{"$f":"'S12'!S31","v":"-"},{"$f":"'S13'!S31","v":"-"},{"$f":"'S14'!S31","v":"-"},{"$f":"'S15'!S31","v":"-"}]
[null,null,17,{"$f":"'DATA SISWA'!F26","v":0},{"$f":"'S1'!S32","v":"-"},{"$f":"'S2'!S32","v":"-"},{"$f":"'S3'!S32","v":"-"},{"$f":"'S4'!S32","v":"-"},{"$f":"'S5'!S32","v":"-"},{"$f":"'S6'!S32","v":"-"},{"$f":"'S7'!S32","v":"-"},{"$f":"'S8'!S32","v":"-"},{"$f":"'S9'!S32","v":"-"},{"$f":"'S10'!S32","v":"-"},{"$f":"'S11'!S32","v":"-"},{"$f":"'S12'!S32","v":"-"},{"$f":"'S13'!S32","v":"-"},{"$f":"'S14'!S32","v":"-"},{"$f":"'S15'!S32","v":"-"}]
[null,null,18,{"$f":"'DATA SISWA'!F27","v":0},{"$f":"'S1'!S33","v":"-"},{"$f":"'S2'!S33","v":"-"},{"$f":"'S3'!S33","v":"-"},{"$f":"'S4'!S33","v":"-"},{"$f":"'S5'!S33","v":"-"},{"$f":"'S6'!S33","v":"-"},{"$f":"'S7'!S33","v":"-"},{"$f":"'S8'!S33","v":"-"},{"$f":"'S9'!S33","v":"-"},{"$f":"'S10'!S33","v":"-"},{"$f":"'S11'!S33","v":"-"},{"$f":"'S12'!S33","v":"-"},{"$f":"'S13'!S33","v":"-"},{"$f":"'S14'!S33","v":"-"},{"$f":"'S15'!S33","v":"-"}]
[null,null,19,{"$f":"'DATA SISWA'!F28","v":0},{"$f":"'S1'!S34","v":"-"},{"$f":"'S2'!S34","v":"-"},{"$f":"'S3'!S34","v":"-"},{"$f":"'S4'!S34","v":"-"},{"$f":"'S5'!S34","v":"-"},{"$f":"'S6'!S34","v":"-"},{"$f":"'S7'!S34","v":"-"},{"$f":"'S8'!S34","v":"-"},{"$f":"'S9'!S34","v":"-"},{"$f":"'S10'!S34","v":"-"},{"$f":"'S11'!S34","v":"-"},{"$f":"'S12'!S34","v":"-"},{"$f":"'S13'!S34","v":"-"},{"$f":"'S14'!S34","v":"-"},{"$f":"'S15'!S34","v":"-"}]
[null,null,20,{"$f":"'DATA SISWA'!F29","v":0},{"$f":"'S1'!S35","v":"-"},{"$f":"'S2'!S35","v":"-"},{"$f":"'S3'!S35","v":"-"},{"$f":"'S4'!S35","v":"-"},{"$f":"'S5'!S35","v":"-"},{"$f":"'S6'!S35","v":"-"},{"$f":"'S7'!S35","v":"-"},{"$f":"'S8'!S35","v":"-"},{"$f":"'S9'!S35","v":"-"},{"$f":"'S10'!S35","v":"-"},{"$f":"'S11'!S35","v":"-"},{"$f":"'S12'!S35","v":"-"},{"$f":"'S13'!S35","v":"-"},{"$f":"'S14'!S35","v":"-"},{"$f":"'S15'!S35","v":"-"}]
[null,null,21,{"$f":"'DATA SISWA'!F30","v":0},{"$f":"'S1'!S36","v":"-"},{"$f":"'S2'!S36","v":"-"},{"$f":"'S3'!S36","v":"-"},{"$f":"'S4'!S36","v":"-"},{"$f":"'S5'!S36","v":"-"},{"$f":"'S6'!S36","v":"-"},{"$f":"'S7'!S36","v":"-"},{"$f":"'S8'!S36","v":"-"},{"$f":"'S9'!S36","v":"-"},{"$f":"'S10'!S36","v":"-"},{"$f":"'S11'!S36","v":"-"},{"$f":"'S12'!S36","v":"-"},{"$f":"'S13'!S36","v":"-"},{"$f":"'S14'!S36","v":"-"},{"$f":"'S15'!S36","v":"-"}]
[null,null,22,{"$f":"'DATA SISWA'!F31","v":0},{"$f":"'S1'!S37","v":"-"},{"$f":"'S2'!S37","v":"-"},{"$f":"'S3'!S37","v":"-"},{"$f":"'S4'!S37","v":"-"},{"$f":"'S5'!S37","v":"-"},{"$f":"'S6'!S37","v":"-"},{"$f":"'S7'!S37","v":"-"},{"$f":"'S8'!S37","v":"-"},{"$f":"'S9'!S37","v":"-"},{"$f":"'S10'!S37","v":"-"},{"$f":"'S11'!S37","v":"-"},{"$f":"'S12'!S37","v":"-"},{"$f":"'S13'!S37","v":"-"},{"$f":"'S14'!S37","v":"-"},{"$f":"'S15'!S37","v":"-"}]
[null,null,23,{"$f":"'DATA SISWA'!F32","v":0},{"$f":"'S1'!S38","v":"-"},{"$f":"'S2'!S38","v":"-"},{"$f":"'S3'!S38","v":"-"},{"$f":"'S4'!S38","v":"-"},{"$f":"'S5'!S38","v":"-"},{"$f":"'S6'!S38","v":"-"},{"$f":"'S7'!S38","v":"-"},{"$f":"'S8'!S38","v":"-"},{"$f":"'S9'!S38","v":"-"},{"$f":"'S10'!S38","v":"-"},{"$f":"'S11'!S38","v":"-"},{"$f":"'S12'!S38","v":"-"},{"$f":"'S13'!S38","v":"-"},{"$f":"'S14'!S38","v":"-"},{"$f":"'S15'!S38","v":"-"}]
[null,null,24,{"$f":"'DATA SISWA'!F33","v":0},{"$f":"'S1'!S39","v":"-"},{"$f":"'S2'!S39","v":"-"},{"$f":"'S3'!S39","v":"-"},{"$f":"'S4'!S39","v":"-"},{"$f":"'S5'!S39","v":"-"},{"$f":"'S6'!S39","v":"-"},{"$f":"'S7'!S39","v":"-"},{"$f":"'S8'!S39","v":"-"},{"$f":"'S9'!S39","v":"-"},{"$f":"'S10'!S39","v":"-"},{"$f":"'S11'!S39","v":"-"},{"$f":"'S12'!S39","v":"-"},{"$f":"'S13'!S39","v":"-"},{"$f":"'S14'!S39","v":"-"},{"$f":"'S15'!S39","v":"-"}]
[null,null,25,{"$f":"'DATA SISWA'!F34","v":0},{"$f":"'S1'!S40","v":"-"},{"$f":"'S2'!S40","v":"-"},{"$f":"'S3'!S40","v":"-"},{"$f":"'S4'!S40","v":"-"},{"$f":"'S5'!S40","v":"-"},{"$f":"'S6'!S40","v":"-"},{"$f":"'S7'!S40","v":"-"},{"$f":"'S8'!S40","v":"-"},{"$f":"'S9'!S40","v":"-"},{"$f":"'S10'!S40","v":"-"},{"$f":"'S11'!S40","v":"-"},{"$f":"'S12'!S40","v":"-"},{"$f":"'S13'!S40","v":"-"},{"$f":"'S14'!S40","v":"-"},{"$f":"'S15'!S40","v":"-"}]
[null,null,26,{"$f":"'DATA SISWA'!F35","v":0},{"$f":"'S1'!S41","v":"-"},{"$f":"'S2'!S41","v":"-"},{"$f":"'S3'!S41","v":"-"},{"$f":"'S4'!S41","v":"-"},{"$f":"'S5'!S41","v":"-"},{"$f":"'S6'!S41","v":"-"},{"$f":"'S7'!S41","v":"-"},{"$f":"'S8'!S41","v":"-"},{"$f":"'S9'!S41","v":"-"},{"$f":"'S10'!S41","v":"-"},{"$f":"'S11'!S41","v":"-"},{"$f":"'S12'!S41","v":"-"},{"$f":"'S13'!S41","v":"-"},{"$f":"'S14'!S41","v":"-"},{"$f":"'S15'!S41","v":"-"}]
[null,null,27,{"$f":"'DATA SISWA'!F36","v":0},{"$f":"'S1'!S42","v":"-"},{"$f":"'S2'!S42","v":"-"},{"$f":"'S3'!S42","v":"-"},{"$f":"'S4'!S42","v":"-"},{"$f":"'S5'!S42","v":"-"},{"$f":"'S6'!S42","v":"-"},{"$f":"'S7'!S42","v":"-"},{"$f":"'S8'!S42","v":"-"},{"$f":"'S9'!S42","v":"-"},{"$f":"'S10'!S42","v":"-"},{"$f":"'S11'!S42","v":"-"},{"$f":"'S12'!S42","v":"-"},{"$f":"'S13'!S42","v":"-"},{"$f":"'S14'!S42","v":"-"},{"$f":"'S15'!S42","v":"-"}]
[null,null,28,{"$f":"'DATA SISWA'!F37","v":0},{"$f":"'S1'!S43","v":"-"},{"$f":"'S2'!S43","v":"-"},{"$f":"'S3'!S43","v":"-"},{"$f":"'S4'!S43","v":"-"},{"$f":"'S5'!S43","v":"-"},{"$f":"'S6'!S43","v":"-"},{"$f":"'S7'!S43","v":"-"},{"$f":"'S8'!S43","v":"-"},{"$f":"'S9'!S43","v":"-"},{"$f":"'S10'!S43","v":"-"},{"$f":"'S11'!S43","v":"-"},{"$f":"'S12'!S43","v":"-"},{"$f":"'S13'!S43","v":"-"},{"$f":"'S14'!S43","v":"-"},{"$f":"'S15'!S43","v":"-"}]
[null,null,29,{"$f":"'DATA SISWA'!F38","v":0},{"$f":"'S1'!S44","v":"-"},{"$f":"'S2'!S44","v":"-"},{"$f":"'S3'!S44","v":"-"},{"$f":"'S4'!S44","v":"-"},{"$f":"'S5'!S44","v":"-"},{"$f":"'S6'!S44","v":"-"},{"$f":"'S7'!S44","v":"-"},{"$f":"'S8'!S44","v":"-"},{"$f":"'S9'!S44","v":"-"},{"$f":"'S10'!S44","v":"-"},{"$f":"'S11'!S44","v":"-"},{"$f":"'S12'!S44","v":"-"},{"$f":"'S13'!S44","v":"-"},{"$f":"'S14'!S44","v":"-"},{"$f":"'S15'!S44","v":"-"}]
[null,null,30,{"$f":"'DATA SISWA'!F39","v":0},{"$f":"'S1'!S45","v":"-"},{"$f":"'S2'!S45","v":"-"},{"$f":"'S3'!S45","v":"-"},{"$f":"'S4'!S45","v":"-"},{"$f":"'S5'!S45","v":"-"},{"$f":"'S6'!S45","v":"-"},{"$f":"'S7'!S45","v":"-"},{"$f":"'S8'!S45","v":"-"},{"$f":"'S9'!S45","v":"-"},{"$f":"'S10'!S45","v":"-"},{"$f":"'S11'!S45","v":"-"},{"$f":"'S12'!S45","v":"-"},{"$f":"'S13'!S45","v":"-"},{"$f":"'S14'!S45","v":"-"},{"$f":"'S15'!S45","v":"-"}]
[null,null,31,{"$f":"'DATA SISWA'!F40","v":0},{"$f":"'S1'!S46","v":"-"},{"$f":"'S2'!S46","v":"-"},{"$f":"'S3'!S46","v":"-"},{"$f":"'S4'!S46","v":"-"},{"$f":"'S5'!S46","v":"-"},{"$f":"'S6'!S46","v":"-"},{"$f":"'S7'!S46","v":"-"},{"$f":"'S8'!S46","v":"-"},{"$f":"'S9'!S46","v":"-"},{"$f":"'S10'!S46","v":"-"},{"$f":"'S11'!S46","v":"-"},{"$f":"'S12'!S46","v":"-"},{"$f":"'S13'!S46","v":"-"},{"$f":"'S14'!S46","v":"-"},{"$f":"'S15'!S46","v":"-"}]
[null,null,32,{"$f":"'DATA SISWA'!F41","v":0},{"$f":"'S1'!S47","v":"-"},{"$f":"'S2'!S47","v":"-"},{"$f":"'S3'!S47","v":"-"},{"$f":"'S4'!S47","v":"-"},{"$f":"'S5'!S47","v":"-"},{"$f":"'S6'!S47","v":"-"},{"$f":"'S7'!S47","v":"-"},{"$f":"'S8'!S47","v":"-"},{"$f":"'S9'!S47","v":"-"},{"$f":"'S10'!S47","v":"-"},{"$f":"'S11'!S47","v":"-"},{"$f":"'S12'!S47","v":"-"},{"$f":"'S13'!S47","v":"-"},{"$f":"'S14'!S47","v":"-"},{"$f":"'S15'!S47","v":"-"}]
[null,null,33,{"$f":"'DATA SISWA'!F42","v":0},{"$f":"'S1'!S48","v":"-"},{"$f":"'S2'!S48","v":"-"},{"$f":"'S3'!S48","v":"-"},{"$f":"'S4'!S48","v":"-"},{"$f":"'S5'!S48","v":"-"},{"$f":"'S6'!S48","v":"-"},{"$f":"'S7'!S48","v":"-"},{"$f":"'S8'!S48","v":"-"},{"$f":"'S9'!S48","v":"-"},{"$f":"'S10'!S48","v":"-"},{"$f":"'S11'!S48","v":"-"},{"$f":"'S12'!S48","v":"-"},{"$f":"'S13'!S48","v":"-"},{"$f":"'S14'!S48","v":"-"},{"$f":"'S15'!S48","v":"-"}]
[null,null,34,{"$f":"'DATA SISWA'!F43","v":0},{"$f":"'S1'!S49","v":"-"},{"$f":"'S2'!S49","v":"-"},{"$f":"'S3'!S49","v":"-"},{"$f":"'S4'!S49","v":"-"},{"$f":"'S5'!S49","v":"-"},{"$f":"'S6'!S49","v":"-"},{"$f":"'S7'!S49","v":"-"},{"$f":"'S8'!S49","v":"-"},{"$f":"'S9'!S49","v":"-"},{"$f":"'S10'!S49","v":"-"},{"$f":"'S11'!S49","v":"-"},{"$f":"'S12'!S49","v":"-"},{"$f":"'S13'!S49","v":"-"},{"$f":"'S14'!S49","v":"-"},{"$f":"'S15'!S49","v":"-"}]
[null,null,35,{"$f":"'DATA SISWA'!F44","v":0},{"$f":"'S1'!S50","v":"-"},{"$f":"'S2'!S50","v":"-"},{"$f":"'S3'!S50","v":"-"},{"$f":"'S4'!S50","v":"-"},{"$f":"'S5'!S50","v":"-"},{"$f":"'S6'!S50","v":"-"},{"$f":"'S7'!S50","v":"-"},{"$f":"'S8'!S50","v":"-"},{"$f":"'S9'!S50","v":"-"},{"$f":"'S10'!S50","v":"-"},{"$f":"'S11'!S50","v":"-"},{"$f":"'S12'!S50","v":"-"},{"$f":"'S13'!S50","v":"-"},{"$f":"'S14'!S50","v":"-"},{"$f":"'S15'!S50","v":"-"}]
[null,null,36,{"$f":"'DATA SISWA'!F45","v":0},{"$f":"'S1'!S51","v":"-"},{"$f":"'S2'!S51","v":"-"},{"$f":"'S3'!S51","v":"-"},{"$f":"'S4'!S51","v":"-"},{"$f":"'S5'!S51","v":"-"},{"$f":"'S6'!S51","v":"-"},{"$f":"'S7'!S51","v":"-"},{"$f":"'S8'!S51","v":"-"},{"$f":"'S9'!S51","v":"-"},{"$f":"'S10'!S51","v":"-"},{"$f":"'S11'!S51","v":"-"},{"$f":"'S12'!S51","v":"-"},{"$f":"'S13'!S51","v":"-"},{"$f":"'S14'!S51","v":"-"},{"$f":"'S15'!S51","v":"-"}]
[null,null,37,{"$f":"'DATA SISWA'!F46","v":0},{"$f":"'S1'!S52","v":"-"},{"$f":"'S2'!S52","v":"-"},{"$f":"'S3'!S52","v":"-"},{"$f":"'S4'!S52","v":"-"},{"$f":"'S5'!S52","v":"-"},{"$f":"'S6'!S52","v":"-"},{"$f":"'S7'!S52","v":"-"},{"$f":"'S8'!S52","v":"-"},{"$f":"'S9'!S52","v":"-"},{"$f":"'S10'!S52","v":"-"},{"$f":"'S11'!S52","v":"-"},{"$f":"'S12'!S52","v":"-"},{"$f":"'S13'!S52","v":"-"},{"$f":"'S14'!S52","v":"-"},{"$f":"'S15'!S52","v":"-"}]
[null,null,38,{"$f":"'DATA SISWA'!F47","v":0},{"$f":"'S1'!S53","v":"-"},{"$f":"'S2'!S53","v":"-"},{"$f":"'S3'!S53","v":"-"},{"$f":"'S4'!S53","v":"-"},{"$f":"'S5'!S53","v":"-"},{"$f":"'S6'!S53","v":"-"},{"$f":"'S7'!S53","v":"-"},{"$f":"'S8'!S53","v":"-"},{"$f":"'S9'!S53","v":"-"},{"$f":"'S10'!S53","v":"-"},{"$f":"'S11'!S53","v":"-"},{"$f":"'S12'!S53","v":"-"},{"$f":"'S13'!S53","v":"-"},{"$f":"'S14'!S53","v":"-"},{"$f":"'S15'!S53","v":"-"}]
[null,null,39,{"$f":"'DATA SISWA'!F48","v":0},{"$f":"'S1'!S54","v":"-"},{"$f":"'S2'!S54","v":"-"},{"$f":"'S3'!S54","v":"-"},{"$f":"'S4'!S54","v":"-"},{"$f":"'S5'!S54","v":"-"},{"$f":"'S6'!S54","v":"-"},{"$f":"'S7'!S54","v":"-"},{"$f":"'S8'!S54","v":"-"},{"$f":"'S9'!S54","v":"-"},{"$f":"'S10'!S54","v":"-"},{"$f":"'S11'!S54","v":"-"},{"$f":"'S12'!S54","v":"-"},{"$f":"'S13'!S54","v":"-"},{"$f":"'S14'!S54","v":"-"},{"$f":"'S15'!S54","v":"-"}]
[null,null,40,{"$f":"'DATA SISWA'!F49","v":0},{"$f":"'S1'!S55","v":"-"},{"$f":"'S2'!S55","v":"-"},{"$f":"'S3'!S55","v":"-"},{"$f":"'S4'!S55","v":"-"},{"$f":"'S5'!S55","v":"-"},{"$f":"'S6'!S55","v":"-"},{"$f":"'S7'!S55","v":"-"},{"$f":"'S8'!S55","v":"-"},{"$f":"'S9'!S55","v":"-"},{"$f":"'S10'!S55","v":"-"},{"$f":"'S11'!S55","v":"-"},{"$f":"'S12'!S55","v":"-"},{"$f":"'S13'!S55","v":"-"},{"$f":"'S14'!S55","v":"-"},{"$f":"'S15'!S55","v":"-"}]
[null,null,"Nilai Rata-Rata",null,{"$f":"IFERROR(AVERAGE(E8:E47),0)","v":0},{"$f":"IFERROR(AVERAGE(F8:F47),0)","v":0},0,0,0,0,0,0,0,0,0,0,0,0,0]
[null,null,"Nilai Tertinggi",null,{"$f":"MAX(E8:E47)","v":0},{"$f":"MAX(F8:F47)","v":0},{"$f":"MAX(G8:G47)","v":0},0,0,0,0,0,0,0,0,0,0,0,0]
[null,null,"Nilai Terendah",null,{"$f":"MIN(E8:E47)","v":0},{"$f":"MIN(F8:F47)","v":0},0,0,0,0,0,0,0,0,0,0,0,0,0]

{"sheet":"NEKS","index":66,"n_rows":50,"n_cols":14,"rows_kept":50,"cut":false,"hidden":false,"merged":[[2,1,2,14],[5,10,6,10]]}
[]
[]
[null,"DESKRIPSI PENILAIAN EKSTRAKURIKULER"]
[]
[null,null,"Petunjuk Pengisian :"]
[null,null,1,"Pilihlah Pilihan Ekstrakurikuler sesuai dengan pilihan siswa. ",null,null,null,null,null,null,"KLIK UNTUK CONTOH DESKRIPSI"]
[null,null,2,"Pada deskripsi Ekstrakurikuler 1, tuliskan capaian pembelajaran siswa dalam program ekstrakurikuler yang dipilihnya secara kualitatif. "]
[]
[]
[null,null,"No","Nama","Pilihan Ekstrakurikuler 1","Deskripsi Ekstrakurikuler 1","Pilihan Ekstrakurikuler 2","Deskripsi Ekstrakurikuler 2","Pilihan Ekstrakurikuler 3","Deskripsi Ekstrakurikuler 3","Pilihan Ekstrakurikuler 4","Deskripsi Ekstrakurikuler 4","Pilihan Ekstrakurikuler 5","Deskripsi Ekstrakurikuler 5"]
[null,null,1,{"$f":"'DATA SISWA'!F10","v":0}]
[null,null,2,{"$f":"'DATA SISWA'!F11","v":0}]
[null,null,3,{"$f":"'DATA SISWA'!F12","v":0}]
[null,null,4,{"$f":"'DATA SISWA'!F13","v":0}]
[null,null,5,{"$f":"'DATA SISWA'!F14","v":0}]
[null,null,6,{"$f":"'DATA SISWA'!F15","v":0}]
[null,null,7,{"$f":"'DATA SISWA'!F16","v":0}]
[null,null,8,{"$f":"'DATA SISWA'!F17","v":0}]
[null,null,9,{"$f":"'DATA SISWA'!F18","v":0}]
[null,null,10,{"$f":"'DATA SISWA'!F19","v":0}]
[null,null,11,{"$f":"'DATA SISWA'!F20","v":0}]
[null,null,12,{"$f":"'DATA SISWA'!F21","v":0}]
[null,null,13,{"$f":"'DATA SISWA'!F22","v":0}]
[null,null,14,{"$f":"'DATA SISWA'!F23","v":0}]
[null,null,15,{"$f":"'DATA SISWA'!F24","v":0}]
[null,null,16,{"$f":"'DATA SISWA'!F25","v":0}]
[null,null,17,{"$f":"'DATA SISWA'!F26","v":0}]
[null,null,18,{"$f":"'DATA SISWA'!F27","v":0}]
[null,null,19,{"$f":"'DATA SISWA'!F28","v":0}]
[null,null,20,{"$f":"'DATA SISWA'!F29","v":0}]
[null,null,21,{"$f":"'DATA SISWA'!F30","v":0}]
[null,null,22,{"$f":"'DATA SISWA'!F31","v":0}]
[null,null,23,{"$f":"'DATA SISWA'!F32","v":0}]
[null,null,24,{"$f":"'DATA SISWA'!F33","v":0}]
[null,null,25,{"$f":"'DATA SISWA'!F34","v":0}]
[null,null,26,{"$f":"'DATA SISWA'!F35","v":0}]
[null,null,27,{"$f":"'DATA SISWA'!F36","v":0}]
[null,null,28,{"$f":"'DATA SISWA'!F37","v":0}]
[null,null,29,{"$f":"'DATA SISWA'!F38","v":0}]
[null,null,30,{"$f":"'DATA SISWA'!F39","v":0}]
[null,null,31,{"$f":"'DATA SISWA'!F40","v":0}]
[null,null,32,{"$f":"'DATA SISWA'!F41","v":0}]
[null,null,33,{"$f":"'DATA SISWA'!F42","v":0}]
[null,null,34,{"$f":"'DATA SISWA'!F43","v":0}]
[null,null,35,{"$f":"'DATA SISWA'!F44","v":0}]
[null,null,36,{"$f":"'DATA SISWA'!F45","v":0}]
[null,null,37,{"$f":"'DATA SISWA'!F46","v":0}]
[null,null,38,{"$f":"'DATA SISWA'!F47","v":0}]
[null,null,39,{"$f":"'DATA SISWA'!F48","v":0}]
[null,null,40,{"$f":"'DATA SISWA'!F49","v":0}]

{"sheet":"INTRAKURIKULER","index":67,"n_rows":23,"n_cols":4,"rows_kept":23,"cut":false,"hidden":false,"merged":[[17,3,17,9],[2,1,2,11],[7,3,7,9],[8,3,8,9],[9,3,9,9],[10,3,10,9],[11,3,11,9],[12,3,12,9],[13,3,13,9],[14,3,14,9],[15,3,15,9],[16,3,16,9],[18,3,18,9],[19,3,19,9],[20,3,20,9],[21,3,21,9],[22,3,22,9]]}
[]
[]
[null,"INTRAKURIKULER"]
[]
[null,"Tuliskan nama mata pelajaran yang disajikan di kelas anda. Tuliskan pada bagian yang berwarna putih. "]
[null,"Termasuk mata Pelajaran Muatan Lokal."]
[]
[null,null,"No","Mata Pelajaran"]
[null,null,1]
[null,null,2]
[null,null,3]
[null,null,4]
[null,null,5]
[null,null,6]
[null,null,7]
[null,null,8]
[null,null,9]
[null,null,10]
[null,null,11]
[null,null,12]
[null,null,13]
[null,null,14]
[null,null,15]

{"sheet":"DATA SEKOLAH","index":68,"n_rows":26,"n_cols":12,"rows_kept":26,"cut":false,"hidden":false,"merged":[[16,4,16,8],[1,0,1,8]]}
[]
["DATA SEKOLAH"]
[]
[null,"Nama Sekolah",":",null,null,"Petunjuk Pengisian:"]
[null,"NPSN",":",null,null,"Isikan data tentang sekolah anda",null,null,null,null,null,"I (satu)"]
[null,"NSS",":",null,null,"Tuliskan pada bagian yang berwarna ",null,null,null,null,null,"II (dua)"]
[null,"Alamat Sekolah",":",null,null,"putih",null,null,null,null,null,"III (tiga)"]
[null,"Kode Pos",":",null,null,null,null,null,null,null,null,"IV (empat)"]
[null,"Desa / Kelurahan",":",null,null,null,null,null,null,null,null,"V (lima)"]
[null,"Kecamatan",":",null,null,null,null,null,null,null,null,"VI (enam)"]
[null,"Kabupaten / Kota",":",null,null,null,null,null,null,null,null,"VII (tujuh)"]
[null,"Provinsi",":",null,null,null,null,null,null,null,null,"VIII (delapan)"]
[null,"Website",":",null,null,null,null,null,null,null,null,"IX (sembilan)"]
[null,"E-mail",":",null,null,null,null,null,null,null,null,"X (sepuluh)"]
[null,"Nama Kepala Sekolah",":",null,null,null,null,null,null,null,null,"XI (sebelas)"]
[null,"NIP",":",null,null,null,null,null,null,null,null,"XII (dua belas)"]
[null,"Nama Wali Kelas",":",null,"KETERANGAN"]
[null,"NIP",":",null,null,null,null,null,null,null,null,"A"]
[null,"Kelas",":",null,null,"Kembali ke halaman awal",null,null,null,null,null,"B"]
[null,"Fase",":",null,null,null,null,null,null,null,null,"C"]
[null,"Semester",":",null,null,"Kembali ke halaman sebelumnya",null,null,null,null,null,"D"]
[null,"Tahun Ajaran",":",null,null,null,null,null,null,null,null,"E"]
[null,"Tempat/Tanggal Rapor",":",null,null,null,null,null,null,null,null,"F"]
[]
[null,null,null,null,null,null,null,null,null,null,null,"I (Satu)"]
[null,null,null,null,null,null,null,null,null,null,null,"II (Dua)"]

{"sheet":"DATA SISWA","index":69,"n_rows":49,"n_cols":44,"rows_kept":49,"cut":false,"hidden":false,"merged":[[5,7,7,7],[5,2,7,2],[5,3,7,3],[5,4,7,4],[5,5,7,5],[5,6,7,6],[5,8,7,8],[5,9,7,9],[5,10,7,10],[5,11,7,11],[5,12,5,20],[5,43,6,43],[6,12,7,12],[6,13,7,13],[6,14,7,14],[6,15,7,15],[6,16,6,20],[5,25,6,28],[5,29,6,30],[5,31,6,32],[5,33,6,36],[5,37,6,39],[5,40,6,42],[5,21,6,24]]}
[]
[]
[null,null,null,null,null,null,null,null,"DATA SISWA"]
[]
[]
[null,null,"NO","NIS","NISN","NAMA PESERTA DIDIK","L/P","TEMPAT LAHIR","TANGGAL LAHIR","AGAMA","PENDIDIKAN SEBELUMNYA","ALAMAT PESERTA DIDIK","ORANG TUA",null,null,null,null,null,null,null,null,"WALI PESERTA DIDIK",null,null,null,"KEGIATAN EKTRAKURIKULER",null,null,null,"Tinggi Badan",null,"Berat Badan",null,"Kondisi Kesehatan",null,null,null,"Prestasi",null,null,"KEHADIRAN",null,null,"SARAN - SARAN"]
[null,null,null,null,null,null,null,null,null,null,null,null,"NAMA AYAH","NAMA IBU","PEKERJAAN AYAH","PEKERJAAN IBU","ALAMAT ORANG TUA"]
[null,null,null,null,null,null,null,null,null,null,null,null,null,null,null,null,"JALAN","KELURAHAN/  DESA","KECAMATAN","KAB./KOTA","PROPINSI","NAMA WALI","PEKERJAAN","ALAMAT WALI","NOMOR TELEPHON",{"$f":"[2]IDENTITAS!J5","v":0},{"$f":"[2]IDENTITAS!J6","v":0},{"$f":"[2]IDENTITAS!J7","v":0},null,"Semester 1","Semester 2","Semester 1","Semester 2","Pendengaran","Penglihatan","Gigi","…","Kesenian","Olahraga","Sains","S","I","A","SARAN 1"]
[null,null,1,2,3,4,5,6,7,8,9,10,11,12,13,14,15,16,17,18,19,20,21,22,23,24,25,26,27,28,29,30,31,32,33,34,35,36,37,38,39,40,41,42]
[null,null,1]
[null,null,2]
[null,null,3]
[null,null,4]
[null,null,5]
[null,null,6]
[null,null,7]
[null,null,8]
[null,null,9]
[null,null,10]
[null,null,11]
[null,null,12]
[null,null,13]
[null,null,14]
[null,null,15]
[null,null,16]
[null,null,17]
[null,null,18]
[null,null,19]
[null,null,20]
[null,null,21]
[null,null,22]
[null,null,23]
[null,null,24]
[null,null,25]
[null,null,26,null,null,null,null,null,null,null,null,null,null,null,null,null,null,null,null,null,null,null,null,null,null,"-","-","-","-"]
[null,null,27,null,null,null,null,null,null,null,null,null,null,null,null,null,null,null,null,null,null,null,null,null,null,"-","-","-","-"]
[null,null,28,null,null,null,null,null,null,null,null,null,null,null,null,null,null,null,null,null,null,null,null,null,null,"-","-","-","-"]
[null,null,29,null,null,null,null,null,null,null,null,null,null,null,null,null,null,null,null,null,null,null,null,null,null,"-","-","-","-"]
[null,null,30,null,null,null,null,null,null,null,null,null,null,null,null,null,null,null,null,null,null,null,null,null,null,"-","-","-","-"]
[null,null,31,null,null,null,null,null,null,null,null,null,null,null,null,null,null,null,null,null,null,null,null,null,null,"-","-","-","-"]
[null,null,32,null,null,null,null,null,null,null,null,null,null,null,null,null,null,null,null,null,null,null,null,null,null,"-","-","-","-"]
[null,null,33,null,null,null,null,null,null,null,null,null,null,null,null,null,null,null,null,null,null,null,null,null,null,"-","-","-","-"]
[null,null,34,null,null,null,null,null,null,null,null,null,null,null,null,null,null,null,null,null,null,null,null,null,null,"-","-","-","-"]
[null,null,35,null,null,null,null,null,null,null,null,null,null,null,null,null,null,null,null,null,null,null,null,null,null,"-","-","-","-"]
[null,null,36,null,null,null,null,null,null,null,null,null,null,null,null,null,null,null,null,null,null,null,null,null,null,"-","-","-","-"]
[null,null,37,null,null,null,null,null,null,null,null,null,null,null,null,null,null,null,null,null,null,null,null,null,null,"-","-","-","-"]
[null,null,38,null,null,null,null,null,null,null,null,null,null,null,null,null,null,null,null,null,null,null,null,null,null,"-","-","-","-"]
[null,null,39,null,null,null,null,null,null,null,null,null,null,null,null,null,null,null,null,null,null,null,null,null,null,"-","-","-","-"]
[null,null,40,null,null,null,null,null,null,null,null,null,null,null,null,null,null,null,null,null,null,null,null,null,null,"-","-","-","-"]

{"sheet":"SAMPUL","index":70,"n_rows":101,"n_cols":11,"rows_kept":101,"cut":false,"hidden":false,"merged":[[40,2,40,8],[61,2,61,8],[66,6,66,8],[4,256,5,260],[25,2,25,8],[27,2,27,8],[34,2,34,8],[35,2,35,8],[38,2,38,8],[39,2,39,8],[11,2,11,8],[12,2,12,8],[13,2,13,8],[14,2,14,8],[21,2,21,8],[23,2,23,8]]}
[]
[null,null,null,null,null,null,null,null,null,null,1]
[]
[]
[]
[]
[]
[]
[]
[]
[]
[null,null,"R A P O R "]
[null,null,"PESERTA DIDIK"]
[null,null,"SEKOLAH DASAR"]
[null,null,"(SD)"]
[]
[]
[]
[]
[]
[]
[null,null,"Nama Peserta Didik :"]
[]
[null,null,{"$f":"VLOOKUP($K$2,'DATA SISWA'!$C$10:$AQ$49,4,FALSE)","v":0}]
[]
[null,null,"NIS / NISN"]
[]
[null,null,{"$f":"VLOOKUP($K$2,'DATA SISWA'!$C$10:$AQ$49,2,FALSE)&\" / \"&VLOOKUP($K$2,'DATA SISWA'!$C$10:$AQ$49,3,FALSE)","v":" / "}]
[]
[]
[]
[]
[]
[]
[null,null,"KEMENTERIAN PENDIDIKAN DAN KEBUDAYAAN"]
[null,null,"REPUBLIK INDONESIA"]
[]
[]
[null,null,"R A P O R"]
[null,null,"PESERTA DIDIK"]
[null,null,"SEKOLAH DASAR ( SD )"]
[]
[]
[]
[]
[null,null,null,"Nama Sekolah",null,{"$f":"\": \"&'DATA SEKOLAH'!D4","v":": "}]
[null,null,null,"NPSN",null,{"$f":"\": \"&'DATA SEKOLAH'!D5","v":": "}]
[null,null,null,"Alamat Sekolah",null,{"$f":"\": \"&'DATA SEKOLAH'!D7","v":": "}]
[null,null,null,"Kode Pos",null,{"$f":"\": \"&'DATA SEKOLAH'!D8","v":": "}]
[null,null,null,"Desa / Kelurahan",null,{"$f":"\": \"&'DATA SEKOLAH'!D9","v":": "}]
[null,null,null,"Kecamatan",null,{"$f":"\": \"&'DATA SEKOLAH'!D10","v":": "}]
[null,null,null,"Kabupaten / Kota",null,{"$f":"\": \"&'DATA SEKOLAH'!D11","v":": "}]
[null,null,null,"Provinsi",null,{"$f":"\": \"&'DATA SEKOLAH'!D12","v":": "}]
[null,null,null,"Website",null,{"$f":"\": \"&'DATA SEKOLAH'!D13","v":": "}]
[null,null,null,"E-mail",null,{"$f":"\": \"&'DATA SEKOLAH'!D14","v":": "}]
[]
[]
[]
[]
[]
[]
[null,null,"IDENTITAS PESERTA DIDIK"]
[]
[]
[null,null,null,"Nama Peserta Didik",null,{"$f":"\":  \"&VLOOKUP($K$2,'DATA SISWA'!$C$10:$AQ$49,4,FALSE)","v":":  "}]
[null,null,null,"NIS / NISN",null,{"$f":"\": \"&VLOOKUP($K$2,'DATA SISWA'!$C$10:$AQ$49,2,FALSE)&\" / \"&VLOOKUP($K$2,'DATA SISWA'!$C$10:$AQ$49,3,FALSE)","v":":  / "}]
[null,null,null,"Tempat, Tanggal Lahir",null,{"$f":"\":  \"&VLOOKUP($K$2,'DATA SISWA'!$C$10:$AQ$49,6,FALSE)&\" , \"","v":":   , "},{"$f":"VLOOKUP($K$2,'DATA SISWA'!$C$10:$AQ$49,7,FALSE)","v":"00:00:00"}]
[null,null,null,"Jenis Kelamin",null,{"$f":"\":  \"&IF(VLOOKUP($K$2,'DATA SISWA'!$C$10:$AQ$49,5,FALSE)=\"P\",\"Perempuan\",\"Laki-Laki\")","v":":  Laki-Laki"}]
[null,null,null,"Agama",null,{"$f":"\":  \"&VLOOKUP($K$2,'DATA SISWA'!$C$10:$AQ$49,8,FALSE)","v":":  "}]
[null,null,null,"Pendidikan sebelumnya",null,{"$f":"\":  \"&VLOOKUP($K$2,'DATA SISWA'!$C$10:$AQ$49,9,FALSE)","v":":  "}]
[null,null,null,"Alamat Peserta Didik",null,{"$f":"\":  \"&VLOOKUP($K$2,'DATA SISWA'!$C$10:$AQ$49,10,FALSE)","v":":  "}]
[]
[null,null,null,"Nama Orang Tua"]
[null,null,null,"Ayah",null,{"$f":"\":  \"&VLOOKUP($K$2,'DATA SISWA'!$C$10:$AQ$49,11,FALSE)","v":":  "}]
[null,null,null,"Ibu",null,{"$f":"\":  \"&VLOOKUP($K$2,'DATA SISWA'!$C$10:$AQ$49,12,FALSE)","v":":  "}]
[]
[null,null,null,"Pekerjaan Orang Tua"]
[null,null,null,"Ayah",null,{"$f":"\":  \"&VLOOKUP($K$2,'DATA SISWA'!$C$10:$AQ$49,13,FALSE)","v":":  "}]
[null,null,null,"Ibu",null,{"$f":"\":  \"&VLOOKUP($K$2,'DATA SISWA'!$C$10:$AQ$49,14,FALSE)","v":":  "}]
[]
[null,null,null,"Alamat Orang Tua"]
[null,null,null,"Jalan",null,{"$f":"\":  \"&VLOOKUP($K$2,'DATA SISWA'!$C$10:$AQ$49,15,FALSE)","v":":  "}]
[null,null,null,"Kelurahan/Desa",null,{"$f":"\":  \"&VLOOKUP($K$2,'DATA SISWA'!$C$10:$AQ$49,16,FALSE)","v":":  "}]
[null,null,null,"Kecamatan",null,{"$f":"\":  \"&VLOOKUP($K$2,'DATA SISWA'!$C$10:$AQ$49,17,FALSE)","v":":  "}]
[null,null,null,"Kabupaten / Kota",null,{"$f":"\":  \"&VLOOKUP($K$2,'DATA SISWA'!$C$10:$AQ$49,18,FALSE)","v":":  "}]
[null,null,null,"Provinsi",null,{"$f":"\":  \"&VLOOKUP($K$2,'DATA SISWA'!$C$10:$AQ$49,19,FALSE)","v":":  "}]
[]
[null,null,null,"Wali Peserta Didik"]
[null,null,null,"Nama",null,{"$f":"\":  \"&VLOOKUP($K$2,'DATA SISWA'!$C$10:$AQ$49,20,FALSE)","v":":  "}]
[null,null,null,"Pekerjaan",null,{"$f":"\":  \"&VLOOKUP($K$2,'DATA SISWA'!$C$10:$AQ$49,21,FALSE)","v":":  "}]
[null,null,null,"Alamat",null,{"$f":"\":  \"&VLOOKUP($K$2,'DATA SISWA'!$C$10:$AQ$49,22,FALSE)","v":":  "}]
[]
[]
[]
[null,null,null,null,null,null,null,{"$f":"'DATA SEKOLAH'!D23","v":0}]
[null,null,null,null,null,null,null,"Kepala Sekolah,"]
[]
[]
[]
[null,null,null,null,null,null,null,{"$f":"'DATA SEKOLAH'!D15","v":0}]
[null,null,null,null,null,null,null,{"$f":"\"NIP. \"&'DATA SEKOLAH'!D16","v":"NIP. "}]

{"sheet":"RAPOR","index":71,"n_rows":72,"n_cols":18,"rows_kept":72,"cut":false,"hidden":false,"merged":[[27,4,27,10],[41,4,41,10],[42,4,42,10],[43,4,43,10],[45,3,45,10],[46,3,46,10],[65,4,65,6],[70,4,70,6],[50,3,50,10],[42,1,43,1],[42,2,43,2],[42,3,43,3],[47,3,47,10],[48,3,48,10],[49,3,49,10],[71,4,71,6],[52,2,52,4],[56,7,56,10],[57,7,57,10],[38,1,39,1],[38,2,39,2],[38,3,39,3],[38,4,38,10],[39,4,39,10],[40,1,41,1],[40,2,41,2],[40,3,41,3],[40,4,40,10],[62,7,62,10],[63,7,63,10],[64,4,64,6],[36,1,37,1],[36,2,37,2],[36,3,37,3],[36,4,36,10],[37,4,37,10],[32,1,33,1],[32,2,33,2],[32,3,33,3],[32,4,32,10],[33,4,33,10],[34,1,35,1],[34,2,35,2],[34,3,35,3],[34,4,34,10],[35,4,35,10],[30,1,31,1],[30,2,31,2],[30,3,31,3],[30,4,30,10],[31,4,31,10],[25,1,26,1],[25,2,26,2],[25,3,26,3],[25,4,25,10],[26,4,26,10],[28,1,29,1],[28,2,29,2],[28,3,29,3],[28,4,28,10],[29,4,29,10],[23,1,24,1],[23,2,24,2],[23,3,24,3],[23,4,23,10],[24,4,24,10],[19,1,20,1],[19,2,20,2],[19,3,20,3],[19,4,19,10],[20,4,20,10],[21,1,22,1],[21,2,22,2],[21,3,22,3],[21,4,21,10],[22,4,22,10],[15,1,16,1],[15,2,16,2],[15,3,16,3],[15,4,15,10],[16,4,16,10],[17,1,18,1],[17,2,18,2],[17,3,18,3],[17,4,17,10],[18,4,18,10],[2,1,2,10],[3,1,3,10],[12,4,12,10],[13,1,14,1],[13,2,14,2],[13,3,14,3],[13,4,13,10],[14,4,14,10]]}
[]
[null,null,null,null,null,null,null,null,null,null,null,2]
[null,"LAPORAN HASIL BELAJAR",null,null,null,null,null,null,null,null,null,null,null,null,null,null,"●","Untuk melihat hasil sebelum di print Klik Print Preview"]
[null,"(RAPOR)",null,null,null,null,null,null,null,null,null,null,null,null,null,null,"●","Untuk mencetak rapor, klik Print Out"]
[null,null,null,null,null,null,null,null,null,null,null,null,null,null,null,null,"●","Jika tombol tidak berfungsi, cek di bagian atas biasanya "]
[null,null,null,null,null,null,null,null,null,null,null,null,null,null,null,null,null,"ada Security Warning Macros have been disabled. "]
[null,"Nama Peserta Didik",null,{"$f":"\": \"&VLOOKUP($L$2,'DATA SISWA'!$C$10:$AQ$49,4,FALSE)","v":": "},null,null,null,"Kelas",null,{"$f":"\": \"&'DATA SEKOLAH'!D19","v":": "},null,null,null,null,null,null,null,"Untuk mengaktifkannya, klik Enable Content di sebelah"]
[null,"NISN",null,{"$f":"\": \"&VLOOKUP($L$2,'DATA SISWA'!$C$10:$AQ$49,3,FALSE)","v":": "},null,null,null,"Fase",null,{"$f":"\": \"&'DATA SEKOLAH'!D20","v":": "},null,null,null,null,null,null,null,"pesan tersebut."]
[null,"Sekolah",null,{"$f":"\": \"&'DATA SEKOLAH'!D4","v":": "},null,null,null,"Semester",null,{"$f":"\": \"&'DATA SEKOLAH'!D21","v":": "}]
[null,"Alamat",null,{"$f":"\": \"&'DATA SEKOLAH'!D7","v":": "},null,null,null,"Tahun Pelajaran",null,{"$f":"\": \"&'DATA SEKOLAH'!D22","v":": "}]
[]
[]
[null,"No","Muatan Pelajaran","Nilai   Akhir","Capaian Kompetensi"]
[null,1,{"$f":"INTRAKURIKULER!D9","v":0},{"$f":"IFERROR(VLOOKUP($L$2,NA!$C$8:$S$47,3,FALSE),\"-\")","v":"-"},{"$f":"VLOOKUP($L$2,'F1'!$C$17:$BD$56,53,FALSE)","v":"0 menunjukkan pemahaman dalam "}]
[null,null,null,null,{"$f":"VLOOKUP($L$2,'F1'!$C$17:$BD$56,54,FALSE)","v":"0 membutuhkan bimbingan dalam "}]
[null,2,{"$f":"INTRAKURIKULER!D10","v":0},{"$f":"IFERROR(VLOOKUP($L$2,NA!$C$8:$S$47,4,FALSE),\"-\")","v":"-"},{"$f":"VLOOKUP($L$2,'F2'!$C$17:$BD$56,53,FALSE)","v":"0 menunjukkan pemahaman dalam "}]
[null,null,null,null,{"$f":"VLOOKUP($L$2,'F2'!$C$17:$BD$56,54,FALSE)","v":"0 membutuhkan bimbingan dalam "}]
[null,3,{"$f":"INTRAKURIKULER!D11","v":0},{"$f":"IFERROR(VLOOKUP($L$2,NA!$C$8:$S$47,5,FALSE),\"-\")","v":"-"},{"$f":"VLOOKUP($L$2,'F3'!$C$17:$BD$56,53,FALSE)","v":"0 menunjukkan pemahaman dalam "}]
[null,null,null,null,{"$f":"VLOOKUP($L$2,'F3'!$C$17:$BD$56,54,FALSE)","v":"0 membutuhkan bimbingan dalam "}]
[null,4,{"$f":"INTRAKURIKULER!D12","v":0},{"$f":"IFERROR(VLOOKUP($L$2,NA!$C$8:$S$47,6,FALSE),\"-\")","v":"-"},{"$f":"VLOOKUP($L$2,'F4'!$C$17:$BD$56,53,FALSE)","v":"0 menunjukkan pemahaman dalam "}]
[null,null,null,null,{"$f":"VLOOKUP($L$2,'F4'!$C$17:$BD$56,54,FALSE)","v":"0 membutuhkan bimbingan dalam "}]
[null,5,{"$f":"INTRAKURIKULER!D13","v":0},{"$f":"IFERROR(VLOOKUP($L$2,NA!$C$8:$S$47,7,FALSE),\"-\")","v":"-"},{"$f":"VLOOKUP($L$2,'F5'!$C$17:$BD$56,53,FALSE)","v":"0 menunjukkan pemahaman dalam "}]
[null,null,null,null,{"$f":"VLOOKUP($L$2,'F5'!$C$17:$BD$56,54,FALSE)","v":"0 membutuhkan bimbingan dalam "}]
[null,6,{"$f":"INTRAKURIKULER!D14","v":0},{"$f":"IFERROR(VLOOKUP($L$2,NA!$C$8:$S$47,8,FALSE),\"-\")","v":"-"},{"$f":"VLOOKUP($L$2,'F6'!$C$17:$BD$56,53,FALSE)","v":"0 menunjukkan pemahaman dalam "}]
[null,null,null,null,{"$f":"VLOOKUP($L$2,'F6'!$C$17:$BD$56,54,FALSE)","v":"0 membutuhkan bimbingan dalam "}]
[null,7,{"$f":"INTRAKURIKULER!D15","v":0},{"$f":"IFERROR(VLOOKUP($L$2,NA!$C$8:$S$47,9,FALSE),\"-\")","v":"-"},{"$f":"VLOOKUP($L$2,'F7'!$C$17:$BD$56,53,FALSE)","v":"0 menunjukkan pemahaman dalam "}]
[null,null,null,null,{"$f":"VLOOKUP($L$2,'F7'!$C$17:$BD$56,54,FALSE)","v":"0 membutuhkan bimbingan dalam "}]
[null,"No","Muatan Pelajaran","Nilai   Akhir","Capaian Kompetensi"]
[null,8,{"$f":"INTRAKURIKULER!D16","v":0},{"$f":"IFERROR(VLOOKUP($L$2,NA!$C$8:$S$47,10,FALSE),\"-\")","v":"-"},{"$f":"VLOOKUP($L$2,'F8'!$C$17:$BD$56,53,FALSE)","v":"0 menunjukkan pemahaman dalam "}]
[null,null,null,null,{"$f":"VLOOKUP($L$2,'F8'!$C$17:$BD$56,54,FALSE)","v":"0 membutuhkan bimbingan dalam "}]
[null,9,{"$f":"INTRAKURIKULER!D17","v":0},{"$f":"IFERROR(VLOOKUP($L$2,NA!$C$8:$S$47,11,FALSE),\"-\")","v":"-"},{"$f":"VLOOKUP($L$2,'F9'!$C$17:$BD$56,53,FALSE)","v":"0 menunjukkan pemahaman dalam "}]
[null,null,null,null,{"$f":"VLOOKUP($L$2,'F9'!$C$17:$BD$56,54,FALSE)","v":"0 membutuhkan bimbingan dalam "}]
[null,10,{"$f":"INTRAKURIKULER!D18","v":0},{"$f":"IFERROR(VLOOKUP($L$2,NA!$C$8:$S$47,12,FALSE),\"-\")","v":"-"},{"$f":"VLOOKUP($L$2,'F10'!$C$17:$BD$56,53,FALSE)","v":"0 menunjukkan pemahaman dalam "}]
[null,null,null,null,{"$f":"VLOOKUP($L$2,'F10'!$C$17:$BD$56,54,FALSE)","v":"0 membutuhkan bimbingan dalam "}]
[null,11,{"$f":"INTRAKURIKULER!D19","v":0},{"$f":"IFERROR(VLOOKUP($L$2,NA!$C$8:$S$47,13,FALSE),\"-\")","v":"-"},{"$f":"VLOOKUP($L$2,'F11'!$C$17:$BD$56,53,FALSE)","v":"0 menunjukkan pemahaman dalam "}]
[null,null,null,null,{"$f":"VLOOKUP($L$2,'F11'!$C$17:$BD$56,54,FALSE)","v":"0 membutuhkan bimbingan dalam "}]
[null,12,{"$f":"INTRAKURIKULER!D20","v":0},{"$f":"IFERROR(VLOOKUP($L$2,NA!$C$8:$S$47,14,FALSE),\"-\")","v":"-"},{"$f":"VLOOKUP($L$2,'F12'!$C$17:$BD$56,53,FALSE)","v":"0 menunjukkan pemahaman dalam "}]
[null,null,null,null,{"$f":"VLOOKUP($L$2,'F12'!$C$17:$BD$56,54,FALSE)","v":"0 membutuhkan bimbingan dalam "}]
[null,13,{"$f":"INTRAKURIKULER!D21","v":0},{"$f":"IFERROR(VLOOKUP($L$2,NA!$C$8:$S$47,15,FALSE),\"-\")","v":"-"},{"$f":"VLOOKUP($L$2,'F13'!$C$17:$BD$56,53,FALSE)","v":"0 menunjukkan pemahaman dalam "}]
[null,null,null,null,{"$f":"VLOOKUP($L$2,'F13'!$C$17:$BD$56,54,FALSE)","v":"0 membutuhkan bimbingan dalam "}]
[null,14,{"$f":"INTRAKURIKULER!D22","v":0},{"$f":"IFERROR(VLOOKUP($L$2,NA!$C$8:$S$47,16,FALSE),\"-\")","v":"-"},{"$f":"VLOOKUP($L$2,'F14'!$C$17:$BD$56,53,FALSE)","v":"0 menunjukkan pemahaman dalam "}]
[null,null,null,null,{"$f":"VLOOKUP($L$2,'F14'!$C$17:$BD$56,54,FALSE)","v":"0 menunjukkan pemahaman dalam "}]
[null,15,{"$f":"INTRAKURIKULER!D23","v":0},{"$f":"IFERROR(VLOOKUP($L$2,NA!$C$8:$S$47,17,FALSE),\"-\")","v":"-"},{"$f":"VLOOKUP($L$2,'F15'!$C$17:$BD$56,53,FALSE)","v":"0 menunjukkan pemahaman dalam "}]
[null,null,null,null,{"$f":"VLOOKUP($L$2,'F15'!$C$17:$BD$56,54,FALSE)","v":"0 membutuhkan bimbingan dalam "}]
[]
[null,"No","Ekstrakurikuler","Keterangan"]
[null,1,{"$f":"IFERROR(VLOOKUP($L$2,NEKS!$C$11:$N$50,3,FALSE),\"-\")","v":0},{"$f":"VLOOKUP($L$2,NEKS!$C$11:$N$50,4,FALSE)","v":0}]
[null,2,{"$f":"IFERROR(VLOOKUP($L$2,NEKS!$C$11:$N$50,5,FALSE),\"-\")","v":0},{"$f":"VLOOKUP($L$2,NEKS!$C$11:$N$50,6,FALSE)","v":0}]
[null,3,{"$f":"IFERROR(VLOOKUP($L$2,NEKS!$C$11:$N$50,7,FALSE),\"-\")","v":0},{"$f":"VLOOKUP($L$2,NEKS!$C$11:$N$50,8,FALSE)","v":0}]
[null,4,{"$f":"IFERROR(VLOOKUP($L$2,NEKS!$C$11:$N$50,9,FALSE),\"-\")","v":0},{"$f":"VLOOKUP($L$2,NEKS!$C$11:$N$50,10,FALSE)","v":0}]
[null,5,{"$f":"IFERROR(VLOOKUP($L$2,NEKS!$C$11:$N$50,11,FALSE),\"-\")","v":0},{"$f":"VLOOKUP($L$2,NEKS!$C$11:$N$50,12,FALSE)","v":0}]
[]
[null,null,"Ketidakhadiran"]
[null,null,"Sakit",{"$f":"VLOOKUP($L$2,'DATA SISWA'!$C$10:$AQ$49,39,FALSE)","v":0},"hari"]
[null,null,"Izin",{"$f":"VLOOKUP($L$2,'DATA SISWA'!$C$10:$AQ$49,40,FALSE)","v":0},"hari"]
[null,null,"Tanpa Keterangan",{"$f":"VLOOKUP($L$2,'DATA SISWA'!$C$10:$AQ$49,41,FALSE)","v":0},"hari"]
[null,null,null,null,null,null,null,{"$f":"'DATA SEKOLAH'!D23","v":0}]
[null,null,"Orang Tua,",null,null,null,null,{"$f":"\"Wali Kelas \"&[3]IDENTITAS!D19","v":"Wali Kelas "}]
[]
[]
[]
[]
[null,null,"…………………………………………………..",null,null,null,null,{"$f":"'DATA SEKOLAH'!D17","v":0}]
[null,null,null,null,null,null,null,{"$f":"\"NIP. \"&'DATA SEKOLAH'!D18","v":"NIP. "}]
[null,null,null,null,"Mengetahui,"]
[null,null,null,null,"Kepala Sekolah"]
[]
[]
[]
[]
[null,null,null,null,{"$f":"'DATA SEKOLAH'!D15","v":0}]
[null,null,null,null,{"$f":"\"NIP. \"&'DATA SEKOLAH'!D16","v":"NIP. "}]

{"sheet":"PROFIL PENGEMBANG","index":72,"n_rows":16,"n_cols":7,"rows_kept":16,"cut":false,"hidden":false,"merged":[[2,1,2,16]]}
[]
[]
[null,"PROFIL PENGEMBANG"]
[]
[null,null,"Nama",null,":",null,"Ayu Chandra Astari, S.Pd., M.Pd."]
[null,null,"Tempat / Tanggal Lahir",null,":",null,"Malang, 6 November 1985"]
[null,null,"Unit Kerja",null,":",null,"SDN Oro-Oro Ombo 02"]
[null,null,"Kota",null,":",null,"Kota Batu"]
[null,null,"Provinsi",null,":",null,"Jawa Timur"]
[null,null,"Jabatan",null,":",null,"Guru Kelas"]
[null,null,"Pendidikan",null,":",null,"Magister Pendidikan Dasar Konsentrasi Guru Kelas"]
[null,null,"LPTK",null,":",null,"Universitas Negeri Malang"]
[null,null,"No WA",null,":",null,"088805566108"]
[null,null,"Email",null,":",null,"ayuchandraastari@gmail.com"]
[null,null,"Pengalaman",null,":",null,"Instruktur Nasional Program Sekolah Penggerak Tahun 2021"]
[null,null,null,null,null,null,"Narasumber Nasional Rumpun Kurikulum Bimtek Fasilitator Sekolah Penggerak Tahun 2022"]

{"sheet":"MUATAN LOKAL","index":73,"n_rows":20,"n_cols":4,"rows_kept":20,"cut":false,"hidden":false,"merged":[[10,3,10,9],[2,1,2,11],[6,3,6,9],[7,3,7,9],[8,3,8,9],[9,3,9,9],[17,3,17,9],[18,3,18,9],[19,3,19,9],[11,3,11,9],[12,3,12,9],[13,3,13,9],[14,3,14,9],[15,3,15,9],[16,3,16,9]]}
[]
[]
[null,"MUATAN LOKAL"]
[]
[null,"Tuliskan Muatan Lokal yang anda berikan di sekolah anda. Tuliskan pada bagian yang berwarna putih. "]
[]
[null,null,"No","Mata Pelajaran Muatan Lokal"]
[null,null,1]
[null,null,2]
[null,null,3]
[null,null,4]
[null,null,5]
[null,null,6]
[null,null,7]
[null,null,8]
[null,null,9]
[null,null,10]
[null,null,11]
[null,null,12]
[null,null,13]

{"sheet":"EKSTRAKURIKULER","index":74,"n_rows":20,"n_cols":4,"rows_kept":20,"cut":false,"hidden":false,"merged":[[10,3,10,9],[2,1,2,11],[6,3,6,9],[7,3,7,9],[8,3,8,9],[9,3,9,9],[17,3,17,9],[18,3,18,9],[19,3,19,9],[11,3,11,9],[12,3,12,9],[13,3,13,9],[14,3,14,9],[15,3,15,9],[16,3,16,9]]}
[]
[]
[null,"EKSTRAKURIKULER"]
[]
[null,"Tuliskan Program Ekstrakurikuler yang diberikan di sekolah anda. Tuliskan pada bagian yang berwarna putih. "]
[]
[null,null,"No","Program Ekstrakurikuler"]
[null,null,1,"a"]
[null,null,2,"b"]
[null,null,3,"a"]
[null,null,4,"b"]
[null,null,5,"a"]
[null,null,6,"b"]
[null,null,7,"a"]
[null,null,8]
[null,null,9]
[null,null,10]
[null,null,11]
[null,null,12]
[null,null,13]

{"sheet":"MUTASI","index":75,"n_rows":90,"n_cols":5,"rows_kept":90,"cut":false,"hidden":false,"merged":[[74,1,74,2],[77,0,77,2],[78,0,78,2],[81,0,81,2],[68,1,68,2],[69,1,69,2],[70,1,70,2],[71,1,71,2],[72,1,72,2],[73,1,73,2],[67,1,67,2],[52,1,52,2],[53,1,53,2],[54,1,54,2],[57,1,57,2],[58,1,58,2],[59,1,59,2],[60,1,60,2],[61,1,61,2],[62,1,62,2],[63,1,63,2],[64,1,64,2],[51,1,51,2],[35,0,35,1],[36,0,36,1],[37,0,37,1],[38,0,38,1],[39,0,39,1],[41,0,41,4],[45,1,45,4],[47,1,47,2],[48,1,48,2],[49,1,49,2],[50,1,50,2],[34,0,34,1],[23,0,23,1],[24,0,24,1],[25,0,25,1],[26,0,26,1],[27,0,27,1],[28,0,28,1],[29,0,29,1],[30,0,30,1],[31,0,31,1],[32,0,32,1],[33,0,33,1],[22,0,22,1],[11,0,11,1],[12,0,12,1],[13,0,13,1],[14,0,14,1],[15,0,15,1],[16,0,16,1],[17,0,17,1],[18,0,18,1],[19,0,19,1],[20,0,20,1],[21,0,21,1],[10,0,10,1],[1,0,1,4],[6,0,6,1],[7,0,7,1],[8,0,8,1],[9,0,9,1]]}
[]
["KETERANGAN PINDAH SEKOLAH"]
[]
[]
["Nama Peserta Didik : ………………………………………………………"]
[]
["Tanggal",null,"Kelas yang Ditinggalkan","Alasan","Tanda Tangan Kepala sekolah, Stempel Sekolah dan Tanda Tangan Orang Tua/Wali"]
[]
[null,null,null,null,"…………., ……………………………………."]
[null,null,null,null,"Kepala Sekolah"]
[]
[null,null,null,null,"____________________________"]
[null,null,null,null,"NIP."]
[]
[null,null,null,null,"Orang Tua/Wali"]
[]
[null,null,null,null,"____________________________"]
[]
[]
[null,null,null,null,"…………., ……………………………………."]
[null,null,null,null,"Kepala Sekolah"]
[]
[null,null,null,null,"____________________________"]
[null,null,null,null,"NIP."]
[]
[null,null,null,null,"Orang Tua/Wali"]
[]
[null,null,null,null,"____________________________"]
[]
[]
[null,null,null,null,"…………., ……………………………………."]
[null,null,null,null,"Kepala Sekolah"]
[]
[null,null,null,null,"____________________________"]
[null,null,null,null,"NIP."]
[]
[null,null,null,null,"Orang Tua/Wali"]
[]
[null,null,null,null,"____________________________"]
[]
[]
["KETERANGAN PINDAH SEKOLAH"]
[]
["Nama Peserta Didik : ………………………………………………………"]
[]
["No.","MASUK"]
[]
["1.","Nama Peserta Didik"]
[null,"Nomor Induk",null,null,"…………., ……………………………………."]
[null,"NISN",null,null,"Kepala Sekolah"]
[null,"Nama Sekolah"]
[null,"Masuk di Sekolah ini :"]
[null,"a. Tanggal",null,null,"____________________________"]
[null,"b. Di Kelas",null,null,"NIP."]
[null,"c. Tahun Pelajaran"]
[]
[]
["1.","Nama Peserta Didik"]
[null,"Nomor Induk",null,null,"…………., ……………………………………."]
[null,"NISN",null,null,"Kepala Sekolah"]
[null,"Nama Sekolah"]
[null,"Masuk di Sekolah ini :"]
[null,"a. Tanggal",null,null,"____________________________"]
[null,"b. Di Kelas",null,null,"NIP."]
[null,"c. Tahun Pelajaran"]
[]
[]
["1.","Nama Peserta Didik"]
[null,"Nomor Induk",null,null,"…………., ……………………………………."]
[null,"NISN",null,null,"Kepala Sekolah"]
[null,"Nama Sekolah"]
[null,"Masuk di Sekolah ini :"]
[null,"a. Tanggal",null,null,"____________________________"]
[null,"b. Di Kelas",null,null,"NIP."]
[null,"c. Tahun Pelajaran"]
[]
[]
["Mengetahui",null,null,null,"………………., ………………………………….."]
["Orang Tua/Wali",null,null,null,"Guru Kelas"]
[]
[]
["…………………………………………………..",null,null,null,"………………………………………………….."]
[null,null,null,null,"NIP………………………………………………"]
[]
[null,null,null,"Mengetahui"]
[null,null,null,"Kepala Sekolah"]
[]
[]
[null,null,null,"………………………………………………….."]
[null,null,null,"NIP………………………………………………"]

{"sheet":"INDUK","index":76,"n_rows":37,"n_cols":10,"rows_kept":37,"cut":false,"hidden":false,"merged":[[33,2,33,5],[24,3,24,6],[26,4,26,7],[27,4,27,7],[28,4,28,7],[29,4,29,7],[30,4,30,7],[31,4,31,7],[20,3,20,6],[21,3,21,6],[22,3,22,6],[23,3,23,6],[14,3,14,6],[15,3,15,6],[16,3,16,6],[17,3,17,6],[18,3,18,6],[19,3,19,6],[13,3,13,6],[1,0,1,8],[9,3,9,6],[10,3,10,6],[11,3,11,6],[12,3,12,6]]}
[]
["BUKU INDUK",null,null,null,null,null,null,null,null,1]
[]
[null,"Nama Peserta Didik",null,{"$f":"\": \"&VLOOKUP($J$2,'DATA SISWA'!$C$10:$AQ$49,4,FALSE)","v":": "},null,null,"Kelas",null,{"$f":"\": \"&'DATA SEKOLAH'!D19","v":": "}]
[null,"NIS / NISN",null,{"$f":"\": \"&VLOOKUP($J$2,'DATA SISWA'!$C$10:$AQ$49,2,FALSE)&\" / \"&VLOOKUP($J$2,'DATA SISWA'!$C$10:$AQ$49,3,FALSE)","v":":  / "},null,null,"Fase",null,{"$f":"\": \"&'DATA SEKOLAH'!D20","v":": "}]
[null,"Sekolah",null,{"$f":"\": \"&'DATA SEKOLAH'!D4","v":": "},null,null,"Semester",null,{"$f":"\": \"&'DATA SEKOLAH'!D21","v":": "}]
[null,"Alamat",null,{"$f":"\": \"&VLOOKUP($J$2,'DATA SISWA'!$C$10:$AQ$49,10,FALSE)","v":": "},null,null,"Tahun Pelajaran",null,{"$f":"\": \"&'DATA SEKOLAH'!D22","v":": "}]
[]
[]
[null,null,"No","Muatan Pelajaran",null,null,null,"Nilai"]
[null,null,1,{"$f":"INTRAKURIKULER!D9","v":0},null,null,null,{"$f":"VLOOKUP($J$2,'S1'!$C$16:$S$55,17,FALSE)","v":"-"}]
[null,null,2,{"$f":"INTRAKURIKULER!D10","v":0},null,null,null,{"$f":"VLOOKUP($J$2,'S2'!$C$16:$S$55,17,FALSE)","v":"-"}]
[null,null,3,{"$f":"INTRAKURIKULER!D11","v":0},null,null,null,{"$f":"VLOOKUP($J$2,'S3'!$C$16:$S$55,17,FALSE)","v":"-"}]
[null,null,4,{"$f":"INTRAKURIKULER!D12","v":0},null,null,null,{"$f":"VLOOKUP($J$2,'S4'!$C$16:$S$55,17,FALSE)","v":"-"}]
[null,null,5,{"$f":"INTRAKURIKULER!D13","v":0},null,null,null,{"$f":"VLOOKUP($J$2,'S5'!$C$16:$S$55,17,FALSE)","v":"-"}]
[null,null,6,{"$f":"INTRAKURIKULER!D14","v":0},null,null,null,{"$f":"VLOOKUP($J$2,'S6'!$C$16:$S$55,17,FALSE)","v":"-"}]
[null,null,7,{"$f":"INTRAKURIKULER!D15","v":0},null,null,null,{"$f":"VLOOKUP($J$2,'S7'!$C$16:$S$55,17,FALSE)","v":"-"}]
[null,null,8,{"$f":"INTRAKURIKULER!D16","v":0},null,null,null,{"$f":"VLOOKUP($J$2,'S8'!$C$16:$S$55,17,FALSE)","v":"-"}]
[null,null,9,{"$f":"INTRAKURIKULER!D17","v":0},null,null,null,{"$f":"VLOOKUP($J$2,'S9'!$C$16:$S$55,17,FALSE)","v":"-"}]
[null,null,10,{"$f":"INTRAKURIKULER!D18","v":0},null,null,null,{"$f":"VLOOKUP($J$2,'S10'!$C$16:$S$55,17,FALSE)","v":"-"}]
[null,null,11,{"$f":"INTRAKURIKULER!D19","v":0},null,null,null,{"$f":"VLOOKUP($J$2,'S11'!$C$16:$S$55,17,FALSE)","v":"-"}]
[null,null,12,{"$f":"INTRAKURIKULER!D20","v":0},null,null,null,{"$f":"VLOOKUP($J$2,'S12'!$C$16:$S$55,17,FALSE)","v":"-"}]
[null,null,13,{"$f":"INTRAKURIKULER!D21","v":0},null,null,null,{"$f":"VLOOKUP($J$2,'S13'!$C$16:$S$55,17,FALSE)","v":"-"}]
[null,null,14,{"$f":"INTRAKURIKULER!D22","v":0},null,null,null,{"$f":"VLOOKUP($J$2,'S14'!$C$16:$S$55,17,FALSE)","v":"-"}]
[null,null,15,{"$f":"INTRAKURIKULER!D23","v":0},null,null,null,{"$f":"VLOOKUP($J$2,'S15'!$C$16:$S$55,17,FALSE)","v":"-"}]
[]
[null,null,"No","EKSTRAKURIKULER","KETERANGAN"]
[null,null,1,{"$f":"VLOOKUP($J$2,NEKS!$C$11:$N$50,3,FALSE)","v":0},{"$f":"VLOOKUP($J$2,NEKS!$C$11:$N$50,4,FALSE)","v":0}]
[null,null,2,{"$f":"VLOOKUP($J$2,NEKS!$C$11:$N$50,5,FALSE)","v":0},{"$f":"VLOOKUP($J$2,NEKS!$C$11:$N$50,6,FALSE)","v":0}]
[null,null,3,{"$f":"VLOOKUP($J$2,NEKS!$C$11:$N$50,7,FALSE)","v":0},{"$f":"VLOOKUP($J$2,NEKS!$C$11:$N$50,8,FALSE)","v":0}]
[null,null,4,{"$f":"VLOOKUP($J$2,NEKS!$C$11:$N$50,9,FALSE)","v":0},{"$f":"VLOOKUP($J$2,NEKS!$C$11:$N$50,10,FALSE)","v":0}]
[null,null,5,{"$f":"VLOOKUP($J$2,NEKS!$C$11:$N$50,11,FALSE)","v":0},{"$f":"VLOOKUP($J$2,NEKS!$C$11:$N$50,12,FALSE)","v":0}]
[]
[null,null,"KETIDAKHADIRAN"]
[null,null,1,"Sakit",{"$f":"IFERROR(VLOOKUP($J$2,'DATA SISWA'!$C$10:$AQ$49,39,FALSE),\"0\")","v":0},"hari"]
[null,null,2,"Izin",{"$f":"IFERROR(VLOOKUP($J$2,'DATA SISWA'!$C$10:$AQ$49,40,FALSE),\"0\")","v":0},"hari"]
[null,null,3,"Tanpa Keterangan",{"$f":"IFERROR(VLOOKUP($J$2,'DATA SISWA'!$C$10:$AQ$49,41,FALSE),\"0\")","v":0},"hari"]